{"text_format":"1","workbook":"xlsx","n_sheets":4,"sheets":["Template","SQL2","SQL3","Ad Week Dates"],"not_rendered":{"charts":0,"images":0,"macros":1,"external_links":0,"defined_names":12,"comments":0,"pivot_tables":0},"unopened":[],"bounds":{"document_bytes":16777216,"sheet_cells":100000,"rows_first":2000,"rows_last":500,"rows_between":2000,"halvings":0,"cell_chars":16384,"cell_head_chars":4096},"cells_cut":0,"cells_raw":0,"read":"whole","date_system":"1900"}

{"sheet":"Template","index":0,"n_rows":5000,"n_cols":14,"rows_kept":5000,"cut":false,"hidden":false,"merged":[]}
[]
[]
[]
["Featured RIN","Week","Promotion","Start Date","End Date","Parent Rin","VPN","Item Description","Cost","Retail","Adv Retail","Savings",null,"RIN or Item List"]
[null,null,{"$f":"VLOOKUP($B5,'Ad Week Dates'!$A:$E,4,FALSE)","v":{"$error":"#N/A"}},{"$f":"VLOOKUP($B5,'Ad Week Dates'!$A:$E,2,FALSE)","v":{"$error":"#N/A"}},{"$f":"VLOOKUP($B5,'Ad Week Dates'!$A:$E,3,FALSE)","v":{"$error":"#N/A"}},null,null,null,null,null,null,{"$f":"IF(ISNUMBER(J5), J5 - K5, VALUE(_xlfn.TEXTBEFORE(J5, \"-\")) - VALUE(_xlfn.TEXTBEFORE(K5, \"-\")))","v":{"$error":"#N/A"}}]
[null,null,{"$f":"VLOOKUP($B6,'Ad Week Dates'!$A:$E,4,FALSE)","v":{"$error":"#N/A"}},{"$f":"VLOOKUP($B6,'Ad Week Dates'!$A:$E,2,FALSE)","v":{"$error":"#N/A"}},{"$f":"VLOOKUP($B6,'Ad Week Dates'!$A:$E,3,FALSE)","v":{"$error":"#N/A"}},null,null,null,null,null,null,{"$f":"IF(ISNUMBER(J6), J6 - K6, VALUE(_xlfn.TEXTBEFORE(J6, \"-\")) - VALUE(_xlfn.TEXTBEFORE(K6, \"-\")))","v":{"$error":"#N/A"}}]
[null,null,{"$f":"VLOOKUP($B7,'Ad Week Dates'!$A:$E,4,FALSE)","v":{"$error":"#N/A"}},{"$f":"VLOOKUP($B7,'Ad Week Dates'!$A:$E,2,FALSE)","v":{"$error":"#N/A"}},{"$f":"VLOOKUP($B7,'Ad Week Dates'!$A:$E,3,FALSE)","v":{"$error":"#N/A"}},null,null,null,null,null,null,{"$error":"#N/A"}]
[null,null,{"$f":"VLOOKUP($B8,'Ad Week Dates'!$A:$E,4,FALSE)","v":{"$error":"#N/A"}},{"$f":"VLOOKUP($B8,'Ad Week Dates'!$A:$E,2,FALSE)","v":{"$error":"#N/A"}},{"$f":"VLOOKUP($B8,'Ad Week Dates'!$A:$E,3,FALSE)","v":{"$error":"#N/A"}},null,null,null,null,null,null,{"$error":"#N/A"}]
[null,null,{"$f":"VLOOKUP($B9,'Ad Week Dates'!$A:$E,4,FALSE)","v":{"$error":"#N/A"}},{"$f":"VLOOKUP($B9,'Ad Week Dates'!$A:$E,2,FALSE)","v":{"$error":"#N/A"}},{"$f":"VLOOKUP($B9,'Ad Week Dates'!$A:$E,3,FALSE)","v":{"$error":"#N/A"}},null,null,null,null,null,null,{"$error":"#N/A"}]
[null,null,{"$f":"VLOOKUP($B10,'Ad Week Dates'!$A:$E,4,FALSE)","v":{"$error":"#N/A"}},{"$f":"VLOOKUP($B10,'Ad Week Dates'!$A:$E,2,FALSE)","v":{"$error":"#N/A"}},{"$f":"VLOOKUP($B10,'Ad Week Dates'!$A:$E,3,FALSE)","v":{"$error":"#N/A"}},null,null,null,null,null,null,{"$error":"#N/A"}]
[null,null,{"$f":"VLOOKUP($B11,'Ad Week Dates'!$A:$E,4,FALSE)","v":{"$error":"#N/A"}},{"$f":"VLOOKUP($B11,'Ad Week Dates'!$A:$E,2,FALSE)","v":{"$error":"#N/A"}},{"$f":"VLOOKUP($B11,'Ad Week Dates'!$A:$E,3,FALSE)","v":{"$error":"#N/A"}},null,null,null,null,null,null,{"$error":"#N/A"}]
[null,null,{"$f":"VLOOKUP($B12,'Ad Week Dates'!$A:$E,4,FALSE)","v":{"$error":"#N/A"}},{"$f":"VLOOKUP($B12,'Ad Week Dates'!$A:$E,2,FALSE)","v":{"$error":"#N/A"}},{"$f":"VLOOKUP($B12,'Ad Week Dates'!$A:$E,3,FALSE)","v":{"$error":"#N/A"}},null,null,null,null,null,null,{"$error":"#N/A"}]
[null,null,{"$f":"VLOOKUP($B13,'Ad Week Dates'!$A:$E,4,FALSE)","v":{"$error":"#N/A"}},{"$f":"VLOOKUP($B13,'Ad Week Dates'!$A:$E,2,FALSE)","v":{"$error":"#N/A"}},{"$f":"VLOOKUP($B13,'Ad Week Dates'!$A:$E,3,FALSE)","v":{"$error":"#N/A"}},null,null,null,null,null,null,{"$error":"#N/A"}]
[null,null,{"$f":"VLOOKUP($B14,'Ad Week Dates'!$A:$E,4,FALSE)","v":{"$error":"#N/A"}},{"$f":"VLOOKUP($B14,'Ad Week Dates'!$A:$E,2,FALSE)","v":{"$error":"#N/A"}},{"$f":"VLOOKUP($B14,'Ad Week Dates'!$A:$E,3,FALSE)","v":{"$error":"#N/A"}},null,null,null,null,null,null,{"$error":"#N/A"}]
[null,null,{"$f":"VLOOKUP($B15,'Ad Week Dates'!$A:$E,4,FALSE)","v":{"$error":"#N/A"}},{"$f":"VLOOKUP($B15,'Ad Week Dates'!$A:$E,2,FALSE)","v":{"$error":"#N/A"}},{"$f":"VLOOKUP($B15,'Ad Week Dates'!$A:$E,3,FALSE)","v":{"$error":"#N/A"}},null,null,null,null,null,null,{"$error":"#N/A"}]
[null,null,{"$f":"VLOOKUP($B16,'Ad Week Dates'!$A:$E,4,FALSE)","v":{"$error":"#N/A"}},{"$f":"VLOOKUP($B16,'Ad Week Dates'!$A:$E,2,FALSE)","v":{"$error":"#N/A"}},{"$f":"VLOOKUP($B16,'Ad Week Dates'!$A:$E,3,FALSE)","v":{"$error":"#N/A"}},null,null,null,null,null,null,{"$error":"#N/A"}]
[null,null,{"$f":"VLOOKUP($B17,'Ad Week Dates'!$A:$E,4,FALSE)","v":{"$error":"#N/A"}},{"$f":"VLOOKUP($B17,'Ad Week Dates'!$A:$E,2,FALSE)","v":{"$error":"#N/A"}},{"$f":"VLOOKUP($B17,'Ad Week Dates'!$A:$E,3,FALSE)","v":{"$error":"#N/A"}},null,null,null,null,null,null,{"$error":"#N/A"}]
[null,null,{"$f":"VLOOKUP($B18,'Ad Week Dates'!$A:$E,4,FALSE)","v":{"$error":"#N/A"}},{"$f":"VLOOKUP($B18,'Ad Week Dates'!$A:$E,2,FALSE)","v":{"$error":"#N/A"}},{"$f":"VLOOKUP($B18,'Ad Week Dates'!$A:$E,3,FALSE)","v":{"$error":"#N/A"}},null,null,null,null,null,null,{"$error":"#N/A"}]
[null,null,{"$f":"VLOOKUP($B19,'Ad Week Dates'!$A:$E,4,FALSE)","v":{"$error":"#N/A"}},{"$f":"VLOOKUP($B19,'Ad Week Dates'!$A:$E,2,FALSE)","v":{"$error":"#N/A"}},{"$f":"VLOOKUP($B19,'Ad Week Dates'!$A:$E,3,FALSE)","v":{"$error":"#N/A"}},null,null,null,null,null,null,{"$error":"#N/A"}]
[null,null,{"$f":"VLOOKUP($B20,'Ad Week Dates'!$A:$E,4,FALSE)","v":{"$error":"#N/A"}},{"$f":"VLOOKUP($B20,'Ad Week Dates'!$A:$E,2,FALSE)","v":{"$error":"#N/A"}},{"$f":"VLOOKUP($B20,'Ad Week Dates'!$A:$E,3,FALSE)","v":{"$error":"#N/A"}},null,null,null,null,null,null,{"$error":"#N/A"}]
[null,null,{"$f":"VLOOKUP($B21,'Ad Week Dates'!$A:$E,4,FALSE)","v":{"$error":"#N/A"}},{"$f":"VLOOKUP($B21,'Ad Week Dates'!$A:$E,2,FALSE)","v":{"$error":"#N/A"}},{"$f":"VLOOKUP($B21,'Ad Week Dates'!$A:$E,3,FALSE)","v":{"$error":"#N/A"}},null,null,null,null,null,null,{"$error":"#N/A"}]
[null,null,{"$f":"VLOOKUP($B22,'Ad Week Dates'!$A:$E,4,FALSE)","v":{"$error":"#N/A"}},{"$f":"VLOOKUP($B22,'Ad Week Dates'!$A:$E,2,FALSE)","v":{"$error":"#N/A"}},{"$f":"VLOOKUP($B22,'Ad Week Dates'!$A:$E,3,FALSE)","v":{"$error":"#N/A"}},null,null,null,null,null,null,{"$error":"#N/A"}]
[null,null,{"$f":"VLOOKUP($B23,'Ad Week Dates'!$A:$E,4,FALSE)","v":{"$error":"#N/A"}},{"$f":"VLOOKUP($B23,'Ad Week Dates'!$A:$E,2,FALSE)","v":{"$error":"#N/A"}},{"$f":"VLOOKUP($B23,'Ad Week Dates'!$A:$E,3,FALSE)","v":{"$error":"#N/A"}},null,null,null,null,null,null,{"$error":"#N/A"}]
[null,null,{"$f":"VLOOKUP($B24,'Ad Week Dates'!$A:$E,4,FALSE)","v":{"$error":"#N/A"}},{"$f":"VLOOKUP($B24,'Ad Week Dates'!$A:$E,2,FALSE)","v":{"$error":"#N/A"}},{"$f":"VLOOKUP($B24,'Ad Week Dates'!$A:$E,3,FALSE)","v":{"$error":"#N/A"}},null,null,null,null,null,null,{"$error":"#N/A"}]
[null,null,{"$f":"VLOOKUP($B25,'Ad Week Dates'!$A:$E,4,FALSE)","v":{"$error":"#N/A"}},{"$f":"VLOOKUP($B25,'Ad Week Dates'!$A:$E,2,FALSE)","v":{"$error":"#N/A"}},{"$f":"VLOOKUP($B25,'Ad Week Dates'!$A:$E,3,FALSE)","v":{"$error":"#N/A"}},null,null,null,null,null,null,{"$error":"#N/A"}]
[null,null,{"$f":"VLOOKUP($B26,'Ad Week Dates'!$A:$E,4,FALSE)","v":{"$error":"#N/A"}},{"$f":"VLOOKUP($B26,'Ad Week Dates'!$A:$E,2,FALSE)","v":{"$error":"#N/A"}},{"$f":"VLOOKUP($B26,'Ad Week Dates'!$A:$E,3,FALSE)","v":{"$error":"#N/A"}},null,null,null,null,null,null,{"$error":"#N/A"}]
[null,null,{"$f":"VLOOKUP($B27,'Ad Week Dates'!$A:$E,4,FALSE)","v":{"$error":"#N/A"}},{"$f":"VLOOKUP($B27,'Ad Week Dates'!$A:$E,2,FALSE)","v":{"$error":"#N/A"}},{"$f":"VLOOKUP($B27,'Ad Week Dates'!$A:$E,3,FALSE)","v":{"$error":"#N/A"}},null,null,null,null,null,null,{"$error":"#N/A"}]
[null,null,{"$f":"VLOOKUP($B28,'Ad Week Dates'!$A:$E,4,FALSE)","v":{"$error":"#N/A"}},{"$f":"VLOOKUP($B28,'Ad Week Dates'!$A:$E,2,FALSE)","v":{"$error":"#N/A"}},{"$f":"VLOOKUP($B28,'Ad Week Dates'!$A:$E,3,FALSE)","v":{"$error":"#N/A"}},null,null,null,null,null,null,{"$error":"#N/A"}]
[null,null,{"$f":"VLOOKUP($B29,'Ad Week Dates'!$A:$E,4,FALSE)","v":{"$error":"#N/A"}},{"$f":"VLOOKUP($B29,'Ad Week Dates'!$A:$E,2,FALSE)","v":{"$error":"#N/A"}},{"$f":"VLOOKUP($B29,'Ad Week Dates'!$A:$E,3,FALSE)","v":{"$error":"#N/A"}},null,null,null,null,null,null,{"$error":"#N/A"}]
[null,null,{"$f":"VLOOKUP($B30,'Ad Week Dates'!$A:$E,4,FALSE)","v":{"$error":"#N/A"}},{"$f":"VLOOKUP($B30,'Ad Week Dates'!$A:$E,2,FALSE)","v":{"$error":"#N/A"}},{"$f":"VLOOKUP($B30,'Ad Week Dates'!$A:$E,3,FALSE)","v":{"$error":"#N/A"}},null,null,null,null,null,null,{"$error":"#N/A"}]
[null,null,{"$f":"VLOOKUP($B31,'Ad Week Dates'!$A:$E,4,FALSE)","v":{"$error":"#N/A"}},{"$f":"VLOOKUP($B31,'Ad Week Dates'!$A:$E,2,FALSE)","v":{"$error":"#N/A"}},{"$f":"VLOOKUP($B31,'Ad Week Dates'!$A:$E,3,FALSE)","v":{"$error":"#N/A"}},null,null,null,null,null,null,{"$error":"#N/A"}]
[null,null,{"$f":"VLOOKUP($B32,'Ad Week Dates'!$A:$E,4,FALSE)","v":{"$error":"#N/A"}},{"$f":"VLOOKUP($B32,'Ad Week Dates'!$A:$E,2,FALSE)","v":{"$error":"#N/A"}},{"$f":"VLOOKUP($B32,'Ad Week Dates'!$A:$E,3,FALSE)","v":{"$error":"#N/A"}},null,null,null,null,null,null,{"$error":"#N/A"}]
[null,null,{"$f":"VLOOKUP($B33,'Ad Week Dates'!$A:$E,4,FALSE)","v":{"$error":"#N/A"}},{"$f":"VLOOKUP($B33,'Ad Week Dates'!$A:$E,2,FALSE)","v":{"$error":"#N/A"}},{"$f":"VLOOKUP($B33,'Ad Week Dates'!$A:$E,3,FALSE)","v":{"$error":"#N/A"}},null,null,null,null,null,null,{"$error":"#N/A"}]
[null,null,{"$f":"VLOOKUP($B34,'Ad Week Dates'!$A:$E,4,FALSE)","v":{"$error":"#N/A"}},{"$f":"VLOOKUP($B34,'Ad Week Dates'!$A:$E,2,FALSE)","v":{"$error":"#N/A"}},{"$f":"VLOOKUP($B34,'Ad Week Dates'!$A:$E,3,FALSE)","v":{"$error":"#N/A"}},null,null,null,null,null,null,{"$error":"#N/A"}]
[null,null,{"$f":"VLOOKUP($B35,'Ad Week Dates'!$A:$E,4,FALSE)","v":{"$error":"#N/A"}},{"$f":"VLOOKUP($B35,'Ad Week Dates'!$A:$E,2,FALSE)","v":{"$error":"#N/A"}},{"$f":"VLOOKUP($B35,'Ad Week Dates'!$A:$E,3,FALSE)","v":{"$error":"#N/A"}},null,null,null,null,null,null,{"$error":"#N/A"}]
[null,null,{"$f":"VLOOKUP($B36,'Ad Week Dates'!$A:$E,4,FALSE)","v":{"$error":"#N/A"}},{"$f":"VLOOKUP($B36,'Ad Week Dates'!$A:$E,2,FALSE)","v":{"$error":"#N/A"}},{"$f":"VLOOKUP($B36,'Ad Week Dates'!$A:$E,3,FALSE)","v":{"$error":"#N/A"}},null,null,null,null,null,null,{"$error":"#N/A"}]
[null,null,{"$f":"VLOOKUP($B37,'Ad Week Dates'!$A:$E,4,FALSE)","v":{"$error":"#N/A"}},{"$f":"VLOOKUP($B37,'Ad Week Dates'!$A:$E,2,FALSE)","v":{"$error":"#N/A"}},{"$f":"VLOOKUP($B37,'Ad Week Dates'!$A:$E,3,FALSE)","v":{"$error":"#N/A"}},null,null,null,null,null,null,{"$error":"#N/A"}]
[null,null,{"$f":"VLOOKUP($B38,'Ad Week Dates'!$A:$E,4,FALSE)","v":{"$error":"#N/A"}},{"$f":"VLOOKUP($B38,'Ad Week Dates'!$A:$E,2,FALSE)","v":{"$error":"#N/A"}},{"$f":"VLOOKUP($B38,'Ad Week Dates'!$A:$E,3,FALSE)","v":{"$error":"#N/A"}},null,null,null,null,null,null,{"$error":"#N/A"}]
[null,null,{"$f":"VLOOKUP($B39,'Ad Week Dates'!$A:$E,4,FALSE)","v":{"$error":"#N/A"}},{"$f":"VLOOKUP($B39,'Ad Week Dates'!$A:$E,2,FALSE)","v":{"$error":"#N/A"}},{"$f":"VLOOKUP($B39,'Ad Week Dates'!$A:$E,3,FALSE)","v":{"$error":"#N/A"}},null,null,null,null,null,null,{"$error":"#N/A"}]
[null,null,{"$f":"VLOOKUP($B40,'Ad Week Dates'!$A:$E,4,FALSE)","v":{"$error":"#N/A"}},{"$f":"VLOOKUP($B40,'Ad Week Dates'!$A:$E,2,FALSE)","v":{"$error":"#N/A"}},{"$f":"VLOOKUP($B40,'Ad Week Dates'!$A:$E,3,FALSE)","v":{"$error":"#N/A"}},null,null,null,null,null,null,{"$error":"#N/A"}]
[null,null,{"$f":"VLOOKUP($B41,'Ad Week Dates'!$A:$E,4,FALSE)","v":{"$error":"#N/A"}},{"$f":"VLOOKUP($B41,'Ad Week Dates'!$A:$E,2,FALSE)","v":{"$error":"#N/A"}},{"$f":"VLOOKUP($B41,'Ad Week Dates'!$A:$E,3,FALSE)","v":{"$error":"#N/A"}},null,null,null,null,null,null,{"$error":"#N/A"}]
[null,null,{"$f":"VLOOKUP($B42,'Ad Week Dates'!$A:$E,4,FALSE)","v":{"$error":"#N/A"}},{"$f":"VLOOKUP($B42,'Ad Week Dates'!$A:$E,2,FALSE)","v":{"$error":"#N/A"}},{"$f":"VLOOKUP($B42,'Ad Week Dates'!$A:$E,3,FALSE)","v":{"$error":"#N/A"}},null,null,null,null,null,null,{"$error":"#N/A"}]
[null,null,{"$f":"VLOOKUP($B43,'Ad Week Dates'!$A:$E,4,FALSE)","v":{"$error":"#N/A"}},{"$f":"VLOOKUP($B43,'Ad Week Dates'!$A:$E,2,FALSE)","v":{"$error":"#N/A"}},{"$f":"VLOOKUP($B43,'Ad Week Dates'!$A:$E,3,FALSE)","v":{"$error":"#N/A"}},null,null,null,null,null,null,{"$error":"#N/A"}]
[null,null,{"$f":"VLOOKUP($B44,'Ad Week Dates'!$A:$E,4,FALSE)","v":{"$error":"#N/A"}},{"$f":"VLOOKUP($B44,'Ad Week Dates'!$A:$E,2,FALSE)","v":{"$error":"#N/A"}},{"$f":"VLOOKUP($B44,'Ad Week Dates'!$A:$E,3,FALSE)","v":{"$error":"#N/A"}},null,null,null,null,null,null,{"$error":"#N/A"}]
[null,null,{"$f":"VLOOKUP($B45,'Ad Week Dates'!$A:$E,4,FALSE)","v":{"$error":"#N/A"}},{"$f":"VLOOKUP($B45,'Ad Week Dates'!$A:$E,2,FALSE)","v":{"$error":"#N/A"}},{"$f":"VLOOKUP($B45,'Ad Week Dates'!$A:$E,3,FALSE)","v":{"$error":"#N/A"}},null,null,null,null,null,null,{"$error":"#N/A"}]
[null,null,{"$f":"VLOOKUP($B46,'Ad Week Dates'!$A:$E,4,FALSE)","v":{"$error":"#N/A"}},{"$f":"VLOOKUP($B46,'Ad Week Dates'!$A:$E,2,FALSE)","v":{"$error":"#N/A"}},{"$f":"VLOOKUP($B46,'Ad Week Dates'!$A:$E,3,FALSE)","v":{"$error":"#N/A"}},null,null,null,null,null,null,{"$error":"#N/A"}]
[null,null,{"$f":"VLOOKUP($B47,'Ad Week Dates'!$A:$E,4,FALSE)","v":{"$error":"#N/A"}},{"$f":"VLOOKUP($B47,'Ad Week Dates'!$A:$E,2,FALSE)","v":{"$error":"#N/A"}},{"$f":"VLOOKUP($B47,'Ad Week Dates'!$A:$E,3,FALSE)","v":{"$error":"#N/A"}},null,null,null,null,null,null,{"$error":"#N/A"}]
[null,null,{"$f":"VLOOKUP($B48,'Ad Week Dates'!$A:$E,4,FALSE)","v":{"$error":"#N/A"}},{"$f":"VLOOKUP($B48,'Ad Week Dates'!$A:$E,2,FALSE)","v":{"$error":"#N/A"}},{"$f":"VLOOKUP($B48,'Ad Week Dates'!$A:$E,3,FALSE)","v":{"$error":"#N/A"}},null,null,null,null,null,null,{"$error":"#N/A"}]
[null,null,{"$f":"VLOOKUP($B49,'Ad Week Dates'!$A:$E,4,FALSE)","v":{"$error":"#N/A"}},{"$f":"VLOOKUP($B49,'Ad Week Dates'!$A:$E,2,FALSE)","v":{"$error":"#N/A"}},{"$f":"VLOOKUP($B49,'Ad Week Dates'!$A:$E,3,FALSE)","v":{"$error":"#N/A"}},null,null,null,null,null,null,{"$error":"#N/A"}]
[null,null,{"$f":"VLOOKUP($B50,'Ad Week Dates'!$A:$E,4,FALSE)","v":{"$error":"#N/A"}},{"$f":"VLOOKUP($B50,'Ad Week Dates'!$A:$E,2,FALSE)","v":{"$error":"#N/A"}},{"$f":"VLOOKUP($B50,'Ad Week Dates'!$A:$E,3,FALSE)","v":{"$error":"#N/A"}},null,null,null,null,null,null,{"$error":"#N/A"}]
[null,null,{"$f":"VLOOKUP($B51,'Ad Week Dates'!$A:$E,4,FALSE)","v":{"$error":"#N/A"}},{"$f":"VLOOKUP($B51,'Ad Week Dates'!$A:$E,2,FALSE)","v":{"$error":"#N/A"}},{"$f":"VLOOKUP($B51,'Ad Week Dates'!$A:$E,3,FALSE)","v":{"$error":"#N/A"}},null,null,null,null,null,null,{"$error":"#N/A"}]
[null,null,{"$f":"VLOOKUP($B52,'Ad Week Dates'!$A:$E,4,FALSE)","v":{"$error":"#N/A"}},{"$f":"VLOOKUP($B52,'Ad Week Dates'!$A:$E,2,FALSE)","v":{"$error":"#N/A"}},{"$f":"VLOOKUP($B52,'Ad Week Dates'!$A:$E,3,FALSE)","v":{"$error":"#N/A"}},null,null,null,null,null,null,{"$error":"#N/A"}]
[null,null,{"$f":"VLOOKUP($B53,'Ad Week Dates'!$A:$E,4,FALSE)","v":{"$error":"#N/A"}},{"$f":"VLOOKUP($B53,'Ad Week Dates'!$A:$E,2,FALSE)","v":{"$error":"#N/A"}},{"$f":"VLOOKUP($B53,'Ad Week Dates'!$A:$E,3,FALSE)","v":{"$error":"#N/A"}},null,null,null,null,null,null,{"$error":"#N/A"}]
[null,null,{"$f":"VLOOKUP($B54,'Ad Week Dates'!$A:$E,4,FALSE)","v":{"$error":"#N/A"}},{"$f":"VLOOKUP($B54,'Ad Week Dates'!$A:$E,2,FALSE)","v":{"$error":"#N/A"}},{"$f":"VLOOKUP($B54,'Ad Week Dates'!$A:$E,3,FALSE)","v":{"$error":"#N/A"}},null,null,null,null,null,null,{"$error":"#N/A"}]
[null,null,{"$f":"VLOOKUP($B55,'Ad Week Dates'!$A:$E,4,FALSE)","v":{"$error":"#N/A"}},{"$f":"VLOOKUP($B55,'Ad Week Dates'!$A:$E,2,FALSE)","v":{"$error":"#N/A"}},{"$f":"VLOOKUP($B55,'Ad Week Dates'!$A:$E,3,FALSE)","v":{"$error":"#N/A"}},null,null,null,null,null,null,{"$error":"#N/A"}]
[null,null,{"$f":"VLOOKUP($B56,'Ad Week Dates'!$A:$E,4,FALSE)","v":{"$error":"#N/A"}},{"$f":"VLOOKUP($B56,'Ad Week Dates'!$A:$E,2,FALSE)","v":{"$error":"#N/A"}},{"$f":"VLOOKUP($B56,'Ad Week Dates'!$A:$E,3,FALSE)","v":{"$error":"#N/A"}},null,null,null,null,null,null,{"$error":"#N/A"}]
[null,null,{"$f":"VLOOKUP($B57,'Ad Week Dates'!$A:$E,4,FALSE)","v":{"$error":"#N/A"}},{"$f":"VLOOKUP($B57,'Ad Week Dates'!$A:$E,2,FALSE)","v":{"$error":"#N/A"}},{"$f":"VLOOKUP($B57,'Ad Week Dates'!$A:$E,3,FALSE)","v":{"$error":"#N/A"}},null,null,null,null,null,null,{"$error":"#N/A"}]
[null,null,{"$f":"VLOOKUP($B58,'Ad Week Dates'!$A:$E,4,FALSE)","v":{"$error":"#N/A"}},{"$f":"VLOOKUP($B58,'Ad Week Dates'!$A:$E,2,FALSE)","v":{"$error":"#N/A"}},{"$f":"VLOOKUP($B58,'Ad Week Dates'!$A:$E,3,FALSE)","v":{"$error":"#N/A"}},null,null,null,null,null,null,{"$error":"#N/A"}]
[null,null,{"$f":"VLOOKUP($B59,'Ad Week Dates'!$A:$E,4,FALSE)","v":{"$error":"#N/A"}},{"$f":"VLOOKUP($B59,'Ad Week Dates'!$A:$E,2,FALSE)","v":{"$error":"#N/A"}},{"$f":"VLOOKUP($B59,'Ad Week Dates'!$A:$E,3,FALSE)","v":{"$error":"#N/A"}},null,null,null,null,null,null,{"$error":"#N/A"}]
[null,null,{"$f":"VLOOKUP($B60,'Ad Week Dates'!$A:$E,4,FALSE)","v":{"$error":"#N/A"}},{"$f":"VLOOKUP($B60,'Ad Week Dates'!$A:$E,2,FALSE)","v":{"$error":"#N/A"}},{"$f":"VLOOKUP($B60,'Ad Week Dates'!$A:$E,3,FALSE)","v":{"$error":"#N/A"}},null,null,null,null,null,null,{"$error":"#N/A"}]
[null,null,{"$f":"VLOOKUP($B61,'Ad Week Dates'!$A:$E,4,FALSE)","v":{"$error":"#N/A"}},{"$f":"VLOOKUP($B61,'Ad Week Dates'!$A:$E,2,FALSE)","v":{"$error":"#N/A"}},{"$f":"VLOOKUP($B61,'Ad Week Dates'!$A:$E,3,FALSE)","v":{"$error":"#N/A"}},null,null,null,null,null,null,{"$error":"#N/A"}]
[null,null,{"$f":"VLOOKUP($B62,'Ad Week Dates'!$A:$E,4,FALSE)","v":{"$error":"#N/A"}},{"$f":"VLOOKUP($B62,'Ad Week Dates'!$A:$E,2,FALSE)","v":{"$error":"#N/A"}},{"$f":"VLOOKUP($B62,'Ad Week Dates'!$A:$E,3,FALSE)","v":{"$error":"#N/A"}},null,null,null,null,null,null,{"$error":"#N/A"}]
[null,null,{"$f":"VLOOKUP($B63,'Ad Week Dates'!$A:$E,4,FALSE)","v":{"$error":"#N/A"}},{"$f":"VLOOKUP($B63,'Ad Week Dates'!$A:$E,2,FALSE)","v":{"$error":"#N/A"}},{"$f":"VLOOKUP($B63,'Ad Week Dates'!$A:$E,3,FALSE)","v":{"$error":"#N/A"}},null,null,null,null,null,null,{"$error":"#N/A"}]
[null,null,{"$f":"VLOOKUP($B64,'Ad Week Dates'!$A:$E,4,FALSE)","v":{"$error":"#N/A"}},{"$f":"VLOOKUP($B64,'Ad Week Dates'!$A:$E,2,FALSE)","v":{"$error":"#N/A"}},{"$f":"VLOOKUP($B64,'Ad Week Dates'!$A:$E,3,FALSE)","v":{"$error":"#N/A"}},null,null,null,null,null,null,{"$error":"#N/A"}]
[null,null,{"$f":"VLOOKUP($B65,'Ad Week Dates'!$A:$E,4,FALSE)","v":{"$error":"#N/A"}},{"$f":"VLOOKUP($B65,'Ad Week Dates'!$A:$E,2,FALSE)","v":{"$error":"#N/A"}},{"$f":"VLOOKUP($B65,'Ad Week Dates'!$A:$E,3,FALSE)","v":{"$error":"#N/A"}},null,null,null,null,null,null,{"$error":"#N/A"}]
[null,null,{"$f":"VLOOKUP($B66,'Ad Week Dates'!$A:$E,4,FALSE)","v":{"$error":"#N/A"}},{"$f":"VLOOKUP($B66,'Ad Week Dates'!$A:$E,2,FALSE)","v":{"$error":"#N/A"}},{"$f":"VLOOKUP($B66,'Ad Week Dates'!$A:$E,3,FALSE)","v":{"$error":"#N/A"}},null,null,null,null,null,null,{"$error":"#N/A"}]
[null,null,{"$f":"VLOOKUP($B67,'Ad Week Dates'!$A:$E,4,FALSE)","v":{"$error":"#N/A"}},{"$f":"VLOOKUP($B67,'Ad Week Dates'!$A:$E,2,FALSE)","v":{"$error":"#N/A"}},{"$f":"VLOOKUP($B67,'Ad Week Dates'!$A:$E,3,FALSE)","v":{"$error":"#N/A"}},null,null,null,null,null,null,{"$error":"#N/A"}]
[null,null,{"$f":"VLOOKUP($B68,'Ad Week Dates'!$A:$E,4,FALSE)","v":{"$error":"#N/A"}},{"$f":"VLOOKUP($B68,'Ad Week Dates'!$A:$E,2,FALSE)","v":{"$error":"#N/A"}},{"$f":"VLOOKUP($B68,'Ad Week Dates'!$A:$E,3,FALSE)","v":{"$error":"#N/A"}},null,null,null,null,null,null,{"$error":"#N/A"}]
[null,null,{"$f":"VLOOKUP($B69,'Ad Week Dates'!$A:$E,4,FALSE)","v":{"$error":"#N/A"}},{"$f":"VLOOKUP($B69,'Ad Week Dates'!$A:$E,2,FALSE)","v":{"$error":"#N/A"}},{"$f":"VLOOKUP($B69,'Ad Week Dates'!$A:$E,3,FALSE)","v":{"$error":"#N/A"}},null,null,null,null,null,null,{"$error":"#N/A"}]
[null,null,{"$f":"VLOOKUP($B70,'Ad Week Dates'!$A:$E,4,FALSE)","v":{"$error":"#N/A"}},{"$f":"VLOOKUP($B70,'Ad Week Dates'!$A:$E,2,FALSE)","v":{"$error":"#N/A"}},{"$f":"VLOOKUP($B70,'Ad Week Dates'!$A:$E,3,FALSE)","v":{"$error":"#N/A"}},null,null,null,null,null,null,{"$f":"IF(ISNUMBER(J70), J70 - K70, VALUE(_xlfn.TEXTBEFORE(J70, \"-\")) - VALUE(_xlfn.TEXTBEFORE(K70, \"-\")))","v":{"$error":"#N/A"}}]
[null,null,{"$f":"VLOOKUP($B71,'Ad Week Dates'!$A:$E,4,FALSE)","v":{"$error":"#N/A"}},{"$f":"VLOOKUP($B71,'Ad Week Dates'!$A:$E,2,FALSE)","v":{"$error":"#N/A"}},{"$f":"VLOOKUP($B71,'Ad Week Dates'!$A:$E,3,FALSE)","v":{"$error":"#N/A"}},null,null,null,null,null,null,{"$error":"#N/A"}]
[null,null,{"$f":"VLOOKUP($B72,'Ad Week Dates'!$A:$E,4,FALSE)","v":{"$error":"#N/A"}},{"$f":"VLOOKUP($B72,'Ad Week Dates'!$A:$E,2,FALSE)","v":{"$error":"#N/A"}},{"$f":"VLOOKUP($B72,'Ad Week Dates'!$A:$E,3,FALSE)","v":{"$error":"#N/A"}},null,null,null,null,null,null,{"$error":"#N/A"}]
[null,null,{"$f":"VLOOKUP($B73,'Ad Week Dates'!$A:$E,4,FALSE)","v":{"$error":"#N/A"}},{"$f":"VLOOKUP($B73,'Ad Week Dates'!$A:$E,2,FALSE)","v":{"$error":"#N/A"}},{"$f":"VLOOKUP($B73,'Ad Week Dates'!$A:$E,3,FALSE)","v":{"$error":"#N/A"}},null,null,null,null,null,null,{"$error":"#N/A"}]
[null,null,{"$f":"VLOOKUP($B74,'Ad Week Dates'!$A:$E,4,FALSE)","v":{"$error":"#N/A"}},{"$f":"VLOOKUP($B74,'Ad Week Dates'!$A:$E,2,FALSE)","v":{"$error":"#N/A"}},{"$f":"VLOOKUP($B74,'Ad Week Dates'!$A:$E,3,FALSE)","v":{"$error":"#N/A"}},null,null,null,null,null,null,{"$error":"#N/A"}]
[null,null,{"$f":"VLOOKUP($B75,'Ad Week Dates'!$A:$E,4,FALSE)","v":{"$error":"#N/A"}},{"$f":"VLOOKUP($B75,'Ad Week Dates'!$A:$E,2,FALSE)","v":{"$error":"#N/A"}},{"$f":"VLOOKUP($B75,'Ad Week Dates'!$A:$E,3,FALSE)","v":{"$error":"#N/A"}},null,null,null,null,null,null,{"$error":"#N/A"}]
[null,null,{"$f":"VLOOKUP($B76,'Ad Week Dates'!$A:$E,4,FALSE)","v":{"$error":"#N/A"}},{"$f":"VLOOKUP($B76,'Ad Week Dates'!$A:$E,2,FALSE)","v":{"$error":"#N/A"}},{"$f":"VLOOKUP($B76,'Ad Week Dates'!$A:$E,3,FALSE)","v":{"$error":"#N/A"}},null,null,null,null,null,null,{"$error":"#N/A"}]
[null,null,{"$f":"VLOOKUP($B77,'Ad Week Dates'!$A:$E,4,FALSE)","v":{"$error":"#N/A"}},{"$f":"VLOOKUP($B77,'Ad Week Dates'!$A:$E,2,FALSE)","v":{"$error":"#N/A"}},{"$f":"VLOOKUP($B77,'Ad Week Dates'!$A:$E,3,FALSE)","v":{"$error":"#N/A"}},null,null,null,null,null,null,{"$error":"#N/A"}]
[null,null,{"$f":"VLOOKUP($B78,'Ad Week Dates'!$A:$E,4,FALSE)","v":{"$error":"#N/A"}},{"$f":"VLOOKUP($B78,'Ad Week Dates'!$A:$E,2,FALSE)","v":{"$error":"#N/A"}},{"$f":"VLOOKUP($B78,'Ad Week Dates'!$A:$E,3,FALSE)","v":{"$error":"#N/A"}},null,null,null,null,null,null,{"$error":"#N/A"}]
[null,null,{"$f":"VLOOKUP($B79,'Ad Week Dates'!$A:$E,4,FALSE)","v":{"$error":"#N/A"}},{"$f":"VLOOKUP($B79,'Ad Week Dates'!$A:$E,2,FALSE)","v":{"$error":"#N/A"}},{"$f":"VLOOKUP($B79,'Ad Week Dates'!$A:$E,3,FALSE)","v":{"$error":"#N/A"}},null,null,null,null,null,null,{"$error":"#N/A"}]
[null,null,{"$f":"VLOOKUP($B80,'Ad Week Dates'!$A:$E,4,FALSE)","v":{"$error":"#N/A"}},{"$f":"VLOOKUP($B80,'Ad Week Dates'!$A:$E,2,FALSE)","v":{"$error":"#N/A"}},{"$f":"VLOOKUP($B80,'Ad Week Dates'!$A:$E,3,FALSE)","v":{"$error":"#N/A"}},null,null,null,null,null,null,{"$error":"#N/A"}]
[null,null,{"$f":"VLOOKUP($B81,'Ad Week Dates'!$A:$E,4,FALSE)","v":{"$error":"#N/A"}},{"$f":"VLOOKUP($B81,'Ad Week Dates'!$A:$E,2,FALSE)","v":{"$error":"#N/A"}},{"$f":"VLOOKUP($B81,'Ad Week Dates'!$A:$E,3,FALSE)","v":{"$error":"#N/A"}},null,null,null,null,null,null,{"$error":"#N/A"}]
[null,null,{"$f":"VLOOKUP($B82,'Ad Week Dates'!$A:$E,4,FALSE)","v":{"$error":"#N/A"}},{"$f":"VLOOKUP($B82,'Ad Week Dates'!$A:$E,2,FALSE)","v":{"$error":"#N/A"}},{"$f":"VLOOKUP($B82,'Ad Week Dates'!$A:$E,3,FALSE)","v":{"$error":"#N/A"}},null,null,null,null,null,null,{"$error":"#N/A"}]
[null,null,{"$f":"VLOOKUP($B83,'Ad Week Dates'!$A:$E,4,FALSE)","v":{"$error":"#N/A"}},{"$f":"VLOOKUP($B83,'Ad Week Dates'!$A:$E,2,FALSE)","v":{"$error":"#N/A"}},{"$f":"VLOOKUP($B83,'Ad Week Dates'!$A:$E,3,FALSE)","v":{"$error":"#N/A"}},null,null,null,null,null,null,{"$error":"#N/A"}]
[null,null,{"$f":"VLOOKUP($B84,'Ad Week Dates'!$A:$E,4,FALSE)","v":{"$error":"#N/A"}},{"$f":"VLOOKUP($B84,'Ad Week Dates'!$A:$E,2,FALSE)","v":{"$error":"#N/A"}},{"$f":"VLOOKUP($B84,'Ad Week Dates'!$A:$E,3,FALSE)","v":{"$error":"#N/A"}},null,null,null,null,null,null,{"$error":"#N/A"}]
[null,null,{"$f":"VLOOKUP($B85,'Ad Week Dates'!$A:$E,4,FALSE)","v":{"$error":"#N/A"}},{"$f":"VLOOKUP($B85,'Ad Week Dates'!$A:$E,2,FALSE)","v":{"$error":"#N/A"}},{"$f":"VLOOKUP($B85,'Ad Week Dates'!$A:$E,3,FALSE)","v":{"$error":"#N/A"}},null,null,null,null,null,null,{"$error":"#N/A"}]
[null,null,{"$f":"VLOOKUP($B86,'Ad Week Dates'!$A:$E,4,FALSE)","v":{"$error":"#N/A"}},{"$f":"VLOOKUP($B86,'Ad Week Dates'!$A:$E,2,FALSE)","v":{"$error":"#N/A"}},{"$f":"VLOOKUP($B86,'Ad Week Dates'!$A:$E,3,FALSE)","v":{"$error":"#N/A"}},null,null,null,null,null,null,{"$error":"#N/A"}]
[null,null,{"$f":"VLOOKUP($B87,'Ad Week Dates'!$A:$E,4,FALSE)","v":{"$error":"#N/A"}},{"$f":"VLOOKUP($B87,'Ad Week Dates'!$A:$E,2,FALSE)","v":{"$error":"#N/A"}},{"$f":"VLOOKUP($B87,'Ad Week Dates'!$A:$E,3,FALSE)","v":{"$error":"#N/A"}},null,null,null,null,null,null,{"$error":"#N/A"}]
[null,null,{"$f":"VLOOKUP($B88,'Ad Week Dates'!$A:$E,4,FALSE)","v":{"$error":"#N/A"}},{"$f":"VLOOKUP($B88,'Ad Week Dates'!$A:$E,2,FALSE)","v":{"$error":"#N/A"}},{"$f":"VLOOKUP($B88,'Ad Week Dates'!$A:$E,3,FALSE)","v":{"$error":"#N/A"}},null,null,null,null,null,null,{"$error":"#N/A"}]
[null,null,{"$f":"VLOOKUP($B89,'Ad Week Dates'!$A:$E,4,FALSE)","v":{"$error":"#N/A"}},{"$f":"VLOOKUP($B89,'Ad Week Dates'!$A:$E,2,FALSE)","v":{"$error":"#N/A"}},{"$f":"VLOOKUP($B89,'Ad Week Dates'!$A:$E,3,FALSE)","v":{"$error":"#N/A"}},null,null,null,null,null,null,{"$error":"#N/A"}]
[null,null,{"$f":"VLOOKUP($B90,'Ad Week Dates'!$A:$E,4,FALSE)","v":{"$error":"#N/A"}},{"$f":"VLOOKUP($B90,'Ad Week Dates'!$A:$E,2,FALSE)","v":{"$error":"#N/A"}},{"$f":"VLOOKUP($B90,'Ad Week Dates'!$A:$E,3,FALSE)","v":{"$error":"#N/A"}},null,null,null,null,null,null,{"$error":"#N/A"}]
[null,null,{"$f":"VLOOKUP($B91,'Ad Week Dates'!$A:$E,4,FALSE)","v":{"$error":"#N/A"}},{"$f":"VLOOKUP($B91,'Ad Week Dates'!$A:$E,2,FALSE)","v":{"$error":"#N/A"}},{"$f":"VLOOKUP($B91,'Ad Week Dates'!$A:$E,3,FALSE)","v":{"$error":"#N/A"}},null,null,null,null,null,null,{"$error":"#N/A"}]
[null,null,{"$f":"VLOOKUP($B92,'Ad Week Dates'!$A:$E,4,FALSE)","v":{"$error":"#N/A"}},{"$f":"VLOOKUP($B92,'Ad Week Dates'!$A:$E,2,FALSE)","v":{"$error":"#N/A"}},{"$f":"VLOOKUP($B92,'Ad Week Dates'!$A:$E,3,FALSE)","v":{"$error":"#N/A"}},null,null,null,null,null,null,{"$error":"#N/A"}]
[null,null,{"$f":"VLOOKUP($B93,'Ad Week Dates'!$A:$E,4,FALSE)","v":{"$error":"#N/A"}},{"$f":"VLOOKUP($B93,'Ad Week Dates'!$A:$E,2,FALSE)","v":{"$error":"#N/A"}},{"$f":"VLOOKUP($B93,'Ad Week Dates'!$A:$E,3,FALSE)","v":{"$error":"#N/A"}},null,null,null,null,null,null,{"$error":"#N/A"}]
[null,null,{"$f":"VLOOKUP($B94,'Ad Week Dates'!$A:$E,4,FALSE)","v":{"$error":"#N/A"}},{"$f":"VLOOKUP($B94,'Ad Week Dates'!$A:$E,2,FALSE)","v":{"$error":"#N/A"}},{"$f":"VLOOKUP($B94,'Ad Week Dates'!$A:$E,3,FALSE)","v":{"$error":"#N/A"}},null,null,null,null,null,null,{"$error":"#N/A"}]
[null,null,{"$f":"VLOOKUP($B95,'Ad Week Dates'!$A:$E,4,FALSE)","v":{"$error":"#N/A"}},{"$f":"VLOOKUP($B95,'Ad Week Dates'!$A:$E,2,FALSE)","v":{"$error":"#N/A"}},{"$f":"VLOOKUP($B95,'Ad Week Dates'!$A:$E,3,FALSE)","v":{"$error":"#N/A"}},null,null,null,null,null,null,{"$error":"#N/A"}]
[null,null,{"$f":"VLOOKUP($B96,'Ad Week Dates'!$A:$E,4,FALSE)","v":{"$error":"#N/A"}},{"$f":"VLOOKUP($B96,'Ad Week Dates'!$A:$E,2,FALSE)","v":{"$error":"#N/A"}},{"$f":"VLOOKUP($B96,'Ad Week Dates'!$A:$E,3,FALSE)","v":{"$error":"#N/A"}},null,null,null,null,null,null,{"$error":"#N/A"}]
[null,null,{"$f":"VLOOKUP($B97,'Ad Week Dates'!$A:$E,4,FALSE)","v":{"$error":"#N/A"}},{"$f":"VLOOKUP($B97,'Ad Week Dates'!$A:$E,2,FALSE)","v":{"$error":"#N/A"}},{"$f":"VLOOKUP($B97,'Ad Week Dates'!$A:$E,3,FALSE)","v":{"$error":"#N/A"}},null,null,null,null,null,null,{"$error":"#N/A"}]
[null,null,{"$f":"VLOOKUP($B98,'Ad Week Dates'!$A:$E,4,FALSE)","v":{"$error":"#N/A"}},{"$f":"VLOOKUP($B98,'Ad Week Dates'!$A:$E,2,FALSE)","v":{"$error":"#N/A"}},{"$f":"VLOOKUP($B98,'Ad Week Dates'!$A:$E,3,FALSE)","v":{"$error":"#N/A"}},null,null,null,null,null,null,{"$error":"#N/A"}]
[null,null,{"$f":"VLOOKUP($B99,'Ad Week Dates'!$A:$E,4,FALSE)","v":{"$error":"#N/A"}},{"$f":"VLOOKUP($B99,'Ad Week Dates'!$A:$E,2,FALSE)","v":{"$error":"#N/A"}},{"$f":"VLOOKUP($B99,'Ad Week Dates'!$A:$E,3,FALSE)","v":{"$error":"#N/A"}},null,null,null,null,null,null,{"$error":"#N/A"}]
[null,null,{"$f":"VLOOKUP($B100,'Ad Week Dates'!$A:$E,4,FALSE)","v":{"$error":"#N/A"}},{"$f":"VLOOKUP($B100,'Ad Week Dates'!$A:$E,2,FALSE)","v":{"$error":"#N/A"}},{"$f":"VLOOKUP($B100,'Ad Week Dates'!$A:$E,3,FALSE)","v":{"$error":"#N/A"}},null,null,null,null,null,null,{"$error":"#N/A"}]
[null,null,{"$f":"VLOOKUP($B101,'Ad Week Dates'!$A:$E,4,FALSE)","v":{"$error":"#N/A"}},{"$f":"VLOOKUP($B101,'Ad Week Dates'!$A:$E,2,FALSE)","v":{"$error":"#N/A"}},{"$f":"VLOOKUP($B101,'Ad Week Dates'!$A:$E,3,FALSE)","v":{"$error":"#N/A"}},null,null,null,null,null,null,{"$error":"#N/A"}]
[null,null,{"$f":"VLOOKUP($B102,'Ad Week Dates'!$A:$E,4,FALSE)","v":{"$error":"#N/A"}},{"$f":"VLOOKUP($B102,'Ad Week Dates'!$A:$E,2,FALSE)","v":{"$error":"#N/A"}},{"$f":"VLOOKUP($B102,'Ad Week Dates'!$A:$E,3,FALSE)","v":{"$error":"#N/A"}},null,null,null,null,null,null,{"$error":"#N/A"}]
[null,null,{"$f":"VLOOKUP($B103,'Ad Week Dates'!$A:$E,4,FALSE)","v":{"$error":"#N/A"}},{"$f":"VLOOKUP($B103,'Ad Week Dates'!$A:$E,2,FALSE)","v":{"$error":"#N/A"}},{"$f":"VLOOKUP($B103,'Ad Week Dates'!$A:$E,3,FALSE)","v":{"$error":"#N/A"}},null,null,null,null,null,null,{"$error":"#N/A"}]
[null,null,{"$f":"VLOOKUP($B104,'Ad Week Dates'!$A:$E,4,FALSE)","v":{"$error":"#N/A"}},{"$f":"VLOOKUP($B104,'Ad Week Dates'!$A:$E,2,FALSE)","v":{"$error":"#N/A"}},{"$f":"VLOOKUP($B104,'Ad Week Dates'!$A:$E,3,FALSE)","v":{"$error":"#N/A"}},null,null,null,null,null,null,{"$error":"#N/A"}]
[null,null,{"$f":"VLOOKUP($B105,'Ad Week Dates'!$A:$E,4,FALSE)","v":{"$error":"#N/A"}},{"$f":"VLOOKUP($B105,'Ad Week Dates'!$A:$E,2,FALSE)","v":{"$error":"#N/A"}},{"$f":"VLOOKUP($B105,'Ad Week Dates'!$A:$E,3,FALSE)","v":{"$error":"#N/A"}},null,null,null,null,null,null,{"$error":"#N/A"}]
[null,null,{"$f":"VLOOKUP($B106,'Ad Week Dates'!$A:$E,4,FALSE)","v":{"$error":"#N/A"}},{"$f":"VLOOKUP($B106,'Ad Week Dates'!$A:$E,2,FALSE)","v":{"$error":"#N/A"}},{"$f":"VLOOKUP($B106,'Ad Week Dates'!$A:$E,3,FALSE)","v":{"$error":"#N/A"}},null,null,null,null,null,null,{"$error":"#N/A"}]
[null,null,{"$f":"VLOOKUP($B107,'Ad Week Dates'!$A:$E,4,FALSE)","v":{"$error":"#N/A"}},{"$f":"VLOOKUP($B107,'Ad Week Dates'!$A:$E,2,FALSE)","v":{"$error":"#N/A"}},{"$f":"VLOOKUP($B107,'Ad Week Dates'!$A:$E,3,FALSE)","v":{"$error":"#N/A"}},null,null,null,null,null,null,{"$error":"#N/A"}]
[null,null,{"$f":"VLOOKUP($B108,'Ad Week Dates'!$A:$E,4,FALSE)","v":{"$error":"#N/A"}},{"$f":"VLOOKUP($B108,'Ad Week Dates'!$A:$E,2,FALSE)","v":{"$error":"#N/A"}},{"$f":"VLOOKUP($B108,'Ad Week Dates'!$A:$E,3,FALSE)","v":{"$error":"#N/A"}},null,null,null,null,null,null,{"$error":"#N/A"}]
[null,null,{"$f":"VLOOKUP($B109,'Ad Week Dates'!$A:$E,4,FALSE)","v":{"$error":"#N/A"}},{"$f":"VLOOKUP($B109,'Ad Week Dates'!$A:$E,2,FALSE)","v":{"$error":"#N/A"}},{"$f":"VLOOKUP($B109,'Ad Week Dates'!$A:$E,3,FALSE)","v":{"$error":"#N/A"}},null,null,null,null,null,null,{"$error":"#N/A"}]
[null,null,{"$f":"VLOOKUP($B110,'Ad Week Dates'!$A:$E,4,FALSE)","v":{"$error":"#N/A"}},{"$f":"VLOOKUP($B110,'Ad Week Dates'!$A:$E,2,FALSE)","v":{"$error":"#N/A"}},{"$f":"VLOOKUP($B110,'Ad Week Dates'!$A:$E,3,FALSE)","v":{"$error":"#N/A"}},null,null,null,null,null,null,{"$error":"#N/A"}]
[null,null,{"$f":"VLOOKUP($B111,'Ad Week Dates'!$A:$E,4,FALSE)","v":{"$error":"#N/A"}},{"$f":"VLOOKUP($B111,'Ad Week Dates'!$A:$E,2,FALSE)","v":{"$error":"#N/A"}},{"$f":"VLOOKUP($B111,'Ad Week Dates'!$A:$E,3,FALSE)","v":{"$error":"#N/A"}},null,null,null,null,null,null,{"$error":"#N/A"}]
[null,null,{"$f":"VLOOKUP($B112,'Ad Week Dates'!$A:$E,4,FALSE)","v":{"$error":"#N/A"}},{"$f":"VLOOKUP($B112,'Ad Week Dates'!$A:$E,2,FALSE)","v":{"$error":"#N/A"}},{"$f":"VLOOKUP($B112,'Ad Week Dates'!$A:$E,3,FALSE)","v":{"$error":"#N/A"}},null,null,null,null,null,null,{"$error":"#N/A"}]
[null,null,{"$f":"VLOOKUP($B113,'Ad Week Dates'!$A:$E,4,FALSE)","v":{"$error":"#N/A"}},{"$f":"VLOOKUP($B113,'Ad Week Dates'!$A:$E,2,FALSE)","v":{"$error":"#N/A"}},{"$f":"VLOOKUP($B113,'Ad Week Dates'!$A:$E,3,FALSE)","v":{"$error":"#N/A"}},null,null,null,null,null,null,{"$error":"#N/A"}]
[null,null,{"$f":"VLOOKUP($B114,'Ad Week Dates'!$A:$E,4,FALSE)","v":{"$error":"#N/A"}},{"$f":"VLOOKUP($B114,'Ad Week Dates'!$A:$E,2,FALSE)","v":{"$error":"#N/A"}},{"$f":"VLOOKUP($B114,'Ad Week Dates'!$A:$E,3,FALSE)","v":{"$error":"#N/A"}},null,null,null,null,null,null,{"$error":"#N/A"}]
[null,null,{"$f":"VLOOKUP($B115,'Ad Week Dates'!$A:$E,4,FALSE)","v":{"$error":"#N/A"}},{"$f":"VLOOKUP($B115,'Ad Week Dates'!$A:$E,2,FALSE)","v":{"$error":"#N/A"}},{"$f":"VLOOKUP($B115,'Ad Week Dates'!$A:$E,3,FALSE)","v":{"$error":"#N/A"}},null,null,null,null,null,null,{"$error":"#N/A"}]
[null,null,{"$f":"VLOOKUP($B116,'Ad Week Dates'!$A:$E,4,FALSE)","v":{"$error":"#N/A"}},{"$f":"VLOOKUP($B116,'Ad Week Dates'!$A:$E,2,FALSE)","v":{"$error":"#N/A"}},{"$f":"VLOOKUP($B116,'Ad Week Dates'!$A:$E,3,FALSE)","v":{"$error":"#N/A"}},null,null,null,null,null,null,{"$error":"#N/A"}]
[null,null,{"$f":"VLOOKUP($B117,'Ad Week Dates'!$A:$E,4,FALSE)","v":{"$error":"#N/A"}},{"$f":"VLOOKUP($B117,'Ad Week Dates'!$A:$E,2,FALSE)","v":{"$error":"#N/A"}},{"$f":"VLOOKUP($B117,'Ad Week Dates'!$A:$E,3,FALSE)","v":{"$error":"#N/A"}},null,null,null,null,null,null,{"$error":"#N/A"}]
[null,null,{"$f":"VLOOKUP($B118,'Ad Week Dates'!$A:$E,4,FALSE)","v":{"$error":"#N/A"}},{"$f":"VLOOKUP($B118,'Ad Week Dates'!$A:$E,2,FALSE)","v":{"$error":"#N/A"}},{"$f":"VLOOKUP($B118,'Ad Week Dates'!$A:$E,3,FALSE)","v":{"$error":"#N/A"}},null,null,null,null,null,null,{"$error":"#N/A"}]
[null,null,{"$f":"VLOOKUP($B119,'Ad Week Dates'!$A:$E,4,FALSE)","v":{"$error":"#N/A"}},{"$f":"VLOOKUP($B119,'Ad Week Dates'!$A:$E,2,FALSE)","v":{"$error":"#N/A"}},{"$f":"VLOOKUP($B119,'Ad Week Dates'!$A:$E,3,FALSE)","v":{"$error":"#N/A"}},null,null,null,null,null,null,{"$error":"#N/A"}]
[null,null,{"$f":"VLOOKUP($B120,'Ad Week Dates'!$A:$E,4,FALSE)","v":{"$error":"#N/A"}},{"$f":"VLOOKUP($B120,'Ad Week Dates'!$A:$E,2,FALSE)","v":{"$error":"#N/A"}},{"$f":"VLOOKUP($B120,'Ad Week Dates'!$A:$E,3,FALSE)","v":{"$error":"#N/A"}},null,null,null,null,null,null,{"$error":"#N/A"}]
[null,null,{"$f":"VLOOKUP($B121,'Ad Week Dates'!$A:$E,4,FALSE)","v":{"$error":"#N/A"}},{"$f":"VLOOKUP($B121,'Ad Week Dates'!$A:$E,2,FALSE)","v":{"$error":"#N/A"}},{"$f":"VLOOKUP($B121,'Ad Week Dates'!$A:$E,3,FALSE)","v":{"$error":"#N/A"}},null,null,null,null,null,null,{"$error":"#N/A"}]
[null,null,{"$f":"VLOOKUP($B122,'Ad Week Dates'!$A:$E,4,FALSE)","v":{"$error":"#N/A"}},{"$f":"VLOOKUP($B122,'Ad Week Dates'!$A:$E,2,FALSE)","v":{"$error":"#N/A"}},{"$f":"VLOOKUP($B122,'Ad Week Dates'!$A:$E,3,FALSE)","v":{"$error":"#N/A"}},null,null,null,null,null,null,{"$error":"#N/A"}]
[null,null,{"$f":"VLOOKUP($B123,'Ad Week Dates'!$A:$E,4,FALSE)","v":{"$error":"#N/A"}},{"$f":"VLOOKUP($B123,'Ad Week Dates'!$A:$E,2,FALSE)","v":{"$error":"#N/A"}},{"$f":"VLOOKUP($B123,'Ad Week Dates'!$A:$E,3,FALSE)","v":{"$error":"#N/A"}},null,null,null,null,null,null,{"$error":"#N/A"}]
[null,null,{"$f":"VLOOKUP($B124,'Ad Week Dates'!$A:$E,4,FALSE)","v":{"$error":"#N/A"}},{"$f":"VLOOKUP($B124,'Ad Week Dates'!$A:$E,2,FALSE)","v":{"$error":"#N/A"}},{"$f":"VLOOKUP($B124,'Ad Week Dates'!$A:$E,3,FALSE)","v":{"$error":"#N/A"}},null,null,null,null,null,null,{"$error":"#N/A"}]
[null,null,{"$f":"VLOOKUP($B125,'Ad Week Dates'!$A:$E,4,FALSE)","v":{"$error":"#N/A"}},{"$f":"VLOOKUP($B125,'Ad Week Dates'!$A:$E,2,FALSE)","v":{"$error":"#N/A"}},{"$f":"VLOOKUP($B125,'Ad Week Dates'!$A:$E,3,FALSE)","v":{"$error":"#N/A"}},null,null,null,null,null,null,{"$error":"#N/A"}]
[null,null,{"$f":"VLOOKUP($B126,'Ad Week Dates'!$A:$E,4,FALSE)","v":{"$error":"#N/A"}},{"$f":"VLOOKUP($B126,'Ad Week Dates'!$A:$E,2,FALSE)","v":{"$error":"#N/A"}},{"$f":"VLOOKUP($B126,'Ad Week Dates'!$A:$E,3,FALSE)","v":{"$error":"#N/A"}},null,null,null,null,null,null,{"$error":"#N/A"}]
[null,null,{"$f":"VLOOKUP($B127,'Ad Week Dates'!$A:$E,4,FALSE)","v":{"$error":"#N/A"}},{"$f":"VLOOKUP($B127,'Ad Week Dates'!$A:$E,2,FALSE)","v":{"$error":"#N/A"}},{"$f":"VLOOKUP($B127,'Ad Week Dates'!$A:$E,3,FALSE)","v":{"$error":"#N/A"}},null,null,null,null,null,null,{"$error":"#N/A"}]
[null,null,{"$f":"VLOOKUP($B128,'Ad Week Dates'!$A:$E,4,FALSE)","v":{"$error":"#N/A"}},{"$f":"VLOOKUP($B128,'Ad Week Dates'!$A:$E,2,FALSE)","v":{"$error":"#N/A"}},{"$f":"VLOOKUP($B128,'Ad Week Dates'!$A:$E,3,FALSE)","v":{"$error":"#N/A"}},null,null,null,null,null,null,{"$error":"#N/A"}]
[null,null,{"$f":"VLOOKUP($B129,'Ad Week Dates'!$A:$E,4,FALSE)","v":{"$error":"#N/A"}},{"$f":"VLOOKUP($B129,'Ad Week Dates'!$A:$E,2,FALSE)","v":{"$error":"#N/A"}},{"$f":"VLOOKUP($B129,'Ad Week Dates'!$A:$E,3,FALSE)","v":{"$error":"#N/A"}},null,null,null,null,null,null,{"$error":"#N/A"}]
[null,null,{"$f":"VLOOKUP($B130,'Ad Week Dates'!$A:$E,4,FALSE)","v":{"$error":"#N/A"}},{"$f":"VLOOKUP($B130,'Ad Week Dates'!$A:$E,2,FALSE)","v":{"$error":"#N/A"}},{"$f":"VLOOKUP($B130,'Ad Week Dates'!$A:$E,3,FALSE)","v":{"$error":"#N/A"}},null,null,null,null,null,null,{"$error":"#N/A"}]
[null,null,{"$f":"VLOOKUP($B131,'Ad Week Dates'!$A:$E,4,FALSE)","v":{"$error":"#N/A"}},{"$f":"VLOOKUP($B131,'Ad Week Dates'!$A:$E,2,FALSE)","v":{"$error":"#N/A"}},{"$f":"VLOOKUP($B131,'Ad Week Dates'!$A:$E,3,FALSE)","v":{"$error":"#N/A"}},null,null,null,null,null,null,{"$error":"#N/A"}]
[null,null,{"$f":"VLOOKUP($B132,'Ad Week Dates'!$A:$E,4,FALSE)","v":{"$error":"#N/A"}},{"$f":"VLOOKUP($B132,'Ad Week Dates'!$A:$E,2,FALSE)","v":{"$error":"#N/A"}},{"$f":"VLOOKUP($B132,'Ad Week Dates'!$A:$E,3,FALSE)","v":{"$error":"#N/A"}},null,null,null,null,null,null,{"$error":"#N/A"}]
[null,null,{"$f":"VLOOKUP($B133,'Ad Week Dates'!$A:$E,4,FALSE)","v":{"$error":"#N/A"}},{"$f":"VLOOKUP($B133,'Ad Week Dates'!$A:$E,2,FALSE)","v":{"$error":"#N/A"}},{"$f":"VLOOKUP($B133,'Ad Week Dates'!$A:$E,3,FALSE)","v":{"$error":"#N/A"}},null,null,null,null,null,null,{"$error":"#N/A"}]
[null,null,{"$f":"VLOOKUP($B134,'Ad Week Dates'!$A:$E,4,FALSE)","v":{"$error":"#N/A"}},{"$f":"VLOOKUP($B134,'Ad Week Dates'!$A:$E,2,FALSE)","v":{"$error":"#N/A"}},{"$f":"VLOOKUP($B134,'Ad Week Dates'!$A:$E,3,FALSE)","v":{"$error":"#N/A"}},null,null,null,null,null,null,{"$f":"IF(ISNUMBER(J134), J134 - K134, VALUE(_xlfn.TEXTBEFORE(J134, \"-\")) - VALUE(_xlfn.TEXTBEFORE(K134, \"-\")))","v":{"$error":"#N/A"}}]
[null,null,{"$f":"VLOOKUP($B135,'Ad Week Dates'!$A:$E,4,FALSE)","v":{"$error":"#N/A"}},{"$f":"VLOOKUP($B135,'Ad Week Dates'!$A:$E,2,FALSE)","v":{"$error":"#N/A"}},{"$f":"VLOOKUP($B135,'Ad Week Dates'!$A:$E,3,FALSE)","v":{"$error":"#N/A"}},null,null,null,null,null,null,{"$error":"#N/A"}]
[null,null,{"$f":"VLOOKUP($B136,'Ad Week Dates'!$A:$E,4,FALSE)","v":{"$error":"#N/A"}},{"$f":"VLOOKUP($B136,'Ad Week Dates'!$A:$E,2,FALSE)","v":{"$error":"#N/A"}},{"$f":"VLOOKUP($B136,'Ad Week Dates'!$A:$E,3,FALSE)","v":{"$error":"#N/A"}},null,null,null,null,null,null,{"$error":"#N/A"}]
[null,null,{"$f":"VLOOKUP($B137,'Ad Week Dates'!$A:$E,4,FALSE)","v":{"$error":"#N/A"}},{"$f":"VLOOKUP($B137,'Ad Week Dates'!$A:$E,2,FALSE)","v":{"$error":"#N/A"}},{"$f":"VLOOKUP($B137,'Ad Week Dates'!$A:$E,3,FALSE)","v":{"$error":"#N/A"}},null,null,null,null,null,null,{"$error":"#N/A"}]
[null,null,{"$f":"VLOOKUP($B138,'Ad Week Dates'!$A:$E,4,FALSE)","v":{"$error":"#N/A"}},{"$f":"VLOOKUP($B138,'Ad Week Dates'!$A:$E,2,FALSE)","v":{"$error":"#N/A"}},{"$f":"VLOOKUP($B138,'Ad Week Dates'!$A:$E,3,FALSE)","v":{"$error":"#N/A"}},null,null,null,null,null,null,{"$error":"#N/A"}]
[null,null,{"$f":"VLOOKUP($B139,'Ad Week Dates'!$A:$E,4,FALSE)","v":{"$error":"#N/A"}},{"$f":"VLOOKUP($B139,'Ad Week Dates'!$A:$E,2,FALSE)","v":{"$error":"#N/A"}},{"$f":"VLOOKUP($B139,'Ad Week Dates'!$A:$E,3,FALSE)","v":{"$error":"#N/A"}},null,null,null,null,null,null,{"$error":"#N/A"}]
[null,null,{"$f":"VLOOKUP($B140,'Ad Week Dates'!$A:$E,4,FALSE)","v":{"$error":"#N/A"}},{"$f":"VLOOKUP($B140,'Ad Week Dates'!$A:$E,2,FALSE)","v":{"$error":"#N/A"}},{"$f":"VLOOKUP($B140,'Ad Week Dates'!$A:$E,3,FALSE)","v":{"$error":"#N/A"}},null,null,null,null,null,null,{"$error":"#N/A"}]
[null,null,{"$f":"VLOOKUP($B141,'Ad Week Dates'!$A:$E,4,FALSE)","v":{"$error":"#N/A"}},{"$f":"VLOOKUP($B141,'Ad Week Dates'!$A:$E,2,FALSE)","v":{"$error":"#N/A"}},{"$f":"VLOOKUP($B141,'Ad Week Dates'!$A:$E,3,FALSE)","v":{"$error":"#N/A"}},null,null,null,null,null,null,{"$error":"#N/A"}]
[null,null,{"$f":"VLOOKUP($B142,'Ad Week Dates'!$A:$E,4,FALSE)","v":{"$error":"#N/A"}},{"$f":"VLOOKUP($B142,'Ad Week Dates'!$A:$E,2,FALSE)","v":{"$error":"#N/A"}},{"$f":"VLOOKUP($B142,'Ad Week Dates'!$A:$E,3,FALSE)","v":{"$error":"#N/A"}},null,null,null,null,null,null,{"$error":"#N/A"}]
[null,null,{"$f":"VLOOKUP($B143,'Ad Week Dates'!$A:$E,4,FALSE)","v":{"$error":"#N/A"}},{"$f":"VLOOKUP($B143,'Ad Week Dates'!$A:$E,2,FALSE)","v":{"$error":"#N/A"}},{"$f":"VLOOKUP($B143,'Ad Week Dates'!$A:$E,3,FALSE)","v":{"$error":"#N/A"}},null,null,null,null,null,null,{"$error":"#N/A"}]
[null,null,{"$f":"VLOOKUP($B144,'Ad Week Dates'!$A:$E,4,FALSE)","v":{"$error":"#N/A"}},{"$f":"VLOOKUP($B144,'Ad Week Dates'!$A:$E,2,FALSE)","v":{"$error":"#N/A"}},{"$f":"VLOOKUP($B144,'Ad Week Dates'!$A:$E,3,FALSE)","v":{"$error":"#N/A"}},null,null,null,null,null,null,{"$error":"#N/A"}]
[null,null,{"$f":"VLOOKUP($B145,'Ad Week Dates'!$A:$E,4,FALSE)","v":{"$error":"#N/A"}},{"$f":"VLOOKUP($B145,'Ad Week Dates'!$A:$E,2,FALSE)","v":{"$error":"#N/A"}},{"$f":"VLOOKUP($B145,'Ad Week Dates'!$A:$E,3,FALSE)","v":{"$error":"#N/A"}},null,null,null,null,null,null,{"$error":"#N/A"}]
[null,null,{"$f":"VLOOKUP($B146,'Ad Week Dates'!$A:$E,4,FALSE)","v":{"$error":"#N/A"}},{"$f":"VLOOKUP($B146,'Ad Week Dates'!$A:$E,2,FALSE)","v":{"$error":"#N/A"}},{"$f":"VLOOKUP($B146,'Ad Week Dates'!$A:$E,3,FALSE)","v":{"$error":"#N/A"}},null,null,null,null,null,null,{"$error":"#N/A"}]
[null,null,{"$f":"VLOOKUP($B147,'Ad Week Dates'!$A:$E,4,FALSE)","v":{"$error":"#N/A"}},{"$f":"VLOOKUP($B147,'Ad Week Dates'!$A:$E,2,FALSE)","v":{"$error":"#N/A"}},{"$f":"VLOOKUP($B147,'Ad Week Dates'!$A:$E,3,FALSE)","v":{"$error":"#N/A"}},null,null,null,null,null,null,{"$error":"#N/A"}]
[null,null,{"$f":"VLOOKUP($B148,'Ad Week Dates'!$A:$E,4,FALSE)","v":{"$error":"#N/A"}},{"$f":"VLOOKUP($B148,'Ad Week Dates'!$A:$E,2,FALSE)","v":{"$error":"#N/A"}},{"$f":"VLOOKUP($B148,'Ad Week Dates'!$A:$E,3,FALSE)","v":{"$error":"#N/A"}},null,null,null,null,null,null,{"$error":"#N/A"}]
[null,null,{"$f":"VLOOKUP($B149,'Ad Week Dates'!$A:$E,4,FALSE)","v":{"$error":"#N/A"}},{"$f":"VLOOKUP($B149,'Ad Week Dates'!$A:$E,2,FALSE)","v":{"$error":"#N/A"}},{"$f":"VLOOKUP($B149,'Ad Week Dates'!$A:$E,3,FALSE)","v":{"$error":"#N/A"}},null,null,null,null,null,null,{"$error":"#N/A"}]
[null,null,{"$f":"VLOOKUP($B150,'Ad Week Dates'!$A:$E,4,FALSE)","v":{"$error":"#N/A"}},{"$f":"VLOOKUP($B150,'Ad Week Dates'!$A:$E,2,FALSE)","v":{"$error":"#N/A"}},{"$f":"VLOOKUP($B150,'Ad Week Dates'!$A:$E,3,FALSE)","v":{"$error":"#N/A"}},null,null,null,null,null,null,{"$error":"#N/A"}]
[null,null,{"$f":"VLOOKUP($B151,'Ad Week Dates'!$A:$E,4,FALSE)","v":{"$error":"#N/A"}},{"$f":"VLOOKUP($B151,'Ad Week Dates'!$A:$E,2,FALSE)","v":{"$error":"#N/A"}},{"$f":"VLOOKUP($B151,'Ad Week Dates'!$A:$E,3,FALSE)","v":{"$error":"#N/A"}},null,null,null,null,null,null,{"$error":"#N/A"}]
[null,null,{"$f":"VLOOKUP($B152,'Ad Week Dates'!$A:$E,4,FALSE)","v":{"$error":"#N/A"}},{"$f":"VLOOKUP($B152,'Ad Week Dates'!$A:$E,2,FALSE)","v":{"$error":"#N/A"}},{"$f":"VLOOKUP($B152,'Ad Week Dates'!$A:$E,3,FALSE)","v":{"$error":"#N/A"}},null,null,null,null,null,null,{"$error":"#N/A"}]
[null,null,{"$f":"VLOOKUP($B153,'Ad Week Dates'!$A:$E,4,FALSE)","v":{"$error":"#N/A"}},{"$f":"VLOOKUP($B153,'Ad Week Dates'!$A:$E,2,FALSE)","v":{"$error":"#N/A"}},{"$f":"VLOOKUP($B153,'Ad Week Dates'!$A:$E,3,FALSE)","v":{"$error":"#N/A"}},null,null,null,null,null,null,{"$error":"#N/A"}]
[null,null,{"$f":"VLOOKUP($B154,'Ad Week Dates'!$A:$E,4,FALSE)","v":{"$error":"#N/A"}},{"$f":"VLOOKUP($B154,'Ad Week Dates'!$A:$E,2,FALSE)","v":{"$error":"#N/A"}},{"$f":"VLOOKUP($B154,'Ad Week Dates'!$A:$E,3,FALSE)","v":{"$error":"#N/A"}},null,null,null,null,null,null,{"$error":"#N/A"}]
[null,null,{"$f":"VLOOKUP($B155,'Ad Week Dates'!$A:$E,4,FALSE)","v":{"$error":"#N/A"}},{"$f":"VLOOKUP($B155,'Ad Week Dates'!$A:$E,2,FALSE)","v":{"$error":"#N/A"}},{"$f":"VLOOKUP($B155,'Ad Week Dates'!$A:$E,3,FALSE)","v":{"$error":"#N/A"}},null,null,null,null,null,null,{"$error":"#N/A"}]
[null,null,{"$f":"VLOOKUP($B156,'Ad Week Dates'!$A:$E,4,FALSE)","v":{"$error":"#N/A"}},{"$f":"VLOOKUP($B156,'Ad Week Dates'!$A:$E,2,FALSE)","v":{"$error":"#N/A"}},{"$f":"VLOOKUP($B156,'Ad Week Dates'!$A:$E,3,FALSE)","v":{"$error":"#N/A"}},null,null,null,null,null,null,{"$error":"#N/A"}]
[null,null,{"$f":"VLOOKUP($B157,'Ad Week Dates'!$A:$E,4,FALSE)","v":{"$error":"#N/A"}},{"$f":"VLOOKUP($B157,'Ad Week Dates'!$A:$E,2,FALSE)","v":{"$error":"#N/A"}},{"$f":"VLOOKUP($B157,'Ad Week Dates'!$A:$E,3,FALSE)","v":{"$error":"#N/A"}},null,null,null,null,null,null,{"$error":"#N/A"}]
[null,null,{"$f":"VLOOKUP($B158,'Ad Week Dates'!$A:$E,4,FALSE)","v":{"$error":"#N/A"}},{"$f":"VLOOKUP($B158,'Ad Week Dates'!$A:$E,2,FALSE)","v":{"$error":"#N/A"}},{"$f":"VLOOKUP($B158,'Ad Week Dates'!$A:$E,3,FALSE)","v":{"$error":"#N/A"}},null,null,null,null,null,null,{"$error":"#N/A"}]
[null,null,{"$f":"VLOOKUP($B159,'Ad Week Dates'!$A:$E,4,FALSE)","v":{"$error":"#N/A"}},{"$f":"VLOOKUP($B159,'Ad Week Dates'!$A:$E,2,FALSE)","v":{"$error":"#N/A"}},{"$f":"VLOOKUP($B159,'Ad Week Dates'!$A:$E,3,FALSE)","v":{"$error":"#N/A"}},null,null,null,null,null,null,{"$error":"#N/A"}]
[null,null,{"$f":"VLOOKUP($B160,'Ad Week Dates'!$A:$E,4,FALSE)","v":{"$error":"#N/A"}},{"$f":"VLOOKUP($B160,'Ad Week Dates'!$A:$E,2,FALSE)","v":{"$error":"#N/A"}},{"$f":"VLOOKUP($B160,'Ad Week Dates'!$A:$E,3,FALSE)","v":{"$error":"#N/A"}},null,null,null,null,null,null,{"$error":"#N/A"}]
[null,null,{"$f":"VLOOKUP($B161,'Ad Week Dates'!$A:$E,4,FALSE)","v":{"$error":"#N/A"}},{"$f":"VLOOKUP($B161,'Ad Week Dates'!$A:$E,2,FALSE)","v":{"$error":"#N/A"}},{"$f":"VLOOKUP($B161,'Ad Week Dates'!$A:$E,3,FALSE)","v":{"$error":"#N/A"}},null,null,null,null,null,null,{"$error":"#N/A"}]
[null,null,{"$f":"VLOOKUP($B162,'Ad Week Dates'!$A:$E,4,FALSE)","v":{"$error":"#N/A"}},{"$f":"VLOOKUP($B162,'Ad Week Dates'!$A:$E,2,FALSE)","v":{"$error":"#N/A"}},{"$f":"VLOOKUP($B162,'Ad Week Dates'!$A:$E,3,FALSE)","v":{"$error":"#N/A"}},null,null,null,null,null,null,{"$error":"#N/A"}]
[null,null,{"$f":"VLOOKUP($B163,'Ad Week Dates'!$A:$E,4,FALSE)","v":{"$error":"#N/A"}},{"$f":"VLOOKUP($B163,'Ad Week Dates'!$A:$E,2,FALSE)","v":{"$error":"#N/A"}},{"$f":"VLOOKUP($B163,'Ad Week Dates'!$A:$E,3,FALSE)","v":{"$error":"#N/A"}},null,null,null,null,null,null,{"$error":"#N/A"}]
[null,null,{"$f":"VLOOKUP($B164,'Ad Week Dates'!$A:$E,4,FALSE)","v":{"$error":"#N/A"}},{"$f":"VLOOKUP($B164,'Ad Week Dates'!$A:$E,2,FALSE)","v":{"$error":"#N/A"}},{"$f":"VLOOKUP($B164,'Ad Week Dates'!$A:$E,3,FALSE)","v":{"$error":"#N/A"}},null,null,null,null,null,null,{"$error":"#N/A"}]
[null,null,{"$f":"VLOOKUP($B165,'Ad Week Dates'!$A:$E,4,FALSE)","v":{"$error":"#N/A"}},{"$f":"VLOOKUP($B165,'Ad Week Dates'!$A:$E,2,FALSE)","v":{"$error":"#N/A"}},{"$f":"VLOOKUP($B165,'Ad Week Dates'!$A:$E,3,FALSE)","v":{"$error":"#N/A"}},null,null,null,null,null,null,{"$error":"#N/A"}]
[null,null,{"$f":"VLOOKUP($B166,'Ad Week Dates'!$A:$E,4,FALSE)","v":{"$error":"#N/A"}},{"$f":"VLOOKUP($B166,'Ad Week Dates'!$A:$E,2,FALSE)","v":{"$error":"#N/A"}},{"$f":"VLOOKUP($B166,'Ad Week Dates'!$A:$E,3,FALSE)","v":{"$error":"#N/A"}},null,null,null,null,null,null,{"$error":"#N/A"}]
[null,null,{"$f":"VLOOKUP($B167,'Ad Week Dates'!$A:$E,4,FALSE)","v":{"$error":"#N/A"}},{"$f":"VLOOKUP($B167,'Ad Week Dates'!$A:$E,2,FALSE)","v":{"$error":"#N/A"}},{"$f":"VLOOKUP($B167,'Ad Week Dates'!$A:$E,3,FALSE)","v":{"$error":"#N/A"}},null,null,null,null,null,null,{"$error":"#N/A"}]
[null,null,{"$f":"VLOOKUP($B168,'Ad Week Dates'!$A:$E,4,FALSE)","v":{"$error":"#N/A"}},{"$f":"VLOOKUP($B168,'Ad Week Dates'!$A:$E,2,FALSE)","v":{"$error":"#N/A"}},{"$f":"VLOOKUP($B168,'Ad Week Dates'!$A:$E,3,FALSE)","v":{"$error":"#N/A"}},null,null,null,null,null,null,{"$error":"#N/A"}]
[null,null,{"$f":"VLOOKUP($B169,'Ad Week Dates'!$A:$E,4,FALSE)","v":{"$error":"#N/A"}},{"$f":"VLOOKUP($B169,'Ad Week Dates'!$A:$E,2,FALSE)","v":{"$error":"#N/A"}},{"$f":"VLOOKUP($B169,'Ad Week Dates'!$A:$E,3,FALSE)","v":{"$error":"#N/A"}},null,null,null,null,null,null,{"$error":"#N/A"}]
[null,null,{"$f":"VLOOKUP($B170,'Ad Week Dates'!$A:$E,4,FALSE)","v":{"$error":"#N/A"}},{"$f":"VLOOKUP($B170,'Ad Week Dates'!$A:$E,2,FALSE)","v":{"$error":"#N/A"}},{"$f":"VLOOKUP($B170,'Ad Week Dates'!$A:$E,3,FALSE)","v":{"$error":"#N/A"}},null,null,null,null,null,null,{"$error":"#N/A"}]
[null,null,{"$f":"VLOOKUP($B171,'Ad Week Dates'!$A:$E,4,FALSE)","v":{"$error":"#N/A"}},{"$f":"VLOOKUP($B171,'Ad Week Dates'!$A:$E,2,FALSE)","v":{"$error":"#N/A"}},{"$f":"VLOOKUP($B171,'Ad Week Dates'!$A:$E,3,FALSE)","v":{"$error":"#N/A"}},null,null,null,null,null,null,{"$error":"#N/A"}]
[null,null,{"$f":"VLOOKUP($B172,'Ad Week Dates'!$A:$E,4,FALSE)","v":{"$error":"#N/A"}},{"$f":"VLOOKUP($B172,'Ad Week Dates'!$A:$E,2,FALSE)","v":{"$error":"#N/A"}},{"$f":"VLOOKUP($B172,'Ad Week Dates'!$A:$E,3,FALSE)","v":{"$error":"#N/A"}},null,null,null,null,null,null,{"$error":"#N/A"}]
[null,null,{"$f":"VLOOKUP($B173,'Ad Week Dates'!$A:$E,4,FALSE)","v":{"$error":"#N/A"}},{"$f":"VLOOKUP($B173,'Ad Week Dates'!$A:$E,2,FALSE)","v":{"$error":"#N/A"}},{"$f":"VLOOKUP($B173,'Ad Week Dates'!$A:$E,3,FALSE)","v":{"$error":"#N/A"}},null,null,null,null,null,null,{"$error":"#N/A"}]
[null,null,{"$f":"VLOOKUP($B174,'Ad Week Dates'!$A:$E,4,FALSE)","v":{"$error":"#N/A"}},{"$f":"VLOOKUP($B174,'Ad Week Dates'!$A:$E,2,FALSE)","v":{"$error":"#N/A"}},{"$f":"VLOOKUP($B174,'Ad Week Dates'!$A:$E,3,FALSE)","v":{"$error":"#N/A"}},null,null,null,null,null,null,{"$error":"#N/A"}]
[null,null,{"$f":"VLOOKUP($B175,'Ad Week Dates'!$A:$E,4,FALSE)","v":{"$error":"#N/A"}},{"$f":"VLOOKUP($B175,'Ad Week Dates'!$A:$E,2,FALSE)","v":{"$error":"#N/A"}},{"$f":"VLOOKUP($B175,'Ad Week Dates'!$A:$E,3,FALSE)","v":{"$error":"#N/A"}},null,null,null,null,null,null,{"$error":"#N/A"}]
[null,null,{"$f":"VLOOKUP($B176,'Ad Week Dates'!$A:$E,4,FALSE)","v":{"$error":"#N/A"}},{"$f":"VLOOKUP($B176,'Ad Week Dates'!$A:$E,2,FALSE)","v":{"$error":"#N/A"}},{"$f":"VLOOKUP($B176,'Ad Week Dates'!$A:$E,3,FALSE)","v":{"$error":"#N/A"}},null,null,null,null,null,null,{"$error":"#N/A"}]
[null,null,{"$f":"VLOOKUP($B177,'Ad Week Dates'!$A:$E,4,FALSE)","v":{"$error":"#N/A"}},{"$f":"VLOOKUP($B177,'Ad Week Dates'!$A:$E,2,FALSE)","v":{"$error":"#N/A"}},{"$f":"VLOOKUP($B177,'Ad Week Dates'!$A:$E,3,FALSE)","v":{"$error":"#N/A"}},null,null,null,null,null,null,{"$error":"#N/A"}]
[null,null,{"$f":"VLOOKUP($B178,'Ad Week Dates'!$A:$E,4,FALSE)","v":{"$error":"#N/A"}},{"$f":"VLOOKUP($B178,'Ad Week Dates'!$A:$E,2,FALSE)","v":{"$error":"#N/A"}},{"$f":"VLOOKUP($B178,'Ad Week Dates'!$A:$E,3,FALSE)","v":{"$error":"#N/A"}},null,null,null,null,null,null,{"$error":"#N/A"}]
[null,null,{"$f":"VLOOKUP($B179,'Ad Week Dates'!$A:$E,4,FALSE)","v":{"$error":"#N/A"}},{"$f":"VLOOKUP($B179,'Ad Week Dates'!$A:$E,2,FALSE)","v":{"$error":"#N/A"}},{"$f":"VLOOKUP($B179,'Ad Week Dates'!$A:$E,3,FALSE)","v":{"$error":"#N/A"}},null,null,null,null,null,null,{"$error":"#N/A"}]
[null,null,{"$f":"VLOOKUP($B180,'Ad Week Dates'!$A:$E,4,FALSE)","v":{"$error":"#N/A"}},{"$f":"VLOOKUP($B180,'Ad Week Dates'!$A:$E,2,FALSE)","v":{"$error":"#N/A"}},{"$f":"VLOOKUP($B180,'Ad Week Dates'!$A:$E,3,FALSE)","v":{"$error":"#N/A"}},null,null,null,null,null,null,{"$error":"#N/A"}]
[null,null,{"$f":"VLOOKUP($B181,'Ad Week Dates'!$A:$E,4,FALSE)","v":{"$error":"#N/A"}},{"$f":"VLOOKUP($B181,'Ad Week Dates'!$A:$E,2,FALSE)","v":{"$error":"#N/A"}},{"$f":"VLOOKUP($B181,'Ad Week Dates'!$A:$E,3,FALSE)","v":{"$error":"#N/A"}},null,null,null,null,null,null,{"$error":"#N/A"}]
[null,null,{"$f":"VLOOKUP($B182,'Ad Week Dates'!$A:$E,4,FALSE)","v":{"$error":"#N/A"}},{"$f":"VLOOKUP($B182,'Ad Week Dates'!$A:$E,2,FALSE)","v":{"$error":"#N/A"}},{"$f":"VLOOKUP($B182,'Ad Week Dates'!$A:$E,3,FALSE)","v":{"$error":"#N/A"}},null,null,null,null,null,null,{"$error":"#N/A"}]
[null,null,{"$f":"VLOOKUP($B183,'Ad Week Dates'!$A:$E,4,FALSE)","v":{"$error":"#N/A"}},{"$f":"VLOOKUP($B183,'Ad Week Dates'!$A:$E,2,FALSE)","v":{"$error":"#N/A"}},{"$f":"VLOOKUP($B183,'Ad Week Dates'!$A:$E,3,FALSE)","v":{"$error":"#N/A"}},null,null,null,null,null,null,{"$error":"#N/A"}]
[null,null,{"$f":"VLOOKUP($B184,'Ad Week Dates'!$A:$E,4,FALSE)","v":{"$error":"#N/A"}},{"$f":"VLOOKUP($B184,'Ad Week Dates'!$A:$E,2,FALSE)","v":{"$error":"#N/A"}},{"$f":"VLOOKUP($B184,'Ad Week Dates'!$A:$E,3,FALSE)","v":{"$error":"#N/A"}},null,null,null,null,null,null,{"$error":"#N/A"}]
[null,null,{"$f":"VLOOKUP($B185,'Ad Week Dates'!$A:$E,4,FALSE)","v":{"$error":"#N/A"}},{"$f":"VLOOKUP($B185,'Ad Week Dates'!$A:$E,2,FALSE)","v":{"$error":"#N/A"}},{"$f":"VLOOKUP($B185,'Ad Week Dates'!$A:$E,3,FALSE)","v":{"$error":"#N/A"}},null,null,null,null,null,null,{"$error":"#N/A"}]
[null,null,{"$f":"VLOOKUP($B186,'Ad Week Dates'!$A:$E,4,FALSE)","v":{"$error":"#N/A"}},{"$f":"VLOOKUP($B186,'Ad Week Dates'!$A:$E,2,FALSE)","v":{"$error":"#N/A"}},{"$f":"VLOOKUP($B186,'Ad Week Dates'!$A:$E,3,FALSE)","v":{"$error":"#N/A"}},null,null,null,null,null,null,{"$error":"#N/A"}]
[null,null,{"$f":"VLOOKUP($B187,'Ad Week Dates'!$A:$E,4,FALSE)","v":{"$error":"#N/A"}},{"$f":"VLOOKUP($B187,'Ad Week Dates'!$A:$E,2,FALSE)","v":{"$error":"#N/A"}},{"$f":"VLOOKUP($B187,'Ad Week Dates'!$A:$E,3,FALSE)","v":{"$error":"#N/A"}},null,null,null,null,null,null,{"$error":"#N/A"}]
[null,null,{"$f":"VLOOKUP($B188,'Ad Week Dates'!$A:$E,4,FALSE)","v":{"$error":"#N/A"}},{"$f":"VLOOKUP($B188,'Ad Week Dates'!$A:$E,2,FALSE)","v":{"$error":"#N/A"}},{"$f":"VLOOKUP($B188,'Ad Week Dates'!$A:$E,3,FALSE)","v":{"$error":"#N/A"}},null,null,null,null,null,null,{"$error":"#N/A"}]
[null,null,{"$f":"VLOOKUP($B189,'Ad Week Dates'!$A:$E,4,FALSE)","v":{"$error":"#N/A"}},{"$f":"VLOOKUP($B189,'Ad Week Dates'!$A:$E,2,FALSE)","v":{"$error":"#N/A"}},{"$f":"VLOOKUP($B189,'Ad Week Dates'!$A:$E,3,FALSE)","v":{"$error":"#N/A"}},null,null,null,null,null,null,{"$error":"#N/A"}]
[null,null,{"$f":"VLOOKUP($B190,'Ad Week Dates'!$A:$E,4,FALSE)","v":{"$error":"#N/A"}},{"$f":"VLOOKUP($B190,'Ad Week Dates'!$A:$E,2,FALSE)","v":{"$error":"#N/A"}},{"$f":"VLOOKUP($B190,'Ad Week Dates'!$A:$E,3,FALSE)","v":{"$error":"#N/A"}},null,null,null,null,null,null,{"$error":"#N/A"}]
[null,null,{"$f":"VLOOKUP($B191,'Ad Week Dates'!$A:$E,4,FALSE)","v":{"$error":"#N/A"}},{"$f":"VLOOKUP($B191,'Ad Week Dates'!$A:$E,2,FALSE)","v":{"$error":"#N/A"}},{"$f":"VLOOKUP($B191,'Ad Week Dates'!$A:$E,3,FALSE)","v":{"$error":"#N/A"}},null,null,null,null,null,null,{"$error":"#N/A"}]
[null,null,{"$f":"VLOOKUP($B192,'Ad Week Dates'!$A:$E,4,FALSE)","v":{"$error":"#N/A"}},{"$f":"VLOOKUP($B192,'Ad Week Dates'!$A:$E,2,FALSE)","v":{"$error":"#N/A"}},{"$f":"VLOOKUP($B192,'Ad Week Dates'!$A:$E,3,FALSE)","v":{"$error":"#N/A"}},null,null,null,null,null,null,{"$error":"#N/A"}]
[null,null,{"$f":"VLOOKUP($B193,'Ad Week Dates'!$A:$E,4,FALSE)","v":{"$error":"#N/A"}},{"$f":"VLOOKUP($B193,'Ad Week Dates'!$A:$E,2,FALSE)","v":{"$error":"#N/A"}},{"$f":"VLOOKUP($B193,'Ad Week Dates'!$A:$E,3,FALSE)","v":{"$error":"#N/A"}},null,null,null,null,null,null,{"$error":"#N/A"}]
[null,null,{"$f":"VLOOKUP($B194,'Ad Week Dates'!$A:$E,4,FALSE)","v":{"$error":"#N/A"}},{"$f":"VLOOKUP($B194,'Ad Week Dates'!$A:$E,2,FALSE)","v":{"$error":"#N/A"}},{"$f":"VLOOKUP($B194,'Ad Week Dates'!$A:$E,3,FALSE)","v":{"$error":"#N/A"}},null,null,null,null,null,null,{"$error":"#N/A"}]
[null,null,{"$f":"VLOOKUP($B195,'Ad Week Dates'!$A:$E,4,FALSE)","v":{"$error":"#N/A"}},{"$f":"VLOOKUP($B195,'Ad Week Dates'!$A:$E,2,FALSE)","v":{"$error":"#N/A"}},{"$f":"VLOOKUP($B195,'Ad Week Dates'!$A:$E,3,FALSE)","v":{"$error":"#N/A"}},null,null,null,null,null,null,{"$error":"#N/A"}]
[null,null,{"$f":"VLOOKUP($B196,'Ad Week Dates'!$A:$E,4,FALSE)","v":{"$error":"#N/A"}},{"$f":"VLOOKUP($B196,'Ad Week Dates'!$A:$E,2,FALSE)","v":{"$error":"#N/A"}},{"$f":"VLOOKUP($B196,'Ad Week Dates'!$A:$E,3,FALSE)","v":{"$error":"#N/A"}},null,null,null,null,null,null,{"$error":"#N/A"}]
[null,null,{"$f":"VLOOKUP($B197,'Ad Week Dates'!$A:$E,4,FALSE)","v":{"$error":"#N/A"}},{"$f":"VLOOKUP($B197,'Ad Week Dates'!$A:$E,2,FALSE)","v":{"$error":"#N/A"}},{"$f":"VLOOKUP($B197,'Ad Week Dates'!$A:$E,3,FALSE)","v":{"$error":"#N/A"}},null,null,null,null,null,null,{"$error":"#N/A"}]
[null,null,{"$f":"VLOOKUP($B198,'Ad Week Dates'!$A:$E,4,FALSE)","v":{"$error":"#N/A"}},{"$f":"VLOOKUP($B198,'Ad Week Dates'!$A:$E,2,FALSE)","v":{"$error":"#N/A"}},{"$f":"VLOOKUP($B198,'Ad Week Dates'!$A:$E,3,FALSE)","v":{"$error":"#N/A"}},null,null,null,null,null,null,{"$f":"IF(ISNUMBER(J198), J198 - K198, VALUE(_xlfn.TEXTBEFORE(J198, \"-\")) - VALUE(_xlfn.TEXTBEFORE(K198, \"-\")))","v":{"$error":"#N/A"}}]
[null,null,{"$f":"VLOOKUP($B199,'Ad Week Dates'!$A:$E,4,FALSE)","v":{"$error":"#N/A"}},{"$f":"VLOOKUP($B199,'Ad Week Dates'!$A:$E,2,FALSE)","v":{"$error":"#N/A"}},{"$f":"VLOOKUP($B199,'Ad Week Dates'!$A:$E,3,FALSE)","v":{"$error":"#N/A"}},null,null,null,null,null,null,{"$error":"#N/A"}]
[null,null,{"$f":"VLOOKUP($B200,'Ad Week Dates'!$A:$E,4,FALSE)","v":{"$error":"#N/A"}},{"$f":"VLOOKUP($B200,'Ad Week Dates'!$A:$E,2,FALSE)","v":{"$error":"#N/A"}},{"$f":"VLOOKUP($B200,'Ad Week Dates'!$A:$E,3,FALSE)","v":{"$error":"#N/A"}},null,null,null,null,null,null,{"$error":"#N/A"}]
[null,null,{"$f":"VLOOKUP($B201,'Ad Week Dates'!$A:$E,4,FALSE)","v":{"$error":"#N/A"}},{"$f":"VLOOKUP($B201,'Ad Week Dates'!$A:$E,2,FALSE)","v":{"$error":"#N/A"}},{"$f":"VLOOKUP($B201,'Ad Week Dates'!$A:$E,3,FALSE)","v":{"$error":"#N/A"}},null,null,null,null,null,null,{"$error":"#N/A"}]
[null,null,{"$f":"VLOOKUP($B202,'Ad Week Dates'!$A:$E,4,FALSE)","v":{"$error":"#N/A"}},{"$f":"VLOOKUP($B202,'Ad Week Dates'!$A:$E,2,FALSE)","v":{"$error":"#N/A"}},{"$f":"VLOOKUP($B202,'Ad Week Dates'!$A:$E,3,FALSE)","v":{"$error":"#N/A"}},null,null,null,null,null,null,{"$error":"#N/A"}]
[null,null,{"$f":"VLOOKUP($B203,'Ad Week Dates'!$A:$E,4,FALSE)","v":{"$error":"#N/A"}},{"$f":"VLOOKUP($B203,'Ad Week Dates'!$A:$E,2,FALSE)","v":{"$error":"#N/A"}},{"$f":"VLOOKUP($B203,'Ad Week Dates'!$A:$E,3,FALSE)","v":{"$error":"#N/A"}},null,null,null,null,null,null,{"$error":"#N/A"}]
[null,null,{"$f":"VLOOKUP($B204,'Ad Week Dates'!$A:$E,4,FALSE)","v":{"$error":"#N/A"}},{"$f":"VLOOKUP($B204,'Ad Week Dates'!$A:$E,2,FALSE)","v":{"$error":"#N/A"}},{"$f":"VLOOKUP($B204,'Ad Week Dates'!$A:$E,3,FALSE)","v":{"$error":"#N/A"}},null,null,null,null,null,null,{"$error":"#N/A"}]
[null,null,{"$f":"VLOOKUP($B205,'Ad Week Dates'!$A:$E,4,FALSE)","v":{"$error":"#N/A"}},{"$f":"VLOOKUP($B205,'Ad Week Dates'!$A:$E,2,FALSE)","v":{"$error":"#N/A"}},{"$f":"VLOOKUP($B205,'Ad Week Dates'!$A:$E,3,FALSE)","v":{"$error":"#N/A"}},null,null,null,null,null,null,{"$error":"#N/A"}]
[null,null,{"$f":"VLOOKUP($B206,'Ad Week Dates'!$A:$E,4,FALSE)","v":{"$error":"#N/A"}},{"$f":"VLOOKUP($B206,'Ad Week Dates'!$A:$E,2,FALSE)","v":{"$error":"#N/A"}},{"$f":"VLOOKUP($B206,'Ad Week Dates'!$A:$E,3,FALSE)","v":{"$error":"#N/A"}},null,null,null,null,null,null,{"$error":"#N/A"}]
[null,null,{"$f":"VLOOKUP($B207,'Ad Week Dates'!$A:$E,4,FALSE)","v":{"$error":"#N/A"}},{"$f":"VLOOKUP($B207,'Ad Week Dates'!$A:$E,2,FALSE)","v":{"$error":"#N/A"}},{"$f":"VLOOKUP($B207,'Ad Week Dates'!$A:$E,3,FALSE)","v":{"$error":"#N/A"}},null,null,null,null,null,null,{"$error":"#N/A"}]
[null,null,{"$f":"VLOOKUP($B208,'Ad Week Dates'!$A:$E,4,FALSE)","v":{"$error":"#N/A"}},{"$f":"VLOOKUP($B208,'Ad Week Dates'!$A:$E,2,FALSE)","v":{"$error":"#N/A"}},{"$f":"VLOOKUP($B208,'Ad Week Dates'!$A:$E,3,FALSE)","v":{"$error":"#N/A"}},null,null,null,null,null,null,{"$error":"#N/A"}]
[null,null,{"$f":"VLOOKUP($B209,'Ad Week Dates'!$A:$E,4,FALSE)","v":{"$error":"#N/A"}},{"$f":"VLOOKUP($B209,'Ad Week Dates'!$A:$E,2,FALSE)","v":{"$error":"#N/A"}},{"$f":"VLOOKUP($B209,'Ad Week Dates'!$A:$E,3,FALSE)","v":{"$error":"#N/A"}},null,null,null,null,null,null,{"$error":"#N/A"}]
[null,null,{"$f":"VLOOKUP($B210,'Ad Week Dates'!$A:$E,4,FALSE)","v":{"$error":"#N/A"}},{"$f":"VLOOKUP($B210,'Ad Week Dates'!$A:$E,2,FALSE)","v":{"$error":"#N/A"}},{"$f":"VLOOKUP($B210,'Ad Week Dates'!$A:$E,3,FALSE)","v":{"$error":"#N/A"}},null,null,null,null,null,null,{"$error":"#N/A"}]
[null,null,{"$f":"VLOOKUP($B211,'Ad Week Dates'!$A:$E,4,FALSE)","v":{"$error":"#N/A"}},{"$f":"VLOOKUP($B211,'Ad Week Dates'!$A:$E,2,FALSE)","v":{"$error":"#N/A"}},{"$f":"VLOOKUP($B211,'Ad Week Dates'!$A:$E,3,FALSE)","v":{"$error":"#N/A"}},null,null,null,null,null,null,{"$error":"#N/A"}]
[null,null,{"$f":"VLOOKUP($B212,'Ad Week Dates'!$A:$E,4,FALSE)","v":{"$error":"#N/A"}},{"$f":"VLOOKUP($B212,'Ad Week Dates'!$A:$E,2,FALSE)","v":{"$error":"#N/A"}},{"$f":"VLOOKUP($B212,'Ad Week Dates'!$A:$E,3,FALSE)","v":{"$error":"#N/A"}},null,null,null,null,null,null,{"$error":"#N/A"}]
[null,null,{"$f":"VLOOKUP($B213,'Ad Week Dates'!$A:$E,4,FALSE)","v":{"$error":"#N/A"}},{"$f":"VLOOKUP($B213,'Ad Week Dates'!$A:$E,2,FALSE)","v":{"$error":"#N/A"}},{"$f":"VLOOKUP($B213,'Ad Week Dates'!$A:$E,3,FALSE)","v":{"$error":"#N/A"}},null,null,null,null,null,null,{"$error":"#N/A"}]
[null,null,{"$f":"VLOOKUP($B214,'Ad Week Dates'!$A:$E,4,FALSE)","v":{"$error":"#N/A"}},{"$f":"VLOOKUP($B214,'Ad Week Dates'!$A:$E,2,FALSE)","v":{"$error":"#N/A"}},{"$f":"VLOOKUP($B214,'Ad Week Dates'!$A:$E,3,FALSE)","v":{"$error":"#N/A"}},null,null,null,null,null,null,{"$error":"#N/A"}]
[null,null,{"$f":"VLOOKUP($B215,'Ad Week Dates'!$A:$E,4,FALSE)","v":{"$error":"#N/A"}},{"$f":"VLOOKUP($B215,'Ad Week Dates'!$A:$E,2,FALSE)","v":{"$error":"#N/A"}},{"$f":"VLOOKUP($B215,'Ad Week Dates'!$A:$E,3,FALSE)","v":{"$error":"#N/A"}},null,null,null,null,null,null,{"$error":"#N/A"}]
[null,null,{"$f":"VLOOKUP($B216,'Ad Week Dates'!$A:$E,4,FALSE)","v":{"$error":"#N/A"}},{"$f":"VLOOKUP($B216,'Ad Week Dates'!$A:$E,2,FALSE)","v":{"$error":"#N/A"}},{"$f":"VLOOKUP($B216,'Ad Week Dates'!$A:$E,3,FALSE)","v":{"$error":"#N/A"}},null,null,null,null,null,null,{"$error":"#N/A"}]
[null,null,{"$f":"VLOOKUP($B217,'Ad Week Dates'!$A:$E,4,FALSE)","v":{"$error":"#N/A"}},{"$f":"VLOOKUP($B217,'Ad Week Dates'!$A:$E,2,FALSE)","v":{"$error":"#N/A"}},{"$f":"VLOOKUP($B217,'Ad Week Dates'!$A:$E,3,FALSE)","v":{"$error":"#N/A"}},null,null,null,null,null,null,{"$error":"#N/A"}]
[null,null,{"$f":"VLOOKUP($B218,'Ad Week Dates'!$A:$E,4,FALSE)","v":{"$error":"#N/A"}},{"$f":"VLOOKUP($B218,'Ad Week Dates'!$A:$E,2,FALSE)","v":{"$error":"#N/A"}},{"$f":"VLOOKUP($B218,'Ad Week Dates'!$A:$E,3,FALSE)","v":{"$error":"#N/A"}},null,null,null,null,null,null,{"$error":"#N/A"}]
[null,null,{"$f":"VLOOKUP($B219,'Ad Week Dates'!$A:$E,4,FALSE)","v":{"$error":"#N/A"}},{"$f":"VLOOKUP($B219,'Ad Week Dates'!$A:$E,2,FALSE)","v":{"$error":"#N/A"}},{"$f":"VLOOKUP($B219,'Ad Week Dates'!$A:$E,3,FALSE)","v":{"$error":"#N/A"}},null,null,null,null,null,null,{"$error":"#N/A"}]
[null,null,{"$f":"VLOOKUP($B220,'Ad Week Dates'!$A:$E,4,FALSE)","v":{"$error":"#N/A"}},{"$f":"VLOOKUP($B220,'Ad Week Dates'!$A:$E,2,FALSE)","v":{"$error":"#N/A"}},{"$f":"VLOOKUP($B220,'Ad Week Dates'!$A:$E,3,FALSE)","v":{"$error":"#N/A"}},null,null,null,null,null,null,{"$error":"#N/A"}]
[null,null,{"$f":"VLOOKUP($B221,'Ad Week Dates'!$A:$E,4,FALSE)","v":{"$error":"#N/A"}},{"$f":"VLOOKUP($B221,'Ad Week Dates'!$A:$E,2,FALSE)","v":{"$error":"#N/A"}},{"$f":"VLOOKUP($B221,'Ad Week Dates'!$A:$E,3,FALSE)","v":{"$error":"#N/A"}},null,null,null,null,null,null,{"$error":"#N/A"}]
[null,null,{"$f":"VLOOKUP($B222,'Ad Week Dates'!$A:$E,4,FALSE)","v":{"$error":"#N/A"}},{"$f":"VLOOKUP($B222,'Ad Week Dates'!$A:$E,2,FALSE)","v":{"$error":"#N/A"}},{"$f":"VLOOKUP($B222,'Ad Week Dates'!$A:$E,3,FALSE)","v":{"$error":"#N/A"}},null,null,null,null,null,null,{"$error":"#N/A"}]
[null,null,{"$f":"VLOOKUP($B223,'Ad Week Dates'!$A:$E,4,FALSE)","v":{"$error":"#N/A"}},{"$f":"VLOOKUP($B223,'Ad Week Dates'!$A:$E,2,FALSE)","v":{"$error":"#N/A"}},{"$f":"VLOOKUP($B223,'Ad Week Dates'!$A:$E,3,FALSE)","v":{"$error":"#N/A"}},null,null,null,null,null,null,{"$error":"#N/A"}]
[null,null,{"$f":"VLOOKUP($B224,'Ad Week Dates'!$A:$E,4,FALSE)","v":{"$error":"#N/A"}},{"$f":"VLOOKUP($B224,'Ad Week Dates'!$A:$E,2,FALSE)","v":{"$error":"#N/A"}},{"$f":"VLOOKUP($B224,'Ad Week Dates'!$A:$E,3,FALSE)","v":{"$error":"#N/A"}},null,null,null,null,null,null,{"$error":"#N/A"}]
[null,null,{"$f":"VLOOKUP($B225,'Ad Week Dates'!$A:$E,4,FALSE)","v":{"$error":"#N/A"}},{"$f":"VLOOKUP($B225,'Ad Week Dates'!$A:$E,2,FALSE)","v":{"$error":"#N/A"}},{"$f":"VLOOKUP($B225,'Ad Week Dates'!$A:$E,3,FALSE)","v":{"$error":"#N/A"}},null,null,null,null,null,null,{"$error":"#N/A"}]
[null,null,{"$f":"VLOOKUP($B226,'Ad Week Dates'!$A:$E,4,FALSE)","v":{"$error":"#N/A"}},{"$f":"VLOOKUP($B226,'Ad Week Dates'!$A:$E,2,FALSE)","v":{"$error":"#N/A"}},{"$f":"VLOOKUP($B226,'Ad Week Dates'!$A:$E,3,FALSE)","v":{"$error":"#N/A"}},null,null,null,null,null,null,{"$error":"#N/A"}]
[null,null,{"$f":"VLOOKUP($B227,'Ad Week Dates'!$A:$E,4,FALSE)","v":{"$error":"#N/A"}},{"$f":"VLOOKUP($B227,'Ad Week Dates'!$A:$E,2,FALSE)","v":{"$error":"#N/A"}},{"$f":"VLOOKUP($B227,'Ad Week Dates'!$A:$E,3,FALSE)","v":{"$error":"#N/A"}},null,null,null,null,null,null,{"$error":"#N/A"}]
[null,null,{"$f":"VLOOKUP($B228,'Ad Week Dates'!$A:$E,4,FALSE)","v":{"$error":"#N/A"}},{"$f":"VLOOKUP($B228,'Ad Week Dates'!$A:$E,2,FALSE)","v":{"$error":"#N/A"}},{"$f":"VLOOKUP($B228,'Ad Week Dates'!$A:$E,3,FALSE)","v":{"$error":"#N/A"}},null,null,null,null,null,null,{"$error":"#N/A"}]
[null,null,{"$f":"VLOOKUP($B229,'Ad Week Dates'!$A:$E,4,FALSE)","v":{"$error":"#N/A"}},{"$f":"VLOOKUP($B229,'Ad Week Dates'!$A:$E,2,FALSE)","v":{"$error":"#N/A"}},{"$f":"VLOOKUP($B229,'Ad Week Dates'!$A:$E,3,FALSE)","v":{"$error":"#N/A"}},null,null,null,null,null,null,{"$error":"#N/A"}]
[null,null,{"$f":"VLOOKUP($B230,'Ad Week Dates'!$A:$E,4,FALSE)","v":{"$error":"#N/A"}},{"$f":"VLOOKUP($B230,'Ad Week Dates'!$A:$E,2,FALSE)","v":{"$error":"#N/A"}},{"$f":"VLOOKUP($B230,'Ad Week Dates'!$A:$E,3,FALSE)","v":{"$error":"#N/A"}},null,null,null,null,null,null,{"$error":"#N/A"}]
[null,null,{"$f":"VLOOKUP($B231,'Ad Week Dates'!$A:$E,4,FALSE)","v":{"$error":"#N/A"}},{"$f":"VLOOKUP($B231,'Ad Week Dates'!$A:$E,2,FALSE)","v":{"$error":"#N/A"}},{"$f":"VLOOKUP($B231,'Ad Week Dates'!$A:$E,3,FALSE)","v":{"$error":"#N/A"}},null,null,null,null,null,null,{"$error":"#N/A"}]
[null,null,{"$f":"VLOOKUP($B232,'Ad Week Dates'!$A:$E,4,FALSE)","v":{"$error":"#N/A"}},{"$f":"VLOOKUP($B232,'Ad Week Dates'!$A:$E,2,FALSE)","v":{"$error":"#N/A"}},{"$f":"VLOOKUP($B232,'Ad Week Dates'!$A:$E,3,FALSE)","v":{"$error":"#N/A"}},null,null,null,null,null,null,{"$error":"#N/A"}]
[null,null,{"$f":"VLOOKUP($B233,'Ad Week Dates'!$A:$E,4,FALSE)","v":{"$error":"#N/A"}},{"$f":"VLOOKUP($B233,'Ad Week Dates'!$A:$E,2,FALSE)","v":{"$error":"#N/A"}},{"$f":"VLOOKUP($B233,'Ad Week Dates'!$A:$E,3,FALSE)","v":{"$error":"#N/A"}},null,null,null,null,null,null,{"$error":"#N/A"}]
[null,null,{"$f":"VLOOKUP($B234,'Ad Week Dates'!$A:$E,4,FALSE)","v":{"$error":"#N/A"}},{"$f":"VLOOKUP($B234,'Ad Week Dates'!$A:$E,2,FALSE)","v":{"$error":"#N/A"}},{"$f":"VLOOKUP($B234,'Ad Week Dates'!$A:$E,3,FALSE)","v":{"$error":"#N/A"}},null,null,null,null,null,null,{"$error":"#N/A"}]
[null,null,{"$f":"VLOOKUP($B235,'Ad Week Dates'!$A:$E,4,FALSE)","v":{"$error":"#N/A"}},{"$f":"VLOOKUP($B235,'Ad Week Dates'!$A:$E,2,FALSE)","v":{"$error":"#N/A"}},{"$f":"VLOOKUP($B235,'Ad Week Dates'!$A:$E,3,FALSE)","v":{"$error":"#N/A"}},null,null,null,null,null,null,{"$error":"#N/A"}]
[null,null,{"$f":"VLOOKUP($B236,'Ad Week Dates'!$A:$E,4,FALSE)","v":{"$error":"#N/A"}},{"$f":"VLOOKUP($B236,'Ad Week Dates'!$A:$E,2,FALSE)","v":{"$error":"#N/A"}},{"$f":"VLOOKUP($B236,'Ad Week Dates'!$A:$E,3,FALSE)","v":{"$error":"#N/A"}},null,null,null,null,null,null,{"$error":"#N/A"}]
[null,null,{"$f":"VLOOKUP($B237,'Ad Week Dates'!$A:$E,4,FALSE)","v":{"$error":"#N/A"}},{"$f":"VLOOKUP($B237,'Ad Week Dates'!$A:$E,2,FALSE)","v":{"$error":"#N/A"}},{"$f":"VLOOKUP($B237,'Ad Week Dates'!$A:$E,3,FALSE)","v":{"$error":"#N/A"}},null,null,null,null,null,null,{"$error":"#N/A"}]
[null,null,{"$f":"VLOOKUP($B238,'Ad Week Dates'!$A:$E,4,FALSE)","v":{"$error":"#N/A"}},{"$f":"VLOOKUP($B238,'Ad Week Dates'!$A:$E,2,FALSE)","v":{"$error":"#N/A"}},{"$f":"VLOOKUP($B238,'Ad Week Dates'!$A:$E,3,FALSE)","v":{"$error":"#N/A"}},null,null,null,null,null,null,{"$error":"#N/A"}]
[null,null,{"$f":"VLOOKUP($B239,'Ad Week Dates'!$A:$E,4,FALSE)","v":{"$error":"#N/A"}},{"$f":"VLOOKUP($B239,'Ad Week Dates'!$A:$E,2,FALSE)","v":{"$error":"#N/A"}},{"$f":"VLOOKUP($B239,'Ad Week Dates'!$A:$E,3,FALSE)","v":{"$error":"#N/A"}},null,null,null,null,null,null,{"$error":"#N/A"}]
[null,null,{"$f":"VLOOKUP($B240,'Ad Week Dates'!$A:$E,4,FALSE)","v":{"$error":"#N/A"}},{"$f":"VLOOKUP($B240,'Ad Week Dates'!$A:$E,2,FALSE)","v":{"$error":"#N/A"}},{"$f":"VLOOKUP($B240,'Ad Week Dates'!$A:$E,3,FALSE)","v":{"$error":"#N/A"}},null,null,null,null,null,null,{"$error":"#N/A"}]
[null,null,{"$f":"VLOOKUP($B241,'Ad Week Dates'!$A:$E,4,FALSE)","v":{"$error":"#N/A"}},{"$f":"VLOOKUP($B241,'Ad Week Dates'!$A:$E,2,FALSE)","v":{"$error":"#N/A"}},{"$f":"VLOOKUP($B241,'Ad Week Dates'!$A:$E,3,FALSE)","v":{"$error":"#N/A"}},null,null,null,null,null,null,{"$error":"#N/A"}]
[null,null,{"$f":"VLOOKUP($B242,'Ad Week Dates'!$A:$E,4,FALSE)","v":{"$error":"#N/A"}},{"$f":"VLOOKUP($B242,'Ad Week Dates'!$A:$E,2,FALSE)","v":{"$error":"#N/A"}},{"$f":"VLOOKUP($B242,'Ad Week Dates'!$A:$E,3,FALSE)","v":{"$error":"#N/A"}},null,null,null,null,null,null,{"$error":"#N/A"}]
[null,null,{"$f":"VLOOKUP($B243,'Ad Week Dates'!$A:$E,4,FALSE)","v":{"$error":"#N/A"}},{"$f":"VLOOKUP($B243,'Ad Week Dates'!$A:$E,2,FALSE)","v":{"$error":"#N/A"}},{"$f":"VLOOKUP($B243,'Ad Week Dates'!$A:$E,3,FALSE)","v":{"$error":"#N/A"}},null,null,null,null,null,null,{"$error":"#N/A"}]
[null,null,{"$f":"VLOOKUP($B244,'Ad Week Dates'!$A:$E,4,FALSE)","v":{"$error":"#N/A"}},{"$f":"VLOOKUP($B244,'Ad Week Dates'!$A:$E,2,FALSE)","v":{"$error":"#N/A"}},{"$f":"VLOOKUP($B244,'Ad Week Dates'!$A:$E,3,FALSE)","v":{"$error":"#N/A"}},null,null,null,null,null,null,{"$error":"#N/A"}]
[null,null,{"$f":"VLOOKUP($B245,'Ad Week Dates'!$A:$E,4,FALSE)","v":{"$error":"#N/A"}},{"$f":"VLOOKUP($B245,'Ad Week Dates'!$A:$E,2,FALSE)","v":{"$error":"#N/A"}},{"$f":"VLOOKUP($B245,'Ad Week Dates'!$A:$E,3,FALSE)","v":{"$error":"#N/A"}},null,null,null,null,null,null,{"$error":"#N/A"}]
[null,null,{"$f":"VLOOKUP($B246,'Ad Week Dates'!$A:$E,4,FALSE)","v":{"$error":"#N/A"}},{"$f":"VLOOKUP($B246,'Ad Week Dates'!$A:$E,2,FALSE)","v":{"$error":"#N/A"}},{"$f":"VLOOKUP($B246,'Ad Week Dates'!$A:$E,3,FALSE)","v":{"$error":"#N/A"}},null,null,null,null,null,null,{"$error":"#N/A"}]
[null,null,{"$f":"VLOOKUP($B247,'Ad Week Dates'!$A:$E,4,FALSE)","v":{"$error":"#N/A"}},{"$f":"VLOOKUP($B247,'Ad Week Dates'!$A:$E,2,FALSE)","v":{"$error":"#N/A"}},{"$f":"VLOOKUP($B247,'Ad Week Dates'!$A:$E,3,FALSE)","v":{"$error":"#N/A"}},null,null,null,null,null,null,{"$error":"#N/A"}]
[null,null,{"$f":"VLOOKUP($B248,'Ad Week Dates'!$A:$E,4,FALSE)","v":{"$error":"#N/A"}},{"$f":"VLOOKUP($B248,'Ad Week Dates'!$A:$E,2,FALSE)","v":{"$error":"#N/A"}},{"$f":"VLOOKUP($B248,'Ad Week Dates'!$A:$E,3,FALSE)","v":{"$error":"#N/A"}},null,null,null,null,null,null,{"$error":"#N/A"}]
[null,null,{"$f":"VLOOKUP($B249,'Ad Week Dates'!$A:$E,4,FALSE)","v":{"$error":"#N/A"}},{"$f":"VLOOKUP($B249,'Ad Week Dates'!$A:$E,2,FALSE)","v":{"$error":"#N/A"}},{"$f":"VLOOKUP($B249,'Ad Week Dates'!$A:$E,3,FALSE)","v":{"$error":"#N/A"}},null,null,null,null,null,null,{"$error":"#N/A"}]
[null,null,{"$f":"VLOOKUP($B250,'Ad Week Dates'!$A:$E,4,FALSE)","v":{"$error":"#N/A"}},{"$f":"VLOOKUP($B250,'Ad Week Dates'!$A:$E,2,FALSE)","v":{"$error":"#N/A"}},{"$f":"VLOOKUP($B250,'Ad Week Dates'!$A:$E,3,FALSE)","v":{"$error":"#N/A"}},null,null,null,null,null,null,{"$error":"#N/A"}]
[null,null,{"$f":"VLOOKUP($B251,'Ad Week Dates'!$A:$E,4,FALSE)","v":{"$error":"#N/A"}},{"$f":"VLOOKUP($B251,'Ad Week Dates'!$A:$E,2,FALSE)","v":{"$error":"#N/A"}},{"$f":"VLOOKUP($B251,'Ad Week Dates'!$A:$E,3,FALSE)","v":{"$error":"#N/A"}},null,null,null,null,null,null,{"$error":"#N/A"}]
[null,null,{"$f":"VLOOKUP($B252,'Ad Week Dates'!$A:$E,4,FALSE)","v":{"$error":"#N/A"}},{"$f":"VLOOKUP($B252,'Ad Week Dates'!$A:$E,2,FALSE)","v":{"$error":"#N/A"}},{"$f":"VLOOKUP($B252,'Ad Week Dates'!$A:$E,3,FALSE)","v":{"$error":"#N/A"}},null,null,null,null,null,null,{"$error":"#N/A"}]
[null,null,{"$f":"VLOOKUP($B253,'Ad Week Dates'!$A:$E,4,FALSE)","v":{"$error":"#N/A"}},{"$f":"VLOOKUP($B253,'Ad Week Dates'!$A:$E,2,FALSE)","v":{"$error":"#N/A"}},{"$f":"VLOOKUP($B253,'Ad Week Dates'!$A:$E,3,FALSE)","v":{"$error":"#N/A"}},null,null,null,null,null,null,{"$error":"#N/A"}]
[null,null,{"$f":"VLOOKUP($B254,'Ad Week Dates'!$A:$E,4,FALSE)","v":{"$error":"#N/A"}},{"$f":"VLOOKUP($B254,'Ad Week Dates'!$A:$E,2,FALSE)","v":{"$error":"#N/A"}},{"$f":"VLOOKUP($B254,'Ad Week Dates'!$A:$E,3,FALSE)","v":{"$error":"#N/A"}},null,null,null,null,null,null,{"$error":"#N/A"}]
[null,null,{"$f":"VLOOKUP($B255,'Ad Week Dates'!$A:$E,4,FALSE)","v":{"$error":"#N/A"}},{"$f":"VLOOKUP($B255,'Ad Week Dates'!$A:$E,2,FALSE)","v":{"$error":"#N/A"}},{"$f":"VLOOKUP($B255,'Ad Week Dates'!$A:$E,3,FALSE)","v":{"$error":"#N/A"}},null,null,null,null,null,null,{"$error":"#N/A"}]
[null,null,{"$f":"VLOOKUP($B256,'Ad Week Dates'!$A:$E,4,FALSE)","v":{"$error":"#N/A"}},{"$f":"VLOOKUP($B256,'Ad Week Dates'!$A:$E,2,FALSE)","v":{"$error":"#N/A"}},{"$f":"VLOOKUP($B256,'Ad Week Dates'!$A:$E,3,FALSE)","v":{"$error":"#N/A"}},null,null,null,null,null,null,{"$error":"#N/A"}]
[null,null,{"$f":"VLOOKUP($B257,'Ad Week Dates'!$A:$E,4,FALSE)","v":{"$error":"#N/A"}},{"$f":"VLOOKUP($B257,'Ad Week Dates'!$A:$E,2,FALSE)","v":{"$error":"#N/A"}},{"$f":"VLOOKUP($B257,'Ad Week Dates'!$A:$E,3,FALSE)","v":{"$error":"#N/A"}},null,null,null,null,null,null,{"$error":"#N/A"}]
[null,null,{"$f":"VLOOKUP($B258,'Ad Week Dates'!$A:$E,4,FALSE)","v":{"$error":"#N/A"}},{"$f":"VLOOKUP($B258,'Ad Week Dates'!$A:$E,2,FALSE)","v":{"$error":"#N/A"}},{"$f":"VLOOKUP($B258,'Ad Week Dates'!$A:$E,3,FALSE)","v":{"$error":"#N/A"}},null,null,null,null,null,null,{"$error":"#N/A"}]
[null,null,{"$f":"VLOOKUP($B259,'Ad Week Dates'!$A:$E,4,FALSE)","v":{"$error":"#N/A"}},{"$f":"VLOOKUP($B259,'Ad Week Dates'!$A:$E,2,FALSE)","v":{"$error":"#N/A"}},{"$f":"VLOOKUP($B259,'Ad Week Dates'!$A:$E,3,FALSE)","v":{"$error":"#N/A"}},null,null,null,null,null,null,{"$error":"#N/A"}]
[null,null,{"$f":"VLOOKUP($B260,'Ad Week Dates'!$A:$E,4,FALSE)","v":{"$error":"#N/A"}},{"$f":"VLOOKUP($B260,'Ad Week Dates'!$A:$E,2,FALSE)","v":{"$error":"#N/A"}},{"$f":"VLOOKUP($B260,'Ad Week Dates'!$A:$E,3,FALSE)","v":{"$error":"#N/A"}},null,null,null,null,null,null,{"$error":"#N/A"}]
[null,null,{"$f":"VLOOKUP($B261,'Ad Week Dates'!$A:$E,4,FALSE)","v":{"$error":"#N/A"}},{"$f":"VLOOKUP($B261,'Ad Week Dates'!$A:$E,2,FALSE)","v":{"$error":"#N/A"}},{"$f":"VLOOKUP($B261,'Ad Week Dates'!$A:$E,3,FALSE)","v":{"$error":"#N/A"}},null,null,null,null,null,null,{"$error":"#N/A"}]
[null,null,{"$f":"VLOOKUP($B262,'Ad Week Dates'!$A:$E,4,FALSE)","v":{"$error":"#N/A"}},{"$f":"VLOOKUP($B262,'Ad Week Dates'!$A:$E,2,FALSE)","v":{"$error":"#N/A"}},{"$f":"VLOOKUP($B262,'Ad Week Dates'!$A:$E,3,FALSE)","v":{"$error":"#N/A"}},null,null,null,null,null,null,{"$f":"IF(ISNUMBER(J262), J262 - K262, VALUE(_xlfn.TEXTBEFORE(J262, \"-\")) - VALUE(_xlfn.TEXTBEFORE(K262, \"-\")))","v":{"$error":"#N/A"}}]
[null,null,{"$f":"VLOOKUP($B263,'Ad Week Dates'!$A:$E,4,FALSE)","v":{"$error":"#N/A"}},{"$f":"VLOOKUP($B263,'Ad Week Dates'!$A:$E,2,FALSE)","v":{"$error":"#N/A"}},{"$f":"VLOOKUP($B263,'Ad Week Dates'!$A:$E,3,FALSE)","v":{"$error":"#N/A"}},null,null,null,null,null,null,{"$error":"#N/A"}]
[null,null,{"$f":"VLOOKUP($B264,'Ad Week Dates'!$A:$E,4,FALSE)","v":{"$error":"#N/A"}},{"$f":"VLOOKUP($B264,'Ad Week Dates'!$A:$E,2,FALSE)","v":{"$error":"#N/A"}},{"$f":"VLOOKUP($B264,'Ad Week Dates'!$A:$E,3,FALSE)","v":{"$error":"#N/A"}},null,null,null,null,null,null,{"$error":"#N/A"}]
[null,null,{"$f":"VLOOKUP($B265,'Ad Week Dates'!$A:$E,4,FALSE)","v":{"$error":"#N/A"}},{"$f":"VLOOKUP($B265,'Ad Week Dates'!$A:$E,2,FALSE)","v":{"$error":"#N/A"}},{"$f":"VLOOKUP($B265,'Ad Week Dates'!$A:$E,3,FALSE)","v":{"$error":"#N/A"}},null,null,null,null,null,null,{"$error":"#N/A"}]
[null,null,{"$f":"VLOOKUP($B266,'Ad Week Dates'!$A:$E,4,FALSE)","v":{"$error":"#N/A"}},{"$f":"VLOOKUP($B266,'Ad Week Dates'!$A:$E,2,FALSE)","v":{"$error":"#N/A"}},{"$f":"VLOOKUP($B266,'Ad Week Dates'!$A:$E,3,FALSE)","v":{"$error":"#N/A"}},null,null,null,null,null,null,{"$error":"#N/A"}]
[null,null,{"$f":"VLOOKUP($B267,'Ad Week Dates'!$A:$E,4,FALSE)","v":{"$error":"#N/A"}},{"$f":"VLOOKUP($B267,'Ad Week Dates'!$A:$E,2,FALSE)","v":{"$error":"#N/A"}},{"$f":"VLOOKUP($B267,'Ad Week Dates'!$A:$E,3,FALSE)","v":{"$error":"#N/A"}},null,null,null,null,null,null,{"$error":"#N/A"}]
[null,null,{"$f":"VLOOKUP($B268,'Ad Week Dates'!$A:$E,4,FALSE)","v":{"$error":"#N/A"}},{"$f":"VLOOKUP($B268,'Ad Week Dates'!$A:$E,2,FALSE)","v":{"$error":"#N/A"}},{"$f":"VLOOKUP($B268,'Ad Week Dates'!$A:$E,3,FALSE)","v":{"$error":"#N/A"}},null,null,null,null,null,null,{"$error":"#N/A"}]
[null,null,{"$f":"VLOOKUP($B269,'Ad Week Dates'!$A:$E,4,FALSE)","v":{"$error":"#N/A"}},{"$f":"VLOOKUP($B269,'Ad Week Dates'!$A:$E,2,FALSE)","v":{"$error":"#N/A"}},{"$f":"VLOOKUP($B269,'Ad Week Dates'!$A:$E,3,FALSE)","v":{"$error":"#N/A"}},null,null,null,null,null,null,{"$error":"#N/A"}]
[null,null,{"$f":"VLOOKUP($B270,'Ad Week Dates'!$A:$E,4,FALSE)","v":{"$error":"#N/A"}},{"$f":"VLOOKUP($B270,'Ad Week Dates'!$A:$E,2,FALSE)","v":{"$error":"#N/A"}},{"$f":"VLOOKUP($B270,'Ad Week Dates'!$A:$E,3,FALSE)","v":{"$error":"#N/A"}},null,null,null,null,null,null,{"$error":"#N/A"}]
[null,null,{"$f":"VLOOKUP($B271,'Ad Week Dates'!$A:$E,4,FALSE)","v":{"$error":"#N/A"}},{"$f":"VLOOKUP($B271,'Ad Week Dates'!$A:$E,2,FALSE)","v":{"$error":"#N/A"}},{"$f":"VLOOKUP($B271,'Ad Week Dates'!$A:$E,3,FALSE)","v":{"$error":"#N/A"}},null,null,null,null,null,null,{"$error":"#N/A"}]
[null,null,{"$f":"VLOOKUP($B272,'Ad Week Dates'!$A:$E,4,FALSE)","v":{"$error":"#N/A"}},{"$f":"VLOOKUP($B272,'Ad Week Dates'!$A:$E,2,FALSE)","v":{"$error":"#N/A"}},{"$f":"VLOOKUP($B272,'Ad Week Dates'!$A:$E,3,FALSE)","v":{"$error":"#N/A"}},null,null,null,null,null,null,{"$error":"#N/A"}]
[null,null,{"$f":"VLOOKUP($B273,'Ad Week Dates'!$A:$E,4,FALSE)","v":{"$error":"#N/A"}},{"$f":"VLOOKUP($B273,'Ad Week Dates'!$A:$E,2,FALSE)","v":{"$error":"#N/A"}},{"$f":"VLOOKUP($B273,'Ad Week Dates'!$A:$E,3,FALSE)","v":{"$error":"#N/A"}},null,null,null,null,null,null,{"$error":"#N/A"}]
[null,null,{"$f":"VLOOKUP($B274,'Ad Week Dates'!$A:$E,4,FALSE)","v":{"$error":"#N/A"}},{"$f":"VLOOKUP($B274,'Ad Week Dates'!$A:$E,2,FALSE)","v":{"$error":"#N/A"}},{"$f":"VLOOKUP($B274,'Ad Week Dates'!$A:$E,3,FALSE)","v":{"$error":"#N/A"}},null,null,null,null,null,null,{"$error":"#N/A"}]
[null,null,{"$f":"VLOOKUP($B275,'Ad Week Dates'!$A:$E,4,FALSE)","v":{"$error":"#N/A"}},{"$f":"VLOOKUP($B275,'Ad Week Dates'!$A:$E,2,FALSE)","v":{"$error":"#N/A"}},{"$f":"VLOOKUP($B275,'Ad Week Dates'!$A:$E,3,FALSE)","v":{"$error":"#N/A"}},null,null,null,null,null,null,{"$error":"#N/A"}]
[null,null,{"$f":"VLOOKUP($B276,'Ad Week Dates'!$A:$E,4,FALSE)","v":{"$error":"#N/A"}},{"$f":"VLOOKUP($B276,'Ad Week Dates'!$A:$E,2,FALSE)","v":{"$error":"#N/A"}},{"$f":"VLOOKUP($B276,'Ad Week Dates'!$A:$E,3,FALSE)","v":{"$error":"#N/A"}},null,null,null,null,null,null,{"$error":"#N/A"}]
[null,null,{"$f":"VLOOKUP($B277,'Ad Week Dates'!$A:$E,4,FALSE)","v":{"$error":"#N/A"}},{"$f":"VLOOKUP($B277,'Ad Week Dates'!$A:$E,2,FALSE)","v":{"$error":"#N/A"}},{"$f":"VLOOKUP($B277,'Ad Week Dates'!$A:$E,3,FALSE)","v":{"$error":"#N/A"}},null,null,null,null,null,null,{"$error":"#N/A"}]
[null,null,{"$f":"VLOOKUP($B278,'Ad Week Dates'!$A:$E,4,FALSE)","v":{"$error":"#N/A"}},{"$f":"VLOOKUP($B278,'Ad Week Dates'!$A:$E,2,FALSE)","v":{"$error":"#N/A"}},{"$f":"VLOOKUP($B278,'Ad Week Dates'!$A:$E,3,FALSE)","v":{"$error":"#N/A"}},null,null,null,null,null,null,{"$error":"#N/A"}]
[null,null,{"$f":"VLOOKUP($B279,'Ad Week Dates'!$A:$E,4,FALSE)","v":{"$error":"#N/A"}},{"$f":"VLOOKUP($B279,'Ad Week Dates'!$A:$E,2,FALSE)","v":{"$error":"#N/A"}},{"$f":"VLOOKUP($B279,'Ad Week Dates'!$A:$E,3,FALSE)","v":{"$error":"#N/A"}},null,null,null,null,null,null,{"$error":"#N/A"}]
[null,null,{"$f":"VLOOKUP($B280,'Ad Week Dates'!$A:$E,4,FALSE)","v":{"$error":"#N/A"}},{"$f":"VLOOKUP($B280,'Ad Week Dates'!$A:$E,2,FALSE)","v":{"$error":"#N/A"}},{"$f":"VLOOKUP($B280,'Ad Week Dates'!$A:$E,3,FALSE)","v":{"$error":"#N/A"}},null,null,null,null,null,null,{"$error":"#N/A"}]
[null,null,{"$f":"VLOOKUP($B281,'Ad Week Dates'!$A:$E,4,FALSE)","v":{"$error":"#N/A"}},{"$f":"VLOOKUP($B281,'Ad Week Dates'!$A:$E,2,FALSE)","v":{"$error":"#N/A"}},{"$f":"VLOOKUP($B281,'Ad Week Dates'!$A:$E,3,FALSE)","v":{"$error":"#N/A"}},null,null,null,null,null,null,{"$error":"#N/A"}]
[null,null,{"$f":"VLOOKUP($B282,'Ad Week Dates'!$A:$E,4,FALSE)","v":{"$error":"#N/A"}},{"$f":"VLOOKUP($B282,'Ad Week Dates'!$A:$E,2,FALSE)","v":{"$error":"#N/A"}},{"$f":"VLOOKUP($B282,'Ad Week Dates'!$A:$E,3,FALSE)","v":{"$error":"#N/A"}},null,null,null,null,null,null,{"$error":"#N/A"}]
[null,null,{"$f":"VLOOKUP($B283,'Ad Week Dates'!$A:$E,4,FALSE)","v":{"$error":"#N/A"}},{"$f":"VLOOKUP($B283,'Ad Week Dates'!$A:$E,2,FALSE)","v":{"$error":"#N/A"}},{"$f":"VLOOKUP($B283,'Ad Week Dates'!$A:$E,3,FALSE)","v":{"$error":"#N/A"}},null,null,null,null,null,null,{"$error":"#N/A"}]
[null,null,{"$f":"VLOOKUP($B284,'Ad Week Dates'!$A:$E,4,FALSE)","v":{"$error":"#N/A"}},{"$f":"VLOOKUP($B284,'Ad Week Dates'!$A:$E,2,FALSE)","v":{"$error":"#N/A"}},{"$f":"VLOOKUP($B284,'Ad Week Dates'!$A:$E,3,FALSE)","v":{"$error":"#N/A"}},null,null,null,null,null,null,{"$error":"#N/A"}]
[null,null,{"$f":"VLOOKUP($B285,'Ad Week Dates'!$A:$E,4,FALSE)","v":{"$error":"#N/A"}},{"$f":"VLOOKUP($B285,'Ad Week Dates'!$A:$E,2,FALSE)","v":{"$error":"#N/A"}},{"$f":"VLOOKUP($B285,'Ad Week Dates'!$A:$E,3,FALSE)","v":{"$error":"#N/A"}},null,null,null,null,null,null,{"$error":"#N/A"}]
[null,null,{"$f":"VLOOKUP($B286,'Ad Week Dates'!$A:$E,4,FALSE)","v":{"$error":"#N/A"}},{"$f":"VLOOKUP($B286,'Ad Week Dates'!$A:$E,2,FALSE)","v":{"$error":"#N/A"}},{"$f":"VLOOKUP($B286,'Ad Week Dates'!$A:$E,3,FALSE)","v":{"$error":"#N/A"}},null,null,null,null,null,null,{"$error":"#N/A"}]
[null,null,{"$f":"VLOOKUP($B287,'Ad Week Dates'!$A:$E,4,FALSE)","v":{"$error":"#N/A"}},{"$f":"VLOOKUP($B287,'Ad Week Dates'!$A:$E,2,FALSE)","v":{"$error":"#N/A"}},{"$f":"VLOOKUP($B287,'Ad Week Dates'!$A:$E,3,FALSE)","v":{"$error":"#N/A"}},null,null,null,null,null,null,{"$error":"#N/A"}]
[null,null,{"$f":"VLOOKUP($B288,'Ad Week Dates'!$A:$E,4,FALSE)","v":{"$error":"#N/A"}},{"$f":"VLOOKUP($B288,'Ad Week Dates'!$A:$E,2,FALSE)","v":{"$error":"#N/A"}},{"$f":"VLOOKUP($B288,'Ad Week Dates'!$A:$E,3,FALSE)","v":{"$error":"#N/A"}},null,null,null,null,null,null,{"$error":"#N/A"}]
[null,null,{"$f":"VLOOKUP($B289,'Ad Week Dates'!$A:$E,4,FALSE)","v":{"$error":"#N/A"}},{"$f":"VLOOKUP($B289,'Ad Week Dates'!$A:$E,2,FALSE)","v":{"$error":"#N/A"}},{"$f":"VLOOKUP($B289,'Ad Week Dates'!$A:$E,3,FALSE)","v":{"$error":"#N/A"}},null,null,null,null,null,null,{"$error":"#N/A"}]
[null,null,{"$f":"VLOOKUP($B290,'Ad Week Dates'!$A:$E,4,FALSE)","v":{"$error":"#N/A"}},{"$f":"VLOOKUP($B290,'Ad Week Dates'!$A:$E,2,FALSE)","v":{"$error":"#N/A"}},{"$f":"VLOOKUP($B290,'Ad Week Dates'!$A:$E,3,FALSE)","v":{"$error":"#N/A"}},null,null,null,null,null,null,{"$error":"#N/A"}]
[null,null,{"$f":"VLOOKUP($B291,'Ad Week Dates'!$A:$E,4,FALSE)","v":{"$error":"#N/A"}},{"$f":"VLOOKUP($B291,'Ad Week Dates'!$A:$E,2,FALSE)","v":{"$error":"#N/A"}},{"$f":"VLOOKUP($B291,'Ad Week Dates'!$A:$E,3,FALSE)","v":{"$error":"#N/A"}},null,null,null,null,null,null,{"$error":"#N/A"}]
[null,null,{"$f":"VLOOKUP($B292,'Ad Week Dates'!$A:$E,4,FALSE)","v":{"$error":"#N/A"}},{"$f":"VLOOKUP($B292,'Ad Week Dates'!$A:$E,2,FALSE)","v":{"$error":"#N/A"}},{"$f":"VLOOKUP($B292,'Ad Week Dates'!$A:$E,3,FALSE)","v":{"$error":"#N/A"}},null,null,null,null,null,null,{"$error":"#N/A"}]
[null,null,{"$f":"VLOOKUP($B293,'Ad Week Dates'!$A:$E,4,FALSE)","v":{"$error":"#N/A"}},{"$f":"VLOOKUP($B293,'Ad Week Dates'!$A:$E,2,FALSE)","v":{"$error":"#N/A"}},{"$f":"VLOOKUP($B293,'Ad Week Dates'!$A:$E,3,FALSE)","v":{"$error":"#N/A"}},null,null,null,null,null,null,{"$error":"#N/A"}]
[null,null,{"$f":"VLOOKUP($B294,'Ad Week Dates'!$A:$E,4,FALSE)","v":{"$error":"#N/A"}},{"$f":"VLOOKUP($B294,'Ad Week Dates'!$A:$E,2,FALSE)","v":{"$error":"#N/A"}},{"$f":"VLOOKUP($B294,'Ad Week Dates'!$A:$E,3,FALSE)","v":{"$error":"#N/A"}},null,null,null,null,null,null,{"$error":"#N/A"}]
[null,null,{"$f":"VLOOKUP($B295,'Ad Week Dates'!$A:$E,4,FALSE)","v":{"$error":"#N/A"}},{"$f":"VLOOKUP($B295,'Ad Week Dates'!$A:$E,2,FALSE)","v":{"$error":"#N/A"}},{"$f":"VLOOKUP($B295,'Ad Week Dates'!$A:$E,3,FALSE)","v":{"$error":"#N/A"}},null,null,null,null,null,null,{"$error":"#N/A"}]
[null,null,{"$f":"VLOOKUP($B296,'Ad Week Dates'!$A:$E,4,FALSE)","v":{"$error":"#N/A"}},{"$f":"VLOOKUP($B296,'Ad Week Dates'!$A:$E,2,FALSE)","v":{"$error":"#N/A"}},{"$f":"VLOOKUP($B296,'Ad Week Dates'!$A:$E,3,FALSE)","v":{"$error":"#N/A"}},null,null,null,null,null,null,{"$error":"#N/A"}]
[null,null,{"$f":"VLOOKUP($B297,'Ad Week Dates'!$A:$E,4,FALSE)","v":{"$error":"#N/A"}},{"$f":"VLOOKUP($B297,'Ad Week Dates'!$A:$E,2,FALSE)","v":{"$error":"#N/A"}},{"$f":"VLOOKUP($B297,'Ad Week Dates'!$A:$E,3,FALSE)","v":{"$error":"#N/A"}},null,null,null,null,null,null,{"$error":"#N/A"}]
[null,null,{"$f":"VLOOKUP($B298,'Ad Week Dates'!$A:$E,4,FALSE)","v":{"$error":"#N/A"}},{"$f":"VLOOKUP($B298,'Ad Week Dates'!$A:$E,2,FALSE)","v":{"$error":"#N/A"}},{"$f":"VLOOKUP($B298,'Ad Week Dates'!$A:$E,3,FALSE)","v":{"$error":"#N/A"}},null,null,null,null,null,null,{"$error":"#N/A"}]
[null,null,{"$f":"VLOOKUP($B299,'Ad Week Dates'!$A:$E,4,FALSE)","v":{"$error":"#N/A"}},{"$f":"VLOOKUP($B299,'Ad Week Dates'!$A:$E,2,FALSE)","v":{"$error":"#N/A"}},{"$f":"VLOOKUP($B299,'Ad Week Dates'!$A:$E,3,FALSE)","v":{"$error":"#N/A"}},null,null,null,null,null,null,{"$error":"#N/A"}]
[null,null,{"$f":"VLOOKUP($B300,'Ad Week Dates'!$A:$E,4,FALSE)","v":{"$error":"#N/A"}},{"$f":"VLOOKUP($B300,'Ad Week Dates'!$A:$E,2,FALSE)","v":{"$error":"#N/A"}},{"$f":"VLOOKUP($B300,'Ad Week Dates'!$A:$E,3,FALSE)","v":{"$error":"#N/A"}},null,null,null,null,null,null,{"$error":"#N/A"}]
[null,null,{"$f":"VLOOKUP($B301,'Ad Week Dates'!$A:$E,4,FALSE)","v":{"$error":"#N/A"}},{"$f":"VLOOKUP($B301,'Ad Week Dates'!$A:$E,2,FALSE)","v":{"$error":"#N/A"}},{"$f":"VLOOKUP($B301,'Ad Week Dates'!$A:$E,3,FALSE)","v":{"$error":"#N/A"}},null,null,null,null,null,null,{"$error":"#N/A"}]
[null,null,{"$f":"VLOOKUP($B302,'Ad Week Dates'!$A:$E,4,FALSE)","v":{"$error":"#N/A"}},{"$f":"VLOOKUP($B302,'Ad Week Dates'!$A:$E,2,FALSE)","v":{"$error":"#N/A"}},{"$f":"VLOOKUP($B302,'Ad Week Dates'!$A:$E,3,FALSE)","v":{"$error":"#N/A"}},null,null,null,null,null,null,{"$error":"#N/A"}]
[null,null,{"$f":"VLOOKUP($B303,'Ad Week Dates'!$A:$E,4,FALSE)","v":{"$error":"#N/A"}},{"$f":"VLOOKUP($B303,'Ad Week Dates'!$A:$E,2,FALSE)","v":{"$error":"#N/A"}},{"$f":"VLOOKUP($B303,'Ad Week Dates'!$A:$E,3,FALSE)","v":{"$error":"#N/A"}},null,null,null,null,null,null,{"$error":"#N/A"}]
[null,null,{"$f":"VLOOKUP($B304,'Ad Week Dates'!$A:$E,4,FALSE)","v":{"$error":"#N/A"}},{"$f":"VLOOKUP($B304,'Ad Week Dates'!$A:$E,2,FALSE)","v":{"$error":"#N/A"}},{"$f":"VLOOKUP($B304,'Ad Week Dates'!$A:$E,3,FALSE)","v":{"$error":"#N/A"}},null,null,null,null,null,null,{"$error":"#N/A"}]
[null,null,{"$f":"VLOOKUP($B305,'Ad Week Dates'!$A:$E,4,FALSE)","v":{"$error":"#N/A"}},{"$f":"VLOOKUP($B305,'Ad Week Dates'!$A:$E,2,FALSE)","v":{"$error":"#N/A"}},{"$f":"VLOOKUP($B305,'Ad Week Dates'!$A:$E,3,FALSE)","v":{"$error":"#N/A"}},null,null,null,null,null,null,{"$error":"#N/A"}]
[null,null,{"$f":"VLOOKUP($B306,'Ad Week Dates'!$A:$E,4,FALSE)","v":{"$error":"#N/A"}},{"$f":"VLOOKUP($B306,'Ad Week Dates'!$A:$E,2,FALSE)","v":{"$error":"#N/A"}},{"$f":"VLOOKUP($B306,'Ad Week Dates'!$A:$E,3,FALSE)","v":{"$error":"#N/A"}},null,null,null,null,null,null,{"$error":"#N/A"}]
[null,null,{"$f":"VLOOKUP($B307,'Ad Week Dates'!$A:$E,4,FALSE)","v":{"$error":"#N/A"}},{"$f":"VLOOKUP($B307,'Ad Week Dates'!$A:$E,2,FALSE)","v":{"$error":"#N/A"}},{"$f":"VLOOKUP($B307,'Ad Week Dates'!$A:$E,3,FALSE)","v":{"$error":"#N/A"}},null,null,null,null,null,null,{"$error":"#N/A"}]
[null,null,{"$f":"VLOOKUP($B308,'Ad Week Dates'!$A:$E,4,FALSE)","v":{"$error":"#N/A"}},{"$f":"VLOOKUP($B308,'Ad Week Dates'!$A:$E,2,FALSE)","v":{"$error":"#N/A"}},{"$f":"VLOOKUP($B308,'Ad Week Dates'!$A:$E,3,FALSE)","v":{"$error":"#N/A"}},null,null,null,null,null,null,{"$error":"#N/A"}]
[null,null,{"$f":"VLOOKUP($B309,'Ad Week Dates'!$A:$E,4,FALSE)","v":{"$error":"#N/A"}},{"$f":"VLOOKUP($B309,'Ad Week Dates'!$A:$E,2,FALSE)","v":{"$error":"#N/A"}},{"$f":"VLOOKUP($B309,'Ad Week Dates'!$A:$E,3,FALSE)","v":{"$error":"#N/A"}},null,null,null,null,null,null,{"$error":"#N/A"}]
[null,null,{"$f":"VLOOKUP($B310,'Ad Week Dates'!$A:$E,4,FALSE)","v":{"$error":"#N/A"}},{"$f":"VLOOKUP($B310,'Ad Week Dates'!$A:$E,2,FALSE)","v":{"$error":"#N/A"}},{"$f":"VLOOKUP($B310,'Ad Week Dates'!$A:$E,3,FALSE)","v":{"$error":"#N/A"}},null,null,null,null,null,null,{"$error":"#N/A"}]
[null,null,{"$f":"VLOOKUP($B311,'Ad Week Dates'!$A:$E,4,FALSE)","v":{"$error":"#N/A"}},{"$f":"VLOOKUP($B311,'Ad Week Dates'!$A:$E,2,FALSE)","v":{"$error":"#N/A"}},{"$f":"VLOOKUP($B311,'Ad Week Dates'!$A:$E,3,FALSE)","v":{"$error":"#N/A"}},null,null,null,null,null,null,{"$error":"#N/A"}]
[null,null,{"$f":"VLOOKUP($B312,'Ad Week Dates'!$A:$E,4,FALSE)","v":{"$error":"#N/A"}},{"$f":"VLOOKUP($B312,'Ad Week Dates'!$A:$E,2,FALSE)","v":{"$error":"#N/A"}},{"$f":"VLOOKUP($B312,'Ad Week Dates'!$A:$E,3,FALSE)","v":{"$error":"#N/A"}},null,null,null,null,null,null,{"$error":"#N/A"}]
[null,null,{"$f":"VLOOKUP($B313,'Ad Week Dates'!$A:$E,4,FALSE)","v":{"$error":"#N/A"}},{"$f":"VLOOKUP($B313,'Ad Week Dates'!$A:$E,2,FALSE)","v":{"$error":"#N/A"}},{"$f":"VLOOKUP($B313,'Ad Week Dates'!$A:$E,3,FALSE)","v":{"$error":"#N/A"}},null,null,null,null,null,null,{"$error":"#N/A"}]
[null,null,{"$f":"VLOOKUP($B314,'Ad Week Dates'!$A:$E,4,FALSE)","v":{"$error":"#N/A"}},{"$f":"VLOOKUP($B314,'Ad Week Dates'!$A:$E,2,FALSE)","v":{"$error":"#N/A"}},{"$f":"VLOOKUP($B314,'Ad Week Dates'!$A:$E,3,FALSE)","v":{"$error":"#N/A"}},null,null,null,null,null,null,{"$error":"#N/A"}]
[null,null,{"$f":"VLOOKUP($B315,'Ad Week Dates'!$A:$E,4,FALSE)","v":{"$error":"#N/A"}},{"$f":"VLOOKUP($B315,'Ad Week Dates'!$A:$E,2,FALSE)","v":{"$error":"#N/A"}},{"$f":"VLOOKUP($B315,'Ad Week Dates'!$A:$E,3,FALSE)","v":{"$error":"#N/A"}},null,null,null,null,null,null,{"$error":"#N/A"}]
[null,null,{"$f":"VLOOKUP($B316,'Ad Week Dates'!$A:$E,4,FALSE)","v":{"$error":"#N/A"}},{"$f":"VLOOKUP($B316,'Ad Week Dates'!$A:$E,2,FALSE)","v":{"$error":"#N/A"}},{"$f":"VLOOKUP($B316,'Ad Week Dates'!$A:$E,3,FALSE)","v":{"$error":"#N/A"}},null,null,null,null,null,null,{"$error":"#N/A"}]
[null,null,{"$f":"VLOOKUP($B317,'Ad Week Dates'!$A:$E,4,FALSE)","v":{"$error":"#N/A"}},{"$f":"VLOOKUP($B317,'Ad Week Dates'!$A:$E,2,FALSE)","v":{"$error":"#N/A"}},{"$f":"VLOOKUP($B317,'Ad Week Dates'!$A:$E,3,FALSE)","v":{"$error":"#N/A"}},null,null,null,null,null,null,{"$error":"#N/A"}]
[null,null,{"$f":"VLOOKUP($B318,'Ad Week Dates'!$A:$E,4,FALSE)","v":{"$error":"#N/A"}},{"$f":"VLOOKUP($B318,'Ad Week Dates'!$A:$E,2,FALSE)","v":{"$error":"#N/A"}},{"$f":"VLOOKUP($B318,'Ad Week Dates'!$A:$E,3,FALSE)","v":{"$error":"#N/A"}},null,null,null,null,null,null,{"$error":"#N/A"}]
[null,null,{"$f":"VLOOKUP($B319,'Ad Week Dates'!$A:$E,4,FALSE)","v":{"$error":"#N/A"}},{"$f":"VLOOKUP($B319,'Ad Week Dates'!$A:$E,2,FALSE)","v":{"$error":"#N/A"}},{"$f":"VLOOKUP($B319,'Ad Week Dates'!$A:$E,3,FALSE)","v":{"$error":"#N/A"}},null,null,null,null,null,null,{"$error":"#N/A"}]
[null,null,{"$f":"VLOOKUP($B320,'Ad Week Dates'!$A:$E,4,FALSE)","v":{"$error":"#N/A"}},{"$f":"VLOOKUP($B320,'Ad Week Dates'!$A:$E,2,FALSE)","v":{"$error":"#N/A"}},{"$f":"VLOOKUP($B320,'Ad Week Dates'!$A:$E,3,FALSE)","v":{"$error":"#N/A"}},null,null,null,null,null,null,{"$error":"#N/A"}]
[null,null,{"$f":"VLOOKUP($B321,'Ad Week Dates'!$A:$E,4,FALSE)","v":{"$error":"#N/A"}},{"$f":"VLOOKUP($B321,'Ad Week Dates'!$A:$E,2,FALSE)","v":{"$error":"#N/A"}},{"$f":"VLOOKUP($B321,'Ad Week Dates'!$A:$E,3,FALSE)","v":{"$error":"#N/A"}},null,null,null,null,null,null,{"$error":"#N/A"}]
[null,null,{"$f":"VLOOKUP($B322,'Ad Week Dates'!$A:$E,4,FALSE)","v":{"$error":"#N/A"}},{"$f":"VLOOKUP($B322,'Ad Week Dates'!$A:$E,2,FALSE)","v":{"$error":"#N/A"}},{"$f":"VLOOKUP($B322,'Ad Week Dates'!$A:$E,3,FALSE)","v":{"$error":"#N/A"}},null,null,null,null,null,null,{"$error":"#N/A"}]
[null,null,{"$f":"VLOOKUP($B323,'Ad Week Dates'!$A:$E,4,FALSE)","v":{"$error":"#N/A"}},{"$f":"VLOOKUP($B323,'Ad Week Dates'!$A:$E,2,FALSE)","v":{"$error":"#N/A"}},{"$f":"VLOOKUP($B323,'Ad Week Dates'!$A:$E,3,FALSE)","v":{"$error":"#N/A"}},null,null,null,null,null,null,{"$error":"#N/A"}]
[null,null,{"$f":"VLOOKUP($B324,'Ad Week Dates'!$A:$E,4,FALSE)","v":{"$error":"#N/A"}},{"$f":"VLOOKUP($B324,'Ad Week Dates'!$A:$E,2,FALSE)","v":{"$error":"#N/A"}},{"$f":"VLOOKUP($B324,'Ad Week Dates'!$A:$E,3,FALSE)","v":{"$error":"#N/A"}},null,null,null,null,null,null,{"$error":"#N/A"}]
[null,null,{"$f":"VLOOKUP($B325,'Ad Week Dates'!$A:$E,4,FALSE)","v":{"$error":"#N/A"}},{"$f":"VLOOKUP($B325,'Ad Week Dates'!$A:$E,2,FALSE)","v":{"$error":"#N/A"}},{"$f":"VLOOKUP($B325,'Ad Week Dates'!$A:$E,3,FALSE)","v":{"$error":"#N/A"}},null,null,null,null,null,null,{"$error":"#N/A"}]
[null,null,{"$f":"VLOOKUP($B326,'Ad Week Dates'!$A:$E,4,FALSE)","v":{"$error":"#N/A"}},{"$f":"VLOOKUP($B326,'Ad Week Dates'!$A:$E,2,FALSE)","v":{"$error":"#N/A"}},{"$f":"VLOOKUP($B326,'Ad Week Dates'!$A:$E,3,FALSE)","v":{"$error":"#N/A"}},null,null,null,null,null,null,{"$f":"IF(ISNUMBER(J326), J326 - K326, VALUE(_xlfn.TEXTBEFORE(J326, \"-\")) - VALUE(_xlfn.TEXTBEFORE(K326, \"-\")))","v":{"$error":"#N/A"}}]
[null,null,{"$f":"VLOOKUP($B327,'Ad Week Dates'!$A:$E,4,FALSE)","v":{"$error":"#N/A"}},{"$f":"VLOOKUP($B327,'Ad Week Dates'!$A:$E,2,FALSE)","v":{"$error":"#N/A"}},{"$f":"VLOOKUP($B327,'Ad Week Dates'!$A:$E,3,FALSE)","v":{"$error":"#N/A"}},null,null,null,null,null,null,{"$error":"#N/A"}]
[null,null,{"$f":"VLOOKUP($B328,'Ad Week Dates'!$A:$E,4,FALSE)","v":{"$error":"#N/A"}},{"$f":"VLOOKUP($B328,'Ad Week Dates'!$A:$E,2,FALSE)","v":{"$error":"#N/A"}},{"$f":"VLOOKUP($B328,'Ad Week Dates'!$A:$E,3,FALSE)","v":{"$error":"#N/A"}},null,null,null,null,null,null,{"$error":"#N/A"}]
[null,null,{"$f":"VLOOKUP($B329,'Ad Week Dates'!$A:$E,4,FALSE)","v":{"$error":"#N/A"}},{"$f":"VLOOKUP($B329,'Ad Week Dates'!$A:$E,2,FALSE)","v":{"$error":"#N/A"}},{"$f":"VLOOKUP($B329,'Ad Week Dates'!$A:$E,3,FALSE)","v":{"$error":"#N/A"}},null,null,null,null,null,null,{"$error":"#N/A"}]
[null,null,{"$f":"VLOOKUP($B330,'Ad Week Dates'!$A:$E,4,FALSE)","v":{"$error":"#N/A"}},{"$f":"VLOOKUP($B330,'Ad Week Dates'!$A:$E,2,FALSE)","v":{"$error":"#N/A"}},{"$f":"VLOOKUP($B330,'Ad Week Dates'!$A:$E,3,FALSE)","v":{"$error":"#N/A"}},null,null,null,null,null,null,{"$error":"#N/A"}]
[null,null,{"$f":"VLOOKUP($B331,'Ad Week Dates'!$A:$E,4,FALSE)","v":{"$error":"#N/A"}},{"$f":"VLOOKUP($B331,'Ad Week Dates'!$A:$E,2,FALSE)","v":{"$error":"#N/A"}},{"$f":"VLOOKUP($B331,'Ad Week Dates'!$A:$E,3,FALSE)","v":{"$error":"#N/A"}},null,null,null,null,null,null,{"$error":"#N/A"}]
[null,null,{"$f":"VLOOKUP($B332,'Ad Week Dates'!$A:$E,4,FALSE)","v":{"$error":"#N/A"}},{"$f":"VLOOKUP($B332,'Ad Week Dates'!$A:$E,2,FALSE)","v":{"$error":"#N/A"}},{"$f":"VLOOKUP($B332,'Ad Week Dates'!$A:$E,3,FALSE)","v":{"$error":"#N/A"}},null,null,null,null,null,null,{"$error":"#N/A"}]
[null,null,{"$f":"VLOOKUP($B333,'Ad Week Dates'!$A:$E,4,FALSE)","v":{"$error":"#N/A"}},{"$f":"VLOOKUP($B333,'Ad Week Dates'!$A:$E,2,FALSE)","v":{"$error":"#N/A"}},{"$f":"VLOOKUP($B333,'Ad Week Dates'!$A:$E,3,FALSE)","v":{"$error":"#N/A"}},null,null,null,null,null,null,{"$error":"#N/A"}]
[null,null,{"$f":"VLOOKUP($B334,'Ad Week Dates'!$A:$E,4,FALSE)","v":{"$error":"#N/A"}},{"$f":"VLOOKUP($B334,'Ad Week Dates'!$A:$E,2,FALSE)","v":{"$error":"#N/A"}},{"$f":"VLOOKUP($B334,'Ad Week Dates'!$A:$E,3,FALSE)","v":{"$error":"#N/A"}},null,null,null,null,null,null,{"$error":"#N/A"}]
[null,null,{"$f":"VLOOKUP($B335,'Ad Week Dates'!$A:$E,4,FALSE)","v":{"$error":"#N/A"}},{"$f":"VLOOKUP($B335,'Ad Week Dates'!$A:$E,2,FALSE)","v":{"$error":"#N/A"}},{"$f":"VLOOKUP($B335,'Ad Week Dates'!$A:$E,3,FALSE)","v":{"$error":"#N/A"}},null,null,null,null,null,null,{"$error":"#N/A"}]
[null,null,{"$f":"VLOOKUP($B336,'Ad Week Dates'!$A:$E,4,FALSE)","v":{"$error":"#N/A"}},{"$f":"VLOOKUP($B336,'Ad Week Dates'!$A:$E,2,FALSE)","v":{"$error":"#N/A"}},{"$f":"VLOOKUP($B336,'Ad Week Dates'!$A:$E,3,FALSE)","v":{"$error":"#N/A"}},null,null,null,null,null,null,{"$error":"#N/A"}]
[null,null,{"$f":"VLOOKUP($B337,'Ad Week Dates'!$A:$E,4,FALSE)","v":{"$error":"#N/A"}},{"$f":"VLOOKUP($B337,'Ad Week Dates'!$A:$E,2,FALSE)","v":{"$error":"#N/A"}},{"$f":"VLOOKUP($B337,'Ad Week Dates'!$A:$E,3,FALSE)","v":{"$error":"#N/A"}},null,null,null,null,null,null,{"$error":"#N/A"}]
[null,null,{"$f":"VLOOKUP($B338,'Ad Week Dates'!$A:$E,4,FALSE)","v":{"$error":"#N/A"}},{"$f":"VLOOKUP($B338,'Ad Week Dates'!$A:$E,2,FALSE)","v":{"$error":"#N/A"}},{"$f":"VLOOKUP($B338,'Ad Week Dates'!$A:$E,3,FALSE)","v":{"$error":"#N/A"}},null,null,null,null,null,null,{"$error":"#N/A"}]
[null,null,{"$f":"VLOOKUP($B339,'Ad Week Dates'!$A:$E,4,FALSE)","v":{"$error":"#N/A"}},{"$f":"VLOOKUP($B339,'Ad Week Dates'!$A:$E,2,FALSE)","v":{"$error":"#N/A"}},{"$f":"VLOOKUP($B339,'Ad Week Dates'!$A:$E,3,FALSE)","v":{"$error":"#N/A"}},null,null,null,null,null,null,{"$error":"#N/A"}]
[null,null,{"$f":"VLOOKUP($B340,'Ad Week Dates'!$A:$E,4,FALSE)","v":{"$error":"#N/A"}},{"$f":"VLOOKUP($B340,'Ad Week Dates'!$A:$E,2,FALSE)","v":{"$error":"#N/A"}},{"$f":"VLOOKUP($B340,'Ad Week Dates'!$A:$E,3,FALSE)","v":{"$error":"#N/A"}},null,null,null,null,null,null,{"$error":"#N/A"}]
[null,null,{"$f":"VLOOKUP($B341,'Ad Week Dates'!$A:$E,4,FALSE)","v":{"$error":"#N/A"}},{"$f":"VLOOKUP($B341,'Ad Week Dates'!$A:$E,2,FALSE)","v":{"$error":"#N/A"}},{"$f":"VLOOKUP($B341,'Ad Week Dates'!$A:$E,3,FALSE)","v":{"$error":"#N/A"}},null,null,null,null,null,null,{"$error":"#N/A"}]
[null,null,{"$f":"VLOOKUP($B342,'Ad Week Dates'!$A:$E,4,FALSE)","v":{"$error":"#N/A"}},{"$f":"VLOOKUP($B342,'Ad Week Dates'!$A:$E,2,FALSE)","v":{"$error":"#N/A"}},{"$f":"VLOOKUP($B342,'Ad Week Dates'!$A:$E,3,FALSE)","v":{"$error":"#N/A"}},null,null,null,null,null,null,{"$error":"#N/A"}]
[null,null,{"$f":"VLOOKUP($B343,'Ad Week Dates'!$A:$E,4,FALSE)","v":{"$error":"#N/A"}},{"$f":"VLOOKUP($B343,'Ad Week Dates'!$A:$E,2,FALSE)","v":{"$error":"#N/A"}},{"$f":"VLOOKUP($B343,'Ad Week Dates'!$A:$E,3,FALSE)","v":{"$error":"#N/A"}},null,null,null,null,null,null,{"$error":"#N/A"}]
[null,null,{"$f":"VLOOKUP($B344,'Ad Week Dates'!$A:$E,4,FALSE)","v":{"$error":"#N/A"}},{"$f":"VLOOKUP($B344,'Ad Week Dates'!$A:$E,2,FALSE)","v":{"$error":"#N/A"}},{"$f":"VLOOKUP($B344,'Ad Week Dates'!$A:$E,3,FALSE)","v":{"$error":"#N/A"}},null,null,null,null,null,null,{"$error":"#N/A"}]
[null,null,{"$f":"VLOOKUP($B345,'Ad Week Dates'!$A:$E,4,FALSE)","v":{"$error":"#N/A"}},{"$f":"VLOOKUP($B345,'Ad Week Dates'!$A:$E,2,FALSE)","v":{"$error":"#N/A"}},{"$f":"VLOOKUP($B345,'Ad Week Dates'!$A:$E,3,FALSE)","v":{"$error":"#N/A"}},null,null,null,null,null,null,{"$error":"#N/A"}]
[null,null,{"$f":"VLOOKUP($B346,'Ad Week Dates'!$A:$E,4,FALSE)","v":{"$error":"#N/A"}},{"$f":"VLOOKUP($B346,'Ad Week Dates'!$A:$E,2,FALSE)","v":{"$error":"#N/A"}},{"$f":"VLOOKUP($B346,'Ad Week Dates'!$A:$E,3,FALSE)","v":{"$error":"#N/A"}},null,null,null,null,null,null,{"$error":"#N/A"}]
[null,null,{"$f":"VLOOKUP($B347,'Ad Week Dates'!$A:$E,4,FALSE)","v":{"$error":"#N/A"}},{"$f":"VLOOKUP($B347,'Ad Week Dates'!$A:$E,2,FALSE)","v":{"$error":"#N/A"}},{"$f":"VLOOKUP($B347,'Ad Week Dates'!$A:$E,3,FALSE)","v":{"$error":"#N/A"}},null,null,null,null,null,null,{"$error":"#N/A"}]
[null,null,{"$f":"VLOOKUP($B348,'Ad Week Dates'!$A:$E,4,FALSE)","v":{"$error":"#N/A"}},{"$f":"VLOOKUP($B348,'Ad Week Dates'!$A:$E,2,FALSE)","v":{"$error":"#N/A"}},{"$f":"VLOOKUP($B348,'Ad Week Dates'!$A:$E,3,FALSE)","v":{"$error":"#N/A"}},null,null,null,null,null,null,{"$error":"#N/A"}]
[null,null,{"$f":"VLOOKUP($B349,'Ad Week Dates'!$A:$E,4,FALSE)","v":{"$error":"#N/A"}},{"$f":"VLOOKUP($B349,'Ad Week Dates'!$A:$E,2,FALSE)","v":{"$error":"#N/A"}},{"$f":"VLOOKUP($B349,'Ad Week Dates'!$A:$E,3,FALSE)","v":{"$error":"#N/A"}},null,null,null,null,null,null,{"$error":"#N/A"}]
[null,null,{"$f":"VLOOKUP($B350,'Ad Week Dates'!$A:$E,4,FALSE)","v":{"$error":"#N/A"}},{"$f":"VLOOKUP($B350,'Ad Week Dates'!$A:$E,2,FALSE)","v":{"$error":"#N/A"}},{"$f":"VLOOKUP($B350,'Ad Week Dates'!$A:$E,3,FALSE)","v":{"$error":"#N/A"}},null,null,null,null,null,null,{"$error":"#N/A"}]
[null,null,{"$f":"VLOOKUP($B351,'Ad Week Dates'!$A:$E,4,FALSE)","v":{"$error":"#N/A"}},{"$f":"VLOOKUP($B351,'Ad Week Dates'!$A:$E,2,FALSE)","v":{"$error":"#N/A"}},{"$f":"VLOOKUP($B351,'Ad Week Dates'!$A:$E,3,FALSE)","v":{"$error":"#N/A"}},null,null,null,null,null,null,{"$error":"#N/A"}]
[null,null,{"$f":"VLOOKUP($B352,'Ad Week Dates'!$A:$E,4,FALSE)","v":{"$error":"#N/A"}},{"$f":"VLOOKUP($B352,'Ad Week Dates'!$A:$E,2,FALSE)","v":{"$error":"#N/A"}},{"$f":"VLOOKUP($B352,'Ad Week Dates'!$A:$E,3,FALSE)","v":{"$error":"#N/A"}},null,null,null,null,null,null,{"$error":"#N/A"}]
[null,null,{"$f":"VLOOKUP($B353,'Ad Week Dates'!$A:$E,4,FALSE)","v":{"$error":"#N/A"}},{"$f":"VLOOKUP($B353,'Ad Week Dates'!$A:$E,2,FALSE)","v":{"$error":"#N/A"}},{"$f":"VLOOKUP($B353,'Ad Week Dates'!$A:$E,3,FALSE)","v":{"$error":"#N/A"}},null,null,null,null,null,null,{"$error":"#N/A"}]
[null,null,{"$f":"VLOOKUP($B354,'Ad Week Dates'!$A:$E,4,FALSE)","v":{"$error":"#N/A"}},{"$f":"VLOOKUP($B354,'Ad Week Dates'!$A:$E,2,FALSE)","v":{"$error":"#N/A"}},{"$f":"VLOOKUP($B354,'Ad Week Dates'!$A:$E,3,FALSE)","v":{"$error":"#N/A"}},null,null,null,null,null,null,{"$error":"#N/A"}]
[null,null,{"$f":"VLOOKUP($B355,'Ad Week Dates'!$A:$E,4,FALSE)","v":{"$error":"#N/A"}},{"$f":"VLOOKUP($B355,'Ad Week Dates'!$A:$E,2,FALSE)","v":{"$error":"#N/A"}},{"$f":"VLOOKUP($B355,'Ad Week Dates'!$A:$E,3,FALSE)","v":{"$error":"#N/A"}},null,null,null,null,null,null,{"$error":"#N/A"}]
[null,null,{"$f":"VLOOKUP($B356,'Ad Week Dates'!$A:$E,4,FALSE)","v":{"$error":"#N/A"}},{"$f":"VLOOKUP($B356,'Ad Week Dates'!$A:$E,2,FALSE)","v":{"$error":"#N/A"}},{"$f":"VLOOKUP($B356,'Ad Week Dates'!$A:$E,3,FALSE)","v":{"$error":"#N/A"}},null,null,null,null,null,null,{"$error":"#N/A"}]
[null,null,{"$f":"VLOOKUP($B357,'Ad Week Dates'!$A:$E,4,FALSE)","v":{"$error":"#N/A"}},{"$f":"VLOOKUP($B357,'Ad Week Dates'!$A:$E,2,FALSE)","v":{"$error":"#N/A"}},{"$f":"VLOOKUP($B357,'Ad Week Dates'!$A:$E,3,FALSE)","v":{"$error":"#N/A"}},null,null,null,null,null,null,{"$error":"#N/A"}]
[null,null,{"$f":"VLOOKUP($B358,'Ad Week Dates'!$A:$E,4,FALSE)","v":{"$error":"#N/A"}},{"$f":"VLOOKUP($B358,'Ad Week Dates'!$A:$E,2,FALSE)","v":{"$error":"#N/A"}},{"$f":"VLOOKUP($B358,'Ad Week Dates'!$A:$E,3,FALSE)","v":{"$error":"#N/A"}},null,null,null,null,null,null,{"$error":"#N/A"}]
[null,null,{"$f":"VLOOKUP($B359,'Ad Week Dates'!$A:$E,4,FALSE)","v":{"$error":"#N/A"}},{"$f":"VLOOKUP($B359,'Ad Week Dates'!$A:$E,2,FALSE)","v":{"$error":"#N/A"}},{"$f":"VLOOKUP($B359,'Ad Week Dates'!$A:$E,3,FALSE)","v":{"$error":"#N/A"}},null,null,null,null,null,null,{"$error":"#N/A"}]
[null,null,{"$f":"VLOOKUP($B360,'Ad Week Dates'!$A:$E,4,FALSE)","v":{"$error":"#N/A"}},{"$f":"VLOOKUP($B360,'Ad Week Dates'!$A:$E,2,FALSE)","v":{"$error":"#N/A"}},{"$f":"VLOOKUP($B360,'Ad Week Dates'!$A:$E,3,FALSE)","v":{"$error":"#N/A"}},null,null,null,null,null,null,{"$error":"#N/A"}]
[null,null,{"$f":"VLOOKUP($B361,'Ad Week Dates'!$A:$E,4,FALSE)","v":{"$error":"#N/A"}},{"$f":"VLOOKUP($B361,'Ad Week Dates'!$A:$E,2,FALSE)","v":{"$error":"#N/A"}},{"$f":"VLOOKUP($B361,'Ad Week Dates'!$A:$E,3,FALSE)","v":{"$error":"#N/A"}},null,null,null,null,null,null,{"$error":"#N/A"}]
[null,null,{"$f":"VLOOKUP($B362,'Ad Week Dates'!$A:$E,4,FALSE)","v":{"$error":"#N/A"}},{"$f":"VLOOKUP($B362,'Ad Week Dates'!$A:$E,2,FALSE)","v":{"$error":"#N/A"}},{"$f":"VLOOKUP($B362,'Ad Week Dates'!$A:$E,3,FALSE)","v":{"$error":"#N/A"}},null,null,null,null,null,null,{"$error":"#N/A"}]
[null,null,{"$f":"VLOOKUP($B363,'Ad Week Dates'!$A:$E,4,FALSE)","v":{"$error":"#N/A"}},{"$f":"VLOOKUP($B363,'Ad Week Dates'!$A:$E,2,FALSE)","v":{"$error":"#N/A"}},{"$f":"VLOOKUP($B363,'Ad Week Dates'!$A:$E,3,FALSE)","v":{"$error":"#N/A"}},null,null,null,null,null,null,{"$error":"#N/A"}]
[null,null,{"$f":"VLOOKUP($B364,'Ad Week Dates'!$A:$E,4,FALSE)","v":{"$error":"#N/A"}},{"$f":"VLOOKUP($B364,'Ad Week Dates'!$A:$E,2,FALSE)","v":{"$error":"#N/A"}},{"$f":"VLOOKUP($B364,'Ad Week Dates'!$A:$E,3,FALSE)","v":{"$error":"#N/A"}},null,null,null,null,null,null,{"$error":"#N/A"}]
[null,null,{"$f":"VLOOKUP($B365,'Ad Week Dates'!$A:$E,4,FALSE)","v":{"$error":"#N/A"}},{"$f":"VLOOKUP($B365,'Ad Week Dates'!$A:$E,2,FALSE)","v":{"$error":"#N/A"}},{"$f":"VLOOKUP($B365,'Ad Week Dates'!$A:$E,3,FALSE)","v":{"$error":"#N/A"}},null,null,null,null,null,null,{"$error":"#N/A"}]
[null,null,{"$f":"VLOOKUP($B366,'Ad Week Dates'!$A:$E,4,FALSE)","v":{"$error":"#N/A"}},{"$f":"VLOOKUP($B366,'Ad Week Dates'!$A:$E,2,FALSE)","v":{"$error":"#N/A"}},{"$f":"VLOOKUP($B366,'Ad Week Dates'!$A:$E,3,FALSE)","v":{"$error":"#N/A"}},null,null,null,null,null,null,{"$error":"#N/A"}]
[null,null,{"$f":"VLOOKUP($B367,'Ad Week Dates'!$A:$E,4,FALSE)","v":{"$error":"#N/A"}},{"$f":"VLOOKUP($B367,'Ad Week Dates'!$A:$E,2,FALSE)","v":{"$error":"#N/A"}},{"$f":"VLOOKUP($B367,'Ad Week Dates'!$A:$E,3,FALSE)","v":{"$error":"#N/A"}},null,null,null,null,null,null,{"$error":"#N/A"}]
[null,null,{"$f":"VLOOKUP($B368,'Ad Week Dates'!$A:$E,4,FALSE)","v":{"$error":"#N/A"}},{"$f":"VLOOKUP($B368,'Ad Week Dates'!$A:$E,2,FALSE)","v":{"$error":"#N/A"}},{"$f":"VLOOKUP($B368,'Ad Week Dates'!$A:$E,3,FALSE)","v":{"$error":"#N/A"}},null,null,null,null,null,null,{"$error":"#N/A"}]
[null,null,{"$f":"VLOOKUP($B369,'Ad Week Dates'!$A:$E,4,FALSE)","v":{"$error":"#N/A"}},{"$f":"VLOOKUP($B369,'Ad Week Dates'!$A:$E,2,FALSE)","v":{"$error":"#N/A"}},{"$f":"VLOOKUP($B369,'Ad Week Dates'!$A:$E,3,FALSE)","v":{"$error":"#N/A"}},null,null,null,null,null,null,{"$error":"#N/A"}]
[null,null,{"$f":"VLOOKUP($B370,'Ad Week Dates'!$A:$E,4,FALSE)","v":{"$error":"#N/A"}},{"$f":"VLOOKUP($B370,'Ad Week Dates'!$A:$E,2,FALSE)","v":{"$error":"#N/A"}},{"$f":"VLOOKUP($B370,'Ad Week Dates'!$A:$E,3,FALSE)","v":{"$error":"#N/A"}},null,null,null,null,null,null,{"$error":"#N/A"}]
[null,null,{"$f":"VLOOKUP($B371,'Ad Week Dates'!$A:$E,4,FALSE)","v":{"$error":"#N/A"}},{"$f":"VLOOKUP($B371,'Ad Week Dates'!$A:$E,2,FALSE)","v":{"$error":"#N/A"}},{"$f":"VLOOKUP($B371,'Ad Week Dates'!$A:$E,3,FALSE)","v":{"$error":"#N/A"}},null,null,null,null,null,null,{"$error":"#N/A"}]
[null,null,{"$f":"VLOOKUP($B372,'Ad Week Dates'!$A:$E,4,FALSE)","v":{"$error":"#N/A"}},{"$f":"VLOOKUP($B372,'Ad Week Dates'!$A:$E,2,FALSE)","v":{"$error":"#N/A"}},{"$f":"VLOOKUP($B372,'Ad Week Dates'!$A:$E,3,FALSE)","v":{"$error":"#N/A"}},null,null,null,null,null,null,{"$error":"#N/A"}]
[null,null,{"$f":"VLOOKUP($B373,'Ad Week Dates'!$A:$E,4,FALSE)","v":{"$error":"#N/A"}},{"$f":"VLOOKUP($B373,'Ad Week Dates'!$A:$E,2,FALSE)","v":{"$error":"#N/A"}},{"$f":"VLOOKUP($B373,'Ad Week Dates'!$A:$E,3,FALSE)","v":{"$error":"#N/A"}},null,null,null,null,null,null,{"$error":"#N/A"}]
[null,null,{"$f":"VLOOKUP($B374,'Ad Week Dates'!$A:$E,4,FALSE)","v":{"$error":"#N/A"}},{"$f":"VLOOKUP($B374,'Ad Week Dates'!$A:$E,2,FALSE)","v":{"$error":"#N/A"}},{"$f":"VLOOKUP($B374,'Ad Week Dates'!$A:$E,3,FALSE)","v":{"$error":"#N/A"}},null,null,null,null,null,null,{"$error":"#N/A"}]
[null,null,{"$f":"VLOOKUP($B375,'Ad Week Dates'!$A:$E,4,FALSE)","v":{"$error":"#N/A"}},{"$f":"VLOOKUP($B375,'Ad Week Dates'!$A:$E,2,FALSE)","v":{"$error":"#N/A"}},{"$f":"VLOOKUP($B375,'Ad Week Dates'!$A:$E,3,FALSE)","v":{"$error":"#N/A"}},null,null,null,null,null,null,{"$error":"#N/A"}]
[null,null,{"$f":"VLOOKUP($B376,'Ad Week Dates'!$A:$E,4,FALSE)","v":{"$error":"#N/A"}},{"$f":"VLOOKUP($B376,'Ad Week Dates'!$A:$E,2,FALSE)","v":{"$error":"#N/A"}},{"$f":"VLOOKUP($B376,'Ad Week Dates'!$A:$E,3,FALSE)","v":{"$error":"#N/A"}},null,null,null,null,null,null,{"$error":"#N/A"}]
[null,null,{"$f":"VLOOKUP($B377,'Ad Week Dates'!$A:$E,4,FALSE)","v":{"$error":"#N/A"}},{"$f":"VLOOKUP($B377,'Ad Week Dates'!$A:$E,2,FALSE)","v":{"$error":"#N/A"}},{"$f":"VLOOKUP($B377,'Ad Week Dates'!$A:$E,3,FALSE)","v":{"$error":"#N/A"}},null,null,null,null,null,null,{"$error":"#N/A"}]
[null,null,{"$f":"VLOOKUP($B378,'Ad Week Dates'!$A:$E,4,FALSE)","v":{"$error":"#N/A"}},{"$f":"VLOOKUP($B378,'Ad Week Dates'!$A:$E,2,FALSE)","v":{"$error":"#N/A"}},{"$f":"VLOOKUP($B378,'Ad Week Dates'!$A:$E,3,FALSE)","v":{"$error":"#N/A"}},null,null,null,null,null,null,{"$error":"#N/A"}]
[null,null,{"$f":"VLOOKUP($B379,'Ad Week Dates'!$A:$E,4,FALSE)","v":{"$error":"#N/A"}},{"$f":"VLOOKUP($B379,'Ad Week Dates'!$A:$E,2,FALSE)","v":{"$error":"#N/A"}},{"$f":"VLOOKUP($B379,'Ad Week Dates'!$A:$E,3,FALSE)","v":{"$error":"#N/A"}},null,null,null,null,null,null,{"$error":"#N/A"}]
[null,null,{"$f":"VLOOKUP($B380,'Ad Week Dates'!$A:$E,4,FALSE)","v":{"$error":"#N/A"}},{"$f":"VLOOKUP($B380,'Ad Week Dates'!$A:$E,2,FALSE)","v":{"$error":"#N/A"}},{"$f":"VLOOKUP($B380,'Ad Week Dates'!$A:$E,3,FALSE)","v":{"$error":"#N/A"}},null,null,null,null,null,null,{"$error":"#N/A"}]
[null,null,{"$f":"VLOOKUP($B381,'Ad Week Dates'!$A:$E,4,FALSE)","v":{"$error":"#N/A"}},{"$f":"VLOOKUP($B381,'Ad Week Dates'!$A:$E,2,FALSE)","v":{"$error":"#N/A"}},{"$f":"VLOOKUP($B381,'Ad Week Dates'!$A:$E,3,FALSE)","v":{"$error":"#N/A"}},null,null,null,null,null,null,{"$error":"#N/A"}]
[null,null,{"$f":"VLOOKUP($B382,'Ad Week Dates'!$A:$E,4,FALSE)","v":{"$error":"#N/A"}},{"$f":"VLOOKUP($B382,'Ad Week Dates'!$A:$E,2,FALSE)","v":{"$error":"#N/A"}},{"$f":"VLOOKUP($B382,'Ad Week Dates'!$A:$E,3,FALSE)","v":{"$error":"#N/A"}},null,null,null,null,null,null,{"$error":"#N/A"}]
[null,null,{"$f":"VLOOKUP($B383,'Ad Week Dates'!$A:$E,4,FALSE)","v":{"$error":"#N/A"}},{"$f":"VLOOKUP($B383,'Ad Week Dates'!$A:$E,2,FALSE)","v":{"$error":"#N/A"}},{"$f":"VLOOKUP($B383,'Ad Week Dates'!$A:$E,3,FALSE)","v":{"$error":"#N/A"}},null,null,null,null,null,null,{"$error":"#N/A"}]
[null,null,{"$f":"VLOOKUP($B384,'Ad Week Dates'!$A:$E,4,FALSE)","v":{"$error":"#N/A"}},{"$f":"VLOOKUP($B384,'Ad Week Dates'!$A:$E,2,FALSE)","v":{"$error":"#N/A"}},{"$f":"VLOOKUP($B384,'Ad Week Dates'!$A:$E,3,FALSE)","v":{"$error":"#N/A"}},null,null,null,null,null,null,{"$error":"#N/A"}]
[null,null,{"$f":"VLOOKUP($B385,'Ad Week Dates'!$A:$E,4,FALSE)","v":{"$error":"#N/A"}},{"$f":"VLOOKUP($B385,'Ad Week Dates'!$A:$E,2,FALSE)","v":{"$error":"#N/A"}},{"$f":"VLOOKUP($B385,'Ad Week Dates'!$A:$E,3,FALSE)","v":{"$error":"#N/A"}},null,null,null,null,null,null,{"$error":"#N/A"}]
[null,null,{"$f":"VLOOKUP($B386,'Ad Week Dates'!$A:$E,4,FALSE)","v":{"$error":"#N/A"}},{"$f":"VLOOKUP($B386,'Ad Week Dates'!$A:$E,2,FALSE)","v":{"$error":"#N/A"}},{"$f":"VLOOKUP($B386,'Ad Week Dates'!$A:$E,3,FALSE)","v":{"$error":"#N/A"}},null,null,null,null,null,null,{"$error":"#N/A"}]
[null,null,{"$f":"VLOOKUP($B387,'Ad Week Dates'!$A:$E,4,FALSE)","v":{"$error":"#N/A"}},{"$f":"VLOOKUP($B387,'Ad Week Dates'!$A:$E,2,FALSE)","v":{"$error":"#N/A"}},{"$f":"VLOOKUP($B387,'Ad Week Dates'!$A:$E,3,FALSE)","v":{"$error":"#N/A"}},null,null,null,null,null,null,{"$error":"#N/A"}]
[null,null,{"$f":"VLOOKUP($B388,'Ad Week Dates'!$A:$E,4,FALSE)","v":{"$error":"#N/A"}},{"$f":"VLOOKUP($B388,'Ad Week Dates'!$A:$E,2,FALSE)","v":{"$error":"#N/A"}},{"$f":"VLOOKUP($B388,'Ad Week Dates'!$A:$E,3,FALSE)","v":{"$error":"#N/A"}},null,null,null,null,null,null,{"$error":"#N/A"}]
[null,null,{"$f":"VLOOKUP($B389,'Ad Week Dates'!$A:$E,4,FALSE)","v":{"$error":"#N/A"}},{"$f":"VLOOKUP($B389,'Ad Week Dates'!$A:$E,2,FALSE)","v":{"$error":"#N/A"}},{"$f":"VLOOKUP($B389,'Ad Week Dates'!$A:$E,3,FALSE)","v":{"$error":"#N/A"}},null,null,null,null,null,null,{"$error":"#N/A"}]
[null,null,{"$f":"VLOOKUP($B390,'Ad Week Dates'!$A:$E,4,FALSE)","v":{"$error":"#N/A"}},{"$f":"VLOOKUP($B390,'Ad Week Dates'!$A:$E,2,FALSE)","v":{"$error":"#N/A"}},{"$f":"VLOOKUP($B390,'Ad Week Dates'!$A:$E,3,FALSE)","v":{"$error":"#N/A"}},null,null,null,null,null,null,{"$f":"IF(ISNUMBER(J390), J390 - K390, VALUE(_xlfn.TEXTBEFORE(J390, \"-\")) - VALUE(_xlfn.TEXTBEFORE(K390, \"-\")))","v":{"$error":"#N/A"}}]
[null,null,{"$f":"VLOOKUP($B391,'Ad Week Dates'!$A:$E,4,FALSE)","v":{"$error":"#N/A"}},{"$f":"VLOOKUP($B391,'Ad Week Dates'!$A:$E,2,FALSE)","v":{"$error":"#N/A"}},{"$f":"VLOOKUP($B391,'Ad Week Dates'!$A:$E,3,FALSE)","v":{"$error":"#N/A"}},null,null,null,null,null,null,{"$error":"#N/A"}]
[null,null,{"$f":"VLOOKUP($B392,'Ad Week Dates'!$A:$E,4,FALSE)","v":{"$error":"#N/A"}},{"$f":"VLOOKUP($B392,'Ad Week Dates'!$A:$E,2,FALSE)","v":{"$error":"#N/A"}},{"$f":"VLOOKUP($B392,'Ad Week Dates'!$A:$E,3,FALSE)","v":{"$error":"#N/A"}},null,null,null,null,null,null,{"$error":"#N/A"}]
[null,null,{"$f":"VLOOKUP($B393,'Ad Week Dates'!$A:$E,4,FALSE)","v":{"$error":"#N/A"}},{"$f":"VLOOKUP($B393,'Ad Week Dates'!$A:$E,2,FALSE)","v":{"$error":"#N/A"}},{"$f":"VLOOKUP($B393,'Ad Week Dates'!$A:$E,3,FALSE)","v":{"$error":"#N/A"}},null,null,null,null,null,null,{"$error":"#N/A"}]
[null,null,{"$f":"VLOOKUP($B394,'Ad Week Dates'!$A:$E,4,FALSE)","v":{"$error":"#N/A"}},{"$f":"VLOOKUP($B394,'Ad Week Dates'!$A:$E,2,FALSE)","v":{"$error":"#N/A"}},{"$f":"VLOOKUP($B394,'Ad Week Dates'!$A:$E,3,FALSE)","v":{"$error":"#N/A"}},null,null,null,null,null,null,{"$error":"#N/A"}]
[null,null,{"$f":"VLOOKUP($B395,'Ad Week Dates'!$A:$E,4,FALSE)","v":{"$error":"#N/A"}},{"$f":"VLOOKUP($B395,'Ad Week Dates'!$A:$E,2,FALSE)","v":{"$error":"#N/A"}},{"$f":"VLOOKUP($B395,'Ad Week Dates'!$A:$E,3,FALSE)","v":{"$error":"#N/A"}},null,null,null,null,null,null,{"$error":"#N/A"}]
[null,null,{"$f":"VLOOKUP($B396,'Ad Week Dates'!$A:$E,4,FALSE)","v":{"$error":"#N/A"}},{"$f":"VLOOKUP($B396,'Ad Week Dates'!$A:$E,2,FALSE)","v":{"$error":"#N/A"}},{"$f":"VLOOKUP($B396,'Ad Week Dates'!$A:$E,3,FALSE)","v":{"$error":"#N/A"}},null,null,null,null,null,null,{"$error":"#N/A"}]
[null,null,{"$f":"VLOOKUP($B397,'Ad Week Dates'!$A:$E,4,FALSE)","v":{"$error":"#N/A"}},{"$f":"VLOOKUP($B397,'Ad Week Dates'!$A:$E,2,FALSE)","v":{"$error":"#N/A"}},{"$f":"VLOOKUP($B397,'Ad Week Dates'!$A:$E,3,FALSE)","v":{"$error":"#N/A"}},null,null,null,null,null,null,{"$error":"#N/A"}]
[null,null,{"$f":"VLOOKUP($B398,'Ad Week Dates'!$A:$E,4,FALSE)","v":{"$error":"#N/A"}},{"$f":"VLOOKUP($B398,'Ad Week Dates'!$A:$E,2,FALSE)","v":{"$error":"#N/A"}},{"$f":"VLOOKUP($B398,'Ad Week Dates'!$A:$E,3,FALSE)","v":{"$error":"#N/A"}},null,null,null,null,null,null,{"$error":"#N/A"}]
[null,null,{"$f":"VLOOKUP($B399,'Ad Week Dates'!$A:$E,4,FALSE)","v":{"$error":"#N/A"}},{"$f":"VLOOKUP($B399,'Ad Week Dates'!$A:$E,2,FALSE)","v":{"$error":"#N/A"}},{"$f":"VLOOKUP($B399,'Ad Week Dates'!$A:$E,3,FALSE)","v":{"$error":"#N/A"}},null,null,null,null,null,null,{"$error":"#N/A"}]
[null,null,{"$f":"VLOOKUP($B400,'Ad Week Dates'!$A:$E,4,FALSE)","v":{"$error":"#N/A"}},{"$f":"VLOOKUP($B400,'Ad Week Dates'!$A:$E,2,FALSE)","v":{"$error":"#N/A"}},{"$f":"VLOOKUP($B400,'Ad Week Dates'!$A:$E,3,FALSE)","v":{"$error":"#N/A"}},null,null,null,null,null,null,{"$error":"#N/A"}]
[null,null,{"$f":"VLOOKUP($B401,'Ad Week Dates'!$A:$E,4,FALSE)","v":{"$error":"#N/A"}},{"$f":"VLOOKUP($B401,'Ad Week Dates'!$A:$E,2,FALSE)","v":{"$error":"#N/A"}},{"$f":"VLOOKUP($B401,'Ad Week Dates'!$A:$E,3,FALSE)","v":{"$error":"#N/A"}},null,null,null,null,null,null,{"$error":"#N/A"}]
[null,null,{"$f":"VLOOKUP($B402,'Ad Week Dates'!$A:$E,4,FALSE)","v":{"$error":"#N/A"}},{"$f":"VLOOKUP($B402,'Ad Week Dates'!$A:$E,2,FALSE)","v":{"$error":"#N/A"}},{"$f":"VLOOKUP($B402,'Ad Week Dates'!$A:$E,3,FALSE)","v":{"$error":"#N/A"}},null,null,null,null,null,null,{"$error":"#N/A"}]
[null,null,{"$f":"VLOOKUP($B403,'Ad Week Dates'!$A:$E,4,FALSE)","v":{"$error":"#N/A"}},{"$f":"VLOOKUP($B403,'Ad Week Dates'!$A:$E,2,FALSE)","v":{"$error":"#N/A"}},{"$f":"VLOOKUP($B403,'Ad Week Dates'!$A:$E,3,FALSE)","v":{"$error":"#N/A"}},null,null,null,null,null,null,{"$error":"#N/A"}]
[null,null,{"$f":"VLOOKUP($B404,'Ad Week Dates'!$A:$E,4,FALSE)","v":{"$error":"#N/A"}},{"$f":"VLOOKUP($B404,'Ad Week Dates'!$A:$E,2,FALSE)","v":{"$error":"#N/A"}},{"$f":"VLOOKUP($B404,'Ad Week Dates'!$A:$E,3,FALSE)","v":{"$error":"#N/A"}},null,null,null,null,null,null,{"$error":"#N/A"}]
[null,null,{"$f":"VLOOKUP($B405,'Ad Week Dates'!$A:$E,4,FALSE)","v":{"$error":"#N/A"}},{"$f":"VLOOKUP($B405,'Ad Week Dates'!$A:$E,2,FALSE)","v":{"$error":"#N/A"}},{"$f":"VLOOKUP($B405,'Ad Week Dates'!$A:$E,3,FALSE)","v":{"$error":"#N/A"}},null,null,null,null,null,null,{"$error":"#N/A"}]
[null,null,{"$f":"VLOOKUP($B406,'Ad Week Dates'!$A:$E,4,FALSE)","v":{"$error":"#N/A"}},{"$f":"VLOOKUP($B406,'Ad Week Dates'!$A:$E,2,FALSE)","v":{"$error":"#N/A"}},{"$f":"VLOOKUP($B406,'Ad Week Dates'!$A:$E,3,FALSE)","v":{"$error":"#N/A"}},null,null,null,null,null,null,{"$error":"#N/A"}]
[null,null,{"$f":"VLOOKUP($B407,'Ad Week Dates'!$A:$E,4,FALSE)","v":{"$error":"#N/A"}},{"$f":"VLOOKUP($B407,'Ad Week Dates'!$A:$E,2,FALSE)","v":{"$error":"#N/A"}},{"$f":"VLOOKUP($B407,'Ad Week Dates'!$A:$E,3,FALSE)","v":{"$error":"#N/A"}},null,null,null,null,null,null,{"$error":"#N/A"}]
[null,null,{"$f":"VLOOKUP($B408,'Ad Week Dates'!$A:$E,4,FALSE)","v":{"$error":"#N/A"}},{"$f":"VLOOKUP($B408,'Ad Week Dates'!$A:$E,2,FALSE)","v":{"$error":"#N/A"}},{"$f":"VLOOKUP($B408,'Ad Week Dates'!$A:$E,3,FALSE)","v":{"$error":"#N/A"}},null,null,null,null,null,null,{"$error":"#N/A"}]
[null,null,{"$f":"VLOOKUP($B409,'Ad Week Dates'!$A:$E,4,FALSE)","v":{"$error":"#N/A"}},{"$f":"VLOOKUP($B409,'Ad Week Dates'!$A:$E,2,FALSE)","v":{"$error":"#N/A"}},{"$f":"VLOOKUP($B409,'Ad Week Dates'!$A:$E,3,FALSE)","v":{"$error":"#N/A"}},null,null,null,null,null,null,{"$error":"#N/A"}]
[null,null,{"$f":"VLOOKUP($B410,'Ad Week Dates'!$A:$E,4,FALSE)","v":{"$error":"#N/A"}},{"$f":"VLOOKUP($B410,'Ad Week Dates'!$A:$E,2,FALSE)","v":{"$error":"#N/A"}},{"$f":"VLOOKUP($B410,'Ad Week Dates'!$A:$E,3,FALSE)","v":{"$error":"#N/A"}},null,null,null,null,null,null,{"$error":"#N/A"}]
[null,null,{"$f":"VLOOKUP($B411,'Ad Week Dates'!$A:$E,4,FALSE)","v":{"$error":"#N/A"}},{"$f":"VLOOKUP($B411,'Ad Week Dates'!$A:$E,2,FALSE)","v":{"$error":"#N/A"}},{"$f":"VLOOKUP($B411,'Ad Week Dates'!$A:$E,3,FALSE)","v":{"$error":"#N/A"}},null,null,null,null,null,null,{"$error":"#N/A"}]
[null,null,{"$f":"VLOOKUP($B412,'Ad Week Dates'!$A:$E,4,FALSE)","v":{"$error":"#N/A"}},{"$f":"VLOOKUP($B412,'Ad Week Dates'!$A:$E,2,FALSE)","v":{"$error":"#N/A"}},{"$f":"VLOOKUP($B412,'Ad Week Dates'!$A:$E,3,FALSE)","v":{"$error":"#N/A"}},null,null,null,null,null,null,{"$error":"#N/A"}]
[null,null,{"$f":"VLOOKUP($B413,'Ad Week Dates'!$A:$E,4,FALSE)","v":{"$error":"#N/A"}},{"$f":"VLOOKUP($B413,'Ad Week Dates'!$A:$E,2,FALSE)","v":{"$error":"#N/A"}},{"$f":"VLOOKUP($B413,'Ad Week Dates'!$A:$E,3,FALSE)","v":{"$error":"#N/A"}},null,null,null,null,null,null,{"$error":"#N/A"}]
[null,null,{"$f":"VLOOKUP($B414,'Ad Week Dates'!$A:$E,4,FALSE)","v":{"$error":"#N/A"}},{"$f":"VLOOKUP($B414,'Ad Week Dates'!$A:$E,2,FALSE)","v":{"$error":"#N/A"}},{"$f":"VLOOKUP($B414,'Ad Week Dates'!$A:$E,3,FALSE)","v":{"$error":"#N/A"}},null,null,null,null,null,null,{"$error":"#N/A"}]
[null,null,{"$f":"VLOOKUP($B415,'Ad Week Dates'!$A:$E,4,FALSE)","v":{"$error":"#N/A"}},{"$f":"VLOOKUP($B415,'Ad Week Dates'!$A:$E,2,FALSE)","v":{"$error":"#N/A"}},{"$f":"VLOOKUP($B415,'Ad Week Dates'!$A:$E,3,FALSE)","v":{"$error":"#N/A"}},null,null,null,null,null,null,{"$error":"#N/A"}]
[null,null,{"$f":"VLOOKUP($B416,'Ad Week Dates'!$A:$E,4,FALSE)","v":{"$error":"#N/A"}},{"$f":"VLOOKUP($B416,'Ad Week Dates'!$A:$E,2,FALSE)","v":{"$error":"#N/A"}},{"$f":"VLOOKUP($B416,'Ad Week Dates'!$A:$E,3,FALSE)","v":{"$error":"#N/A"}},null,null,null,null,null,null,{"$error":"#N/A"}]
[null,null,{"$f":"VLOOKUP($B417,'Ad Week Dates'!$A:$E,4,FALSE)","v":{"$error":"#N/A"}},{"$f":"VLOOKUP($B417,'Ad Week Dates'!$A:$E,2,FALSE)","v":{"$error":"#N/A"}},{"$f":"VLOOKUP($B417,'Ad Week Dates'!$A:$E,3,FALSE)","v":{"$error":"#N/A"}},null,null,null,null,null,null,{"$error":"#N/A"}]
[null,null,{"$f":"VLOOKUP($B418,'Ad Week Dates'!$A:$E,4,FALSE)","v":{"$error":"#N/A"}},{"$f":"VLOOKUP($B418,'Ad Week Dates'!$A:$E,2,FALSE)","v":{"$error":"#N/A"}},{"$f":"VLOOKUP($B418,'Ad Week Dates'!$A:$E,3,FALSE)","v":{"$error":"#N/A"}},null,null,null,null,null,null,{"$error":"#N/A"}]
[null,null,{"$f":"VLOOKUP($B419,'Ad Week Dates'!$A:$E,4,FALSE)","v":{"$error":"#N/A"}},{"$f":"VLOOKUP($B419,'Ad Week Dates'!$A:$E,2,FALSE)","v":{"$error":"#N/A"}},{"$f":"VLOOKUP($B419,'Ad Week Dates'!$A:$E,3,FALSE)","v":{"$error":"#N/A"}},null,null,null,null,null,null,{"$error":"#N/A"}]
[null,null,{"$f":"VLOOKUP($B420,'Ad Week Dates'!$A:$E,4,FALSE)","v":{"$error":"#N/A"}},{"$f":"VLOOKUP($B420,'Ad Week Dates'!$A:$E,2,FALSE)","v":{"$error":"#N/A"}},{"$f":"VLOOKUP($B420,'Ad Week Dates'!$A:$E,3,FALSE)","v":{"$error":"#N/A"}},null,null,null,null,null,null,{"$error":"#N/A"}]
[null,null,{"$f":"VLOOKUP($B421,'Ad Week Dates'!$A:$E,4,FALSE)","v":{"$error":"#N/A"}},{"$f":"VLOOKUP($B421,'Ad Week Dates'!$A:$E,2,FALSE)","v":{"$error":"#N/A"}},{"$f":"VLOOKUP($B421,'Ad Week Dates'!$A:$E,3,FALSE)","v":{"$error":"#N/A"}},null,null,null,null,null,null,{"$error":"#N/A"}]
[null,null,{"$f":"VLOOKUP($B422,'Ad Week Dates'!$A:$E,4,FALSE)","v":{"$error":"#N/A"}},{"$f":"VLOOKUP($B422,'Ad Week Dates'!$A:$E,2,FALSE)","v":{"$error":"#N/A"}},{"$f":"VLOOKUP($B422,'Ad Week Dates'!$A:$E,3,FALSE)","v":{"$error":"#N/A"}},null,null,null,null,null,null,{"$error":"#N/A"}]
[null,null,{"$f":"VLOOKUP($B423,'Ad Week Dates'!$A:$E,4,FALSE)","v":{"$error":"#N/A"}},{"$f":"VLOOKUP($B423,'Ad Week Dates'!$A:$E,2,FALSE)","v":{"$error":"#N/A"}},{"$f":"VLOOKUP($B423,'Ad Week Dates'!$A:$E,3,FALSE)","v":{"$error":"#N/A"}},null,null,null,null,null,null,{"$error":"#N/A"}]
[null,null,{"$f":"VLOOKUP($B424,'Ad Week Dates'!$A:$E,4,FALSE)","v":{"$error":"#N/A"}},{"$f":"VLOOKUP($B424,'Ad Week Dates'!$A:$E,2,FALSE)","v":{"$error":"#N/A"}},{"$f":"VLOOKUP($B424,'Ad Week Dates'!$A:$E,3,FALSE)","v":{"$error":"#N/A"}},null,null,null,null,null,null,{"$error":"#N/A"}]
[null,null,{"$f":"VLOOKUP($B425,'Ad Week Dates'!$A:$E,4,FALSE)","v":{"$error":"#N/A"}},{"$f":"VLOOKUP($B425,'Ad Week Dates'!$A:$E,2,FALSE)","v":{"$error":"#N/A"}},{"$f":"VLOOKUP($B425,'Ad Week Dates'!$A:$E,3,FALSE)","v":{"$error":"#N/A"}},null,null,null,null,null,null,{"$error":"#N/A"}]
[null,null,{"$f":"VLOOKUP($B426,'Ad Week Dates'!$A:$E,4,FALSE)","v":{"$error":"#N/A"}},{"$f":"VLOOKUP($B426,'Ad Week Dates'!$A:$E,2,FALSE)","v":{"$error":"#N/A"}},{"$f":"VLOOKUP($B426,'Ad Week Dates'!$A:$E,3,FALSE)","v":{"$error":"#N/A"}},null,null,null,null,null,null,{"$error":"#N/A"}]
[null,null,{"$f":"VLOOKUP($B427,'Ad Week Dates'!$A:$E,4,FALSE)","v":{"$error":"#N/A"}},{"$f":"VLOOKUP($B427,'Ad Week Dates'!$A:$E,2,FALSE)","v":{"$error":"#N/A"}},{"$f":"VLOOKUP($B427,'Ad Week Dates'!$A:$E,3,FALSE)","v":{"$error":"#N/A"}},null,null,null,null,null,null,{"$error":"#N/A"}]
[null,null,{"$f":"VLOOKUP($B428,'Ad Week Dates'!$A:$E,4,FALSE)","v":{"$error":"#N/A"}},{"$f":"VLOOKUP($B428,'Ad Week Dates'!$A:$E,2,FALSE)","v":{"$error":"#N/A"}},{"$f":"VLOOKUP($B428,'Ad Week Dates'!$A:$E,3,FALSE)","v":{"$error":"#N/A"}},null,null,null,null,null,null,{"$error":"#N/A"}]
[null,null,{"$f":"VLOOKUP($B429,'Ad Week Dates'!$A:$E,4,FALSE)","v":{"$error":"#N/A"}},{"$f":"VLOOKUP($B429,'Ad Week Dates'!$A:$E,2,FALSE)","v":{"$error":"#N/A"}},{"$f":"VLOOKUP($B429,'Ad Week Dates'!$A:$E,3,FALSE)","v":{"$error":"#N/A"}},null,null,null,null,null,null,{"$error":"#N/A"}]
[null,null,{"$f":"VLOOKUP($B430,'Ad Week Dates'!$A:$E,4,FALSE)","v":{"$error":"#N/A"}},{"$f":"VLOOKUP($B430,'Ad Week Dates'!$A:$E,2,FALSE)","v":{"$error":"#N/A"}},{"$f":"VLOOKUP($B430,'Ad Week Dates'!$A:$E,3,FALSE)","v":{"$error":"#N/A"}},null,null,null,null,null,null,{"$error":"#N/A"}]
[null,null,{"$f":"VLOOKUP($B431,'Ad Week Dates'!$A:$E,4,FALSE)","v":{"$error":"#N/A"}},{"$f":"VLOOKUP($B431,'Ad Week Dates'!$A:$E,2,FALSE)","v":{"$error":"#N/A"}},{"$f":"VLOOKUP($B431,'Ad Week Dates'!$A:$E,3,FALSE)","v":{"$error":"#N/A"}},null,null,null,null,null,null,{"$error":"#N/A"}]
[null,null,{"$f":"VLOOKUP($B432,'Ad Week Dates'!$A:$E,4,FALSE)","v":{"$error":"#N/A"}},{"$f":"VLOOKUP($B432,'Ad Week Dates'!$A:$E,2,FALSE)","v":{"$error":"#N/A"}},{"$f":"VLOOKUP($B432,'Ad Week Dates'!$A:$E,3,FALSE)","v":{"$error":"#N/A"}},null,null,null,null,null,null,{"$error":"#N/A"}]
[null,null,{"$f":"VLOOKUP($B433,'Ad Week Dates'!$A:$E,4,FALSE)","v":{"$error":"#N/A"}},{"$f":"VLOOKUP($B433,'Ad Week Dates'!$A:$E,2,FALSE)","v":{"$error":"#N/A"}},{"$f":"VLOOKUP($B433,'Ad Week Dates'!$A:$E,3,FALSE)","v":{"$error":"#N/A"}},null,null,null,null,null,null,{"$error":"#N/A"}]
[null,null,{"$f":"VLOOKUP($B434,'Ad Week Dates'!$A:$E,4,FALSE)","v":{"$error":"#N/A"}},{"$f":"VLOOKUP($B434,'Ad Week Dates'!$A:$E,2,FALSE)","v":{"$error":"#N/A"}},{"$f":"VLOOKUP($B434,'Ad Week Dates'!$A:$E,3,FALSE)","v":{"$error":"#N/A"}},null,null,null,null,null,null,{"$error":"#N/A"}]
[null,null,{"$f":"VLOOKUP($B435,'Ad Week Dates'!$A:$E,4,FALSE)","v":{"$error":"#N/A"}},{"$f":"VLOOKUP($B435,'Ad Week Dates'!$A:$E,2,FALSE)","v":{"$error":"#N/A"}},{"$f":"VLOOKUP($B435,'Ad Week Dates'!$A:$E,3,FALSE)","v":{"$error":"#N/A"}},null,null,null,null,null,null,{"$error":"#N/A"}]
[null,null,{"$f":"VLOOKUP($B436,'Ad Week Dates'!$A:$E,4,FALSE)","v":{"$error":"#N/A"}},{"$f":"VLOOKUP($B436,'Ad Week Dates'!$A:$E,2,FALSE)","v":{"$error":"#N/A"}},{"$f":"VLOOKUP($B436,'Ad Week Dates'!$A:$E,3,FALSE)","v":{"$error":"#N/A"}},null,null,null,null,null,null,{"$error":"#N/A"}]
[null,null,{"$f":"VLOOKUP($B437,'Ad Week Dates'!$A:$E,4,FALSE)","v":{"$error":"#N/A"}},{"$f":"VLOOKUP($B437,'Ad Week Dates'!$A:$E,2,FALSE)","v":{"$error":"#N/A"}},{"$f":"VLOOKUP($B437,'Ad Week Dates'!$A:$E,3,FALSE)","v":{"$error":"#N/A"}},null,null,null,null,null,null,{"$error":"#N/A"}]
[null,null,{"$f":"VLOOKUP($B438,'Ad Week Dates'!$A:$E,4,FALSE)","v":{"$error":"#N/A"}},{"$f":"VLOOKUP($B438,'Ad Week Dates'!$A:$E,2,FALSE)","v":{"$error":"#N/A"}},{"$f":"VLOOKUP($B438,'Ad Week Dates'!$A:$E,3,FALSE)","v":{"$error":"#N/A"}},null,null,null,null,null,null,{"$error":"#N/A"}]
[null,null,{"$f":"VLOOKUP($B439,'Ad Week Dates'!$A:$E,4,FALSE)","v":{"$error":"#N/A"}},{"$f":"VLOOKUP($B439,'Ad Week Dates'!$A:$E,2,FALSE)","v":{"$error":"#N/A"}},{"$f":"VLOOKUP($B439,'Ad Week Dates'!$A:$E,3,FALSE)","v":{"$error":"#N/A"}},null,null,null,null,null,null,{"$error":"#N/A"}]
[null,null,{"$f":"VLOOKUP($B440,'Ad Week Dates'!$A:$E,4,FALSE)","v":{"$error":"#N/A"}},{"$f":"VLOOKUP($B440,'Ad Week Dates'!$A:$E,2,FALSE)","v":{"$error":"#N/A"}},{"$f":"VLOOKUP($B440,'Ad Week Dates'!$A:$E,3,FALSE)","v":{"$error":"#N/A"}},null,null,null,null,null,null,{"$error":"#N/A"}]
[null,null,{"$f":"VLOOKUP($B441,'Ad Week Dates'!$A:$E,4,FALSE)","v":{"$error":"#N/A"}},{"$f":"VLOOKUP($B441,'Ad Week Dates'!$A:$E,2,FALSE)","v":{"$error":"#N/A"}},{"$f":"VLOOKUP($B441,'Ad Week Dates'!$A:$E,3,FALSE)","v":{"$error":"#N/A"}},null,null,null,null,null,null,{"$error":"#N/A"}]
[null,null,{"$f":"VLOOKUP($B442,'Ad Week Dates'!$A:$E,4,FALSE)","v":{"$error":"#N/A"}},{"$f":"VLOOKUP($B442,'Ad Week Dates'!$A:$E,2,FALSE)","v":{"$error":"#N/A"}},{"$f":"VLOOKUP($B442,'Ad Week Dates'!$A:$E,3,FALSE)","v":{"$error":"#N/A"}},null,null,null,null,null,null,{"$error":"#N/A"}]
[null,null,{"$f":"VLOOKUP($B443,'Ad Week Dates'!$A:$E,4,FALSE)","v":{"$error":"#N/A"}},{"$f":"VLOOKUP($B443,'Ad Week Dates'!$A:$E,2,FALSE)","v":{"$error":"#N/A"}},{"$f":"VLOOKUP($B443,'Ad Week Dates'!$A:$E,3,FALSE)","v":{"$error":"#N/A"}},null,null,null,null,null,null,{"$error":"#N/A"}]
[null,null,{"$f":"VLOOKUP($B444,'Ad Week Dates'!$A:$E,4,FALSE)","v":{"$error":"#N/A"}},{"$f":"VLOOKUP($B444,'Ad Week Dates'!$A:$E,2,FALSE)","v":{"$error":"#N/A"}},{"$f":"VLOOKUP($B444,'Ad Week Dates'!$A:$E,3,FALSE)","v":{"$error":"#N/A"}},null,null,null,null,null,null,{"$error":"#N/A"}]
[null,null,{"$f":"VLOOKUP($B445,'Ad Week Dates'!$A:$E,4,FALSE)","v":{"$error":"#N/A"}},{"$f":"VLOOKUP($B445,'Ad Week Dates'!$A:$E,2,FALSE)","v":{"$error":"#N/A"}},{"$f":"VLOOKUP($B445,'Ad Week Dates'!$A:$E,3,FALSE)","v":{"$error":"#N/A"}},null,null,null,null,null,null,{"$error":"#N/A"}]
[null,null,{"$f":"VLOOKUP($B446,'Ad Week Dates'!$A:$E,4,FALSE)","v":{"$error":"#N/A"}},{"$f":"VLOOKUP($B446,'Ad Week Dates'!$A:$E,2,FALSE)","v":{"$error":"#N/A"}},{"$f":"VLOOKUP($B446,'Ad Week Dates'!$A:$E,3,FALSE)","v":{"$error":"#N/A"}},null,null,null,null,null,null,{"$error":"#N/A"}]
[null,null,{"$f":"VLOOKUP($B447,'Ad Week Dates'!$A:$E,4,FALSE)","v":{"$error":"#N/A"}},{"$f":"VLOOKUP($B447,'Ad Week Dates'!$A:$E,2,FALSE)","v":{"$error":"#N/A"}},{"$f":"VLOOKUP($B447,'Ad Week Dates'!$A:$E,3,FALSE)","v":{"$error":"#N/A"}},null,null,null,null,null,null,{"$error":"#N/A"}]
[null,null,{"$f":"VLOOKUP($B448,'Ad Week Dates'!$A:$E,4,FALSE)","v":{"$error":"#N/A"}},{"$f":"VLOOKUP($B448,'Ad Week Dates'!$A:$E,2,FALSE)","v":{"$error":"#N/A"}},{"$f":"VLOOKUP($B448,'Ad Week Dates'!$A:$E,3,FALSE)","v":{"$error":"#N/A"}},null,null,null,null,null,null,{"$error":"#N/A"}]
[null,null,{"$f":"VLOOKUP($B449,'Ad Week Dates'!$A:$E,4,FALSE)","v":{"$error":"#N/A"}},{"$f":"VLOOKUP($B449,'Ad Week Dates'!$A:$E,2,FALSE)","v":{"$error":"#N/A"}},{"$f":"VLOOKUP($B449,'Ad Week Dates'!$A:$E,3,FALSE)","v":{"$error":"#N/A"}},null,null,null,null,null,null,{"$error":"#N/A"}]
[null,null,{"$f":"VLOOKUP($B450,'Ad Week Dates'!$A:$E,4,FALSE)","v":{"$error":"#N/A"}},{"$f":"VLOOKUP($B450,'Ad Week Dates'!$A:$E,2,FALSE)","v":{"$error":"#N/A"}},{"$f":"VLOOKUP($B450,'Ad Week Dates'!$A:$E,3,FALSE)","v":{"$error":"#N/A"}},null,null,null,null,null,null,{"$error":"#N/A"}]
[null,null,{"$f":"VLOOKUP($B451,'Ad Week Dates'!$A:$E,4,FALSE)","v":{"$error":"#N/A"}},{"$f":"VLOOKUP($B451,'Ad Week Dates'!$A:$E,2,FALSE)","v":{"$error":"#N/A"}},{"$f":"VLOOKUP($B451,'Ad Week Dates'!$A:$E,3,FALSE)","v":{"$error":"#N/A"}},null,null,null,null,null,null,{"$error":"#N/A"}]
[null,null,{"$f":"VLOOKUP($B452,'Ad Week Dates'!$A:$E,4,FALSE)","v":{"$error":"#N/A"}},{"$f":"VLOOKUP($B452,'Ad Week Dates'!$A:$E,2,FALSE)","v":{"$error":"#N/A"}},{"$f":"VLOOKUP($B452,'Ad Week Dates'!$A:$E,3,FALSE)","v":{"$error":"#N/A"}},null,null,null,null,null,null,{"$error":"#N/A"}]
[null,null,{"$f":"VLOOKUP($B453,'Ad Week Dates'!$A:$E,4,FALSE)","v":{"$error":"#N/A"}},{"$f":"VLOOKUP($B453,'Ad Week Dates'!$A:$E,2,FALSE)","v":{"$error":"#N/A"}},{"$f":"VLOOKUP($B453,'Ad Week Dates'!$A:$E,3,FALSE)","v":{"$error":"#N/A"}},null,null,null,null,null,null,{"$error":"#N/A"}]
[null,null,{"$f":"VLOOKUP($B454,'Ad Week Dates'!$A:$E,4,FALSE)","v":{"$error":"#N/A"}},{"$f":"VLOOKUP($B454,'Ad Week Dates'!$A:$E,2,FALSE)","v":{"$error":"#N/A"}},{"$f":"VLOOKUP($B454,'Ad Week Dates'!$A:$E,3,FALSE)","v":{"$error":"#N/A"}},null,null,null,null,null,null,{"$f":"IF(ISNUMBER(J454), J454 - K454, VALUE(_xlfn.TEXTBEFORE(J454, \"-\")) - VALUE(_xlfn.TEXTBEFORE(K454, \"-\")))","v":{"$error":"#N/A"}}]
[null,null,{"$f":"VLOOKUP($B455,'Ad Week Dates'!$A:$E,4,FALSE)","v":{"$error":"#N/A"}},{"$f":"VLOOKUP($B455,'Ad Week Dates'!$A:$E,2,FALSE)","v":{"$error":"#N/A"}},{"$f":"VLOOKUP($B455,'Ad Week Dates'!$A:$E,3,FALSE)","v":{"$error":"#N/A"}},null,null,null,null,null,null,{"$error":"#N/A"}]
[null,null,{"$f":"VLOOKUP($B456,'Ad Week Dates'!$A:$E,4,FALSE)","v":{"$error":"#N/A"}},{"$f":"VLOOKUP($B456,'Ad Week Dates'!$A:$E,2,FALSE)","v":{"$error":"#N/A"}},{"$f":"VLOOKUP($B456,'Ad Week Dates'!$A:$E,3,FALSE)","v":{"$error":"#N/A"}},null,null,null,null,null,null,{"$error":"#N/A"}]
[null,null,{"$f":"VLOOKUP($B457,'Ad Week Dates'!$A:$E,4,FALSE)","v":{"$error":"#N/A"}},{"$f":"VLOOKUP($B457,'Ad Week Dates'!$A:$E,2,FALSE)","v":{"$error":"#N/A"}},{"$f":"VLOOKUP($B457,'Ad Week Dates'!$A:$E,3,FALSE)","v":{"$error":"#N/A"}},null,null,null,null,null,null,{"$error":"#N/A"}]
[null,null,{"$f":"VLOOKUP($B458,'Ad Week Dates'!$A:$E,4,FALSE)","v":{"$error":"#N/A"}},{"$f":"VLOOKUP($B458,'Ad Week Dates'!$A:$E,2,FALSE)","v":{"$error":"#N/A"}},{"$f":"VLOOKUP($B458,'Ad Week Dates'!$A:$E,3,FALSE)","v":{"$error":"#N/A"}},null,null,null,null,null,null,{"$error":"#N/A"}]
[null,null,{"$f":"VLOOKUP($B459,'Ad Week Dates'!$A:$E,4,FALSE)","v":{"$error":"#N/A"}},{"$f":"VLOOKUP($B459,'Ad Week Dates'!$A:$E,2,FALSE)","v":{"$error":"#N/A"}},{"$f":"VLOOKUP($B459,'Ad Week Dates'!$A:$E,3,FALSE)","v":{"$error":"#N/A"}},null,null,null,null,null,null,{"$error":"#N/A"}]
[null,null,{"$f":"VLOOKUP($B460,'Ad Week Dates'!$A:$E,4,FALSE)","v":{"$error":"#N/A"}},{"$f":"VLOOKUP($B460,'Ad Week Dates'!$A:$E,2,FALSE)","v":{"$error":"#N/A"}},{"$f":"VLOOKUP($B460,'Ad Week Dates'!$A:$E,3,FALSE)","v":{"$error":"#N/A"}},null,null,null,null,null,null,{"$error":"#N/A"}]
[null,null,{"$f":"VLOOKUP($B461,'Ad Week Dates'!$A:$E,4,FALSE)","v":{"$error":"#N/A"}},{"$f":"VLOOKUP($B461,'Ad Week Dates'!$A:$E,2,FALSE)","v":{"$error":"#N/A"}},{"$f":"VLOOKUP($B461,'Ad Week Dates'!$A:$E,3,FALSE)","v":{"$error":"#N/A"}},null,null,null,null,null,null,{"$error":"#N/A"}]
[null,null,{"$f":"VLOOKUP($B462,'Ad Week Dates'!$A:$E,4,FALSE)","v":{"$error":"#N/A"}},{"$f":"VLOOKUP($B462,'Ad Week Dates'!$A:$E,2,FALSE)","v":{"$error":"#N/A"}},{"$f":"VLOOKUP($B462,'Ad Week Dates'!$A:$E,3,FALSE)","v":{"$error":"#N/A"}},null,null,null,null,null,null,{"$error":"#N/A"}]
[null,null,{"$f":"VLOOKUP($B463,'Ad Week Dates'!$A:$E,4,FALSE)","v":{"$error":"#N/A"}},{"$f":"VLOOKUP($B463,'Ad Week Dates'!$A:$E,2,FALSE)","v":{"$error":"#N/A"}},{"$f":"VLOOKUP($B463,'Ad Week Dates'!$A:$E,3,FALSE)","v":{"$error":"#N/A"}},null,null,null,null,null,null,{"$error":"#N/A"}]
[null,null,{"$f":"VLOOKUP($B464,'Ad Week Dates'!$A:$E,4,FALSE)","v":{"$error":"#N/A"}},{"$f":"VLOOKUP($B464,'Ad Week Dates'!$A:$E,2,FALSE)","v":{"$error":"#N/A"}},{"$f":"VLOOKUP($B464,'Ad Week Dates'!$A:$E,3,FALSE)","v":{"$error":"#N/A"}},null,null,null,null,null,null,{"$error":"#N/A"}]
[null,null,{"$f":"VLOOKUP($B465,'Ad Week Dates'!$A:$E,4,FALSE)","v":{"$error":"#N/A"}},{"$f":"VLOOKUP($B465,'Ad Week Dates'!$A:$E,2,FALSE)","v":{"$error":"#N/A"}},{"$f":"VLOOKUP($B465,'Ad Week Dates'!$A:$E,3,FALSE)","v":{"$error":"#N/A"}},null,null,null,null,null,null,{"$error":"#N/A"}]
[null,null,{"$f":"VLOOKUP($B466,'Ad Week Dates'!$A:$E,4,FALSE)","v":{"$error":"#N/A"}},{"$f":"VLOOKUP($B466,'Ad Week Dates'!$A:$E,2,FALSE)","v":{"$error":"#N/A"}},{"$f":"VLOOKUP($B466,'Ad Week Dates'!$A:$E,3,FALSE)","v":{"$error":"#N/A"}},null,null,null,null,null,null,{"$error":"#N/A"}]
[null,null,{"$f":"VLOOKUP($B467,'Ad Week Dates'!$A:$E,4,FALSE)","v":{"$error":"#N/A"}},{"$f":"VLOOKUP($B467,'Ad Week Dates'!$A:$E,2,FALSE)","v":{"$error":"#N/A"}},{"$f":"VLOOKUP($B467,'Ad Week Dates'!$A:$E,3,FALSE)","v":{"$error":"#N/A"}},null,null,null,null,null,null,{"$error":"#N/A"}]
[null,null,{"$f":"VLOOKUP($B468,'Ad Week Dates'!$A:$E,4,FALSE)","v":{"$error":"#N/A"}},{"$f":"VLOOKUP($B468,'Ad Week Dates'!$A:$E,2,FALSE)","v":{"$error":"#N/A"}},{"$f":"VLOOKUP($B468,'Ad Week Dates'!$A:$E,3,FALSE)","v":{"$error":"#N/A"}},null,null,null,null,null,null,{"$error":"#N/A"}]
[null,null,{"$f":"VLOOKUP($B469,'Ad Week Dates'!$A:$E,4,FALSE)","v":{"$error":"#N/A"}},{"$f":"VLOOKUP($B469,'Ad Week Dates'!$A:$E,2,FALSE)","v":{"$error":"#N/A"}},{"$f":"VLOOKUP($B469,'Ad Week Dates'!$A:$E,3,FALSE)","v":{"$error":"#N/A"}},null,null,null,null,null,null,{"$error":"#N/A"}]
[null,null,{"$f":"VLOOKUP($B470,'Ad Week Dates'!$A:$E,4,FALSE)","v":{"$error":"#N/A"}},{"$f":"VLOOKUP($B470,'Ad Week Dates'!$A:$E,2,FALSE)","v":{"$error":"#N/A"}},{"$f":"VLOOKUP($B470,'Ad Week Dates'!$A:$E,3,FALSE)","v":{"$error":"#N/A"}},null,null,null,null,null,null,{"$error":"#N/A"}]
[null,null,{"$f":"VLOOKUP($B471,'Ad Week Dates'!$A:$E,4,FALSE)","v":{"$error":"#N/A"}},{"$f":"VLOOKUP($B471,'Ad Week Dates'!$A:$E,2,FALSE)","v":{"$error":"#N/A"}},{"$f":"VLOOKUP($B471,'Ad Week Dates'!$A:$E,3,FALSE)","v":{"$error":"#N/A"}},null,null,null,null,null,null,{"$error":"#N/A"}]
[null,null,{"$f":"VLOOKUP($B472,'Ad Week Dates'!$A:$E,4,FALSE)","v":{"$error":"#N/A"}},{"$f":"VLOOKUP($B472,'Ad Week Dates'!$A:$E,2,FALSE)","v":{"$error":"#N/A"}},{"$f":"VLOOKUP($B472,'Ad Week Dates'!$A:$E,3,FALSE)","v":{"$error":"#N/A"}},null,null,null,null,null,null,{"$error":"#N/A"}]
[null,null,{"$f":"VLOOKUP($B473,'Ad Week Dates'!$A:$E,4,FALSE)","v":{"$error":"#N/A"}},{"$f":"VLOOKUP($B473,'Ad Week Dates'!$A:$E,2,FALSE)","v":{"$error":"#N/A"}},{"$f":"VLOOKUP($B473,'Ad Week Dates'!$A:$E,3,FALSE)","v":{"$error":"#N/A"}},null,null,null,null,null,null,{"$error":"#N/A"}]
[null,null,{"$f":"VLOOKUP($B474,'Ad Week Dates'!$A:$E,4,FALSE)","v":{"$error":"#N/A"}},{"$f":"VLOOKUP($B474,'Ad Week Dates'!$A:$E,2,FALSE)","v":{"$error":"#N/A"}},{"$f":"VLOOKUP($B474,'Ad Week Dates'!$A:$E,3,FALSE)","v":{"$error":"#N/A"}},null,null,null,null,null,null,{"$error":"#N/A"}]
[null,null,{"$f":"VLOOKUP($B475,'Ad Week Dates'!$A:$E,4,FALSE)","v":{"$error":"#N/A"}},{"$f":"VLOOKUP($B475,'Ad Week Dates'!$A:$E,2,FALSE)","v":{"$error":"#N/A"}},{"$f":"VLOOKUP($B475,'Ad Week Dates'!$A:$E,3,FALSE)","v":{"$error":"#N/A"}},null,null,null,null,null,null,{"$error":"#N/A"}]
[null,null,{"$f":"VLOOKUP($B476,'Ad Week Dates'!$A:$E,4,FALSE)","v":{"$error":"#N/A"}},{"$f":"VLOOKUP($B476,'Ad Week Dates'!$A:$E,2,FALSE)","v":{"$error":"#N/A"}},{"$f":"VLOOKUP($B476,'Ad Week Dates'!$A:$E,3,FALSE)","v":{"$error":"#N/A"}},null,null,null,null,null,null,{"$error":"#N/A"}]
[null,null,{"$f":"VLOOKUP($B477,'Ad Week Dates'!$A:$E,4,FALSE)","v":{"$error":"#N/A"}},{"$f":"VLOOKUP($B477,'Ad Week Dates'!$A:$E,2,FALSE)","v":{"$error":"#N/A"}},{"$f":"VLOOKUP($B477,'Ad Week Dates'!$A:$E,3,FALSE)","v":{"$error":"#N/A"}},null,null,null,null,null,null,{"$error":"#N/A"}]
[null,null,{"$f":"VLOOKUP($B478,'Ad Week Dates'!$A:$E,4,FALSE)","v":{"$error":"#N/A"}},{"$f":"VLOOKUP($B478,'Ad Week Dates'!$A:$E,2,FALSE)","v":{"$error":"#N/A"}},{"$f":"VLOOKUP($B478,'Ad Week Dates'!$A:$E,3,FALSE)","v":{"$error":"#N/A"}},null,null,null,null,null,null,{"$error":"#N/A"}]
[null,null,{"$f":"VLOOKUP($B479,'Ad Week Dates'!$A:$E,4,FALSE)","v":{"$error":"#N/A"}},{"$f":"VLOOKUP($B479,'Ad Week Dates'!$A:$E,2,FALSE)","v":{"$error":"#N/A"}},{"$f":"VLOOKUP($B479,'Ad Week Dates'!$A:$E,3,FALSE)","v":{"$error":"#N/A"}},null,null,null,null,null,null,{"$error":"#N/A"}]
[null,null,{"$f":"VLOOKUP($B480,'Ad Week Dates'!$A:$E,4,FALSE)","v":{"$error":"#N/A"}},{"$f":"VLOOKUP($B480,'Ad Week Dates'!$A:$E,2,FALSE)","v":{"$error":"#N/A"}},{"$f":"VLOOKUP($B480,'Ad Week Dates'!$A:$E,3,FALSE)","v":{"$error":"#N/A"}},null,null,null,null,null,null,{"$error":"#N/A"}]
[null,null,{"$f":"VLOOKUP($B481,'Ad Week Dates'!$A:$E,4,FALSE)","v":{"$error":"#N/A"}},{"$f":"VLOOKUP($B481,'Ad Week Dates'!$A:$E,2,FALSE)","v":{"$error":"#N/A"}},{"$f":"VLOOKUP($B481,'Ad Week Dates'!$A:$E,3,FALSE)","v":{"$error":"#N/A"}},null,null,null,null,null,null,{"$error":"#N/A"}]
[null,null,{"$f":"VLOOKUP($B482,'Ad Week Dates'!$A:$E,4,FALSE)","v":{"$error":"#N/A"}},{"$f":"VLOOKUP($B482,'Ad Week Dates'!$A:$E,2,FALSE)","v":{"$error":"#N/A"}},{"$f":"VLOOKUP($B482,'Ad Week Dates'!$A:$E,3,FALSE)","v":{"$error":"#N/A"}},null,null,null,null,null,null,{"$error":"#N/A"}]
[null,null,{"$f":"VLOOKUP($B483,'Ad Week Dates'!$A:$E,4,FALSE)","v":{"$error":"#N/A"}},{"$f":"VLOOKUP($B483,'Ad Week Dates'!$A:$E,2,FALSE)","v":{"$error":"#N/A"}},{"$f":"VLOOKUP($B483,'Ad Week Dates'!$A:$E,3,FALSE)","v":{"$error":"#N/A"}},null,null,null,null,null,null,{"$error":"#N/A"}]
[null,null,{"$f":"VLOOKUP($B484,'Ad Week Dates'!$A:$E,4,FALSE)","v":{"$error":"#N/A"}},{"$f":"VLOOKUP($B484,'Ad Week Dates'!$A:$E,2,FALSE)","v":{"$error":"#N/A"}},{"$f":"VLOOKUP($B484,'Ad Week Dates'!$A:$E,3,FALSE)","v":{"$error":"#N/A"}},null,null,null,null,null,null,{"$error":"#N/A"}]
[null,null,{"$f":"VLOOKUP($B485,'Ad Week Dates'!$A:$E,4,FALSE)","v":{"$error":"#N/A"}},{"$f":"VLOOKUP($B485,'Ad Week Dates'!$A:$E,2,FALSE)","v":{"$error":"#N/A"}},{"$f":"VLOOKUP($B485,'Ad Week Dates'!$A:$E,3,FALSE)","v":{"$error":"#N/A"}},null,null,null,null,null,null,{"$error":"#N/A"}]
[null,null,{"$f":"VLOOKUP($B486,'Ad Week Dates'!$A:$E,4,FALSE)","v":{"$error":"#N/A"}},{"$f":"VLOOKUP($B486,'Ad Week Dates'!$A:$E,2,FALSE)","v":{"$error":"#N/A"}},{"$f":"VLOOKUP($B486,'Ad Week Dates'!$A:$E,3,FALSE)","v":{"$error":"#N/A"}},null,null,null,null,null,null,{"$error":"#N/A"}]
[null,null,{"$f":"VLOOKUP($B487,'Ad Week Dates'!$A:$E,4,FALSE)","v":{"$error":"#N/A"}},{"$f":"VLOOKUP($B487,'Ad Week Dates'!$A:$E,2,FALSE)","v":{"$error":"#N/A"}},{"$f":"VLOOKUP($B487,'Ad Week Dates'!$A:$E,3,FALSE)","v":{"$error":"#N/A"}},null,null,null,null,null,null,{"$error":"#N/A"}]
[null,null,{"$f":"VLOOKUP($B488,'Ad Week Dates'!$A:$E,4,FALSE)","v":{"$error":"#N/A"}},{"$f":"VLOOKUP($B488,'Ad Week Dates'!$A:$E,2,FALSE)","v":{"$error":"#N/A"}},{"$f":"VLOOKUP($B488,'Ad Week Dates'!$A:$E,3,FALSE)","v":{"$error":"#N/A"}},null,null,null,null,null,null,{"$error":"#N/A"}]
[null,null,{"$f":"VLOOKUP($B489,'Ad Week Dates'!$A:$E,4,FALSE)","v":{"$error":"#N/A"}},{"$f":"VLOOKUP($B489,'Ad Week Dates'!$A:$E,2,FALSE)","v":{"$error":"#N/A"}},{"$f":"VLOOKUP($B489,'Ad Week Dates'!$A:$E,3,FALSE)","v":{"$error":"#N/A"}},null,null,null,null,null,null,{"$error":"#N/A"}]
[null,null,{"$f":"VLOOKUP($B490,'Ad Week Dates'!$A:$E,4,FALSE)","v":{"$error":"#N/A"}},{"$f":"VLOOKUP($B490,'Ad Week Dates'!$A:$E,2,FALSE)","v":{"$error":"#N/A"}},{"$f":"VLOOKUP($B490,'Ad Week Dates'!$A:$E,3,FALSE)","v":{"$error":"#N/A"}},null,null,null,null,null,null,{"$error":"#N/A"}]
[null,null,{"$f":"VLOOKUP($B491,'Ad Week Dates'!$A:$E,4,FALSE)","v":{"$error":"#N/A"}},{"$f":"VLOOKUP($B491,'Ad Week Dates'!$A:$E,2,FALSE)","v":{"$error":"#N/A"}},{"$f":"VLOOKUP($B491,'Ad Week Dates'!$A:$E,3,FALSE)","v":{"$error":"#N/A"}},null,null,null,null,null,null,{"$error":"#N/A"}]
[null,null,{"$f":"VLOOKUP($B492,'Ad Week Dates'!$A:$E,4,FALSE)","v":{"$error":"#N/A"}},{"$f":"VLOOKUP($B492,'Ad Week Dates'!$A:$E,2,FALSE)","v":{"$error":"#N/A"}},{"$f":"VLOOKUP($B492,'Ad Week Dates'!$A:$E,3,FALSE)","v":{"$error":"#N/A"}},null,null,null,null,null,null,{"$error":"#N/A"}]
[null,null,{"$f":"VLOOKUP($B493,'Ad Week Dates'!$A:$E,4,FALSE)","v":{"$error":"#N/A"}},{"$f":"VLOOKUP($B493,'Ad Week Dates'!$A:$E,2,FALSE)","v":{"$error":"#N/A"}},{"$f":"VLOOKUP($B493,'Ad Week Dates'!$A:$E,3,FALSE)","v":{"$error":"#N/A"}},null,null,null,null,null,null,{"$error":"#N/A"}]
[null,null,{"$f":"VLOOKUP($B494,'Ad Week Dates'!$A:$E,4,FALSE)","v":{"$error":"#N/A"}},{"$f":"VLOOKUP($B494,'Ad Week Dates'!$A:$E,2,FALSE)","v":{"$error":"#N/A"}},{"$f":"VLOOKUP($B494,'Ad Week Dates'!$A:$E,3,FALSE)","v":{"$error":"#N/A"}},null,null,null,null,null,null,{"$error":"#N/A"}]
[null,null,{"$f":"VLOOKUP($B495,'Ad Week Dates'!$A:$E,4,FALSE)","v":{"$error":"#N/A"}},{"$f":"VLOOKUP($B495,'Ad Week Dates'!$A:$E,2,FALSE)","v":{"$error":"#N/A"}},{"$f":"VLOOKUP($B495,'Ad Week Dates'!$A:$E,3,FALSE)","v":{"$error":"#N/A"}},null,null,null,null,null,null,{"$error":"#N/A"}]
[null,null,{"$f":"VLOOKUP($B496,'Ad Week Dates'!$A:$E,4,FALSE)","v":{"$error":"#N/A"}},{"$f":"VLOOKUP($B496,'Ad Week Dates'!$A:$E,2,FALSE)","v":{"$error":"#N/A"}},{"$f":"VLOOKUP($B496,'Ad Week Dates'!$A:$E,3,FALSE)","v":{"$error":"#N/A"}},null,null,null,null,null,null,{"$error":"#N/A"}]
[null,null,{"$f":"VLOOKUP($B497,'Ad Week Dates'!$A:$E,4,FALSE)","v":{"$error":"#N/A"}},{"$f":"VLOOKUP($B497,'Ad Week Dates'!$A:$E,2,FALSE)","v":{"$error":"#N/A"}},{"$f":"VLOOKUP($B497,'Ad Week Dates'!$A:$E,3,FALSE)","v":{"$error":"#N/A"}},null,null,null,null,null,null,{"$error":"#N/A"}]
[null,null,{"$f":"VLOOKUP($B498,'Ad Week Dates'!$A:$E,4,FALSE)","v":{"$error":"#N/A"}},{"$f":"VLOOKUP($B498,'Ad Week Dates'!$A:$E,2,FALSE)","v":{"$error":"#N/A"}},{"$f":"VLOOKUP($B498,'Ad Week Dates'!$A:$E,3,FALSE)","v":{"$error":"#N/A"}},null,null,null,null,null,null,{"$error":"#N/A"}]
[null,null,{"$f":"VLOOKUP($B499,'Ad Week Dates'!$A:$E,4,FALSE)","v":{"$error":"#N/A"}},{"$f":"VLOOKUP($B499,'Ad Week Dates'!$A:$E,2,FALSE)","v":{"$error":"#N/A"}},{"$f":"VLOOKUP($B499,'Ad Week Dates'!$A:$E,3,FALSE)","v":{"$error":"#N/A"}},null,null,null,null,null,null,{"$error":"#N/A"}]
[null,null,{"$f":"VLOOKUP($B500,'Ad Week Dates'!$A:$E,4,FALSE)","v":{"$error":"#N/A"}},{"$f":"VLOOKUP($B500,'Ad Week Dates'!$A:$E,2,FALSE)","v":{"$error":"#N/A"}},{"$f":"VLOOKUP($B500,'Ad Week Dates'!$A:$E,3,FALSE)","v":{"$error":"#N/A"}},null,null,null,null,null,null,{"$error":"#N/A"}]
[null,null,{"$f":"VLOOKUP($B501,'Ad Week Dates'!$A:$E,4,FALSE)","v":{"$error":"#N/A"}},{"$f":"VLOOKUP($B501,'Ad Week Dates'!$A:$E,2,FALSE)","v":{"$error":"#N/A"}},{"$f":"VLOOKUP($B501,'Ad Week Dates'!$A:$E,3,FALSE)","v":{"$error":"#N/A"}},null,null,null,null,null,null,{"$error":"#N/A"}]
[null,null,{"$f":"VLOOKUP($B502,'Ad Week Dates'!$A:$E,4,FALSE)","v":{"$error":"#N/A"}},{"$f":"VLOOKUP($B502,'Ad Week Dates'!$A:$E,2,FALSE)","v":{"$error":"#N/A"}},{"$f":"VLOOKUP($B502,'Ad Week Dates'!$A:$E,3,FALSE)","v":{"$error":"#N/A"}},null,null,null,null,null,null,{"$error":"#N/A"}]
[null,null,{"$f":"VLOOKUP($B503,'Ad Week Dates'!$A:$E,4,FALSE)","v":{"$error":"#N/A"}},{"$f":"VLOOKUP($B503,'Ad Week Dates'!$A:$E,2,FALSE)","v":{"$error":"#N/A"}},{"$f":"VLOOKUP($B503,'Ad Week Dates'!$A:$E,3,FALSE)","v":{"$error":"#N/A"}},null,null,null,null,null,null,{"$error":"#N/A"}]
[null,null,{"$f":"VLOOKUP($B504,'Ad Week Dates'!$A:$E,4,FALSE)","v":{"$error":"#N/A"}},{"$f":"VLOOKUP($B504,'Ad Week Dates'!$A:$E,2,FALSE)","v":{"$error":"#N/A"}},{"$f":"VLOOKUP($B504,'Ad Week Dates'!$A:$E,3,FALSE)","v":{"$error":"#N/A"}},null,null,null,null,null,null,{"$error":"#N/A"}]
[null,null,{"$f":"VLOOKUP($B505,'Ad Week Dates'!$A:$E,4,FALSE)","v":{"$error":"#N/A"}},{"$f":"VLOOKUP($B505,'Ad Week Dates'!$A:$E,2,FALSE)","v":{"$error":"#N/A"}},{"$f":"VLOOKUP($B505,'Ad Week Dates'!$A:$E,3,FALSE)","v":{"$error":"#N/A"}},null,null,null,null,null,null,{"$error":"#N/A"}]
[null,null,{"$f":"VLOOKUP($B506,'Ad Week Dates'!$A:$E,4,FALSE)","v":{"$error":"#N/A"}},{"$f":"VLOOKUP($B506,'Ad Week Dates'!$A:$E,2,FALSE)","v":{"$error":"#N/A"}},{"$f":"VLOOKUP($B506,'Ad Week Dates'!$A:$E,3,FALSE)","v":{"$error":"#N/A"}},null,null,null,null,null,null,{"$error":"#N/A"}]
[null,null,{"$f":"VLOOKUP($B507,'Ad Week Dates'!$A:$E,4,FALSE)","v":{"$error":"#N/A"}},{"$f":"VLOOKUP($B507,'Ad Week Dates'!$A:$E,2,FALSE)","v":{"$error":"#N/A"}},{"$f":"VLOOKUP($B507,'Ad Week Dates'!$A:$E,3,FALSE)","v":{"$error":"#N/A"}},null,null,null,null,null,null,{"$error":"#N/A"}]
[null,null,{"$f":"VLOOKUP($B508,'Ad Week Dates'!$A:$E,4,FALSE)","v":{"$error":"#N/A"}},{"$f":"VLOOKUP($B508,'Ad Week Dates'!$A:$E,2,FALSE)","v":{"$error":"#N/A"}},{"$f":"VLOOKUP($B508,'Ad Week Dates'!$A:$E,3,FALSE)","v":{"$error":"#N/A"}},null,null,null,null,null,null,{"$error":"#N/A"}]
[null,null,{"$f":"VLOOKUP($B509,'Ad Week Dates'!$A:$E,4,FALSE)","v":{"$error":"#N/A"}},{"$f":"VLOOKUP($B509,'Ad Week Dates'!$A:$E,2,FALSE)","v":{"$error":"#N/A"}},{"$f":"VLOOKUP($B509,'Ad Week Dates'!$A:$E,3,FALSE)","v":{"$error":"#N/A"}},null,null,null,null,null,null,{"$error":"#N/A"}]
[null,null,{"$f":"VLOOKUP($B510,'Ad Week Dates'!$A:$E,4,FALSE)","v":{"$error":"#N/A"}},{"$f":"VLOOKUP($B510,'Ad Week Dates'!$A:$E,2,FALSE)","v":{"$error":"#N/A"}},{"$f":"VLOOKUP($B510,'Ad Week Dates'!$A:$E,3,FALSE)","v":{"$error":"#N/A"}},null,null,null,null,null,null,{"$error":"#N/A"}]
[null,null,{"$f":"VLOOKUP($B511,'Ad Week Dates'!$A:$E,4,FALSE)","v":{"$error":"#N/A"}},{"$f":"VLOOKUP($B511,'Ad Week Dates'!$A:$E,2,FALSE)","v":{"$error":"#N/A"}},{"$f":"VLOOKUP($B511,'Ad Week Dates'!$A:$E,3,FALSE)","v":{"$error":"#N/A"}},null,null,null,null,null,null,{"$error":"#N/A"}]
[null,null,{"$f":"VLOOKUP($B512,'Ad Week Dates'!$A:$E,4,FALSE)","v":{"$error":"#N/A"}},{"$f":"VLOOKUP($B512,'Ad Week Dates'!$A:$E,2,FALSE)","v":{"$error":"#N/A"}},{"$f":"VLOOKUP($B512,'Ad Week Dates'!$A:$E,3,FALSE)","v":{"$error":"#N/A"}},null,null,null,null,null,null,{"$error":"#N/A"}]
[null,null,{"$f":"VLOOKUP($B513,'Ad Week Dates'!$A:$E,4,FALSE)","v":{"$error":"#N/A"}},{"$f":"VLOOKUP($B513,'Ad Week Dates'!$A:$E,2,FALSE)","v":{"$error":"#N/A"}},{"$f":"VLOOKUP($B513,'Ad Week Dates'!$A:$E,3,FALSE)","v":{"$error":"#N/A"}},null,null,null,null,null,null,{"$error":"#N/A"}]
[null,null,{"$f":"VLOOKUP($B514,'Ad Week Dates'!$A:$E,4,FALSE)","v":{"$error":"#N/A"}},{"$f":"VLOOKUP($B514,'Ad Week Dates'!$A:$E,2,FALSE)","v":{"$error":"#N/A"}},{"$f":"VLOOKUP($B514,'Ad Week Dates'!$A:$E,3,FALSE)","v":{"$error":"#N/A"}},null,null,null,null,null,null,{"$error":"#N/A"}]
[null,null,{"$f":"VLOOKUP($B515,'Ad Week Dates'!$A:$E,4,FALSE)","v":{"$error":"#N/A"}},{"$f":"VLOOKUP($B515,'Ad Week Dates'!$A:$E,2,FALSE)","v":{"$error":"#N/A"}},{"$f":"VLOOKUP($B515,'Ad Week Dates'!$A:$E,3,FALSE)","v":{"$error":"#N/A"}},null,null,null,null,null,null,{"$error":"#N/A"}]
[null,null,{"$f":"VLOOKUP($B516,'Ad Week Dates'!$A:$E,4,FALSE)","v":{"$error":"#N/A"}},{"$f":"VLOOKUP($B516,'Ad Week Dates'!$A:$E,2,FALSE)","v":{"$error":"#N/A"}},{"$f":"VLOOKUP($B516,'Ad Week Dates'!$A:$E,3,FALSE)","v":{"$error":"#N/A"}},null,null,null,null,null,null,{"$error":"#N/A"}]
[null,null,{"$f":"VLOOKUP($B517,'Ad Week Dates'!$A:$E,4,FALSE)","v":{"$error":"#N/A"}},{"$f":"VLOOKUP($B517,'Ad Week Dates'!$A:$E,2,FALSE)","v":{"$error":"#N/A"}},{"$f":"VLOOKUP($B517,'Ad Week Dates'!$A:$E,3,FALSE)","v":{"$error":"#N/A"}},null,null,null,null,null,null,{"$error":"#N/A"}]
[null,null,{"$f":"VLOOKUP($B518,'Ad Week Dates'!$A:$E,4,FALSE)","v":{"$error":"#N/A"}},{"$f":"VLOOKUP($B518,'Ad Week Dates'!$A:$E,2,FALSE)","v":{"$error":"#N/A"}},{"$f":"VLOOKUP($B518,'Ad Week Dates'!$A:$E,3,FALSE)","v":{"$error":"#N/A"}},null,null,null,null,null,null,{"$f":"IF(ISNUMBER(J518), J518 - K518, VALUE(_xlfn.TEXTBEFORE(J518, \"-\")) - VALUE(_xlfn.TEXTBEFORE(K518, \"-\")))","v":{"$error":"#N/A"}}]
[null,null,{"$f":"VLOOKUP($B519,'Ad Week Dates'!$A:$E,4,FALSE)","v":{"$error":"#N/A"}},{"$f":"VLOOKUP($B519,'Ad Week Dates'!$A:$E,2,FALSE)","v":{"$error":"#N/A"}},{"$f":"VLOOKUP($B519,'Ad Week Dates'!$A:$E,3,FALSE)","v":{"$error":"#N/A"}},null,null,null,null,null,null,{"$error":"#N/A"}]
[null,null,{"$f":"VLOOKUP($B520,'Ad Week Dates'!$A:$E,4,FALSE)","v":{"$error":"#N/A"}},{"$f":"VLOOKUP($B520,'Ad Week Dates'!$A:$E,2,FALSE)","v":{"$error":"#N/A"}},{"$f":"VLOOKUP($B520,'Ad Week Dates'!$A:$E,3,FALSE)","v":{"$error":"#N/A"}},null,null,null,null,null,null,{"$error":"#N/A"}]
[null,null,{"$f":"VLOOKUP($B521,'Ad Week Dates'!$A:$E,4,FALSE)","v":{"$error":"#N/A"}},{"$f":"VLOOKUP($B521,'Ad Week Dates'!$A:$E,2,FALSE)","v":{"$error":"#N/A"}},{"$f":"VLOOKUP($B521,'Ad Week Dates'!$A:$E,3,FALSE)","v":{"$error":"#N/A"}},null,null,null,null,null,null,{"$error":"#N/A"}]
[null,null,{"$f":"VLOOKUP($B522,'Ad Week Dates'!$A:$E,4,FALSE)","v":{"$error":"#N/A"}},{"$f":"VLOOKUP($B522,'Ad Week Dates'!$A:$E,2,FALSE)","v":{"$error":"#N/A"}},{"$f":"VLOOKUP($B522,'Ad Week Dates'!$A:$E,3,FALSE)","v":{"$error":"#N/A"}},null,null,null,null,null,null,{"$error":"#N/A"}]
[null,null,{"$f":"VLOOKUP($B523,'Ad Week Dates'!$A:$E,4,FALSE)","v":{"$error":"#N/A"}},{"$f":"VLOOKUP($B523,'Ad Week Dates'!$A:$E,2,FALSE)","v":{"$error":"#N/A"}},{"$f":"VLOOKUP($B523,'Ad Week Dates'!$A:$E,3,FALSE)","v":{"$error":"#N/A"}},null,null,null,null,null,null,{"$error":"#N/A"}]
[null,null,{"$f":"VLOOKUP($B524,'Ad Week Dates'!$A:$E,4,FALSE)","v":{"$error":"#N/A"}},{"$f":"VLOOKUP($B524,'Ad Week Dates'!$A:$E,2,FALSE)","v":{"$error":"#N/A"}},{"$f":"VLOOKUP($B524,'Ad Week Dates'!$A:$E,3,FALSE)","v":{"$error":"#N/A"}},null,null,null,null,null,null,{"$error":"#N/A"}]
[null,null,{"$f":"VLOOKUP($B525,'Ad Week Dates'!$A:$E,4,FALSE)","v":{"$error":"#N/A"}},{"$f":"VLOOKUP($B525,'Ad Week Dates'!$A:$E,2,FALSE)","v":{"$error":"#N/A"}},{"$f":"VLOOKUP($B525,'Ad Week Dates'!$A:$E,3,FALSE)","v":{"$error":"#N/A"}},null,null,null,null,null,null,{"$error":"#N/A"}]
[null,null,{"$f":"VLOOKUP($B526,'Ad Week Dates'!$A:$E,4,FALSE)","v":{"$error":"#N/A"}},{"$f":"VLOOKUP($B526,'Ad Week Dates'!$A:$E,2,FALSE)","v":{"$error":"#N/A"}},{"$f":"VLOOKUP($B526,'Ad Week Dates'!$A:$E,3,FALSE)","v":{"$error":"#N/A"}},null,null,null,null,null,null,{"$error":"#N/A"}]
[null,null,{"$f":"VLOOKUP($B527,'Ad Week Dates'!$A:$E,4,FALSE)","v":{"$error":"#N/A"}},{"$f":"VLOOKUP($B527,'Ad Week Dates'!$A:$E,2,FALSE)","v":{"$error":"#N/A"}},{"$f":"VLOOKUP($B527,'Ad Week Dates'!$A:$E,3,FALSE)","v":{"$error":"#N/A"}},null,null,null,null,null,null,{"$error":"#N/A"}]
[null,null,{"$f":"VLOOKUP($B528,'Ad Week Dates'!$A:$E,4,FALSE)","v":{"$error":"#N/A"}},{"$f":"VLOOKUP($B528,'Ad Week Dates'!$A:$E,2,FALSE)","v":{"$error":"#N/A"}},{"$f":"VLOOKUP($B528,'Ad Week Dates'!$A:$E,3,FALSE)","v":{"$error":"#N/A"}},null,null,null,null,null,null,{"$error":"#N/A"}]
[null,null,{"$f":"VLOOKUP($B529,'Ad Week Dates'!$A:$E,4,FALSE)","v":{"$error":"#N/A"}},{"$f":"VLOOKUP($B529,'Ad Week Dates'!$A:$E,2,FALSE)","v":{"$error":"#N/A"}},{"$f":"VLOOKUP($B529,'Ad Week Dates'!$A:$E,3,FALSE)","v":{"$error":"#N/A"}},null,null,null,null,null,null,{"$error":"#N/A"}]
[null,null,{"$f":"VLOOKUP($B530,'Ad Week Dates'!$A:$E,4,FALSE)","v":{"$error":"#N/A"}},{"$f":"VLOOKUP($B530,'Ad Week Dates'!$A:$E,2,FALSE)","v":{"$error":"#N/A"}},{"$f":"VLOOKUP($B530,'Ad Week Dates'!$A:$E,3,FALSE)","v":{"$error":"#N/A"}},null,null,null,null,null,null,{"$error":"#N/A"}]
[null,null,{"$f":"VLOOKUP($B531,'Ad Week Dates'!$A:$E,4,FALSE)","v":{"$error":"#N/A"}},{"$f":"VLOOKUP($B531,'Ad Week Dates'!$A:$E,2,FALSE)","v":{"$error":"#N/A"}},{"$f":"VLOOKUP($B531,'Ad Week Dates'!$A:$E,3,FALSE)","v":{"$error":"#N/A"}},null,null,null,null,null,null,{"$error":"#N/A"}]
[null,null,{"$f":"VLOOKUP($B532,'Ad Week Dates'!$A:$E,4,FALSE)","v":{"$error":"#N/A"}},{"$f":"VLOOKUP($B532,'Ad Week Dates'!$A:$E,2,FALSE)","v":{"$error":"#N/A"}},{"$f":"VLOOKUP($B532,'Ad Week Dates'!$A:$E,3,FALSE)","v":{"$error":"#N/A"}},null,null,null,null,null,null,{"$error":"#N/A"}]
[null,null,{"$f":"VLOOKUP($B533,'Ad Week Dates'!$A:$E,4,FALSE)","v":{"$error":"#N/A"}},{"$f":"VLOOKUP($B533,'Ad Week Dates'!$A:$E,2,FALSE)","v":{"$error":"#N/A"}},{"$f":"VLOOKUP($B533,'Ad Week Dates'!$A:$E,3,FALSE)","v":{"$error":"#N/A"}},null,null,null,null,null,null,{"$error":"#N/A"}]
[null,null,{"$f":"VLOOKUP($B534,'Ad Week Dates'!$A:$E,4,FALSE)","v":{"$error":"#N/A"}},{"$f":"VLOOKUP($B534,'Ad Week Dates'!$A:$E,2,FALSE)","v":{"$error":"#N/A"}},{"$f":"VLOOKUP($B534,'Ad Week Dates'!$A:$E,3,FALSE)","v":{"$error":"#N/A"}},null,null,null,null,null,null,{"$error":"#N/A"}]
[null,null,{"$f":"VLOOKUP($B535,'Ad Week Dates'!$A:$E,4,FALSE)","v":{"$error":"#N/A"}},{"$f":"VLOOKUP($B535,'Ad Week Dates'!$A:$E,2,FALSE)","v":{"$error":"#N/A"}},{"$f":"VLOOKUP($B535,'Ad Week Dates'!$A:$E,3,FALSE)","v":{"$error":"#N/A"}},null,null,null,null,null,null,{"$error":"#N/A"}]
[null,null,{"$f":"VLOOKUP($B536,'Ad Week Dates'!$A:$E,4,FALSE)","v":{"$error":"#N/A"}},{"$f":"VLOOKUP($B536,'Ad Week Dates'!$A:$E,2,FALSE)","v":{"$error":"#N/A"}},{"$f":"VLOOKUP($B536,'Ad Week Dates'!$A:$E,3,FALSE)","v":{"$error":"#N/A"}},null,null,null,null,null,null,{"$error":"#N/A"}]
[null,null,{"$f":"VLOOKUP($B537,'Ad Week Dates'!$A:$E,4,FALSE)","v":{"$error":"#N/A"}},{"$f":"VLOOKUP($B537,'Ad Week Dates'!$A:$E,2,FALSE)","v":{"$error":"#N/A"}},{"$f":"VLOOKUP($B537,'Ad Week Dates'!$A:$E,3,FALSE)","v":{"$error":"#N/A"}},null,null,null,null,null,null,{"$error":"#N/A"}]
[null,null,{"$f":"VLOOKUP($B538,'Ad Week Dates'!$A:$E,4,FALSE)","v":{"$error":"#N/A"}},{"$f":"VLOOKUP($B538,'Ad Week Dates'!$A:$E,2,FALSE)","v":{"$error":"#N/A"}},{"$f":"VLOOKUP($B538,'Ad Week Dates'!$A:$E,3,FALSE)","v":{"$error":"#N/A"}},null,null,null,null,null,null,{"$error":"#N/A"}]
[null,null,{"$f":"VLOOKUP($B539,'Ad Week Dates'!$A:$E,4,FALSE)","v":{"$error":"#N/A"}},{"$f":"VLOOKUP($B539,'Ad Week Dates'!$A:$E,2,FALSE)","v":{"$error":"#N/A"}},{"$f":"VLOOKUP($B539,'Ad Week Dates'!$A:$E,3,FALSE)","v":{"$error":"#N/A"}},null,null,null,null,null,null,{"$error":"#N/A"}]
[null,null,{"$f":"VLOOKUP($B540,'Ad Week Dates'!$A:$E,4,FALSE)","v":{"$error":"#N/A"}},{"$f":"VLOOKUP($B540,'Ad Week Dates'!$A:$E,2,FALSE)","v":{"$error":"#N/A"}},{"$f":"VLOOKUP($B540,'Ad Week Dates'!$A:$E,3,FALSE)","v":{"$error":"#N/A"}},null,null,null,null,null,null,{"$error":"#N/A"}]
[null,null,{"$f":"VLOOKUP($B541,'Ad Week Dates'!$A:$E,4,FALSE)","v":{"$error":"#N/A"}},{"$f":"VLOOKUP($B541,'Ad Week Dates'!$A:$E,2,FALSE)","v":{"$error":"#N/A"}},{"$f":"VLOOKUP($B541,'Ad Week Dates'!$A:$E,3,FALSE)","v":{"$error":"#N/A"}},null,null,null,null,null,null,{"$error":"#N/A"}]
[null,null,{"$f":"VLOOKUP($B542,'Ad Week Dates'!$A:$E,4,FALSE)","v":{"$error":"#N/A"}},{"$f":"VLOOKUP($B542,'Ad Week Dates'!$A:$E,2,FALSE)","v":{"$error":"#N/A"}},{"$f":"VLOOKUP($B542,'Ad Week Dates'!$A:$E,3,FALSE)","v":{"$error":"#N/A"}},null,null,null,null,null,null,{"$error":"#N/A"}]
[null,null,{"$f":"VLOOKUP($B543,'Ad Week Dates'!$A:$E,4,FALSE)","v":{"$error":"#N/A"}},{"$f":"VLOOKUP($B543,'Ad Week Dates'!$A:$E,2,FALSE)","v":{"$error":"#N/A"}},{"$f":"VLOOKUP($B543,'Ad Week Dates'!$A:$E,3,FALSE)","v":{"$error":"#N/A"}},null,null,null,null,null,null,{"$error":"#N/A"}]
[null,null,{"$f":"VLOOKUP($B544,'Ad Week Dates'!$A:$E,4,FALSE)","v":{"$error":"#N/A"}},{"$f":"VLOOKUP($B544,'Ad Week Dates'!$A:$E,2,FALSE)","v":{"$error":"#N/A"}},{"$f":"VLOOKUP($B544,'Ad Week Dates'!$A:$E,3,FALSE)","v":{"$error":"#N/A"}},null,null,null,null,null,null,{"$error":"#N/A"}]
[null,null,{"$f":"VLOOKUP($B545,'Ad Week Dates'!$A:$E,4,FALSE)","v":{"$error":"#N/A"}},{"$f":"VLOOKUP($B545,'Ad Week Dates'!$A:$E,2,FALSE)","v":{"$error":"#N/A"}},{"$f":"VLOOKUP($B545,'Ad Week Dates'!$A:$E,3,FALSE)","v":{"$error":"#N/A"}},null,null,null,null,null,null,{"$error":"#N/A"}]
[null,null,{"$f":"VLOOKUP($B546,'Ad Week Dates'!$A:$E,4,FALSE)","v":{"$error":"#N/A"}},{"$f":"VLOOKUP($B546,'Ad Week Dates'!$A:$E,2,FALSE)","v":{"$error":"#N/A"}},{"$f":"VLOOKUP($B546,'Ad Week Dates'!$A:$E,3,FALSE)","v":{"$error":"#N/A"}},null,null,null,null,null,null,{"$error":"#N/A"}]
[null,null,{"$f":"VLOOKUP($B547,'Ad Week Dates'!$A:$E,4,FALSE)","v":{"$error":"#N/A"}},{"$f":"VLOOKUP($B547,'Ad Week Dates'!$A:$E,2,FALSE)","v":{"$error":"#N/A"}},{"$f":"VLOOKUP($B547,'Ad Week Dates'!$A:$E,3,FALSE)","v":{"$error":"#N/A"}},null,null,null,null,null,null,{"$error":"#N/A"}]
[null,null,{"$f":"VLOOKUP($B548,'Ad Week Dates'!$A:$E,4,FALSE)","v":{"$error":"#N/A"}},{"$f":"VLOOKUP($B548,'Ad Week Dates'!$A:$E,2,FALSE)","v":{"$error":"#N/A"}},{"$f":"VLOOKUP($B548,'Ad Week Dates'!$A:$E,3,FALSE)","v":{"$error":"#N/A"}},null,null,null,null,null,null,{"$error":"#N/A"}]
[null,null,{"$f":"VLOOKUP($B549,'Ad Week Dates'!$A:$E,4,FALSE)","v":{"$error":"#N/A"}},{"$f":"VLOOKUP($B549,'Ad Week Dates'!$A:$E,2,FALSE)","v":{"$error":"#N/A"}},{"$f":"VLOOKUP($B549,'Ad Week Dates'!$A:$E,3,FALSE)","v":{"$error":"#N/A"}},null,null,null,null,null,null,{"$error":"#N/A"}]
[null,null,{"$f":"VLOOKUP($B550,'Ad Week Dates'!$A:$E,4,FALSE)","v":{"$error":"#N/A"}},{"$f":"VLOOKUP($B550,'Ad Week Dates'!$A:$E,2,FALSE)","v":{"$error":"#N/A"}},{"$f":"VLOOKUP($B550,'Ad Week Dates'!$A:$E,3,FALSE)","v":{"$error":"#N/A"}},null,null,null,null,null,null,{"$error":"#N/A"}]
[null,null,{"$f":"VLOOKUP($B551,'Ad Week Dates'!$A:$E,4,FALSE)","v":{"$error":"#N/A"}},{"$f":"VLOOKUP($B551,'Ad Week Dates'!$A:$E,2,FALSE)","v":{"$error":"#N/A"}},{"$f":"VLOOKUP($B551,'Ad Week Dates'!$A:$E,3,FALSE)","v":{"$error":"#N/A"}},null,null,null,null,null,null,{"$error":"#N/A"}]
[null,null,{"$f":"VLOOKUP($B552,'Ad Week Dates'!$A:$E,4,FALSE)","v":{"$error":"#N/A"}},{"$f":"VLOOKUP($B552,'Ad Week Dates'!$A:$E,2,FALSE)","v":{"$error":"#N/A"}},{"$f":"VLOOKUP($B552,'Ad Week Dates'!$A:$E,3,FALSE)","v":{"$error":"#N/A"}},null,null,null,null,null,null,{"$error":"#N/A"}]
[null,null,{"$f":"VLOOKUP($B553,'Ad Week Dates'!$A:$E,4,FALSE)","v":{"$error":"#N/A"}},{"$f":"VLOOKUP($B553,'Ad Week Dates'!$A:$E,2,FALSE)","v":{"$error":"#N/A"}},{"$f":"VLOOKUP($B553,'Ad Week Dates'!$A:$E,3,FALSE)","v":{"$error":"#N/A"}},null,null,null,null,null,null,{"$error":"#N/A"}]
[null,null,{"$f":"VLOOKUP($B554,'Ad Week Dates'!$A:$E,4,FALSE)","v":{"$error":"#N/A"}},{"$f":"VLOOKUP($B554,'Ad Week Dates'!$A:$E,2,FALSE)","v":{"$error":"#N/A"}},{"$f":"VLOOKUP($B554,'Ad Week Dates'!$A:$E,3,FALSE)","v":{"$error":"#N/A"}},null,null,null,null,null,null,{"$error":"#N/A"}]
[null,null,{"$f":"VLOOKUP($B555,'Ad Week Dates'!$A:$E,4,FALSE)","v":{"$error":"#N/A"}},{"$f":"VLOOKUP($B555,'Ad Week Dates'!$A:$E,2,FALSE)","v":{"$error":"#N/A"}},{"$f":"VLOOKUP($B555,'Ad Week Dates'!$A:$E,3,FALSE)","v":{"$error":"#N/A"}},null,null,null,null,null,null,{"$error":"#N/A"}]
[null,null,{"$f":"VLOOKUP($B556,'Ad Week Dates'!$A:$E,4,FALSE)","v":{"$error":"#N/A"}},{"$f":"VLOOKUP($B556,'Ad Week Dates'!$A:$E,2,FALSE)","v":{"$error":"#N/A"}},{"$f":"VLOOKUP($B556,'Ad Week Dates'!$A:$E,3,FALSE)","v":{"$error":"#N/A"}},null,null,null,null,null,null,{"$error":"#N/A"}]
[null,null,{"$f":"VLOOKUP($B557,'Ad Week Dates'!$A:$E,4,FALSE)","v":{"$error":"#N/A"}},{"$f":"VLOOKUP($B557,'Ad Week Dates'!$A:$E,2,FALSE)","v":{"$error":"#N/A"}},{"$f":"VLOOKUP($B557,'Ad Week Dates'!$A:$E,3,FALSE)","v":{"$error":"#N/A"}},null,null,null,null,null,null,{"$error":"#N/A"}]
[null,null,{"$f":"VLOOKUP($B558,'Ad Week Dates'!$A:$E,4,FALSE)","v":{"$error":"#N/A"}},{"$f":"VLOOKUP($B558,'Ad Week Dates'!$A:$E,2,FALSE)","v":{"$error":"#N/A"}},{"$f":"VLOOKUP($B558,'Ad Week Dates'!$A:$E,3,FALSE)","v":{"$error":"#N/A"}},null,null,null,null,null,null,{"$error":"#N/A"}]
[null,null,{"$f":"VLOOKUP($B559,'Ad Week Dates'!$A:$E,4,FALSE)","v":{"$error":"#N/A"}},{"$f":"VLOOKUP($B559,'Ad Week Dates'!$A:$E,2,FALSE)","v":{"$error":"#N/A"}},{"$f":"VLOOKUP($B559,'Ad Week Dates'!$A:$E,3,FALSE)","v":{"$error":"#N/A"}},null,null,null,null,null,null,{"$error":"#N/A"}]
[null,null,{"$f":"VLOOKUP($B560,'Ad Week Dates'!$A:$E,4,FALSE)","v":{"$error":"#N/A"}},{"$f":"VLOOKUP($B560,'Ad Week Dates'!$A:$E,2,FALSE)","v":{"$error":"#N/A"}},{"$f":"VLOOKUP($B560,'Ad Week Dates'!$A:$E,3,FALSE)","v":{"$error":"#N/A"}},null,null,null,null,null,null,{"$error":"#N/A"}]
[null,null,{"$f":"VLOOKUP($B561,'Ad Week Dates'!$A:$E,4,FALSE)","v":{"$error":"#N/A"}},{"$f":"VLOOKUP($B561,'Ad Week Dates'!$A:$E,2,FALSE)","v":{"$error":"#N/A"}},{"$f":"VLOOKUP($B561,'Ad Week Dates'!$A:$E,3,FALSE)","v":{"$error":"#N/A"}},null,null,null,null,null,null,{"$error":"#N/A"}]
[null,null,{"$f":"VLOOKUP($B562,'Ad Week Dates'!$A:$E,4,FALSE)","v":{"$error":"#N/A"}},{"$f":"VLOOKUP($B562,'Ad Week Dates'!$A:$E,2,FALSE)","v":{"$error":"#N/A"}},{"$f":"VLOOKUP($B562,'Ad Week Dates'!$A:$E,3,FALSE)","v":{"$error":"#N/A"}},null,null,null,null,null,null,{"$error":"#N/A"}]
[null,null,{"$f":"VLOOKUP($B563,'Ad Week Dates'!$A:$E,4,FALSE)","v":{"$error":"#N/A"}},{"$f":"VLOOKUP($B563,'Ad Week Dates'!$A:$E,2,FALSE)","v":{"$error":"#N/A"}},{"$f":"VLOOKUP($B563,'Ad Week Dates'!$A:$E,3,FALSE)","v":{"$error":"#N/A"}},null,null,null,null,null,null,{"$error":"#N/A"}]
[null,null,{"$f":"VLOOKUP($B564,'Ad Week Dates'!$A:$E,4,FALSE)","v":{"$error":"#N/A"}},{"$f":"VLOOKUP($B564,'Ad Week Dates'!$A:$E,2,FALSE)","v":{"$error":"#N/A"}},{"$f":"VLOOKUP($B564,'Ad Week Dates'!$A:$E,3,FALSE)","v":{"$error":"#N/A"}},null,null,null,null,null,null,{"$error":"#N/A"}]
[null,null,{"$f":"VLOOKUP($B565,'Ad Week Dates'!$A:$E,4,FALSE)","v":{"$error":"#N/A"}},{"$f":"VLOOKUP($B565,'Ad Week Dates'!$A:$E,2,FALSE)","v":{"$error":"#N/A"}},{"$f":"VLOOKUP($B565,'Ad Week Dates'!$A:$E,3,FALSE)","v":{"$error":"#N/A"}},null,null,null,null,null,null,{"$error":"#N/A"}]
[null,null,{"$f":"VLOOKUP($B566,'Ad Week Dates'!$A:$E,4,FALSE)","v":{"$error":"#N/A"}},{"$f":"VLOOKUP($B566,'Ad Week Dates'!$A:$E,2,FALSE)","v":{"$error":"#N/A"}},{"$f":"VLOOKUP($B566,'Ad Week Dates'!$A:$E,3,FALSE)","v":{"$error":"#N/A"}},null,null,null,null,null,null,{"$error":"#N/A"}]
[null,null,{"$f":"VLOOKUP($B567,'Ad Week Dates'!$A:$E,4,FALSE)","v":{"$error":"#N/A"}},{"$f":"VLOOKUP($B567,'Ad Week Dates'!$A:$E,2,FALSE)","v":{"$error":"#N/A"}},{"$f":"VLOOKUP($B567,'Ad Week Dates'!$A:$E,3,FALSE)","v":{"$error":"#N/A"}},null,null,null,null,null,null,{"$error":"#N/A"}]
[null,null,{"$f":"VLOOKUP($B568,'Ad Week Dates'!$A:$E,4,FALSE)","v":{"$error":"#N/A"}},{"$f":"VLOOKUP($B568,'Ad Week Dates'!$A:$E,2,FALSE)","v":{"$error":"#N/A"}},{"$f":"VLOOKUP($B568,'Ad Week Dates'!$A:$E,3,FALSE)","v":{"$error":"#N/A"}},null,null,null,null,null,null,{"$error":"#N/A"}]
[null,null,{"$f":"VLOOKUP($B569,'Ad Week Dates'!$A:$E,4,FALSE)","v":{"$error":"#N/A"}},{"$f":"VLOOKUP($B569,'Ad Week Dates'!$A:$E,2,FALSE)","v":{"$error":"#N/A"}},{"$f":"VLOOKUP($B569,'Ad Week Dates'!$A:$E,3,FALSE)","v":{"$error":"#N/A"}},null,null,null,null,null,null,{"$error":"#N/A"}]
[null,null,{"$f":"VLOOKUP($B570,'Ad Week Dates'!$A:$E,4,FALSE)","v":{"$error":"#N/A"}},{"$f":"VLOOKUP($B570,'Ad Week Dates'!$A:$E,2,FALSE)","v":{"$error":"#N/A"}},{"$f":"VLOOKUP($B570,'Ad Week Dates'!$A:$E,3,FALSE)","v":{"$error":"#N/A"}},null,null,null,null,null,null,{"$error":"#N/A"}]
[null,null,{"$f":"VLOOKUP($B571,'Ad Week Dates'!$A:$E,4,FALSE)","v":{"$error":"#N/A"}},{"$f":"VLOOKUP($B571,'Ad Week Dates'!$A:$E,2,FALSE)","v":{"$error":"#N/A"}},{"$f":"VLOOKUP($B571,'Ad Week Dates'!$A:$E,3,FALSE)","v":{"$error":"#N/A"}},null,null,null,null,null,null,{"$error":"#N/A"}]
[null,null,{"$f":"VLOOKUP($B572,'Ad Week Dates'!$A:$E,4,FALSE)","v":{"$error":"#N/A"}},{"$f":"VLOOKUP($B572,'Ad Week Dates'!$A:$E,2,FALSE)","v":{"$error":"#N/A"}},{"$f":"VLOOKUP($B572,'Ad Week Dates'!$A:$E,3,FALSE)","v":{"$error":"#N/A"}},null,null,null,null,null,null,{"$error":"#N/A"}]
[null,null,{"$f":"VLOOKUP($B573,'Ad Week Dates'!$A:$E,4,FALSE)","v":{"$error":"#N/A"}},{"$f":"VLOOKUP($B573,'Ad Week Dates'!$A:$E,2,FALSE)","v":{"$error":"#N/A"}},{"$f":"VLOOKUP($B573,'Ad Week Dates'!$A:$E,3,FALSE)","v":{"$error":"#N/A"}},null,null,null,null,null,null,{"$error":"#N/A"}]
[null,null,{"$f":"VLOOKUP($B574,'Ad Week Dates'!$A:$E,4,FALSE)","v":{"$error":"#N/A"}},{"$f":"VLOOKUP($B574,'Ad Week Dates'!$A:$E,2,FALSE)","v":{"$error":"#N/A"}},{"$f":"VLOOKUP($B574,'Ad Week Dates'!$A:$E,3,FALSE)","v":{"$error":"#N/A"}},null,null,null,null,null,null,{"$error":"#N/A"}]
[null,null,{"$f":"VLOOKUP($B575,'Ad Week Dates'!$A:$E,4,FALSE)","v":{"$error":"#N/A"}},{"$f":"VLOOKUP($B575,'Ad Week Dates'!$A:$E,2,FALSE)","v":{"$error":"#N/A"}},{"$f":"VLOOKUP($B575,'Ad Week Dates'!$A:$E,3,FALSE)","v":{"$error":"#N/A"}},null,null,null,null,null,null,{"$error":"#N/A"}]
[null,null,{"$f":"VLOOKUP($B576,'Ad Week Dates'!$A:$E,4,FALSE)","v":{"$error":"#N/A"}},{"$f":"VLOOKUP($B576,'Ad Week Dates'!$A:$E,2,FALSE)","v":{"$error":"#N/A"}},{"$f":"VLOOKUP($B576,'Ad Week Dates'!$A:$E,3,FALSE)","v":{"$error":"#N/A"}},null,null,null,null,null,null,{"$error":"#N/A"}]
[null,null,{"$f":"VLOOKUP($B577,'Ad Week Dates'!$A:$E,4,FALSE)","v":{"$error":"#N/A"}},{"$f":"VLOOKUP($B577,'Ad Week Dates'!$A:$E,2,FALSE)","v":{"$error":"#N/A"}},{"$f":"VLOOKUP($B577,'Ad Week Dates'!$A:$E,3,FALSE)","v":{"$error":"#N/A"}},null,null,null,null,null,null,{"$error":"#N/A"}]
[null,null,{"$f":"VLOOKUP($B578,'Ad Week Dates'!$A:$E,4,FALSE)","v":{"$error":"#N/A"}},{"$f":"VLOOKUP($B578,'Ad Week Dates'!$A:$E,2,FALSE)","v":{"$error":"#N/A"}},{"$f":"VLOOKUP($B578,'Ad Week Dates'!$A:$E,3,FALSE)","v":{"$error":"#N/A"}},null,null,null,null,null,null,{"$error":"#N/A"}]
[null,null,{"$f":"VLOOKUP($B579,'Ad Week Dates'!$A:$E,4,FALSE)","v":{"$error":"#N/A"}},{"$f":"VLOOKUP($B579,'Ad Week Dates'!$A:$E,2,FALSE)","v":{"$error":"#N/A"}},{"$f":"VLOOKUP($B579,'Ad Week Dates'!$A:$E,3,FALSE)","v":{"$error":"#N/A"}},null,null,null,null,null,null,{"$error":"#N/A"}]
[null,null,{"$f":"VLOOKUP($B580,'Ad Week Dates'!$A:$E,4,FALSE)","v":{"$error":"#N/A"}},{"$f":"VLOOKUP($B580,'Ad Week Dates'!$A:$E,2,FALSE)","v":{"$error":"#N/A"}},{"$f":"VLOOKUP($B580,'Ad Week Dates'!$A:$E,3,FALSE)","v":{"$error":"#N/A"}},null,null,null,null,null,null,{"$error":"#N/A"}]
[null,null,{"$f":"VLOOKUP($B581,'Ad Week Dates'!$A:$E,4,FALSE)","v":{"$error":"#N/A"}},{"$f":"VLOOKUP($B581,'Ad Week Dates'!$A:$E,2,FALSE)","v":{"$error":"#N/A"}},{"$f":"VLOOKUP($B581,'Ad Week Dates'!$A:$E,3,FALSE)","v":{"$error":"#N/A"}},null,null,null,null,null,null,{"$error":"#N/A"}]
[null,null,{"$f":"VLOOKUP($B582,'Ad Week Dates'!$A:$E,4,FALSE)","v":{"$error":"#N/A"}},{"$f":"VLOOKUP($B582,'Ad Week Dates'!$A:$E,2,FALSE)","v":{"$error":"#N/A"}},{"$f":"VLOOKUP($B582,'Ad Week Dates'!$A:$E,3,FALSE)","v":{"$error":"#N/A"}},null,null,null,null,null,null,{"$f":"IF(ISNUMBER(J582), J582 - K582, VALUE(_xlfn.TEXTBEFORE(J582, \"-\")) - VALUE(_xlfn.TEXTBEFORE(K582, \"-\")))","v":{"$error":"#N/A"}}]
[null,null,{"$f":"VLOOKUP($B583,'Ad Week Dates'!$A:$E,4,FALSE)","v":{"$error":"#N/A"}},{"$f":"VLOOKUP($B583,'Ad Week Dates'!$A:$E,2,FALSE)","v":{"$error":"#N/A"}},{"$f":"VLOOKUP($B583,'Ad Week Dates'!$A:$E,3,FALSE)","v":{"$error":"#N/A"}},null,null,null,null,null,null,{"$error":"#N/A"}]
[null,null,{"$f":"VLOOKUP($B584,'Ad Week Dates'!$A:$E,4,FALSE)","v":{"$error":"#N/A"}},{"$f":"VLOOKUP($B584,'Ad Week Dates'!$A:$E,2,FALSE)","v":{"$error":"#N/A"}},{"$f":"VLOOKUP($B584,'Ad Week Dates'!$A:$E,3,FALSE)","v":{"$error":"#N/A"}},null,null,null,null,null,null,{"$error":"#N/A"}]
[null,null,{"$f":"VLOOKUP($B585,'Ad Week Dates'!$A:$E,4,FALSE)","v":{"$error":"#N/A"}},{"$f":"VLOOKUP($B585,'Ad Week Dates'!$A:$E,2,FALSE)","v":{"$error":"#N/A"}},{"$f":"VLOOKUP($B585,'Ad Week Dates'!$A:$E,3,FALSE)","v":{"$error":"#N/A"}},null,null,null,null,null,null,{"$error":"#N/A"}]
[null,null,{"$f":"VLOOKUP($B586,'Ad Week Dates'!$A:$E,4,FALSE)","v":{"$error":"#N/A"}},{"$f":"VLOOKUP($B586,'Ad Week Dates'!$A:$E,2,FALSE)","v":{"$error":"#N/A"}},{"$f":"VLOOKUP($B586,'Ad Week Dates'!$A:$E,3,FALSE)","v":{"$error":"#N/A"}},null,null,null,null,null,null,{"$error":"#N/A"}]
[null,null,{"$f":"VLOOKUP($B587,'Ad Week Dates'!$A:$E,4,FALSE)","v":{"$error":"#N/A"}},{"$f":"VLOOKUP($B587,'Ad Week Dates'!$A:$E,2,FALSE)","v":{"$error":"#N/A"}},{"$f":"VLOOKUP($B587,'Ad Week Dates'!$A:$E,3,FALSE)","v":{"$error":"#N/A"}},null,null,null,null,null,null,{"$error":"#N/A"}]
[null,null,{"$f":"VLOOKUP($B588,'Ad Week Dates'!$A:$E,4,FALSE)","v":{"$error":"#N/A"}},{"$f":"VLOOKUP($B588,'Ad Week Dates'!$A:$E,2,FALSE)","v":{"$error":"#N/A"}},{"$f":"VLOOKUP($B588,'Ad Week Dates'!$A:$E,3,FALSE)","v":{"$error":"#N/A"}},null,null,null,null,null,null,{"$error":"#N/A"}]
[null,null,{"$f":"VLOOKUP($B589,'Ad Week Dates'!$A:$E,4,FALSE)","v":{"$error":"#N/A"}},{"$f":"VLOOKUP($B589,'Ad Week Dates'!$A:$E,2,FALSE)","v":{"$error":"#N/A"}},{"$f":"VLOOKUP($B589,'Ad Week Dates'!$A:$E,3,FALSE)","v":{"$error":"#N/A"}},null,null,null,null,null,null,{"$error":"#N/A"}]
[null,null,{"$f":"VLOOKUP($B590,'Ad Week Dates'!$A:$E,4,FALSE)","v":{"$error":"#N/A"}},{"$f":"VLOOKUP($B590,'Ad Week Dates'!$A:$E,2,FALSE)","v":{"$error":"#N/A"}},{"$f":"VLOOKUP($B590,'Ad Week Dates'!$A:$E,3,FALSE)","v":{"$error":"#N/A"}},null,null,null,null,null,null,{"$error":"#N/A"}]
[null,null,{"$f":"VLOOKUP($B591,'Ad Week Dates'!$A:$E,4,FALSE)","v":{"$error":"#N/A"}},{"$f":"VLOOKUP($B591,'Ad Week Dates'!$A:$E,2,FALSE)","v":{"$error":"#N/A"}},{"$f":"VLOOKUP($B591,'Ad Week Dates'!$A:$E,3,FALSE)","v":{"$error":"#N/A"}},null,null,null,null,null,null,{"$error":"#N/A"}]
[null,null,{"$f":"VLOOKUP($B592,'Ad Week Dates'!$A:$E,4,FALSE)","v":{"$error":"#N/A"}},{"$f":"VLOOKUP($B592,'Ad Week Dates'!$A:$E,2,FALSE)","v":{"$error":"#N/A"}},{"$f":"VLOOKUP($B592,'Ad Week Dates'!$A:$E,3,FALSE)","v":{"$error":"#N/A"}},null,null,null,null,null,null,{"$error":"#N/A"}]
[null,null,{"$f":"VLOOKUP($B593,'Ad Week Dates'!$A:$E,4,FALSE)","v":{"$error":"#N/A"}},{"$f":"VLOOKUP($B593,'Ad Week Dates'!$A:$E,2,FALSE)","v":{"$error":"#N/A"}},{"$f":"VLOOKUP($B593,'Ad Week Dates'!$A:$E,3,FALSE)","v":{"$error":"#N/A"}},null,null,null,null,null,null,{"$error":"#N/A"}]
[null,null,{"$f":"VLOOKUP($B594,'Ad Week Dates'!$A:$E,4,FALSE)","v":{"$error":"#N/A"}},{"$f":"VLOOKUP($B594,'Ad Week Dates'!$A:$E,2,FALSE)","v":{"$error":"#N/A"}},{"$f":"VLOOKUP($B594,'Ad Week Dates'!$A:$E,3,FALSE)","v":{"$error":"#N/A"}},null,null,null,null,null,null,{"$error":"#N/A"}]
[null,null,{"$f":"VLOOKUP($B595,'Ad Week Dates'!$A:$E,4,FALSE)","v":{"$error":"#N/A"}},{"$f":"VLOOKUP($B595,'Ad Week Dates'!$A:$E,2,FALSE)","v":{"$error":"#N/A"}},{"$f":"VLOOKUP($B595,'Ad Week Dates'!$A:$E,3,FALSE)","v":{"$error":"#N/A"}},null,null,null,null,null,null,{"$error":"#N/A"}]
[null,null,{"$f":"VLOOKUP($B596,'Ad Week Dates'!$A:$E,4,FALSE)","v":{"$error":"#N/A"}},{"$f":"VLOOKUP($B596,'Ad Week Dates'!$A:$E,2,FALSE)","v":{"$error":"#N/A"}},{"$f":"VLOOKUP($B596,'Ad Week Dates'!$A:$E,3,FALSE)","v":{"$error":"#N/A"}},null,null,null,null,null,null,{"$error":"#N/A"}]
[null,null,{"$f":"VLOOKUP($B597,'Ad Week Dates'!$A:$E,4,FALSE)","v":{"$error":"#N/A"}},{"$f":"VLOOKUP($B597,'Ad Week Dates'!$A:$E,2,FALSE)","v":{"$error":"#N/A"}},{"$f":"VLOOKUP($B597,'Ad Week Dates'!$A:$E,3,FALSE)","v":{"$error":"#N/A"}},null,null,null,null,null,null,{"$error":"#N/A"}]
[null,null,{"$f":"VLOOKUP($B598,'Ad Week Dates'!$A:$E,4,FALSE)","v":{"$error":"#N/A"}},{"$f":"VLOOKUP($B598,'Ad Week Dates'!$A:$E,2,FALSE)","v":{"$error":"#N/A"}},{"$f":"VLOOKUP($B598,'Ad Week Dates'!$A:$E,3,FALSE)","v":{"$error":"#N/A"}},null,null,null,null,null,null,{"$error":"#N/A"}]
[null,null,{"$f":"VLOOKUP($B599,'Ad Week Dates'!$A:$E,4,FALSE)","v":{"$error":"#N/A"}},{"$f":"VLOOKUP($B599,'Ad Week Dates'!$A:$E,2,FALSE)","v":{"$error":"#N/A"}},{"$f":"VLOOKUP($B599,'Ad Week Dates'!$A:$E,3,FALSE)","v":{"$error":"#N/A"}},null,null,null,null,null,null,{"$error":"#N/A"}]
[null,null,{"$f":"VLOOKUP($B600,'Ad Week Dates'!$A:$E,4,FALSE)","v":{"$error":"#N/A"}},{"$f":"VLOOKUP($B600,'Ad Week Dates'!$A:$E,2,FALSE)","v":{"$error":"#N/A"}},{"$f":"VLOOKUP($B600,'Ad Week Dates'!$A:$E,3,FALSE)","v":{"$error":"#N/A"}},null,null,null,null,null,null,{"$error":"#N/A"}]
[null,null,{"$f":"VLOOKUP($B601,'Ad Week Dates'!$A:$E,4,FALSE)","v":{"$error":"#N/A"}},{"$f":"VLOOKUP($B601,'Ad Week Dates'!$A:$E,2,FALSE)","v":{"$error":"#N/A"}},{"$f":"VLOOKUP($B601,'Ad Week Dates'!$A:$E,3,FALSE)","v":{"$error":"#N/A"}},null,null,null,null,null,null,{"$error":"#N/A"}]
[null,null,{"$f":"VLOOKUP($B602,'Ad Week Dates'!$A:$E,4,FALSE)","v":{"$error":"#N/A"}},{"$f":"VLOOKUP($B602,'Ad Week Dates'!$A:$E,2,FALSE)","v":{"$error":"#N/A"}},{"$f":"VLOOKUP($B602,'Ad Week Dates'!$A:$E,3,FALSE)","v":{"$error":"#N/A"}},null,null,null,null,null,null,{"$error":"#N/A"}]
[null,null,{"$f":"VLOOKUP($B603,'Ad Week Dates'!$A:$E,4,FALSE)","v":{"$error":"#N/A"}},{"$f":"VLOOKUP($B603,'Ad Week Dates'!$A:$E,2,FALSE)","v":{"$error":"#N/A"}},{"$f":"VLOOKUP($B603,'Ad Week Dates'!$A:$E,3,FALSE)","v":{"$error":"#N/A"}},null,null,null,null,null,null,{"$error":"#N/A"}]
[null,null,{"$f":"VLOOKUP($B604,'Ad Week Dates'!$A:$E,4,FALSE)","v":{"$error":"#N/A"}},{"$f":"VLOOKUP($B604,'Ad Week Dates'!$A:$E,2,FALSE)","v":{"$error":"#N/A"}},{"$f":"VLOOKUP($B604,'Ad Week Dates'!$A:$E,3,FALSE)","v":{"$error":"#N/A"}},null,null,null,null,null,null,{"$error":"#N/A"}]
[null,null,{"$f":"VLOOKUP($B605,'Ad Week Dates'!$A:$E,4,FALSE)","v":{"$error":"#N/A"}},{"$f":"VLOOKUP($B605,'Ad Week Dates'!$A:$E,2,FALSE)","v":{"$error":"#N/A"}},{"$f":"VLOOKUP($B605,'Ad Week Dates'!$A:$E,3,FALSE)","v":{"$error":"#N/A"}},null,null,null,null,null,null,{"$error":"#N/A"}]
[null,null,{"$f":"VLOOKUP($B606,'Ad Week Dates'!$A:$E,4,FALSE)","v":{"$error":"#N/A"}},{"$f":"VLOOKUP($B606,'Ad Week Dates'!$A:$E,2,FALSE)","v":{"$error":"#N/A"}},{"$f":"VLOOKUP($B606,'Ad Week Dates'!$A:$E,3,FALSE)","v":{"$error":"#N/A"}},null,null,null,null,null,null,{"$error":"#N/A"}]
[null,null,{"$f":"VLOOKUP($B607,'Ad Week Dates'!$A:$E,4,FALSE)","v":{"$error":"#N/A"}},{"$f":"VLOOKUP($B607,'Ad Week Dates'!$A:$E,2,FALSE)","v":{"$error":"#N/A"}},{"$f":"VLOOKUP($B607,'Ad Week Dates'!$A:$E,3,FALSE)","v":{"$error":"#N/A"}},null,null,null,null,null,null,{"$error":"#N/A"}]
[null,null,{"$f":"VLOOKUP($B608,'Ad Week Dates'!$A:$E,4,FALSE)","v":{"$error":"#N/A"}},{"$f":"VLOOKUP($B608,'Ad Week Dates'!$A:$E,2,FALSE)","v":{"$error":"#N/A"}},{"$f":"VLOOKUP($B608,'Ad Week Dates'!$A:$E,3,FALSE)","v":{"$error":"#N/A"}},null,null,null,null,null,null,{"$error":"#N/A"}]
[null,null,{"$f":"VLOOKUP($B609,'Ad Week Dates'!$A:$E,4,FALSE)","v":{"$error":"#N/A"}},{"$f":"VLOOKUP($B609,'Ad Week Dates'!$A:$E,2,FALSE)","v":{"$error":"#N/A"}},{"$f":"VLOOKUP($B609,'Ad Week Dates'!$A:$E,3,FALSE)","v":{"$error":"#N/A"}},null,null,null,null,null,null,{"$error":"#N/A"}]
[null,null,{"$f":"VLOOKUP($B610,'Ad Week Dates'!$A:$E,4,FALSE)","v":{"$error":"#N/A"}},{"$f":"VLOOKUP($B610,'Ad Week Dates'!$A:$E,2,FALSE)","v":{"$error":"#N/A"}},{"$f":"VLOOKUP($B610,'Ad Week Dates'!$A:$E,3,FALSE)","v":{"$error":"#N/A"}},null,null,null,null,null,null,{"$error":"#N/A"}]
[null,null,{"$f":"VLOOKUP($B611,'Ad Week Dates'!$A:$E,4,FALSE)","v":{"$error":"#N/A"}},{"$f":"VLOOKUP($B611,'Ad Week Dates'!$A:$E,2,FALSE)","v":{"$error":"#N/A"}},{"$f":"VLOOKUP($B611,'Ad Week Dates'!$A:$E,3,FALSE)","v":{"$error":"#N/A"}},null,null,null,null,null,null,{"$error":"#N/A"}]
[null,null,{"$f":"VLOOKUP($B612,'Ad Week Dates'!$A:$E,4,FALSE)","v":{"$error":"#N/A"}},{"$f":"VLOOKUP($B612,'Ad Week Dates'!$A:$E,2,FALSE)","v":{"$error":"#N/A"}},{"$f":"VLOOKUP($B612,'Ad Week Dates'!$A:$E,3,FALSE)","v":{"$error":"#N/A"}},null,null,null,null,null,null,{"$error":"#N/A"}]
[null,null,{"$f":"VLOOKUP($B613,'Ad Week Dates'!$A:$E,4,FALSE)","v":{"$error":"#N/A"}},{"$f":"VLOOKUP($B613,'Ad Week Dates'!$A:$E,2,FALSE)","v":{"$error":"#N/A"}},{"$f":"VLOOKUP($B613,'Ad Week Dates'!$A:$E,3,FALSE)","v":{"$error":"#N/A"}},null,null,null,null,null,null,{"$error":"#N/A"}]
[null,null,{"$f":"VLOOKUP($B614,'Ad Week Dates'!$A:$E,4,FALSE)","v":{"$error":"#N/A"}},{"$f":"VLOOKUP($B614,'Ad Week Dates'!$A:$E,2,FALSE)","v":{"$error":"#N/A"}},{"$f":"VLOOKUP($B614,'Ad Week Dates'!$A:$E,3,FALSE)","v":{"$error":"#N/A"}},null,null,null,null,null,null,{"$error":"#N/A"}]
[null,null,{"$f":"VLOOKUP($B615,'Ad Week Dates'!$A:$E,4,FALSE)","v":{"$error":"#N/A"}},{"$f":"VLOOKUP($B615,'Ad Week Dates'!$A:$E,2,FALSE)","v":{"$error":"#N/A"}},{"$f":"VLOOKUP($B615,'Ad Week Dates'!$A:$E,3,FALSE)","v":{"$error":"#N/A"}},null,null,null,null,null,null,{"$error":"#N/A"}]
[null,null,{"$f":"VLOOKUP($B616,'Ad Week Dates'!$A:$E,4,FALSE)","v":{"$error":"#N/A"}},{"$f":"VLOOKUP($B616,'Ad Week Dates'!$A:$E,2,FALSE)","v":{"$error":"#N/A"}},{"$f":"VLOOKUP($B616,'Ad Week Dates'!$A:$E,3,FALSE)","v":{"$error":"#N/A"}},null,null,null,null,null,null,{"$error":"#N/A"}]
[null,null,{"$f":"VLOOKUP($B617,'Ad Week Dates'!$A:$E,4,FALSE)","v":{"$error":"#N/A"}},{"$f":"VLOOKUP($B617,'Ad Week Dates'!$A:$E,2,FALSE)","v":{"$error":"#N/A"}},{"$f":"VLOOKUP($B617,'Ad Week Dates'!$A:$E,3,FALSE)","v":{"$error":"#N/A"}},null,null,null,null,null,null,{"$error":"#N/A"}]
[null,null,{"$f":"VLOOKUP($B618,'Ad Week Dates'!$A:$E,4,FALSE)","v":{"$error":"#N/A"}},{"$f":"VLOOKUP($B618,'Ad Week Dates'!$A:$E,2,FALSE)","v":{"$error":"#N/A"}},{"$f":"VLOOKUP($B618,'Ad Week Dates'!$A:$E,3,FALSE)","v":{"$error":"#N/A"}},null,null,null,null,null,null,{"$error":"#N/A"}]
[null,null,{"$f":"VLOOKUP($B619,'Ad Week Dates'!$A:$E,4,FALSE)","v":{"$error":"#N/A"}},{"$f":"VLOOKUP($B619,'Ad Week Dates'!$A:$E,2,FALSE)","v":{"$error":"#N/A"}},{"$f":"VLOOKUP($B619,'Ad Week Dates'!$A:$E,3,FALSE)","v":{"$error":"#N/A"}},null,null,null,null,null,null,{"$error":"#N/A"}]
[null,null,{"$f":"VLOOKUP($B620,'Ad Week Dates'!$A:$E,4,FALSE)","v":{"$error":"#N/A"}},{"$f":"VLOOKUP($B620,'Ad Week Dates'!$A:$E,2,FALSE)","v":{"$error":"#N/A"}},{"$f":"VLOOKUP($B620,'Ad Week Dates'!$A:$E,3,FALSE)","v":{"$error":"#N/A"}},null,null,null,null,null,null,{"$error":"#N/A"}]
[null,null,{"$f":"VLOOKUP($B621,'Ad Week Dates'!$A:$E,4,FALSE)","v":{"$error":"#N/A"}},{"$f":"VLOOKUP($B621,'Ad Week Dates'!$A:$E,2,FALSE)","v":{"$error":"#N/A"}},{"$f":"VLOOKUP($B621,'Ad Week Dates'!$A:$E,3,FALSE)","v":{"$error":"#N/A"}},null,null,null,null,null,null,{"$error":"#N/A"}]
[null,null,{"$f":"VLOOKUP($B622,'Ad Week Dates'!$A:$E,4,FALSE)","v":{"$error":"#N/A"}},{"$f":"VLOOKUP($B622,'Ad Week Dates'!$A:$E,2,FALSE)","v":{"$error":"#N/A"}},{"$f":"VLOOKUP($B622,'Ad Week Dates'!$A:$E,3,FALSE)","v":{"$error":"#N/A"}},null,null,null,null,null,null,{"$error":"#N/A"}]
[null,null,{"$f":"VLOOKUP($B623,'Ad Week Dates'!$A:$E,4,FALSE)","v":{"$error":"#N/A"}},{"$f":"VLOOKUP($B623,'Ad Week Dates'!$A:$E,2,FALSE)","v":{"$error":"#N/A"}},{"$f":"VLOOKUP($B623,'Ad Week Dates'!$A:$E,3,FALSE)","v":{"$error":"#N/A"}},null,null,null,null,null,null,{"$error":"#N/A"}]
[null,null,{"$f":"VLOOKUP($B624,'Ad Week Dates'!$A:$E,4,FALSE)","v":{"$error":"#N/A"}},{"$f":"VLOOKUP($B624,'Ad Week Dates'!$A:$E,2,FALSE)","v":{"$error":"#N/A"}},{"$f":"VLOOKUP($B624,'Ad Week Dates'!$A:$E,3,FALSE)","v":{"$error":"#N/A"}},null,null,null,null,null,null,{"$error":"#N/A"}]
[null,null,{"$f":"VLOOKUP($B625,'Ad Week Dates'!$A:$E,4,FALSE)","v":{"$error":"#N/A"}},{"$f":"VLOOKUP($B625,'Ad Week Dates'!$A:$E,2,FALSE)","v":{"$error":"#N/A"}},{"$f":"VLOOKUP($B625,'Ad Week Dates'!$A:$E,3,FALSE)","v":{"$error":"#N/A"}},null,null,null,null,null,null,{"$error":"#N/A"}]
[null,null,{"$f":"VLOOKUP($B626,'Ad Week Dates'!$A:$E,4,FALSE)","v":{"$error":"#N/A"}},{"$f":"VLOOKUP($B626,'Ad Week Dates'!$A:$E,2,FALSE)","v":{"$error":"#N/A"}},{"$f":"VLOOKUP($B626,'Ad Week Dates'!$A:$E,3,FALSE)","v":{"$error":"#N/A"}},null,null,null,null,null,null,{"$error":"#N/A"}]
[null,null,{"$f":"VLOOKUP($B627,'Ad Week Dates'!$A:$E,4,FALSE)","v":{"$error":"#N/A"}},{"$f":"VLOOKUP($B627,'Ad Week Dates'!$A:$E,2,FALSE)","v":{"$error":"#N/A"}},{"$f":"VLOOKUP($B627,'Ad Week Dates'!$A:$E,3,FALSE)","v":{"$error":"#N/A"}},null,null,null,null,null,null,{"$error":"#N/A"}]
[null,null,{"$f":"VLOOKUP($B628,'Ad Week Dates'!$A:$E,4,FALSE)","v":{"$error":"#N/A"}},{"$f":"VLOOKUP($B628,'Ad Week Dates'!$A:$E,2,FALSE)","v":{"$error":"#N/A"}},{"$f":"VLOOKUP($B628,'Ad Week Dates'!$A:$E,3,FALSE)","v":{"$error":"#N/A"}},null,null,null,null,null,null,{"$error":"#N/A"}]
[null,null,{"$f":"VLOOKUP($B629,'Ad Week Dates'!$A:$E,4,FALSE)","v":{"$error":"#N/A"}},{"$f":"VLOOKUP($B629,'Ad Week Dates'!$A:$E,2,FALSE)","v":{"$error":"#N/A"}},{"$f":"VLOOKUP($B629,'Ad Week Dates'!$A:$E,3,FALSE)","v":{"$error":"#N/A"}},null,null,null,null,null,null,{"$error":"#N/A"}]
[null,null,{"$f":"VLOOKUP($B630,'Ad Week Dates'!$A:$E,4,FALSE)","v":{"$error":"#N/A"}},{"$f":"VLOOKUP($B630,'Ad Week Dates'!$A:$E,2,FALSE)","v":{"$error":"#N/A"}},{"$f":"VLOOKUP($B630,'Ad Week Dates'!$A:$E,3,FALSE)","v":{"$error":"#N/A"}},null,null,null,null,null,null,{"$error":"#N/A"}]
[null,null,{"$f":"VLOOKUP($B631,'Ad Week Dates'!$A:$E,4,FALSE)","v":{"$error":"#N/A"}},{"$f":"VLOOKUP($B631,'Ad Week Dates'!$A:$E,2,FALSE)","v":{"$error":"#N/A"}},{"$f":"VLOOKUP($B631,'Ad Week Dates'!$A:$E,3,FALSE)","v":{"$error":"#N/A"}},null,null,null,null,null,null,{"$error":"#N/A"}]
[null,null,{"$f":"VLOOKUP($B632,'Ad Week Dates'!$A:$E,4,FALSE)","v":{"$error":"#N/A"}},{"$f":"VLOOKUP($B632,'Ad Week Dates'!$A:$E,2,FALSE)","v":{"$error":"#N/A"}},{"$f":"VLOOKUP($B632,'Ad Week Dates'!$A:$E,3,FALSE)","v":{"$error":"#N/A"}},null,null,null,null,null,null,{"$error":"#N/A"}]
[null,null,{"$f":"VLOOKUP($B633,'Ad Week Dates'!$A:$E,4,FALSE)","v":{"$error":"#N/A"}},{"$f":"VLOOKUP($B633,'Ad Week Dates'!$A:$E,2,FALSE)","v":{"$error":"#N/A"}},{"$f":"VLOOKUP($B633,'Ad Week Dates'!$A:$E,3,FALSE)","v":{"$error":"#N/A"}},null,null,null,null,null,null,{"$error":"#N/A"}]
[null,null,{"$f":"VLOOKUP($B634,'Ad Week Dates'!$A:$E,4,FALSE)","v":{"$error":"#N/A"}},{"$f":"VLOOKUP($B634,'Ad Week Dates'!$A:$E,2,FALSE)","v":{"$error":"#N/A"}},{"$f":"VLOOKUP($B634,'Ad Week Dates'!$A:$E,3,FALSE)","v":{"$error":"#N/A"}},null,null,null,null,null,null,{"$error":"#N/A"}]
[null,null,{"$f":"VLOOKUP($B635,'Ad Week Dates'!$A:$E,4,FALSE)","v":{"$error":"#N/A"}},{"$f":"VLOOKUP($B635,'Ad Week Dates'!$A:$E,2,FALSE)","v":{"$error":"#N/A"}},{"$f":"VLOOKUP($B635,'Ad Week Dates'!$A:$E,3,FALSE)","v":{"$error":"#N/A"}},null,null,null,null,null,null,{"$error":"#N/A"}]
[null,null,{"$f":"VLOOKUP($B636,'Ad Week Dates'!$A:$E,4,FALSE)","v":{"$error":"#N/A"}},{"$f":"VLOOKUP($B636,'Ad Week Dates'!$A:$E,2,FALSE)","v":{"$error":"#N/A"}},{"$f":"VLOOKUP($B636,'Ad Week Dates'!$A:$E,3,FALSE)","v":{"$error":"#N/A"}},null,null,null,null,null,null,{"$error":"#N/A"}]
[null,null,{"$f":"VLOOKUP($B637,'Ad Week Dates'!$A:$E,4,FALSE)","v":{"$error":"#N/A"}},{"$f":"VLOOKUP($B637,'Ad Week Dates'!$A:$E,2,FALSE)","v":{"$error":"#N/A"}},{"$f":"VLOOKUP($B637,'Ad Week Dates'!$A:$E,3,FALSE)","v":{"$error":"#N/A"}},null,null,null,null,null,null,{"$error":"#N/A"}]
[null,null,{"$f":"VLOOKUP($B638,'Ad Week Dates'!$A:$E,4,FALSE)","v":{"$error":"#N/A"}},{"$f":"VLOOKUP($B638,'Ad Week Dates'!$A:$E,2,FALSE)","v":{"$error":"#N/A"}},{"$f":"VLOOKUP($B638,'Ad Week Dates'!$A:$E,3,FALSE)","v":{"$error":"#N/A"}},null,null,null,null,null,null,{"$error":"#N/A"}]
[null,null,{"$f":"VLOOKUP($B639,'Ad Week Dates'!$A:$E,4,FALSE)","v":{"$error":"#N/A"}},{"$f":"VLOOKUP($B639,'Ad Week Dates'!$A:$E,2,FALSE)","v":{"$error":"#N/A"}},{"$f":"VLOOKUP($B639,'Ad Week Dates'!$A:$E,3,FALSE)","v":{"$error":"#N/A"}},null,null,null,null,null,null,{"$error":"#N/A"}]
[null,null,{"$f":"VLOOKUP($B640,'Ad Week Dates'!$A:$E,4,FALSE)","v":{"$error":"#N/A"}},{"$f":"VLOOKUP($B640,'Ad Week Dates'!$A:$E,2,FALSE)","v":{"$error":"#N/A"}},{"$f":"VLOOKUP($B640,'Ad Week Dates'!$A:$E,3,FALSE)","v":{"$error":"#N/A"}},null,null,null,null,null,null,{"$error":"#N/A"}]
[null,null,{"$f":"VLOOKUP($B641,'Ad Week Dates'!$A:$E,4,FALSE)","v":{"$error":"#N/A"}},{"$f":"VLOOKUP($B641,'Ad Week Dates'!$A:$E,2,FALSE)","v":{"$error":"#N/A"}},{"$f":"VLOOKUP($B641,'Ad Week Dates'!$A:$E,3,FALSE)","v":{"$error":"#N/A"}},null,null,null,null,null,null,{"$error":"#N/A"}]
[null,null,{"$f":"VLOOKUP($B642,'Ad Week Dates'!$A:$E,4,FALSE)","v":{"$error":"#N/A"}},{"$f":"VLOOKUP($B642,'Ad Week Dates'!$A:$E,2,FALSE)","v":{"$error":"#N/A"}},{"$f":"VLOOKUP($B642,'Ad Week Dates'!$A:$E,3,FALSE)","v":{"$error":"#N/A"}},null,null,null,null,null,null,{"$error":"#N/A"}]
[null,null,{"$f":"VLOOKUP($B643,'Ad Week Dates'!$A:$E,4,FALSE)","v":{"$error":"#N/A"}},{"$f":"VLOOKUP($B643,'Ad Week Dates'!$A:$E,2,FALSE)","v":{"$error":"#N/A"}},{"$f":"VLOOKUP($B643,'Ad Week Dates'!$A:$E,3,FALSE)","v":{"$error":"#N/A"}},null,null,null,null,null,null,{"$error":"#N/A"}]
[null,null,{"$f":"VLOOKUP($B644,'Ad Week Dates'!$A:$E,4,FALSE)","v":{"$error":"#N/A"}},{"$f":"VLOOKUP($B644,'Ad Week Dates'!$A:$E,2,FALSE)","v":{"$error":"#N/A"}},{"$f":"VLOOKUP($B644,'Ad Week Dates'!$A:$E,3,FALSE)","v":{"$error":"#N/A"}},null,null,null,null,null,null,{"$error":"#N/A"}]
[null,null,{"$f":"VLOOKUP($B645,'Ad Week Dates'!$A:$E,4,FALSE)","v":{"$error":"#N/A"}},{"$f":"VLOOKUP($B645,'Ad Week Dates'!$A:$E,2,FALSE)","v":{"$error":"#N/A"}},{"$f":"VLOOKUP($B645,'Ad Week Dates'!$A:$E,3,FALSE)","v":{"$error":"#N/A"}},null,null,null,null,null,null,{"$error":"#N/A"}]
[null,null,{"$f":"VLOOKUP($B646,'Ad Week Dates'!$A:$E,4,FALSE)","v":{"$error":"#N/A"}},{"$f":"VLOOKUP($B646,'Ad Week Dates'!$A:$E,2,FALSE)","v":{"$error":"#N/A"}},{"$f":"VLOOKUP($B646,'Ad Week Dates'!$A:$E,3,FALSE)","v":{"$error":"#N/A"}},null,null,null,null,null,null,{"$f":"IF(ISNUMBER(J646), J646 - K646, VALUE(_xlfn.TEXTBEFORE(J646, \"-\")) - VALUE(_xlfn.TEXTBEFORE(K646, \"-\")))","v":{"$error":"#N/A"}}]
[null,null,{"$f":"VLOOKUP($B647,'Ad Week Dates'!$A:$E,4,FALSE)","v":{"$error":"#N/A"}},{"$f":"VLOOKUP($B647,'Ad Week Dates'!$A:$E,2,FALSE)","v":{"$error":"#N/A"}},{"$f":"VLOOKUP($B647,'Ad Week Dates'!$A:$E,3,FALSE)","v":{"$error":"#N/A"}},null,null,null,null,null,null,{"$error":"#N/A"}]
[null,null,{"$f":"VLOOKUP($B648,'Ad Week Dates'!$A:$E,4,FALSE)","v":{"$error":"#N/A"}},{"$f":"VLOOKUP($B648,'Ad Week Dates'!$A:$E,2,FALSE)","v":{"$error":"#N/A"}},{"$f":"VLOOKUP($B648,'Ad Week Dates'!$A:$E,3,FALSE)","v":{"$error":"#N/A"}},null,null,null,null,null,null,{"$error":"#N/A"}]
[null,null,{"$f":"VLOOKUP($B649,'Ad Week Dates'!$A:$E,4,FALSE)","v":{"$error":"#N/A"}},{"$f":"VLOOKUP($B649,'Ad Week Dates'!$A:$E,2,FALSE)","v":{"$error":"#N/A"}},{"$f":"VLOOKUP($B649,'Ad Week Dates'!$A:$E,3,FALSE)","v":{"$error":"#N/A"}},null,null,null,null,null,null,{"$error":"#N/A"}]
[null,null,{"$f":"VLOOKUP($B650,'Ad Week Dates'!$A:$E,4,FALSE)","v":{"$error":"#N/A"}},{"$f":"VLOOKUP($B650,'Ad Week Dates'!$A:$E,2,FALSE)","v":{"$error":"#N/A"}},{"$f":"VLOOKUP($B650,'Ad Week Dates'!$A:$E,3,FALSE)","v":{"$error":"#N/A"}},null,null,null,null,null,null,{"$error":"#N/A"}]
[null,null,{"$f":"VLOOKUP($B651,'Ad Week Dates'!$A:$E,4,FALSE)","v":{"$error":"#N/A"}},{"$f":"VLOOKUP($B651,'Ad Week Dates'!$A:$E,2,FALSE)","v":{"$error":"#N/A"}},{"$f":"VLOOKUP($B651,'Ad Week Dates'!$A:$E,3,FALSE)","v":{"$error":"#N/A"}},null,null,null,null,null,null,{"$error":"#N/A"}]
[null,null,{"$f":"VLOOKUP($B652,'Ad Week Dates'!$A:$E,4,FALSE)","v":{"$error":"#N/A"}},{"$f":"VLOOKUP($B652,'Ad Week Dates'!$A:$E,2,FALSE)","v":{"$error":"#N/A"}},{"$f":"VLOOKUP($B652,'Ad Week Dates'!$A:$E,3,FALSE)","v":{"$error":"#N/A"}},null,null,null,null,null,null,{"$error":"#N/A"}]
[null,null,{"$f":"VLOOKUP($B653,'Ad Week Dates'!$A:$E,4,FALSE)","v":{"$error":"#N/A"}},{"$f":"VLOOKUP($B653,'Ad Week Dates'!$A:$E,2,FALSE)","v":{"$error":"#N/A"}},{"$f":"VLOOKUP($B653,'Ad Week Dates'!$A:$E,3,FALSE)","v":{"$error":"#N/A"}},null,null,null,null,null,null,{"$error":"#N/A"}]
[null,null,{"$f":"VLOOKUP($B654,'Ad Week Dates'!$A:$E,4,FALSE)","v":{"$error":"#N/A"}},{"$f":"VLOOKUP($B654,'Ad Week Dates'!$A:$E,2,FALSE)","v":{"$error":"#N/A"}},{"$f":"VLOOKUP($B654,'Ad Week Dates'!$A:$E,3,FALSE)","v":{"$error":"#N/A"}},null,null,null,null,null,null,{"$error":"#N/A"}]
[null,null,{"$f":"VLOOKUP($B655,'Ad Week Dates'!$A:$E,4,FALSE)","v":{"$error":"#N/A"}},{"$f":"VLOOKUP($B655,'Ad Week Dates'!$A:$E,2,FALSE)","v":{"$error":"#N/A"}},{"$f":"VLOOKUP($B655,'Ad Week Dates'!$A:$E,3,FALSE)","v":{"$error":"#N/A"}},null,null,null,null,null,null,{"$error":"#N/A"}]
[null,null,{"$f":"VLOOKUP($B656,'Ad Week Dates'!$A:$E,4,FALSE)","v":{"$error":"#N/A"}},{"$f":"VLOOKUP($B656,'Ad Week Dates'!$A:$E,2,FALSE)","v":{"$error":"#N/A"}},{"$f":"VLOOKUP($B656,'Ad Week Dates'!$A:$E,3,FALSE)","v":{"$error":"#N/A"}},null,null,null,null,null,null,{"$error":"#N/A"}]
[null,null,{"$f":"VLOOKUP($B657,'Ad Week Dates'!$A:$E,4,FALSE)","v":{"$error":"#N/A"}},{"$f":"VLOOKUP($B657,'Ad Week Dates'!$A:$E,2,FALSE)","v":{"$error":"#N/A"}},{"$f":"VLOOKUP($B657,'Ad Week Dates'!$A:$E,3,FALSE)","v":{"$error":"#N/A"}},null,null,null,null,null,null,{"$error":"#N/A"}]
[null,null,{"$f":"VLOOKUP($B658,'Ad Week Dates'!$A:$E,4,FALSE)","v":{"$error":"#N/A"}},{"$f":"VLOOKUP($B658,'Ad Week Dates'!$A:$E,2,FALSE)","v":{"$error":"#N/A"}},{"$f":"VLOOKUP($B658,'Ad Week Dates'!$A:$E,3,FALSE)","v":{"$error":"#N/A"}},null,null,null,null,null,null,{"$error":"#N/A"}]
[null,null,{"$f":"VLOOKUP($B659,'Ad Week Dates'!$A:$E,4,FALSE)","v":{"$error":"#N/A"}},{"$f":"VLOOKUP($B659,'Ad Week Dates'!$A:$E,2,FALSE)","v":{"$error":"#N/A"}},{"$f":"VLOOKUP($B659,'Ad Week Dates'!$A:$E,3,FALSE)","v":{"$error":"#N/A"}},null,null,null,null,null,null,{"$error":"#N/A"}]
[null,null,{"$f":"VLOOKUP($B660,'Ad Week Dates'!$A:$E,4,FALSE)","v":{"$error":"#N/A"}},{"$f":"VLOOKUP($B660,'Ad Week Dates'!$A:$E,2,FALSE)","v":{"$error":"#N/A"}},{"$f":"VLOOKUP($B660,'Ad Week Dates'!$A:$E,3,FALSE)","v":{"$error":"#N/A"}},null,null,null,null,null,null,{"$error":"#N/A"}]
[null,null,{"$f":"VLOOKUP($B661,'Ad Week Dates'!$A:$E,4,FALSE)","v":{"$error":"#N/A"}},{"$f":"VLOOKUP($B661,'Ad Week Dates'!$A:$E,2,FALSE)","v":{"$error":"#N/A"}},{"$f":"VLOOKUP($B661,'Ad Week Dates'!$A:$E,3,FALSE)","v":{"$error":"#N/A"}},null,null,null,null,null,null,{"$error":"#N/A"}]
[null,null,{"$f":"VLOOKUP($B662,'Ad Week Dates'!$A:$E,4,FALSE)","v":{"$error":"#N/A"}},{"$f":"VLOOKUP($B662,'Ad Week Dates'!$A:$E,2,FALSE)","v":{"$error":"#N/A"}},{"$f":"VLOOKUP($B662,'Ad Week Dates'!$A:$E,3,FALSE)","v":{"$error":"#N/A"}},null,null,null,null,null,null,{"$error":"#N/A"}]
[null,null,{"$f":"VLOOKUP($B663,'Ad Week Dates'!$A:$E,4,FALSE)","v":{"$error":"#N/A"}},{"$f":"VLOOKUP($B663,'Ad Week Dates'!$A:$E,2,FALSE)","v":{"$error":"#N/A"}},{"$f":"VLOOKUP($B663,'Ad Week Dates'!$A:$E,3,FALSE)","v":{"$error":"#N/A"}},null,null,null,null,null,null,{"$error":"#N/A"}]
[null,null,{"$f":"VLOOKUP($B664,'Ad Week Dates'!$A:$E,4,FALSE)","v":{"$error":"#N/A"}},{"$f":"VLOOKUP($B664,'Ad Week Dates'!$A:$E,2,FALSE)","v":{"$error":"#N/A"}},{"$f":"VLOOKUP($B664,'Ad Week Dates'!$A:$E,3,FALSE)","v":{"$error":"#N/A"}},null,null,null,null,null,null,{"$error":"#N/A"}]
[null,null,{"$f":"VLOOKUP($B665,'Ad Week Dates'!$A:$E,4,FALSE)","v":{"$error":"#N/A"}},{"$f":"VLOOKUP($B665,'Ad Week Dates'!$A:$E,2,FALSE)","v":{"$error":"#N/A"}},{"$f":"VLOOKUP($B665,'Ad Week Dates'!$A:$E,3,FALSE)","v":{"$error":"#N/A"}},null,null,null,null,null,null,{"$error":"#N/A"}]
[null,null,{"$f":"VLOOKUP($B666,'Ad Week Dates'!$A:$E,4,FALSE)","v":{"$error":"#N/A"}},{"$f":"VLOOKUP($B666,'Ad Week Dates'!$A:$E,2,FALSE)","v":{"$error":"#N/A"}},{"$f":"VLOOKUP($B666,'Ad Week Dates'!$A:$E,3,FALSE)","v":{"$error":"#N/A"}},null,null,null,null,null,null,{"$error":"#N/A"}]
[null,null,{"$f":"VLOOKUP($B667,'Ad Week Dates'!$A:$E,4,FALSE)","v":{"$error":"#N/A"}},{"$f":"VLOOKUP($B667,'Ad Week Dates'!$A:$E,2,FALSE)","v":{"$error":"#N/A"}},{"$f":"VLOOKUP($B667,'Ad Week Dates'!$A:$E,3,FALSE)","v":{"$error":"#N/A"}},null,null,null,null,null,null,{"$error":"#N/A"}]
[null,null,{"$f":"VLOOKUP($B668,'Ad Week Dates'!$A:$E,4,FALSE)","v":{"$error":"#N/A"}},{"$f":"VLOOKUP($B668,'Ad Week Dates'!$A:$E,2,FALSE)","v":{"$error":"#N/A"}},{"$f":"VLOOKUP($B668,'Ad Week Dates'!$A:$E,3,FALSE)","v":{"$error":"#N/A"}},null,null,null,null,null,null,{"$error":"#N/A"}]
[null,null,{"$f":"VLOOKUP($B669,'Ad Week Dates'!$A:$E,4,FALSE)","v":{"$error":"#N/A"}},{"$f":"VLOOKUP($B669,'Ad Week Dates'!$A:$E,2,FALSE)","v":{"$error":"#N/A"}},{"$f":"VLOOKUP($B669,'Ad Week Dates'!$A:$E,3,FALSE)","v":{"$error":"#N/A"}},null,null,null,null,null,null,{"$error":"#N/A"}]
[null,null,{"$f":"VLOOKUP($B670,'Ad Week Dates'!$A:$E,4,FALSE)","v":{"$error":"#N/A"}},{"$f":"VLOOKUP($B670,'Ad Week Dates'!$A:$E,2,FALSE)","v":{"$error":"#N/A"}},{"$f":"VLOOKUP($B670,'Ad Week Dates'!$A:$E,3,FALSE)","v":{"$error":"#N/A"}},null,null,null,null,null,null,{"$error":"#N/A"}]
[null,null,{"$f":"VLOOKUP($B671,'Ad Week Dates'!$A:$E,4,FALSE)","v":{"$error":"#N/A"}},{"$f":"VLOOKUP($B671,'Ad Week Dates'!$A:$E,2,FALSE)","v":{"$error":"#N/A"}},{"$f":"VLOOKUP($B671,'Ad Week Dates'!$A:$E,3,FALSE)","v":{"$error":"#N/A"}},null,null,null,null,null,null,{"$error":"#N/A"}]
[null,null,{"$f":"VLOOKUP($B672,'Ad Week Dates'!$A:$E,4,FALSE)","v":{"$error":"#N/A"}},{"$f":"VLOOKUP($B672,'Ad Week Dates'!$A:$E,2,FALSE)","v":{"$error":"#N/A"}},{"$f":"VLOOKUP($B672,'Ad Week Dates'!$A:$E,3,FALSE)","v":{"$error":"#N/A"}},null,null,null,null,null,null,{"$error":"#N/A"}]
[null,null,{"$f":"VLOOKUP($B673,'Ad Week Dates'!$A:$E,4,FALSE)","v":{"$error":"#N/A"}},{"$f":"VLOOKUP($B673,'Ad Week Dates'!$A:$E,2,FALSE)","v":{"$error":"#N/A"}},{"$f":"VLOOKUP($B673,'Ad Week Dates'!$A:$E,3,FALSE)","v":{"$error":"#N/A"}},null,null,null,null,null,null,{"$error":"#N/A"}]
[null,null,{"$f":"VLOOKUP($B674,'Ad Week Dates'!$A:$E,4,FALSE)","v":{"$error":"#N/A"}},{"$f":"VLOOKUP($B674,'Ad Week Dates'!$A:$E,2,FALSE)","v":{"$error":"#N/A"}},{"$f":"VLOOKUP($B674,'Ad Week Dates'!$A:$E,3,FALSE)","v":{"$error":"#N/A"}},null,null,null,null,null,null,{"$error":"#N/A"}]
[null,null,{"$f":"VLOOKUP($B675,'Ad Week Dates'!$A:$E,4,FALSE)","v":{"$error":"#N/A"}},{"$f":"VLOOKUP($B675,'Ad Week Dates'!$A:$E,2,FALSE)","v":{"$error":"#N/A"}},{"$f":"VLOOKUP($B675,'Ad Week Dates'!$A:$E,3,FALSE)","v":{"$error":"#N/A"}},null,null,null,null,null,null,{"$error":"#N/A"}]
[null,null,{"$f":"VLOOKUP($B676,'Ad Week Dates'!$A:$E,4,FALSE)","v":{"$error":"#N/A"}},{"$f":"VLOOKUP($B676,'Ad Week Dates'!$A:$E,2,FALSE)","v":{"$error":"#N/A"}},{"$f":"VLOOKUP($B676,'Ad Week Dates'!$A:$E,3,FALSE)","v":{"$error":"#N/A"}},null,null,null,null,null,null,{"$error":"#N/A"}]
[null,null,{"$f":"VLOOKUP($B677,'Ad Week Dates'!$A:$E,4,FALSE)","v":{"$error":"#N/A"}},{"$f":"VLOOKUP($B677,'Ad Week Dates'!$A:$E,2,FALSE)","v":{"$error":"#N/A"}},{"$f":"VLOOKUP($B677,'Ad Week Dates'!$A:$E,3,FALSE)","v":{"$error":"#N/A"}},null,null,null,null,null,null,{"$error":"#N/A"}]
[null,null,{"$f":"VLOOKUP($B678,'Ad Week Dates'!$A:$E,4,FALSE)","v":{"$error":"#N/A"}},{"$f":"VLOOKUP($B678,'Ad Week Dates'!$A:$E,2,FALSE)","v":{"$error":"#N/A"}},{"$f":"VLOOKUP($B678,'Ad Week Dates'!$A:$E,3,FALSE)","v":{"$error":"#N/A"}},null,null,null,null,null,null,{"$error":"#N/A"}]
[null,null,{"$f":"VLOOKUP($B679,'Ad Week Dates'!$A:$E,4,FALSE)","v":{"$error":"#N/A"}},{"$f":"VLOOKUP($B679,'Ad Week Dates'!$A:$E,2,FALSE)","v":{"$error":"#N/A"}},{"$f":"VLOOKUP($B679,'Ad Week Dates'!$A:$E,3,FALSE)","v":{"$error":"#N/A"}},null,null,null,null,null,null,{"$error":"#N/A"}]
[null,null,{"$f":"VLOOKUP($B680,'Ad Week Dates'!$A:$E,4,FALSE)","v":{"$error":"#N/A"}},{"$f":"VLOOKUP($B680,'Ad Week Dates'!$A:$E,2,FALSE)","v":{"$error":"#N/A"}},{"$f":"VLOOKUP($B680,'Ad Week Dates'!$A:$E,3,FALSE)","v":{"$error":"#N/A"}},null,null,null,null,null,null,{"$error":"#N/A"}]
[null,null,{"$f":"VLOOKUP($B681,'Ad Week Dates'!$A:$E,4,FALSE)","v":{"$error":"#N/A"}},{"$f":"VLOOKUP($B681,'Ad Week Dates'!$A:$E,2,FALSE)","v":{"$error":"#N/A"}},{"$f":"VLOOKUP($B681,'Ad Week Dates'!$A:$E,3,FALSE)","v":{"$error":"#N/A"}},null,null,null,null,null,null,{"$error":"#N/A"}]
[null,null,{"$f":"VLOOKUP($B682,'Ad Week Dates'!$A:$E,4,FALSE)","v":{"$error":"#N/A"}},{"$f":"VLOOKUP($B682,'Ad Week Dates'!$A:$E,2,FALSE)","v":{"$error":"#N/A"}},{"$f":"VLOOKUP($B682,'Ad Week Dates'!$A:$E,3,FALSE)","v":{"$error":"#N/A"}},null,null,null,null,null,null,{"$error":"#N/A"}]
[null,null,{"$f":"VLOOKUP($B683,'Ad Week Dates'!$A:$E,4,FALSE)","v":{"$error":"#N/A"}},{"$f":"VLOOKUP($B683,'Ad Week Dates'!$A:$E,2,FALSE)","v":{"$error":"#N/A"}},{"$f":"VLOOKUP($B683,'Ad Week Dates'!$A:$E,3,FALSE)","v":{"$error":"#N/A"}},null,null,null,null,null,null,{"$error":"#N/A"}]
[null,null,{"$f":"VLOOKUP($B684,'Ad Week Dates'!$A:$E,4,FALSE)","v":{"$error":"#N/A"}},{"$f":"VLOOKUP($B684,'Ad Week Dates'!$A:$E,2,FALSE)","v":{"$error":"#N/A"}},{"$f":"VLOOKUP($B684,'Ad Week Dates'!$A:$E,3,FALSE)","v":{"$error":"#N/A"}},null,null,null,null,null,null,{"$error":"#N/A"}]
[null,null,{"$f":"VLOOKUP($B685,'Ad Week Dates'!$A:$E,4,FALSE)","v":{"$error":"#N/A"}},{"$f":"VLOOKUP($B685,'Ad Week Dates'!$A:$E,2,FALSE)","v":{"$error":"#N/A"}},{"$f":"VLOOKUP($B685,'Ad Week Dates'!$A:$E,3,FALSE)","v":{"$error":"#N/A"}},null,null,null,null,null,null,{"$error":"#N/A"}]
[null,null,{"$f":"VLOOKUP($B686,'Ad Week Dates'!$A:$E,4,FALSE)","v":{"$error":"#N/A"}},{"$f":"VLOOKUP($B686,'Ad Week Dates'!$A:$E,2,FALSE)","v":{"$error":"#N/A"}},{"$f":"VLOOKUP($B686,'Ad Week Dates'!$A:$E,3,FALSE)","v":{"$error":"#N/A"}},null,null,null,null,null,null,{"$error":"#N/A"}]
[null,null,{"$f":"VLOOKUP($B687,'Ad Week Dates'!$A:$E,4,FALSE)","v":{"$error":"#N/A"}},{"$f":"VLOOKUP($B687,'Ad Week Dates'!$A:$E,2,FALSE)","v":{"$error":"#N/A"}},{"$f":"VLOOKUP($B687,'Ad Week Dates'!$A:$E,3,FALSE)","v":{"$error":"#N/A"}},null,null,null,null,null,null,{"$error":"#N/A"}]
[null,null,{"$f":"VLOOKUP($B688,'Ad Week Dates'!$A:$E,4,FALSE)","v":{"$error":"#N/A"}},{"$f":"VLOOKUP($B688,'Ad Week Dates'!$A:$E,2,FALSE)","v":{"$error":"#N/A"}},{"$f":"VLOOKUP($B688,'Ad Week Dates'!$A:$E,3,FALSE)","v":{"$error":"#N/A"}},null,null,null,null,null,null,{"$error":"#N/A"}]
[null,null,{"$f":"VLOOKUP($B689,'Ad Week Dates'!$A:$E,4,FALSE)","v":{"$error":"#N/A"}},{"$f":"VLOOKUP($B689,'Ad Week Dates'!$A:$E,2,FALSE)","v":{"$error":"#N/A"}},{"$f":"VLOOKUP($B689,'Ad Week Dates'!$A:$E,3,FALSE)","v":{"$error":"#N/A"}},null,null,null,null,null,null,{"$error":"#N/A"}]
[null,null,{"$f":"VLOOKUP($B690,'Ad Week Dates'!$A:$E,4,FALSE)","v":{"$error":"#N/A"}},{"$f":"VLOOKUP($B690,'Ad Week Dates'!$A:$E,2,FALSE)","v":{"$error":"#N/A"}},{"$f":"VLOOKUP($B690,'Ad Week Dates'!$A:$E,3,FALSE)","v":{"$error":"#N/A"}},null,null,null,null,null,null,{"$error":"#N/A"}]
[null,null,{"$f":"VLOOKUP($B691,'Ad Week Dates'!$A:$E,4,FALSE)","v":{"$error":"#N/A"}},{"$f":"VLOOKUP($B691,'Ad Week Dates'!$A:$E,2,FALSE)","v":{"$error":"#N/A"}},{"$f":"VLOOKUP($B691,'Ad Week Dates'!$A:$E,3,FALSE)","v":{"$error":"#N/A"}},null,null,null,null,null,null,{"$error":"#N/A"}]
[null,null,{"$f":"VLOOKUP($B692,'Ad Week Dates'!$A:$E,4,FALSE)","v":{"$error":"#N/A"}},{"$f":"VLOOKUP($B692,'Ad Week Dates'!$A:$E,2,FALSE)","v":{"$error":"#N/A"}},{"$f":"VLOOKUP($B692,'Ad Week Dates'!$A:$E,3,FALSE)","v":{"$error":"#N/A"}},null,null,null,null,null,null,{"$error":"#N/A"}]
[null,null,{"$f":"VLOOKUP($B693,'Ad Week Dates'!$A:$E,4,FALSE)","v":{"$error":"#N/A"}},{"$f":"VLOOKUP($B693,'Ad Week Dates'!$A:$E,2,FALSE)","v":{"$error":"#N/A"}},{"$f":"VLOOKUP($B693,'Ad Week Dates'!$A:$E,3,FALSE)","v":{"$error":"#N/A"}},null,null,null,null,null,null,{"$error":"#N/A"}]
[null,null,{"$f":"VLOOKUP($B694,'Ad Week Dates'!$A:$E,4,FALSE)","v":{"$error":"#N/A"}},{"$f":"VLOOKUP($B694,'Ad Week Dates'!$A:$E,2,FALSE)","v":{"$error":"#N/A"}},{"$f":"VLOOKUP($B694,'Ad Week Dates'!$A:$E,3,FALSE)","v":{"$error":"#N/A"}},null,null,null,null,null,null,{"$error":"#N/A"}]
[null,null,{"$f":"VLOOKUP($B695,'Ad Week Dates'!$A:$E,4,FALSE)","v":{"$error":"#N/A"}},{"$f":"VLOOKUP($B695,'Ad Week Dates'!$A:$E,2,FALSE)","v":{"$error":"#N/A"}},{"$f":"VLOOKUP($B695,'Ad Week Dates'!$A:$E,3,FALSE)","v":{"$error":"#N/A"}},null,null,null,null,null,null,{"$error":"#N/A"}]
[null,null,{"$f":"VLOOKUP($B696,'Ad Week Dates'!$A:$E,4,FALSE)","v":{"$error":"#N/A"}},{"$f":"VLOOKUP($B696,'Ad Week Dates'!$A:$E,2,FALSE)","v":{"$error":"#N/A"}},{"$f":"VLOOKUP($B696,'Ad Week Dates'!$A:$E,3,FALSE)","v":{"$error":"#N/A"}},null,null,null,null,null,null,{"$error":"#N/A"}]
[null,null,{"$f":"VLOOKUP($B697,'Ad Week Dates'!$A:$E,4,FALSE)","v":{"$error":"#N/A"}},{"$f":"VLOOKUP($B697,'Ad Week Dates'!$A:$E,2,FALSE)","v":{"$error":"#N/A"}},{"$f":"VLOOKUP($B697,'Ad Week Dates'!$A:$E,3,FALSE)","v":{"$error":"#N/A"}},null,null,null,null,null,null,{"$error":"#N/A"}]
[null,null,{"$f":"VLOOKUP($B698,'Ad Week Dates'!$A:$E,4,FALSE)","v":{"$error":"#N/A"}},{"$f":"VLOOKUP($B698,'Ad Week Dates'!$A:$E,2,FALSE)","v":{"$error":"#N/A"}},{"$f":"VLOOKUP($B698,'Ad Week Dates'!$A:$E,3,FALSE)","v":{"$error":"#N/A"}},null,null,null,null,null,null,{"$error":"#N/A"}]
[null,null,{"$f":"VLOOKUP($B699,'Ad Week Dates'!$A:$E,4,FALSE)","v":{"$error":"#N/A"}},{"$f":"VLOOKUP($B699,'Ad Week Dates'!$A:$E,2,FALSE)","v":{"$error":"#N/A"}},{"$f":"VLOOKUP($B699,'Ad Week Dates'!$A:$E,3,FALSE)","v":{"$error":"#N/A"}},null,null,null,null,null,null,{"$error":"#N/A"}]
[null,null,{"$f":"VLOOKUP($B700,'Ad Week Dates'!$A:$E,4,FALSE)","v":{"$error":"#N/A"}},{"$f":"VLOOKUP($B700,'Ad Week Dates'!$A:$E,2,FALSE)","v":{"$error":"#N/A"}},{"$f":"VLOOKUP($B700,'Ad Week Dates'!$A:$E,3,FALSE)","v":{"$error":"#N/A"}},null,null,null,null,null,null,{"$error":"#N/A"}]
[null,null,{"$f":"VLOOKUP($B701,'Ad Week Dates'!$A:$E,4,FALSE)","v":{"$error":"#N/A"}},{"$f":"VLOOKUP($B701,'Ad Week Dates'!$A:$E,2,FALSE)","v":{"$error":"#N/A"}},{"$f":"VLOOKUP($B701,'Ad Week Dates'!$A:$E,3,FALSE)","v":{"$error":"#N/A"}},null,null,null,null,null,null,{"$error":"#N/A"}]
[null,null,{"$f":"VLOOKUP($B702,'Ad Week Dates'!$A:$E,4,FALSE)","v":{"$error":"#N/A"}},{"$f":"VLOOKUP($B702,'Ad Week Dates'!$A:$E,2,FALSE)","v":{"$error":"#N/A"}},{"$f":"VLOOKUP($B702,'Ad Week Dates'!$A:$E,3,FALSE)","v":{"$error":"#N/A"}},null,null,null,null,null,null,{"$error":"#N/A"}]
[null,null,{"$f":"VLOOKUP($B703,'Ad Week Dates'!$A:$E,4,FALSE)","v":{"$error":"#N/A"}},{"$f":"VLOOKUP($B703,'Ad Week Dates'!$A:$E,2,FALSE)","v":{"$error":"#N/A"}},{"$f":"VLOOKUP($B703,'Ad Week Dates'!$A:$E,3,FALSE)","v":{"$error":"#N/A"}},null,null,null,null,null,null,{"$error":"#N/A"}]
[null,null,{"$f":"VLOOKUP($B704,'Ad Week Dates'!$A:$E,4,FALSE)","v":{"$error":"#N/A"}},{"$f":"VLOOKUP($B704,'Ad Week Dates'!$A:$E,2,FALSE)","v":{"$error":"#N/A"}},{"$f":"VLOOKUP($B704,'Ad Week Dates'!$A:$E,3,FALSE)","v":{"$error":"#N/A"}},null,null,null,null,null,null,{"$error":"#N/A"}]
[null,null,{"$f":"VLOOKUP($B705,'Ad Week Dates'!$A:$E,4,FALSE)","v":{"$error":"#N/A"}},{"$f":"VLOOKUP($B705,'Ad Week Dates'!$A:$E,2,FALSE)","v":{"$error":"#N/A"}},{"$f":"VLOOKUP($B705,'Ad Week Dates'!$A:$E,3,FALSE)","v":{"$error":"#N/A"}},null,null,null,null,null,null,{"$error":"#N/A"}]
[null,null,{"$f":"VLOOKUP($B706,'Ad Week Dates'!$A:$E,4,FALSE)","v":{"$error":"#N/A"}},{"$f":"VLOOKUP($B706,'Ad Week Dates'!$A:$E,2,FALSE)","v":{"$error":"#N/A"}},{"$f":"VLOOKUP($B706,'Ad Week Dates'!$A:$E,3,FALSE)","v":{"$error":"#N/A"}},null,null,null,null,null,null,{"$error":"#N/A"}]
[null,null,{"$f":"VLOOKUP($B707,'Ad Week Dates'!$A:$E,4,FALSE)","v":{"$error":"#N/A"}},{"$f":"VLOOKUP($B707,'Ad Week Dates'!$A:$E,2,FALSE)","v":{"$error":"#N/A"}},{"$f":"VLOOKUP($B707,'Ad Week Dates'!$A:$E,3,FALSE)","v":{"$error":"#N/A"}},null,null,null,null,null,null,{"$error":"#N/A"}]
[null,null,{"$f":"VLOOKUP($B708,'Ad Week Dates'!$A:$E,4,FALSE)","v":{"$error":"#N/A"}},{"$f":"VLOOKUP($B708,'Ad Week Dates'!$A:$E,2,FALSE)","v":{"$error":"#N/A"}},{"$f":"VLOOKUP($B708,'Ad Week Dates'!$A:$E,3,FALSE)","v":{"$error":"#N/A"}},null,null,null,null,null,null,{"$error":"#N/A"}]
[null,null,{"$f":"VLOOKUP($B709,'Ad Week Dates'!$A:$E,4,FALSE)","v":{"$error":"#N/A"}},{"$f":"VLOOKUP($B709,'Ad Week Dates'!$A:$E,2,FALSE)","v":{"$error":"#N/A"}},{"$f":"VLOOKUP($B709,'Ad Week Dates'!$A:$E,3,FALSE)","v":{"$error":"#N/A"}},null,null,null,null,null,null,{"$error":"#N/A"}]
[null,null,{"$f":"VLOOKUP($B710,'Ad Week Dates'!$A:$E,4,FALSE)","v":{"$error":"#N/A"}},{"$f":"VLOOKUP($B710,'Ad Week Dates'!$A:$E,2,FALSE)","v":{"$error":"#N/A"}},{"$f":"VLOOKUP($B710,'Ad Week Dates'!$A:$E,3,FALSE)","v":{"$error":"#N/A"}},null,null,null,null,null,null,{"$f":"IF(ISNUMBER(J710), J710 - K710, VALUE(_xlfn.TEXTBEFORE(J710, \"-\")) - VALUE(_xlfn.TEXTBEFORE(K710, \"-\")))","v":{"$error":"#N/A"}}]
[null,null,{"$f":"VLOOKUP($B711,'Ad Week Dates'!$A:$E,4,FALSE)","v":{"$error":"#N/A"}},{"$f":"VLOOKUP($B711,'Ad Week Dates'!$A:$E,2,FALSE)","v":{"$error":"#N/A"}},{"$f":"VLOOKUP($B711,'Ad Week Dates'!$A:$E,3,FALSE)","v":{"$error":"#N/A"}},null,null,null,null,null,null,{"$error":"#N/A"}]
[null,null,{"$f":"VLOOKUP($B712,'Ad Week Dates'!$A:$E,4,FALSE)","v":{"$error":"#N/A"}},{"$f":"VLOOKUP($B712,'Ad Week Dates'!$A:$E,2,FALSE)","v":{"$error":"#N/A"}},{"$f":"VLOOKUP($B712,'Ad Week Dates'!$A:$E,3,FALSE)","v":{"$error":"#N/A"}},null,null,null,null,null,null,{"$error":"#N/A"}]
[null,null,{"$f":"VLOOKUP($B713,'Ad Week Dates'!$A:$E,4,FALSE)","v":{"$error":"#N/A"}},{"$f":"VLOOKUP($B713,'Ad Week Dates'!$A:$E,2,FALSE)","v":{"$error":"#N/A"}},{"$f":"VLOOKUP($B713,'Ad Week Dates'!$A:$E,3,FALSE)","v":{"$error":"#N/A"}},null,null,null,null,null,null,{"$error":"#N/A"}]
[null,null,{"$f":"VLOOKUP($B714,'Ad Week Dates'!$A:$E,4,FALSE)","v":{"$error":"#N/A"}},{"$f":"VLOOKUP($B714,'Ad Week Dates'!$A:$E,2,FALSE)","v":{"$error":"#N/A"}},{"$f":"VLOOKUP($B714,'Ad Week Dates'!$A:$E,3,FALSE)","v":{"$error":"#N/A"}},null,null,null,null,null,null,{"$error":"#N/A"}]
[null,null,{"$f":"VLOOKUP($B715,'Ad Week Dates'!$A:$E,4,FALSE)","v":{"$error":"#N/A"}},{"$f":"VLOOKUP($B715,'Ad Week Dates'!$A:$E,2,FALSE)","v":{"$error":"#N/A"}},{"$f":"VLOOKUP($B715,'Ad Week Dates'!$A:$E,3,FALSE)","v":{"$error":"#N/A"}},null,null,null,null,null,null,{"$error":"#N/A"}]
[null,null,{"$f":"VLOOKUP($B716,'Ad Week Dates'!$A:$E,4,FALSE)","v":{"$error":"#N/A"}},{"$f":"VLOOKUP($B716,'Ad Week Dates'!$A:$E,2,FALSE)","v":{"$error":"#N/A"}},{"$f":"VLOOKUP($B716,'Ad Week Dates'!$A:$E,3,FALSE)","v":{"$error":"#N/A"}},null,null,null,null,null,null,{"$error":"#N/A"}]
[null,null,{"$f":"VLOOKUP($B717,'Ad Week Dates'!$A:$E,4,FALSE)","v":{"$error":"#N/A"}},{"$f":"VLOOKUP($B717,'Ad Week Dates'!$A:$E,2,FALSE)","v":{"$error":"#N/A"}},{"$f":"VLOOKUP($B717,'Ad Week Dates'!$A:$E,3,FALSE)","v":{"$error":"#N/A"}},null,null,null,null,null,null,{"$error":"#N/A"}]
[null,null,{"$f":"VLOOKUP($B718,'Ad Week Dates'!$A:$E,4,FALSE)","v":{"$error":"#N/A"}},{"$f":"VLOOKUP($B718,'Ad Week Dates'!$A:$E,2,FALSE)","v":{"$error":"#N/A"}},{"$f":"VLOOKUP($B718,'Ad Week Dates'!$A:$E,3,FALSE)","v":{"$error":"#N/A"}},null,null,null,null,null,null,{"$error":"#N/A"}]
[null,null,{"$f":"VLOOKUP($B719,'Ad Week Dates'!$A:$E,4,FALSE)","v":{"$error":"#N/A"}},{"$f":"VLOOKUP($B719,'Ad Week Dates'!$A:$E,2,FALSE)","v":{"$error":"#N/A"}},{"$f":"VLOOKUP($B719,'Ad Week Dates'!$A:$E,3,FALSE)","v":{"$error":"#N/A"}},null,null,null,null,null,null,{"$error":"#N/A"}]
[null,null,{"$f":"VLOOKUP($B720,'Ad Week Dates'!$A:$E,4,FALSE)","v":{"$error":"#N/A"}},{"$f":"VLOOKUP($B720,'Ad Week Dates'!$A:$E,2,FALSE)","v":{"$error":"#N/A"}},{"$f":"VLOOKUP($B720,'Ad Week Dates'!$A:$E,3,FALSE)","v":{"$error":"#N/A"}},null,null,null,null,null,null,{"$error":"#N/A"}]
[null,null,{"$f":"VLOOKUP($B721,'Ad Week Dates'!$A:$E,4,FALSE)","v":{"$error":"#N/A"}},{"$f":"VLOOKUP($B721,'Ad Week Dates'!$A:$E,2,FALSE)","v":{"$error":"#N/A"}},{"$f":"VLOOKUP($B721,'Ad Week Dates'!$A:$E,3,FALSE)","v":{"$error":"#N/A"}},null,null,null,null,null,null,{"$error":"#N/A"}]
[null,null,{"$f":"VLOOKUP($B722,'Ad Week Dates'!$A:$E,4,FALSE)","v":{"$error":"#N/A"}},{"$f":"VLOOKUP($B722,'Ad Week Dates'!$A:$E,2,FALSE)","v":{"$error":"#N/A"}},{"$f":"VLOOKUP($B722,'Ad Week Dates'!$A:$E,3,FALSE)","v":{"$error":"#N/A"}},null,null,null,null,null,null,{"$error":"#N/A"}]
[null,null,{"$f":"VLOOKUP($B723,'Ad Week Dates'!$A:$E,4,FALSE)","v":{"$error":"#N/A"}},{"$f":"VLOOKUP($B723,'Ad Week Dates'!$A:$E,2,FALSE)","v":{"$error":"#N/A"}},{"$f":"VLOOKUP($B723,'Ad Week Dates'!$A:$E,3,FALSE)","v":{"$error":"#N/A"}},null,null,null,null,null,null,{"$error":"#N/A"}]
[null,null,{"$f":"VLOOKUP($B724,'Ad Week Dates'!$A:$E,4,FALSE)","v":{"$error":"#N/A"}},{"$f":"VLOOKUP($B724,'Ad Week Dates'!$A:$E,2,FALSE)","v":{"$error":"#N/A"}},{"$f":"VLOOKUP($B724,'Ad Week Dates'!$A:$E,3,FALSE)","v":{"$error":"#N/A"}},null,null,null,null,null,null,{"$error":"#N/A"}]
[null,null,{"$f":"VLOOKUP($B725,'Ad Week Dates'!$A:$E,4,FALSE)","v":{"$error":"#N/A"}},{"$f":"VLOOKUP($B725,'Ad Week Dates'!$A:$E,2,FALSE)","v":{"$error":"#N/A"}},{"$f":"VLOOKUP($B725,'Ad Week Dates'!$A:$E,3,FALSE)","v":{"$error":"#N/A"}},null,null,null,null,null,null,{"$error":"#N/A"}]
[null,null,{"$f":"VLOOKUP($B726,'Ad Week Dates'!$A:$E,4,FALSE)","v":{"$error":"#N/A"}},{"$f":"VLOOKUP($B726,'Ad Week Dates'!$A:$E,2,FALSE)","v":{"$error":"#N/A"}},{"$f":"VLOOKUP($B726,'Ad Week Dates'!$A:$E,3,FALSE)","v":{"$error":"#N/A"}},null,null,null,null,null,null,{"$error":"#N/A"}]
[null,null,{"$f":"VLOOKUP($B727,'Ad Week Dates'!$A:$E,4,FALSE)","v":{"$error":"#N/A"}},{"$f":"VLOOKUP($B727,'Ad Week Dates'!$A:$E,2,FALSE)","v":{"$error":"#N/A"}},{"$f":"VLOOKUP($B727,'Ad Week Dates'!$A:$E,3,FALSE)","v":{"$error":"#N/A"}},null,null,null,null,null,null,{"$error":"#N/A"}]
[null,null,{"$f":"VLOOKUP($B728,'Ad Week Dates'!$A:$E,4,FALSE)","v":{"$error":"#N/A"}},{"$f":"VLOOKUP($B728,'Ad Week Dates'!$A:$E,2,FALSE)","v":{"$error":"#N/A"}},{"$f":"VLOOKUP($B728,'Ad Week Dates'!$A:$E,3,FALSE)","v":{"$error":"#N/A"}},null,null,null,null,null,null,{"$error":"#N/A"}]
[null,null,{"$f":"VLOOKUP($B729,'Ad Week Dates'!$A:$E,4,FALSE)","v":{"$error":"#N/A"}},{"$f":"VLOOKUP($B729,'Ad Week Dates'!$A:$E,2,FALSE)","v":{"$error":"#N/A"}},{"$f":"VLOOKUP($B729,'Ad Week Dates'!$A:$E,3,FALSE)","v":{"$error":"#N/A"}},null,null,null,null,null,null,{"$error":"#N/A"}]
[null,null,{"$f":"VLOOKUP($B730,'Ad Week Dates'!$A:$E,4,FALSE)","v":{"$error":"#N/A"}},{"$f":"VLOOKUP($B730,'Ad Week Dates'!$A:$E,2,FALSE)","v":{"$error":"#N/A"}},{"$f":"VLOOKUP($B730,'Ad Week Dates'!$A:$E,3,FALSE)","v":{"$error":"#N/A"}},null,null,null,null,null,null,{"$error":"#N/A"}]
[null,null,{"$f":"VLOOKUP($B731,'Ad Week Dates'!$A:$E,4,FALSE)","v":{"$error":"#N/A"}},{"$f":"VLOOKUP($B731,'Ad Week Dates'!$A:$E,2,FALSE)","v":{"$error":"#N/A"}},{"$f":"VLOOKUP($B731,'Ad Week Dates'!$A:$E,3,FALSE)","v":{"$error":"#N/A"}},null,null,null,null,null,null,{"$error":"#N/A"}]
[null,null,{"$f":"VLOOKUP($B732,'Ad Week Dates'!$A:$E,4,FALSE)","v":{"$error":"#N/A"}},{"$f":"VLOOKUP($B732,'Ad Week Dates'!$A:$E,2,FALSE)","v":{"$error":"#N/A"}},{"$f":"VLOOKUP($B732,'Ad Week Dates'!$A:$E,3,FALSE)","v":{"$error":"#N/A"}},null,null,null,null,null,null,{"$error":"#N/A"}]
[null,null,{"$f":"VLOOKUP($B733,'Ad Week Dates'!$A:$E,4,FALSE)","v":{"$error":"#N/A"}},{"$f":"VLOOKUP($B733,'Ad Week Dates'!$A:$E,2,FALSE)","v":{"$error":"#N/A"}},{"$f":"VLOOKUP($B733,'Ad Week Dates'!$A:$E,3,FALSE)","v":{"$error":"#N/A"}},null,null,null,null,null,null,{"$error":"#N/A"}]
[null,null,{"$f":"VLOOKUP($B734,'Ad Week Dates'!$A:$E,4,FALSE)","v":{"$error":"#N/A"}},{"$f":"VLOOKUP($B734,'Ad Week Dates'!$A:$E,2,FALSE)","v":{"$error":"#N/A"}},{"$f":"VLOOKUP($B734,'Ad Week Dates'!$A:$E,3,FALSE)","v":{"$error":"#N/A"}},null,null,null,null,null,null,{"$error":"#N/A"}]
[null,null,{"$f":"VLOOKUP($B735,'Ad Week Dates'!$A:$E,4,FALSE)","v":{"$error":"#N/A"}},{"$f":"VLOOKUP($B735,'Ad Week Dates'!$A:$E,2,FALSE)","v":{"$error":"#N/A"}},{"$f":"VLOOKUP($B735,'Ad Week Dates'!$A:$E,3,FALSE)","v":{"$error":"#N/A"}},null,null,null,null,null,null,{"$error":"#N/A"}]
[null,null,{"$f":"VLOOKUP($B736,'Ad Week Dates'!$A:$E,4,FALSE)","v":{"$error":"#N/A"}},{"$f":"VLOOKUP($B736,'Ad Week Dates'!$A:$E,2,FALSE)","v":{"$error":"#N/A"}},{"$f":"VLOOKUP($B736,'Ad Week Dates'!$A:$E,3,FALSE)","v":{"$error":"#N/A"}},null,null,null,null,null,null,{"$error":"#N/A"}]
[null,null,{"$f":"VLOOKUP($B737,'Ad Week Dates'!$A:$E,4,FALSE)","v":{"$error":"#N/A"}},{"$f":"VLOOKUP($B737,'Ad Week Dates'!$A:$E,2,FALSE)","v":{"$error":"#N/A"}},{"$f":"VLOOKUP($B737,'Ad Week Dates'!$A:$E,3,FALSE)","v":{"$error":"#N/A"}},null,null,null,null,null,null,{"$error":"#N/A"}]
[null,null,{"$f":"VLOOKUP($B738,'Ad Week Dates'!$A:$E,4,FALSE)","v":{"$error":"#N/A"}},{"$f":"VLOOKUP($B738,'Ad Week Dates'!$A:$E,2,FALSE)","v":{"$error":"#N/A"}},{"$f":"VLOOKUP($B738,'Ad Week Dates'!$A:$E,3,FALSE)","v":{"$error":"#N/A"}},null,null,null,null,null,null,{"$error":"#N/A"}]
[null,null,{"$f":"VLOOKUP($B739,'Ad Week Dates'!$A:$E,4,FALSE)","v":{"$error":"#N/A"}},{"$f":"VLOOKUP($B739,'Ad Week Dates'!$A:$E,2,FALSE)","v":{"$error":"#N/A"}},{"$f":"VLOOKUP($B739,'Ad Week Dates'!$A:$E,3,FALSE)","v":{"$error":"#N/A"}},null,null,null,null,null,null,{"$error":"#N/A"}]
[null,null,{"$f":"VLOOKUP($B740,'Ad Week Dates'!$A:$E,4,FALSE)","v":{"$error":"#N/A"}},{"$f":"VLOOKUP($B740,'Ad Week Dates'!$A:$E,2,FALSE)","v":{"$error":"#N/A"}},{"$f":"VLOOKUP($B740,'Ad Week Dates'!$A:$E,3,FALSE)","v":{"$error":"#N/A"}},null,null,null,null,null,null,{"$error":"#N/A"}]
[null,null,{"$f":"VLOOKUP($B741,'Ad Week Dates'!$A:$E,4,FALSE)","v":{"$error":"#N/A"}},{"$f":"VLOOKUP($B741,'Ad Week Dates'!$A:$E,2,FALSE)","v":{"$error":"#N/A"}},{"$f":"VLOOKUP($B741,'Ad Week Dates'!$A:$E,3,FALSE)","v":{"$error":"#N/A"}},null,null,null,null,null,null,{"$error":"#N/A"}]
[null,null,{"$f":"VLOOKUP($B742,'Ad Week Dates'!$A:$E,4,FALSE)","v":{"$error":"#N/A"}},{"$f":"VLOOKUP($B742,'Ad Week Dates'!$A:$E,2,FALSE)","v":{"$error":"#N/A"}},{"$f":"VLOOKUP($B742,'Ad Week Dates'!$A:$E,3,FALSE)","v":{"$error":"#N/A"}},null,null,null,null,null,null,{"$error":"#N/A"}]
[null,null,{"$f":"VLOOKUP($B743,'Ad Week Dates'!$A:$E,4,FALSE)","v":{"$error":"#N/A"}},{"$f":"VLOOKUP($B743,'Ad Week Dates'!$A:$E,2,FALSE)","v":{"$error":"#N/A"}},{"$f":"VLOOKUP($B743,'Ad Week Dates'!$A:$E,3,FALSE)","v":{"$error":"#N/A"}},null,null,null,null,null,null,{"$error":"#N/A"}]
[null,null,{"$f":"VLOOKUP($B744,'Ad Week Dates'!$A:$E,4,FALSE)","v":{"$error":"#N/A"}},{"$f":"VLOOKUP($B744,'Ad Week Dates'!$A:$E,2,FALSE)","v":{"$error":"#N/A"}},{"$f":"VLOOKUP($B744,'Ad Week Dates'!$A:$E,3,FALSE)","v":{"$error":"#N/A"}},null,null,null,null,null,null,{"$error":"#N/A"}]
[null,null,{"$f":"VLOOKUP($B745,'Ad Week Dates'!$A:$E,4,FALSE)","v":{"$error":"#N/A"}},{"$f":"VLOOKUP($B745,'Ad Week Dates'!$A:$E,2,FALSE)","v":{"$error":"#N/A"}},{"$f":"VLOOKUP($B745,'Ad Week Dates'!$A:$E,3,FALSE)","v":{"$error":"#N/A"}},null,null,null,null,null,null,{"$error":"#N/A"}]
[null,null,{"$f":"VLOOKUP($B746,'Ad Week Dates'!$A:$E,4,FALSE)","v":{"$error":"#N/A"}},{"$f":"VLOOKUP($B746,'Ad Week Dates'!$A:$E,2,FALSE)","v":{"$error":"#N/A"}},{"$f":"VLOOKUP($B746,'Ad Week Dates'!$A:$E,3,FALSE)","v":{"$error":"#N/A"}},null,null,null,null,null,null,{"$error":"#N/A"}]
[null,null,{"$f":"VLOOKUP($B747,'Ad Week Dates'!$A:$E,4,FALSE)","v":{"$error":"#N/A"}},{"$f":"VLOOKUP($B747,'Ad Week Dates'!$A:$E,2,FALSE)","v":{"$error":"#N/A"}},{"$f":"VLOOKUP($B747,'Ad Week Dates'!$A:$E,3,FALSE)","v":{"$error":"#N/A"}},null,null,null,null,null,null,{"$error":"#N/A"}]
[null,null,{"$f":"VLOOKUP($B748,'Ad Week Dates'!$A:$E,4,FALSE)","v":{"$error":"#N/A"}},{"$f":"VLOOKUP($B748,'Ad Week Dates'!$A:$E,2,FALSE)","v":{"$error":"#N/A"}},{"$f":"VLOOKUP($B748,'Ad Week Dates'!$A:$E,3,FALSE)","v":{"$error":"#N/A"}},null,null,null,null,null,null,{"$error":"#N/A"}]
[null,null,{"$f":"VLOOKUP($B749,'Ad Week Dates'!$A:$E,4,FALSE)","v":{"$error":"#N/A"}},{"$f":"VLOOKUP($B749,'Ad Week Dates'!$A:$E,2,FALSE)","v":{"$error":"#N/A"}},{"$f":"VLOOKUP($B749,'Ad Week Dates'!$A:$E,3,FALSE)","v":{"$error":"#N/A"}},null,null,null,null,null,null,{"$error":"#N/A"}]
[null,null,{"$f":"VLOOKUP($B750,'Ad Week Dates'!$A:$E,4,FALSE)","v":{"$error":"#N/A"}},{"$f":"VLOOKUP($B750,'Ad Week Dates'!$A:$E,2,FALSE)","v":{"$error":"#N/A"}},{"$f":"VLOOKUP($B750,'Ad Week Dates'!$A:$E,3,FALSE)","v":{"$error":"#N/A"}},null,null,null,null,null,null,{"$error":"#N/A"}]
[null,null,{"$f":"VLOOKUP($B751,'Ad Week Dates'!$A:$E,4,FALSE)","v":{"$error":"#N/A"}},{"$f":"VLOOKUP($B751,'Ad Week Dates'!$A:$E,2,FALSE)","v":{"$error":"#N/A"}},{"$f":"VLOOKUP($B751,'Ad Week Dates'!$A:$E,3,FALSE)","v":{"$error":"#N/A"}},null,null,null,null,null,null,{"$error":"#N/A"}]
[null,null,{"$f":"VLOOKUP($B752,'Ad Week Dates'!$A:$E,4,FALSE)","v":{"$error":"#N/A"}},{"$f":"VLOOKUP($B752,'Ad Week Dates'!$A:$E,2,FALSE)","v":{"$error":"#N/A"}},{"$f":"VLOOKUP($B752,'Ad Week Dates'!$A:$E,3,FALSE)","v":{"$error":"#N/A"}},null,null,null,null,null,null,{"$error":"#N/A"}]
[null,null,{"$f":"VLOOKUP($B753,'Ad Week Dates'!$A:$E,4,FALSE)","v":{"$error":"#N/A"}},{"$f":"VLOOKUP($B753,'Ad Week Dates'!$A:$E,2,FALSE)","v":{"$error":"#N/A"}},{"$f":"VLOOKUP($B753,'Ad Week Dates'!$A:$E,3,FALSE)","v":{"$error":"#N/A"}},null,null,null,null,null,null,{"$error":"#N/A"}]
[null,null,{"$f":"VLOOKUP($B754,'Ad Week Dates'!$A:$E,4,FALSE)","v":{"$error":"#N/A"}},{"$f":"VLOOKUP($B754,'Ad Week Dates'!$A:$E,2,FALSE)","v":{"$error":"#N/A"}},{"$f":"VLOOKUP($B754,'Ad Week Dates'!$A:$E,3,FALSE)","v":{"$error":"#N/A"}},null,null,null,null,null,null,{"$error":"#N/A"}]
[null,null,{"$f":"VLOOKUP($B755,'Ad Week Dates'!$A:$E,4,FALSE)","v":{"$error":"#N/A"}},{"$f":"VLOOKUP($B755,'Ad Week Dates'!$A:$E,2,FALSE)","v":{"$error":"#N/A"}},{"$f":"VLOOKUP($B755,'Ad Week Dates'!$A:$E,3,FALSE)","v":{"$error":"#N/A"}},null,null,null,null,null,null,{"$error":"#N/A"}]
[null,null,{"$f":"VLOOKUP($B756,'Ad Week Dates'!$A:$E,4,FALSE)","v":{"$error":"#N/A"}},{"$f":"VLOOKUP($B756,'Ad Week Dates'!$A:$E,2,FALSE)","v":{"$error":"#N/A"}},{"$f":"VLOOKUP($B756,'Ad Week Dates'!$A:$E,3,FALSE)","v":{"$error":"#N/A"}},null,null,null,null,null,null,{"$error":"#N/A"}]
[null,null,{"$f":"VLOOKUP($B757,'Ad Week Dates'!$A:$E,4,FALSE)","v":{"$error":"#N/A"}},{"$f":"VLOOKUP($B757,'Ad Week Dates'!$A:$E,2,FALSE)","v":{"$error":"#N/A"}},{"$f":"VLOOKUP($B757,'Ad Week Dates'!$A:$E,3,FALSE)","v":{"$error":"#N/A"}},null,null,null,null,null,null,{"$error":"#N/A"}]
[null,null,{"$f":"VLOOKUP($B758,'Ad Week Dates'!$A:$E,4,FALSE)","v":{"$error":"#N/A"}},{"$f":"VLOOKUP($B758,'Ad Week Dates'!$A:$E,2,FALSE)","v":{"$error":"#N/A"}},{"$f":"VLOOKUP($B758,'Ad Week Dates'!$A:$E,3,FALSE)","v":{"$error":"#N/A"}},null,null,null,null,null,null,{"$error":"#N/A"}]
[null,null,{"$f":"VLOOKUP($B759,'Ad Week Dates'!$A:$E,4,FALSE)","v":{"$error":"#N/A"}},{"$f":"VLOOKUP($B759,'Ad Week Dates'!$A:$E,2,FALSE)","v":{"$error":"#N/A"}},{"$f":"VLOOKUP($B759,'Ad Week Dates'!$A:$E,3,FALSE)","v":{"$error":"#N/A"}},null,null,null,null,null,null,{"$error":"#N/A"}]
[null,null,{"$f":"VLOOKUP($B760,'Ad Week Dates'!$A:$E,4,FALSE)","v":{"$error":"#N/A"}},{"$f":"VLOOKUP($B760,'Ad Week Dates'!$A:$E,2,FALSE)","v":{"$error":"#N/A"}},{"$f":"VLOOKUP($B760,'Ad Week Dates'!$A:$E,3,FALSE)","v":{"$error":"#N/A"}},null,null,null,null,null,null,{"$error":"#N/A"}]
[null,null,{"$f":"VLOOKUP($B761,'Ad Week Dates'!$A:$E,4,FALSE)","v":{"$error":"#N/A"}},{"$f":"VLOOKUP($B761,'Ad Week Dates'!$A:$E,2,FALSE)","v":{"$error":"#N/A"}},{"$f":"VLOOKUP($B761,'Ad Week Dates'!$A:$E,3,FALSE)","v":{"$error":"#N/A"}},null,null,null,null,null,null,{"$error":"#N/A"}]
[null,null,{"$f":"VLOOKUP($B762,'Ad Week Dates'!$A:$E,4,FALSE)","v":{"$error":"#N/A"}},{"$f":"VLOOKUP($B762,'Ad Week Dates'!$A:$E,2,FALSE)","v":{"$error":"#N/A"}},{"$f":"VLOOKUP($B762,'Ad Week Dates'!$A:$E,3,FALSE)","v":{"$error":"#N/A"}},null,null,null,null,null,null,{"$error":"#N/A"}]
[null,null,{"$f":"VLOOKUP($B763,'Ad Week Dates'!$A:$E,4,FALSE)","v":{"$error":"#N/A"}},{"$f":"VLOOKUP($B763,'Ad Week Dates'!$A:$E,2,FALSE)","v":{"$error":"#N/A"}},{"$f":"VLOOKUP($B763,'Ad Week Dates'!$A:$E,3,FALSE)","v":{"$error":"#N/A"}},null,null,null,null,null,null,{"$error":"#N/A"}]
[null,null,{"$f":"VLOOKUP($B764,'Ad Week Dates'!$A:$E,4,FALSE)","v":{"$error":"#N/A"}},{"$f":"VLOOKUP($B764,'Ad Week Dates'!$A:$E,2,FALSE)","v":{"$error":"#N/A"}},{"$f":"VLOOKUP($B764,'Ad Week Dates'!$A:$E,3,FALSE)","v":{"$error":"#N/A"}},null,null,null,null,null,null,{"$error":"#N/A"}]
[null,null,{"$f":"VLOOKUP($B765,'Ad Week Dates'!$A:$E,4,FALSE)","v":{"$error":"#N/A"}},{"$f":"VLOOKUP($B765,'Ad Week Dates'!$A:$E,2,FALSE)","v":{"$error":"#N/A"}},{"$f":"VLOOKUP($B765,'Ad Week Dates'!$A:$E,3,FALSE)","v":{"$error":"#N/A"}},null,null,null,null,null,null,{"$error":"#N/A"}]
[null,null,{"$f":"VLOOKUP($B766,'Ad Week Dates'!$A:$E,4,FALSE)","v":{"$error":"#N/A"}},{"$f":"VLOOKUP($B766,'Ad Week Dates'!$A:$E,2,FALSE)","v":{"$error":"#N/A"}},{"$f":"VLOOKUP($B766,'Ad Week Dates'!$A:$E,3,FALSE)","v":{"$error":"#N/A"}},null,null,null,null,null,null,{"$error":"#N/A"}]
[null,null,{"$f":"VLOOKUP($B767,'Ad Week Dates'!$A:$E,4,FALSE)","v":{"$error":"#N/A"}},{"$f":"VLOOKUP($B767,'Ad Week Dates'!$A:$E,2,FALSE)","v":{"$error":"#N/A"}},{"$f":"VLOOKUP($B767,'Ad Week Dates'!$A:$E,3,FALSE)","v":{"$error":"#N/A"}},null,null,null,null,null,null,{"$error":"#N/A"}]
[null,null,{"$f":"VLOOKUP($B768,'Ad Week Dates'!$A:$E,4,FALSE)","v":{"$error":"#N/A"}},{"$f":"VLOOKUP($B768,'Ad Week Dates'!$A:$E,2,FALSE)","v":{"$error":"#N/A"}},{"$f":"VLOOKUP($B768,'Ad Week Dates'!$A:$E,3,FALSE)","v":{"$error":"#N/A"}},null,null,null,null,null,null,{"$error":"#N/A"}]
[null,null,{"$f":"VLOOKUP($B769,'Ad Week Dates'!$A:$E,4,FALSE)","v":{"$error":"#N/A"}},{"$f":"VLOOKUP($B769,'Ad Week Dates'!$A:$E,2,FALSE)","v":{"$error":"#N/A"}},{"$f":"VLOOKUP($B769,'Ad Week Dates'!$A:$E,3,FALSE)","v":{"$error":"#N/A"}},null,null,null,null,null,null,{"$error":"#N/A"}]
[null,null,{"$f":"VLOOKUP($B770,'Ad Week Dates'!$A:$E,4,FALSE)","v":{"$error":"#N/A"}},{"$f":"VLOOKUP($B770,'Ad Week Dates'!$A:$E,2,FALSE)","v":{"$error":"#N/A"}},{"$f":"VLOOKUP($B770,'Ad Week Dates'!$A:$E,3,FALSE)","v":{"$error":"#N/A"}},null,null,null,null,null,null,{"$error":"#N/A"}]
[null,null,{"$f":"VLOOKUP($B771,'Ad Week Dates'!$A:$E,4,FALSE)","v":{"$error":"#N/A"}},{"$f":"VLOOKUP($B771,'Ad Week Dates'!$A:$E,2,FALSE)","v":{"$error":"#N/A"}},{"$f":"VLOOKUP($B771,'Ad Week Dates'!$A:$E,3,FALSE)","v":{"$error":"#N/A"}},null,null,null,null,null,null,{"$error":"#N/A"}]
[null,null,{"$f":"VLOOKUP($B772,'Ad Week Dates'!$A:$E,4,FALSE)","v":{"$error":"#N/A"}},{"$f":"VLOOKUP($B772,'Ad Week Dates'!$A:$E,2,FALSE)","v":{"$error":"#N/A"}},{"$f":"VLOOKUP($B772,'Ad Week Dates'!$A:$E,3,FALSE)","v":{"$error":"#N/A"}},null,null,null,null,null,null,{"$error":"#N/A"}]
[null,null,{"$f":"VLOOKUP($B773,'Ad Week Dates'!$A:$E,4,FALSE)","v":{"$error":"#N/A"}},{"$f":"VLOOKUP($B773,'Ad Week Dates'!$A:$E,2,FALSE)","v":{"$error":"#N/A"}},{"$f":"VLOOKUP($B773,'Ad Week Dates'!$A:$E,3,FALSE)","v":{"$error":"#N/A"}},null,null,null,null,null,null,{"$error":"#N/A"}]
[null,null,{"$f":"VLOOKUP($B774,'Ad Week Dates'!$A:$E,4,FALSE)","v":{"$error":"#N/A"}},{"$f":"VLOOKUP($B774,'Ad Week Dates'!$A:$E,2,FALSE)","v":{"$error":"#N/A"}},{"$f":"VLOOKUP($B774,'Ad Week Dates'!$A:$E,3,FALSE)","v":{"$error":"#N/A"}},null,null,null,null,null,null,{"$f":"IF(ISNUMBER(J774), J774 - K774, VALUE(_xlfn.TEXTBEFORE(J774, \"-\")) - VALUE(_xlfn.TEXTBEFORE(K774, \"-\")))","v":{"$error":"#N/A"}}]
[null,null,{"$f":"VLOOKUP($B775,'Ad Week Dates'!$A:$E,4,FALSE)","v":{"$error":"#N/A"}},{"$f":"VLOOKUP($B775,'Ad Week Dates'!$A:$E,2,FALSE)","v":{"$error":"#N/A"}},{"$f":"VLOOKUP($B775,'Ad Week Dates'!$A:$E,3,FALSE)","v":{"$error":"#N/A"}},null,null,null,null,null,null,{"$error":"#N/A"}]
[null,null,{"$f":"VLOOKUP($B776,'Ad Week Dates'!$A:$E,4,FALSE)","v":{"$error":"#N/A"}},{"$f":"VLOOKUP($B776,'Ad Week Dates'!$A:$E,2,FALSE)","v":{"$error":"#N/A"}},{"$f":"VLOOKUP($B776,'Ad Week Dates'!$A:$E,3,FALSE)","v":{"$error":"#N/A"}},null,null,null,null,null,null,{"$error":"#N/A"}]
[null,null,{"$f":"VLOOKUP($B777,'Ad Week Dates'!$A:$E,4,FALSE)","v":{"$error":"#N/A"}},{"$f":"VLOOKUP($B777,'Ad Week Dates'!$A:$E,2,FALSE)","v":{"$error":"#N/A"}},{"$f":"VLOOKUP($B777,'Ad Week Dates'!$A:$E,3,FALSE)","v":{"$error":"#N/A"}},null,null,null,null,null,null,{"$error":"#N/A"}]
[null,null,{"$f":"VLOOKUP($B778,'Ad Week Dates'!$A:$E,4,FALSE)","v":{"$error":"#N/A"}},{"$f":"VLOOKUP($B778,'Ad Week Dates'!$A:$E,2,FALSE)","v":{"$error":"#N/A"}},{"$f":"VLOOKUP($B778,'Ad Week Dates'!$A:$E,3,FALSE)","v":{"$error":"#N/A"}},null,null,null,null,null,null,{"$error":"#N/A"}]
[null,null,{"$f":"VLOOKUP($B779,'Ad Week Dates'!$A:$E,4,FALSE)","v":{"$error":"#N/A"}},{"$f":"VLOOKUP($B779,'Ad Week Dates'!$A:$E,2,FALSE)","v":{"$error":"#N/A"}},{"$f":"VLOOKUP($B779,'Ad Week Dates'!$A:$E,3,FALSE)","v":{"$error":"#N/A"}},null,null,null,null,null,null,{"$error":"#N/A"}]
[null,null,{"$f":"VLOOKUP($B780,'Ad Week Dates'!$A:$E,4,FALSE)","v":{"$error":"#N/A"}},{"$f":"VLOOKUP($B780,'Ad Week Dates'!$A:$E,2,FALSE)","v":{"$error":"#N/A"}},{"$f":"VLOOKUP($B780,'Ad Week Dates'!$A:$E,3,FALSE)","v":{"$error":"#N/A"}},null,null,null,null,null,null,{"$error":"#N/A"}]
[null,null,{"$f":"VLOOKUP($B781,'Ad Week Dates'!$A:$E,4,FALSE)","v":{"$error":"#N/A"}},{"$f":"VLOOKUP($B781,'Ad Week Dates'!$A:$E,2,FALSE)","v":{"$error":"#N/A"}},{"$f":"VLOOKUP($B781,'Ad Week Dates'!$A:$E,3,FALSE)","v":{"$error":"#N/A"}},null,null,null,null,null,null,{"$error":"#N/A"}]
[null,null,{"$f":"VLOOKUP($B782,'Ad Week Dates'!$A:$E,4,FALSE)","v":{"$error":"#N/A"}},{"$f":"VLOOKUP($B782,'Ad Week Dates'!$A:$E,2,FALSE)","v":{"$error":"#N/A"}},{"$f":"VLOOKUP($B782,'Ad Week Dates'!$A:$E,3,FALSE)","v":{"$error":"#N/A"}},null,null,null,null,null,null,{"$error":"#N/A"}]
[null,null,{"$f":"VLOOKUP($B783,'Ad Week Dates'!$A:$E,4,FALSE)","v":{"$error":"#N/A"}},{"$f":"VLOOKUP($B783,'Ad Week Dates'!$A:$E,2,FALSE)","v":{"$error":"#N/A"}},{"$f":"VLOOKUP($B783,'Ad Week Dates'!$A:$E,3,FALSE)","v":{"$error":"#N/A"}},null,null,null,null,null,null,{"$error":"#N/A"}]
[null,null,{"$f":"VLOOKUP($B784,'Ad Week Dates'!$A:$E,4,FALSE)","v":{"$error":"#N/A"}},{"$f":"VLOOKUP($B784,'Ad Week Dates'!$A:$E,2,FALSE)","v":{"$error":"#N/A"}},{"$f":"VLOOKUP($B784,'Ad Week Dates'!$A:$E,3,FALSE)","v":{"$error":"#N/A"}},null,null,null,null,null,null,{"$error":"#N/A"}]
[null,null,{"$f":"VLOOKUP($B785,'Ad Week Dates'!$A:$E,4,FALSE)","v":{"$error":"#N/A"}},{"$f":"VLOOKUP($B785,'Ad Week Dates'!$A:$E,2,FALSE)","v":{"$error":"#N/A"}},{"$f":"VLOOKUP($B785,'Ad Week Dates'!$A:$E,3,FALSE)","v":{"$error":"#N/A"}},null,null,null,null,null,null,{"$error":"#N/A"}]
[null,null,{"$f":"VLOOKUP($B786,'Ad Week Dates'!$A:$E,4,FALSE)","v":{"$error":"#N/A"}},{"$f":"VLOOKUP($B786,'Ad Week Dates'!$A:$E,2,FALSE)","v":{"$error":"#N/A"}},{"$f":"VLOOKUP($B786,'Ad Week Dates'!$A:$E,3,FALSE)","v":{"$error":"#N/A"}},null,null,null,null,null,null,{"$error":"#N/A"}]
[null,null,{"$f":"VLOOKUP($B787,'Ad Week Dates'!$A:$E,4,FALSE)","v":{"$error":"#N/A"}},{"$f":"VLOOKUP($B787,'Ad Week Dates'!$A:$E,2,FALSE)","v":{"$error":"#N/A"}},{"$f":"VLOOKUP($B787,'Ad Week Dates'!$A:$E,3,FALSE)","v":{"$error":"#N/A"}},null,null,null,null,null,null,{"$error":"#N/A"}]
[null,null,{"$f":"VLOOKUP($B788,'Ad Week Dates'!$A:$E,4,FALSE)","v":{"$error":"#N/A"}},{"$f":"VLOOKUP($B788,'Ad Week Dates'!$A:$E,2,FALSE)","v":{"$error":"#N/A"}},{"$f":"VLOOKUP($B788,'Ad Week Dates'!$A:$E,3,FALSE)","v":{"$error":"#N/A"}},null,null,null,null,null,null,{"$error":"#N/A"}]
[null,null,{"$f":"VLOOKUP($B789,'Ad Week Dates'!$A:$E,4,FALSE)","v":{"$error":"#N/A"}},{"$f":"VLOOKUP($B789,'Ad Week Dates'!$A:$E,2,FALSE)","v":{"$error":"#N/A"}},{"$f":"VLOOKUP($B789,'Ad Week Dates'!$A:$E,3,FALSE)","v":{"$error":"#N/A"}},null,null,null,null,null,null,{"$error":"#N/A"}]
[null,null,{"$f":"VLOOKUP($B790,'Ad Week Dates'!$A:$E,4,FALSE)","v":{"$error":"#N/A"}},{"$f":"VLOOKUP($B790,'Ad Week Dates'!$A:$E,2,FALSE)","v":{"$error":"#N/A"}},{"$f":"VLOOKUP($B790,'Ad Week Dates'!$A:$E,3,FALSE)","v":{"$error":"#N/A"}},null,null,null,null,null,null,{"$error":"#N/A"}]
[null,null,{"$f":"VLOOKUP($B791,'Ad Week Dates'!$A:$E,4,FALSE)","v":{"$error":"#N/A"}},{"$f":"VLOOKUP($B791,'Ad Week Dates'!$A:$E,2,FALSE)","v":{"$error":"#N/A"}},{"$f":"VLOOKUP($B791,'Ad Week Dates'!$A:$E,3,FALSE)","v":{"$error":"#N/A"}},null,null,null,null,null,null,{"$error":"#N/A"}]
[null,null,{"$f":"VLOOKUP($B792,'Ad Week Dates'!$A:$E,4,FALSE)","v":{"$error":"#N/A"}},{"$f":"VLOOKUP($B792,'Ad Week Dates'!$A:$E,2,FALSE)","v":{"$error":"#N/A"}},{"$f":"VLOOKUP($B792,'Ad Week Dates'!$A:$E,3,FALSE)","v":{"$error":"#N/A"}},null,null,null,null,null,null,{"$error":"#N/A"}]
[null,null,{"$f":"VLOOKUP($B793,'Ad Week Dates'!$A:$E,4,FALSE)","v":{"$error":"#N/A"}},{"$f":"VLOOKUP($B793,'Ad Week Dates'!$A:$E,2,FALSE)","v":{"$error":"#N/A"}},{"$f":"VLOOKUP($B793,'Ad Week Dates'!$A:$E,3,FALSE)","v":{"$error":"#N/A"}},null,null,null,null,null,null,{"$error":"#N/A"}]
[null,null,{"$f":"VLOOKUP($B794,'Ad Week Dates'!$A:$E,4,FALSE)","v":{"$error":"#N/A"}},{"$f":"VLOOKUP($B794,'Ad Week Dates'!$A:$E,2,FALSE)","v":{"$error":"#N/A"}},{"$f":"VLOOKUP($B794,'Ad Week Dates'!$A:$E,3,FALSE)","v":{"$error":"#N/A"}},null,null,null,null,null,null,{"$error":"#N/A"}]
[null,null,{"$f":"VLOOKUP($B795,'Ad Week Dates'!$A:$E,4,FALSE)","v":{"$error":"#N/A"}},{"$f":"VLOOKUP($B795,'Ad Week Dates'!$A:$E,2,FALSE)","v":{"$error":"#N/A"}},{"$f":"VLOOKUP($B795,'Ad Week Dates'!$A:$E,3,FALSE)","v":{"$error":"#N/A"}},null,null,null,null,null,null,{"$error":"#N/A"}]
[null,null,{"$f":"VLOOKUP($B796,'Ad Week Dates'!$A:$E,4,FALSE)","v":{"$error":"#N/A"}},{"$f":"VLOOKUP($B796,'Ad Week Dates'!$A:$E,2,FALSE)","v":{"$error":"#N/A"}},{"$f":"VLOOKUP($B796,'Ad Week Dates'!$A:$E,3,FALSE)","v":{"$error":"#N/A"}},null,null,null,null,null,null,{"$error":"#N/A"}]
[null,null,{"$f":"VLOOKUP($B797,'Ad Week Dates'!$A:$E,4,FALSE)","v":{"$error":"#N/A"}},{"$f":"VLOOKUP($B797,'Ad Week Dates'!$A:$E,2,FALSE)","v":{"$error":"#N/A"}},{"$f":"VLOOKUP($B797,'Ad Week Dates'!$A:$E,3,FALSE)","v":{"$error":"#N/A"}},null,null,null,null,null,null,{"$error":"#N/A"}]
[null,null,{"$f":"VLOOKUP($B798,'Ad Week Dates'!$A:$E,4,FALSE)","v":{"$error":"#N/A"}},{"$f":"VLOOKUP($B798,'Ad Week Dates'!$A:$E,2,FALSE)","v":{"$error":"#N/A"}},{"$f":"VLOOKUP($B798,'Ad Week Dates'!$A:$E,3,FALSE)","v":{"$error":"#N/A"}},null,null,null,null,null,null,{"$error":"#N/A"}]
[null,null,{"$f":"VLOOKUP($B799,'Ad Week Dates'!$A:$E,4,FALSE)","v":{"$error":"#N/A"}},{"$f":"VLOOKUP($B799,'Ad Week Dates'!$A:$E,2,FALSE)","v":{"$error":"#N/A"}},{"$f":"VLOOKUP($B799,'Ad Week Dates'!$A:$E,3,FALSE)","v":{"$error":"#N/A"}},null,null,null,null,null,null,{"$error":"#N/A"}]
[null,null,{"$f":"VLOOKUP($B800,'Ad Week Dates'!$A:$E,4,FALSE)","v":{"$error":"#N/A"}},{"$f":"VLOOKUP($B800,'Ad Week Dates'!$A:$E,2,FALSE)","v":{"$error":"#N/A"}},{"$f":"VLOOKUP($B800,'Ad Week Dates'!$A:$E,3,FALSE)","v":{"$error":"#N/A"}},null,null,null,null,null,null,{"$error":"#N/A"}]
[null,null,{"$f":"VLOOKUP($B801,'Ad Week Dates'!$A:$E,4,FALSE)","v":{"$error":"#N/A"}},{"$f":"VLOOKUP($B801,'Ad Week Dates'!$A:$E,2,FALSE)","v":{"$error":"#N/A"}},{"$f":"VLOOKUP($B801,'Ad Week Dates'!$A:$E,3,FALSE)","v":{"$error":"#N/A"}},null,null,null,null,null,null,{"$error":"#N/A"}]
[null,null,{"$f":"VLOOKUP($B802,'Ad Week Dates'!$A:$E,4,FALSE)","v":{"$error":"#N/A"}},{"$f":"VLOOKUP($B802,'Ad Week Dates'!$A:$E,2,FALSE)","v":{"$error":"#N/A"}},{"$f":"VLOOKUP($B802,'Ad Week Dates'!$A:$E,3,FALSE)","v":{"$error":"#N/A"}},null,null,null,null,null,null,{"$error":"#N/A"}]
[null,null,{"$f":"VLOOKUP($B803,'Ad Week Dates'!$A:$E,4,FALSE)","v":{"$error":"#N/A"}},{"$f":"VLOOKUP($B803,'Ad Week Dates'!$A:$E,2,FALSE)","v":{"$error":"#N/A"}},{"$f":"VLOOKUP($B803,'Ad Week Dates'!$A:$E,3,FALSE)","v":{"$error":"#N/A"}},null,null,null,null,null,null,{"$error":"#N/A"}]
[null,null,{"$f":"VLOOKUP($B804,'Ad Week Dates'!$A:$E,4,FALSE)","v":{"$error":"#N/A"}},{"$f":"VLOOKUP($B804,'Ad Week Dates'!$A:$E,2,FALSE)","v":{"$error":"#N/A"}},{"$f":"VLOOKUP($B804,'Ad Week Dates'!$A:$E,3,FALSE)","v":{"$error":"#N/A"}},null,null,null,null,null,null,{"$error":"#N/A"}]
[null,null,{"$f":"VLOOKUP($B805,'Ad Week Dates'!$A:$E,4,FALSE)","v":{"$error":"#N/A"}},{"$f":"VLOOKUP($B805,'Ad Week Dates'!$A:$E,2,FALSE)","v":{"$error":"#N/A"}},{"$f":"VLOOKUP($B805,'Ad Week Dates'!$A:$E,3,FALSE)","v":{"$error":"#N/A"}},null,null,null,null,null,null,{"$error":"#N/A"}]
[null,null,{"$f":"VLOOKUP($B806,'Ad Week Dates'!$A:$E,4,FALSE)","v":{"$error":"#N/A"}},{"$f":"VLOOKUP($B806,'Ad Week Dates'!$A:$E,2,FALSE)","v":{"$error":"#N/A"}},{"$f":"VLOOKUP($B806,'Ad Week Dates'!$A:$E,3,FALSE)","v":{"$error":"#N/A"}},null,null,null,null,null,null,{"$error":"#N/A"}]
[null,null,{"$f":"VLOOKUP($B807,'Ad Week Dates'!$A:$E,4,FALSE)","v":{"$error":"#N/A"}},{"$f":"VLOOKUP($B807,'Ad Week Dates'!$A:$E,2,FALSE)","v":{"$error":"#N/A"}},{"$f":"VLOOKUP($B807,'Ad Week Dates'!$A:$E,3,FALSE)","v":{"$error":"#N/A"}},null,null,null,null,null,null,{"$error":"#N/A"}]
[null,null,{"$f":"VLOOKUP($B808,'Ad Week Dates'!$A:$E,4,FALSE)","v":{"$error":"#N/A"}},{"$f":"VLOOKUP($B808,'Ad Week Dates'!$A:$E,2,FALSE)","v":{"$error":"#N/A"}},{"$f":"VLOOKUP($B808,'Ad Week Dates'!$A:$E,3,FALSE)","v":{"$error":"#N/A"}},null,null,null,null,null,null,{"$error":"#N/A"}]
[null,null,{"$f":"VLOOKUP($B809,'Ad Week Dates'!$A:$E,4,FALSE)","v":{"$error":"#N/A"}},{"$f":"VLOOKUP($B809,'Ad Week Dates'!$A:$E,2,FALSE)","v":{"$error":"#N/A"}},{"$f":"VLOOKUP($B809,'Ad Week Dates'!$A:$E,3,FALSE)","v":{"$error":"#N/A"}},null,null,null,null,null,null,{"$error":"#N/A"}]
[null,null,{"$f":"VLOOKUP($B810,'Ad Week Dates'!$A:$E,4,FALSE)","v":{"$error":"#N/A"}},{"$f":"VLOOKUP($B810,'Ad Week Dates'!$A:$E,2,FALSE)","v":{"$error":"#N/A"}},{"$f":"VLOOKUP($B810,'Ad Week Dates'!$A:$E,3,FALSE)","v":{"$error":"#N/A"}},null,null,null,null,null,null,{"$error":"#N/A"}]
[null,null,{"$f":"VLOOKUP($B811,'Ad Week Dates'!$A:$E,4,FALSE)","v":{"$error":"#N/A"}},{"$f":"VLOOKUP($B811,'Ad Week Dates'!$A:$E,2,FALSE)","v":{"$error":"#N/A"}},{"$f":"VLOOKUP($B811,'Ad Week Dates'!$A:$E,3,FALSE)","v":{"$error":"#N/A"}},null,null,null,null,null,null,{"$error":"#N/A"}]
[null,null,{"$f":"VLOOKUP($B812,'Ad Week Dates'!$A:$E,4,FALSE)","v":{"$error":"#N/A"}},{"$f":"VLOOKUP($B812,'Ad Week Dates'!$A:$E,2,FALSE)","v":{"$error":"#N/A"}},{"$f":"VLOOKUP($B812,'Ad Week Dates'!$A:$E,3,FALSE)","v":{"$error":"#N/A"}},null,null,null,null,null,null,{"$error":"#N/A"}]
[null,null,{"$f":"VLOOKUP($B813,'Ad Week Dates'!$A:$E,4,FALSE)","v":{"$error":"#N/A"}},{"$f":"VLOOKUP($B813,'Ad Week Dates'!$A:$E,2,FALSE)","v":{"$error":"#N/A"}},{"$f":"VLOOKUP($B813,'Ad Week Dates'!$A:$E,3,FALSE)","v":{"$error":"#N/A"}},null,null,null,null,null,null,{"$error":"#N/A"}]
[null,null,{"$f":"VLOOKUP($B814,'Ad Week Dates'!$A:$E,4,FALSE)","v":{"$error":"#N/A"}},{"$f":"VLOOKUP($B814,'Ad Week Dates'!$A:$E,2,FALSE)","v":{"$error":"#N/A"}},{"$f":"VLOOKUP($B814,'Ad Week Dates'!$A:$E,3,FALSE)","v":{"$error":"#N/A"}},null,null,null,null,null,null,{"$error":"#N/A"}]
[null,null,{"$f":"VLOOKUP($B815,'Ad Week Dates'!$A:$E,4,FALSE)","v":{"$error":"#N/A"}},{"$f":"VLOOKUP($B815,'Ad Week Dates'!$A:$E,2,FALSE)","v":{"$error":"#N/A"}},{"$f":"VLOOKUP($B815,'Ad Week Dates'!$A:$E,3,FALSE)","v":{"$error":"#N/A"}},null,null,null,null,null,null,{"$error":"#N/A"}]
[null,null,{"$f":"VLOOKUP($B816,'Ad Week Dates'!$A:$E,4,FALSE)","v":{"$error":"#N/A"}},{"$f":"VLOOKUP($B816,'Ad Week Dates'!$A:$E,2,FALSE)","v":{"$error":"#N/A"}},{"$f":"VLOOKUP($B816,'Ad Week Dates'!$A:$E,3,FALSE)","v":{"$error":"#N/A"}},null,null,null,null,null,null,{"$error":"#N/A"}]
[null,null,{"$f":"VLOOKUP($B817,'Ad Week Dates'!$A:$E,4,FALSE)","v":{"$error":"#N/A"}},{"$f":"VLOOKUP($B817,'Ad Week Dates'!$A:$E,2,FALSE)","v":{"$error":"#N/A"}},{"$f":"VLOOKUP($B817,'Ad Week Dates'!$A:$E,3,FALSE)","v":{"$error":"#N/A"}},null,null,null,null,null,null,{"$error":"#N/A"}]
[null,null,{"$f":"VLOOKUP($B818,'Ad Week Dates'!$A:$E,4,FALSE)","v":{"$error":"#N/A"}},{"$f":"VLOOKUP($B818,'Ad Week Dates'!$A:$E,2,FALSE)","v":{"$error":"#N/A"}},{"$f":"VLOOKUP($B818,'Ad Week Dates'!$A:$E,3,FALSE)","v":{"$error":"#N/A"}},null,null,null,null,null,null,{"$error":"#N/A"}]
[null,null,{"$f":"VLOOKUP($B819,'Ad Week Dates'!$A:$E,4,FALSE)","v":{"$error":"#N/A"}},{"$f":"VLOOKUP($B819,'Ad Week Dates'!$A:$E,2,FALSE)","v":{"$error":"#N/A"}},{"$f":"VLOOKUP($B819,'Ad Week Dates'!$A:$E,3,FALSE)","v":{"$error":"#N/A"}},null,null,null,null,null,null,{"$error":"#N/A"}]
[null,null,{"$f":"VLOOKUP($B820,'Ad Week Dates'!$A:$E,4,FALSE)","v":{"$error":"#N/A"}},{"$f":"VLOOKUP($B820,'Ad Week Dates'!$A:$E,2,FALSE)","v":{"$error":"#N/A"}},{"$f":"VLOOKUP($B820,'Ad Week Dates'!$A:$E,3,FALSE)","v":{"$error":"#N/A"}},null,null,null,null,null,null,{"$error":"#N/A"}]
[null,null,{"$f":"VLOOKUP($B821,'Ad Week Dates'!$A:$E,4,FALSE)","v":{"$error":"#N/A"}},{"$f":"VLOOKUP($B821,'Ad Week Dates'!$A:$E,2,FALSE)","v":{"$error":"#N/A"}},{"$f":"VLOOKUP($B821,'Ad Week Dates'!$A:$E,3,FALSE)","v":{"$error":"#N/A"}},null,null,null,null,null,null,{"$error":"#N/A"}]
[null,null,{"$f":"VLOOKUP($B822,'Ad Week Dates'!$A:$E,4,FALSE)","v":{"$error":"#N/A"}},{"$f":"VLOOKUP($B822,'Ad Week Dates'!$A:$E,2,FALSE)","v":{"$error":"#N/A"}},{"$f":"VLOOKUP($B822,'Ad Week Dates'!$A:$E,3,FALSE)","v":{"$error":"#N/A"}},null,null,null,null,null,null,{"$error":"#N/A"}]
[null,null,{"$f":"VLOOKUP($B823,'Ad Week Dates'!$A:$E,4,FALSE)","v":{"$error":"#N/A"}},{"$f":"VLOOKUP($B823,'Ad Week Dates'!$A:$E,2,FALSE)","v":{"$error":"#N/A"}},{"$f":"VLOOKUP($B823,'Ad Week Dates'!$A:$E,3,FALSE)","v":{"$error":"#N/A"}},null,null,null,null,null,null,{"$error":"#N/A"}]
[null,null,{"$f":"VLOOKUP($B824,'Ad Week Dates'!$A:$E,4,FALSE)","v":{"$error":"#N/A"}},{"$f":"VLOOKUP($B824,'Ad Week Dates'!$A:$E,2,FALSE)","v":{"$error":"#N/A"}},{"$f":"VLOOKUP($B824,'Ad Week Dates'!$A:$E,3,FALSE)","v":{"$error":"#N/A"}},null,null,null,null,null,null,{"$error":"#N/A"}]
[null,null,{"$f":"VLOOKUP($B825,'Ad Week Dates'!$A:$E,4,FALSE)","v":{"$error":"#N/A"}},{"$f":"VLOOKUP($B825,'Ad Week Dates'!$A:$E,2,FALSE)","v":{"$error":"#N/A"}},{"$f":"VLOOKUP($B825,'Ad Week Dates'!$A:$E,3,FALSE)","v":{"$error":"#N/A"}},null,null,null,null,null,null,{"$error":"#N/A"}]
[null,null,{"$f":"VLOOKUP($B826,'Ad Week Dates'!$A:$E,4,FALSE)","v":{"$error":"#N/A"}},{"$f":"VLOOKUP($B826,'Ad Week Dates'!$A:$E,2,FALSE)","v":{"$error":"#N/A"}},{"$f":"VLOOKUP($B826,'Ad Week Dates'!$A:$E,3,FALSE)","v":{"$error":"#N/A"}},null,null,null,null,null,null,{"$error":"#N/A"}]
[null,null,{"$f":"VLOOKUP($B827,'Ad Week Dates'!$A:$E,4,FALSE)","v":{"$error":"#N/A"}},{"$f":"VLOOKUP($B827,'Ad Week Dates'!$A:$E,2,FALSE)","v":{"$error":"#N/A"}},{"$f":"VLOOKUP($B827,'Ad Week Dates'!$A:$E,3,FALSE)","v":{"$error":"#N/A"}},null,null,null,null,null,null,{"$error":"#N/A"}]
[null,null,{"$f":"VLOOKUP($B828,'Ad Week Dates'!$A:$E,4,FALSE)","v":{"$error":"#N/A"}},{"$f":"VLOOKUP($B828,'Ad Week Dates'!$A:$E,2,FALSE)","v":{"$error":"#N/A"}},{"$f":"VLOOKUP($B828,'Ad Week Dates'!$A:$E,3,FALSE)","v":{"$error":"#N/A"}},null,null,null,null,null,null,{"$error":"#N/A"}]
[null,null,{"$f":"VLOOKUP($B829,'Ad Week Dates'!$A:$E,4,FALSE)","v":{"$error":"#N/A"}},{"$f":"VLOOKUP($B829,'Ad Week Dates'!$A:$E,2,FALSE)","v":{"$error":"#N/A"}},{"$f":"VLOOKUP($B829,'Ad Week Dates'!$A:$E,3,FALSE)","v":{"$error":"#N/A"}},null,null,null,null,null,null,{"$error":"#N/A"}]
[null,null,{"$f":"VLOOKUP($B830,'Ad Week Dates'!$A:$E,4,FALSE)","v":{"$error":"#N/A"}},{"$f":"VLOOKUP($B830,'Ad Week Dates'!$A:$E,2,FALSE)","v":{"$error":"#N/A"}},{"$f":"VLOOKUP($B830,'Ad Week Dates'!$A:$E,3,FALSE)","v":{"$error":"#N/A"}},null,null,null,null,null,null,{"$error":"#N/A"}]
[null,null,{"$f":"VLOOKUP($B831,'Ad Week Dates'!$A:$E,4,FALSE)","v":{"$error":"#N/A"}},{"$f":"VLOOKUP($B831,'Ad Week Dates'!$A:$E,2,FALSE)","v":{"$error":"#N/A"}},{"$f":"VLOOKUP($B831,'Ad Week Dates'!$A:$E,3,FALSE)","v":{"$error":"#N/A"}},null,null,null,null,null,null,{"$error":"#N/A"}]
[null,null,{"$f":"VLOOKUP($B832,'Ad Week Dates'!$A:$E,4,FALSE)","v":{"$error":"#N/A"}},{"$f":"VLOOKUP($B832,'Ad Week Dates'!$A:$E,2,FALSE)","v":{"$error":"#N/A"}},{"$f":"VLOOKUP($B832,'Ad Week Dates'!$A:$E,3,FALSE)","v":{"$error":"#N/A"}},null,null,null,null,null,null,{"$error":"#N/A"}]
[null,null,{"$f":"VLOOKUP($B833,'Ad Week Dates'!$A:$E,4,FALSE)","v":{"$error":"#N/A"}},{"$f":"VLOOKUP($B833,'Ad Week Dates'!$A:$E,2,FALSE)","v":{"$error":"#N/A"}},{"$f":"VLOOKUP($B833,'Ad Week Dates'!$A:$E,3,FALSE)","v":{"$error":"#N/A"}},null,null,null,null,null,null,{"$error":"#N/A"}]
[null,null,{"$f":"VLOOKUP($B834,'Ad Week Dates'!$A:$E,4,FALSE)","v":{"$error":"#N/A"}},{"$f":"VLOOKUP($B834,'Ad Week Dates'!$A:$E,2,FALSE)","v":{"$error":"#N/A"}},{"$f":"VLOOKUP($B834,'Ad Week Dates'!$A:$E,3,FALSE)","v":{"$error":"#N/A"}},null,null,null,null,null,null,{"$error":"#N/A"}]
[null,null,{"$f":"VLOOKUP($B835,'Ad Week Dates'!$A:$E,4,FALSE)","v":{"$error":"#N/A"}},{"$f":"VLOOKUP($B835,'Ad Week Dates'!$A:$E,2,FALSE)","v":{"$error":"#N/A"}},{"$f":"VLOOKUP($B835,'Ad Week Dates'!$A:$E,3,FALSE)","v":{"$error":"#N/A"}},null,null,null,null,null,null,{"$error":"#N/A"}]
[null,null,{"$f":"VLOOKUP($B836,'Ad Week Dates'!$A:$E,4,FALSE)","v":{"$error":"#N/A"}},{"$f":"VLOOKUP($B836,'Ad Week Dates'!$A:$E,2,FALSE)","v":{"$error":"#N/A"}},{"$f":"VLOOKUP($B836,'Ad Week Dates'!$A:$E,3,FALSE)","v":{"$error":"#N/A"}},null,null,null,null,null,null,{"$error":"#N/A"}]
[null,null,{"$f":"VLOOKUP($B837,'Ad Week Dates'!$A:$E,4,FALSE)","v":{"$error":"#N/A"}},{"$f":"VLOOKUP($B837,'Ad Week Dates'!$A:$E,2,FALSE)","v":{"$error":"#N/A"}},{"$f":"VLOOKUP($B837,'Ad Week Dates'!$A:$E,3,FALSE)","v":{"$error":"#N/A"}},null,null,null,null,null,null,{"$error":"#N/A"}]
[null,null,{"$f":"VLOOKUP($B838,'Ad Week Dates'!$A:$E,4,FALSE)","v":{"$error":"#N/A"}},{"$f":"VLOOKUP($B838,'Ad Week Dates'!$A:$E,2,FALSE)","v":{"$error":"#N/A"}},{"$f":"VLOOKUP($B838,'Ad Week Dates'!$A:$E,3,FALSE)","v":{"$error":"#N/A"}},null,null,null,null,null,null,{"$f":"IF(ISNUMBER(J838), J838 - K838, VALUE(_xlfn.TEXTBEFORE(J838, \"-\")) - VALUE(_xlfn.TEXTBEFORE(K838, \"-\")))","v":{"$error":"#N/A"}}]
[null,null,{"$f":"VLOOKUP($B839,'Ad Week Dates'!$A:$E,4,FALSE)","v":{"$error":"#N/A"}},{"$f":"VLOOKUP($B839,'Ad Week Dates'!$A:$E,2,FALSE)","v":{"$error":"#N/A"}},{"$f":"VLOOKUP($B839,'Ad Week Dates'!$A:$E,3,FALSE)","v":{"$error":"#N/A"}},null,null,null,null,null,null,{"$error":"#N/A"}]
[null,null,{"$f":"VLOOKUP($B840,'Ad Week Dates'!$A:$E,4,FALSE)","v":{"$error":"#N/A"}},{"$f":"VLOOKUP($B840,'Ad Week Dates'!$A:$E,2,FALSE)","v":{"$error":"#N/A"}},{"$f":"VLOOKUP($B840,'Ad Week Dates'!$A:$E,3,FALSE)","v":{"$error":"#N/A"}},null,null,null,null,null,null,{"$error":"#N/A"}]
[null,null,{"$f":"VLOOKUP($B841,'Ad Week Dates'!$A:$E,4,FALSE)","v":{"$error":"#N/A"}},{"$f":"VLOOKUP($B841,'Ad Week Dates'!$A:$E,2,FALSE)","v":{"$error":"#N/A"}},{"$f":"VLOOKUP($B841,'Ad Week Dates'!$A:$E,3,FALSE)","v":{"$error":"#N/A"}},null,null,null,null,null,null,{"$error":"#N/A"}]
[null,null,{"$f":"VLOOKUP($B842,'Ad Week Dates'!$A:$E,4,FALSE)","v":{"$error":"#N/A"}},{"$f":"VLOOKUP($B842,'Ad Week Dates'!$A:$E,2,FALSE)","v":{"$error":"#N/A"}},{"$f":"VLOOKUP($B842,'Ad Week Dates'!$A:$E,3,FALSE)","v":{"$error":"#N/A"}},null,null,null,null,null,null,{"$error":"#N/A"}]
[null,null,{"$f":"VLOOKUP($B843,'Ad Week Dates'!$A:$E,4,FALSE)","v":{"$error":"#N/A"}},{"$f":"VLOOKUP($B843,'Ad Week Dates'!$A:$E,2,FALSE)","v":{"$error":"#N/A"}},{"$f":"VLOOKUP($B843,'Ad Week Dates'!$A:$E,3,FALSE)","v":{"$error":"#N/A"}},null,null,null,null,null,null,{"$error":"#N/A"}]
[null,null,{"$f":"VLOOKUP($B844,'Ad Week Dates'!$A:$E,4,FALSE)","v":{"$error":"#N/A"}},{"$f":"VLOOKUP($B844,'Ad Week Dates'!$A:$E,2,FALSE)","v":{"$error":"#N/A"}},{"$f":"VLOOKUP($B844,'Ad Week Dates'!$A:$E,3,FALSE)","v":{"$error":"#N/A"}},null,null,null,null,null,null,{"$error":"#N/A"}]
[null,null,{"$f":"VLOOKUP($B845,'Ad Week Dates'!$A:$E,4,FALSE)","v":{"$error":"#N/A"}},{"$f":"VLOOKUP($B845,'Ad Week Dates'!$A:$E,2,FALSE)","v":{"$error":"#N/A"}},{"$f":"VLOOKUP($B845,'Ad Week Dates'!$A:$E,3,FALSE)","v":{"$error":"#N/A"}},null,null,null,null,null,null,{"$error":"#N/A"}]
[null,null,{"$f":"VLOOKUP($B846,'Ad Week Dates'!$A:$E,4,FALSE)","v":{"$error":"#N/A"}},{"$f":"VLOOKUP($B846,'Ad Week Dates'!$A:$E,2,FALSE)","v":{"$error":"#N/A"}},{"$f":"VLOOKUP($B846,'Ad Week Dates'!$A:$E,3,FALSE)","v":{"$error":"#N/A"}},null,null,null,null,null,null,{"$error":"#N/A"}]
[null,null,{"$f":"VLOOKUP($B847,'Ad Week Dates'!$A:$E,4,FALSE)","v":{"$error":"#N/A"}},{"$f":"VLOOKUP($B847,'Ad Week Dates'!$A:$E,2,FALSE)","v":{"$error":"#N/A"}},{"$f":"VLOOKUP($B847,'Ad Week Dates'!$A:$E,3,FALSE)","v":{"$error":"#N/A"}},null,null,null,null,null,null,{"$error":"#N/A"}]
[null,null,{"$f":"VLOOKUP($B848,'Ad Week Dates'!$A:$E,4,FALSE)","v":{"$error":"#N/A"}},{"$f":"VLOOKUP($B848,'Ad Week Dates'!$A:$E,2,FALSE)","v":{"$error":"#N/A"}},{"$f":"VLOOKUP($B848,'Ad Week Dates'!$A:$E,3,FALSE)","v":{"$error":"#N/A"}},null,null,null,null,null,null,{"$error":"#N/A"}]
[null,null,{"$f":"VLOOKUP($B849,'Ad Week Dates'!$A:$E,4,FALSE)","v":{"$error":"#N/A"}},{"$f":"VLOOKUP($B849,'Ad Week Dates'!$A:$E,2,FALSE)","v":{"$error":"#N/A"}},{"$f":"VLOOKUP($B849,'Ad Week Dates'!$A:$E,3,FALSE)","v":{"$error":"#N/A"}},null,null,null,null,null,null,{"$error":"#N/A"}]
[null,null,{"$f":"VLOOKUP($B850,'Ad Week Dates'!$A:$E,4,FALSE)","v":{"$error":"#N/A"}},{"$f":"VLOOKUP($B850,'Ad Week Dates'!$A:$E,2,FALSE)","v":{"$error":"#N/A"}},{"$f":"VLOOKUP($B850,'Ad Week Dates'!$A:$E,3,FALSE)","v":{"$error":"#N/A"}},null,null,null,null,null,null,{"$error":"#N/A"}]
[null,null,{"$f":"VLOOKUP($B851,'Ad Week Dates'!$A:$E,4,FALSE)","v":{"$error":"#N/A"}},{"$f":"VLOOKUP($B851,'Ad Week Dates'!$A:$E,2,FALSE)","v":{"$error":"#N/A"}},{"$f":"VLOOKUP($B851,'Ad Week Dates'!$A:$E,3,FALSE)","v":{"$error":"#N/A"}},null,null,null,null,null,null,{"$error":"#N/A"}]
[null,null,{"$f":"VLOOKUP($B852,'Ad Week Dates'!$A:$E,4,FALSE)","v":{"$error":"#N/A"}},{"$f":"VLOOKUP($B852,'Ad Week Dates'!$A:$E,2,FALSE)","v":{"$error":"#N/A"}},{"$f":"VLOOKUP($B852,'Ad Week Dates'!$A:$E,3,FALSE)","v":{"$error":"#N/A"}},null,null,null,null,null,null,{"$error":"#N/A"}]
[null,null,{"$f":"VLOOKUP($B853,'Ad Week Dates'!$A:$E,4,FALSE)","v":{"$error":"#N/A"}},{"$f":"VLOOKUP($B853,'Ad Week Dates'!$A:$E,2,FALSE)","v":{"$error":"#N/A"}},{"$f":"VLOOKUP($B853,'Ad Week Dates'!$A:$E,3,FALSE)","v":{"$error":"#N/A"}},null,null,null,null,null,null,{"$error":"#N/A"}]
[null,null,{"$f":"VLOOKUP($B854,'Ad Week Dates'!$A:$E,4,FALSE)","v":{"$error":"#N/A"}},{"$f":"VLOOKUP($B854,'Ad Week Dates'!$A:$E,2,FALSE)","v":{"$error":"#N/A"}},{"$f":"VLOOKUP($B854,'Ad Week Dates'!$A:$E,3,FALSE)","v":{"$error":"#N/A"}},null,null,null,null,null,null,{"$error":"#N/A"}]
[null,null,{"$f":"VLOOKUP($B855,'Ad Week Dates'!$A:$E,4,FALSE)","v":{"$error":"#N/A"}},{"$f":"VLOOKUP($B855,'Ad Week Dates'!$A:$E,2,FALSE)","v":{"$error":"#N/A"}},{"$f":"VLOOKUP($B855,'Ad Week Dates'!$A:$E,3,FALSE)","v":{"$error":"#N/A"}},null,null,null,null,null,null,{"$error":"#N/A"}]
[null,null,{"$f":"VLOOKUP($B856,'Ad Week Dates'!$A:$E,4,FALSE)","v":{"$error":"#N/A"}},{"$f":"VLOOKUP($B856,'Ad Week Dates'!$A:$E,2,FALSE)","v":{"$error":"#N/A"}},{"$f":"VLOOKUP($B856,'Ad Week Dates'!$A:$E,3,FALSE)","v":{"$error":"#N/A"}},null,null,null,null,null,null,{"$error":"#N/A"}]
[null,null,{"$f":"VLOOKUP($B857,'Ad Week Dates'!$A:$E,4,FALSE)","v":{"$error":"#N/A"}},{"$f":"VLOOKUP($B857,'Ad Week Dates'!$A:$E,2,FALSE)","v":{"$error":"#N/A"}},{"$f":"VLOOKUP($B857,'Ad Week Dates'!$A:$E,3,FALSE)","v":{"$error":"#N/A"}},null,null,null,null,null,null,{"$error":"#N/A"}]
[null,null,{"$f":"VLOOKUP($B858,'Ad Week Dates'!$A:$E,4,FALSE)","v":{"$error":"#N/A"}},{"$f":"VLOOKUP($B858,'Ad Week Dates'!$A:$E,2,FALSE)","v":{"$error":"#N/A"}},{"$f":"VLOOKUP($B858,'Ad Week Dates'!$A:$E,3,FALSE)","v":{"$error":"#N/A"}},null,null,null,null,null,null,{"$error":"#N/A"}]
[null,null,{"$f":"VLOOKUP($B859,'Ad Week Dates'!$A:$E,4,FALSE)","v":{"$error":"#N/A"}},{"$f":"VLOOKUP($B859,'Ad Week Dates'!$A:$E,2,FALSE)","v":{"$error":"#N/A"}},{"$f":"VLOOKUP($B859,'Ad Week Dates'!$A:$E,3,FALSE)","v":{"$error":"#N/A"}},null,null,null,null,null,null,{"$error":"#N/A"}]
[null,null,{"$f":"VLOOKUP($B860,'Ad Week Dates'!$A:$E,4,FALSE)","v":{"$error":"#N/A"}},{"$f":"VLOOKUP($B860,'Ad Week Dates'!$A:$E,2,FALSE)","v":{"$error":"#N/A"}},{"$f":"VLOOKUP($B860,'Ad Week Dates'!$A:$E,3,FALSE)","v":{"$error":"#N/A"}},null,null,null,null,null,null,{"$error":"#N/A"}]
[null,null,{"$f":"VLOOKUP($B861,'Ad Week Dates'!$A:$E,4,FALSE)","v":{"$error":"#N/A"}},{"$f":"VLOOKUP($B861,'Ad Week Dates'!$A:$E,2,FALSE)","v":{"$error":"#N/A"}},{"$f":"VLOOKUP($B861,'Ad Week Dates'!$A:$E,3,FALSE)","v":{"$error":"#N/A"}},null,null,null,null,null,null,{"$error":"#N/A"}]
[null,null,{"$f":"VLOOKUP($B862,'Ad Week Dates'!$A:$E,4,FALSE)","v":{"$error":"#N/A"}},{"$f":"VLOOKUP($B862,'Ad Week Dates'!$A:$E,2,FALSE)","v":{"$error":"#N/A"}},{"$f":"VLOOKUP($B862,'Ad Week Dates'!$A:$E,3,FALSE)","v":{"$error":"#N/A"}},null,null,null,null,null,null,{"$error":"#N/A"}]
[null,null,{"$f":"VLOOKUP($B863,'Ad Week Dates'!$A:$E,4,FALSE)","v":{"$error":"#N/A"}},{"$f":"VLOOKUP($B863,'Ad Week Dates'!$A:$E,2,FALSE)","v":{"$error":"#N/A"}},{"$f":"VLOOKUP($B863,'Ad Week Dates'!$A:$E,3,FALSE)","v":{"$error":"#N/A"}},null,null,null,null,null,null,{"$error":"#N/A"}]
[null,null,{"$f":"VLOOKUP($B864,'Ad Week Dates'!$A:$E,4,FALSE)","v":{"$error":"#N/A"}},{"$f":"VLOOKUP($B864,'Ad Week Dates'!$A:$E,2,FALSE)","v":{"$error":"#N/A"}},{"$f":"VLOOKUP($B864,'Ad Week Dates'!$A:$E,3,FALSE)","v":{"$error":"#N/A"}},null,null,null,null,null,null,{"$error":"#N/A"}]
[null,null,{"$f":"VLOOKUP($B865,'Ad Week Dates'!$A:$E,4,FALSE)","v":{"$error":"#N/A"}},{"$f":"VLOOKUP($B865,'Ad Week Dates'!$A:$E,2,FALSE)","v":{"$error":"#N/A"}},{"$f":"VLOOKUP($B865,'Ad Week Dates'!$A:$E,3,FALSE)","v":{"$error":"#N/A"}},null,null,null,null,null,null,{"$error":"#N/A"}]
[null,null,{"$f":"VLOOKUP($B866,'Ad Week Dates'!$A:$E,4,FALSE)","v":{"$error":"#N/A"}},{"$f":"VLOOKUP($B866,'Ad Week Dates'!$A:$E,2,FALSE)","v":{"$error":"#N/A"}},{"$f":"VLOOKUP($B866,'Ad Week Dates'!$A:$E,3,FALSE)","v":{"$error":"#N/A"}},null,null,null,null,null,null,{"$error":"#N/A"}]
[null,null,{"$f":"VLOOKUP($B867,'Ad Week Dates'!$A:$E,4,FALSE)","v":{"$error":"#N/A"}},{"$f":"VLOOKUP($B867,'Ad Week Dates'!$A:$E,2,FALSE)","v":{"$error":"#N/A"}},{"$f":"VLOOKUP($B867,'Ad Week Dates'!$A:$E,3,FALSE)","v":{"$error":"#N/A"}},null,null,null,null,null,null,{"$error":"#N/A"}]
[null,null,{"$f":"VLOOKUP($B868,'Ad Week Dates'!$A:$E,4,FALSE)","v":{"$error":"#N/A"}},{"$f":"VLOOKUP($B868,'Ad Week Dates'!$A:$E,2,FALSE)","v":{"$error":"#N/A"}},{"$f":"VLOOKUP($B868,'Ad Week Dates'!$A:$E,3,FALSE)","v":{"$error":"#N/A"}},null,null,null,null,null,null,{"$error":"#N/A"}]
[null,null,{"$f":"VLOOKUP($B869,'Ad Week Dates'!$A:$E,4,FALSE)","v":{"$error":"#N/A"}},{"$f":"VLOOKUP($B869,'Ad Week Dates'!$A:$E,2,FALSE)","v":{"$error":"#N/A"}},{"$f":"VLOOKUP($B869,'Ad Week Dates'!$A:$E,3,FALSE)","v":{"$error":"#N/A"}},null,null,null,null,null,null,{"$error":"#N/A"}]
[null,null,{"$f":"VLOOKUP($B870,'Ad Week Dates'!$A:$E,4,FALSE)","v":{"$error":"#N/A"}},{"$f":"VLOOKUP($B870,'Ad Week Dates'!$A:$E,2,FALSE)","v":{"$error":"#N/A"}},{"$f":"VLOOKUP($B870,'Ad Week Dates'!$A:$E,3,FALSE)","v":{"$error":"#N/A"}},null,null,null,null,null,null,{"$error":"#N/A"}]
[null,null,{"$f":"VLOOKUP($B871,'Ad Week Dates'!$A:$E,4,FALSE)","v":{"$error":"#N/A"}},{"$f":"VLOOKUP($B871,'Ad Week Dates'!$A:$E,2,FALSE)","v":{"$error":"#N/A"}},{"$f":"VLOOKUP($B871,'Ad Week Dates'!$A:$E,3,FALSE)","v":{"$error":"#N/A"}},null,null,null,null,null,null,{"$error":"#N/A"}]
[null,null,{"$f":"VLOOKUP($B872,'Ad Week Dates'!$A:$E,4,FALSE)","v":{"$error":"#N/A"}},{"$f":"VLOOKUP($B872,'Ad Week Dates'!$A:$E,2,FALSE)","v":{"$error":"#N/A"}},{"$f":"VLOOKUP($B872,'Ad Week Dates'!$A:$E,3,FALSE)","v":{"$error":"#N/A"}},null,null,null,null,null,null,{"$error":"#N/A"}]
[null,null,{"$f":"VLOOKUP($B873,'Ad Week Dates'!$A:$E,4,FALSE)","v":{"$error":"#N/A"}},{"$f":"VLOOKUP($B873,'Ad Week Dates'!$A:$E,2,FALSE)","v":{"$error":"#N/A"}},{"$f":"VLOOKUP($B873,'Ad Week Dates'!$A:$E,3,FALSE)","v":{"$error":"#N/A"}},null,null,null,null,null,null,{"$error":"#N/A"}]
[null,null,{"$f":"VLOOKUP($B874,'Ad Week Dates'!$A:$E,4,FALSE)","v":{"$error":"#N/A"}},{"$f":"VLOOKUP($B874,'Ad Week Dates'!$A:$E,2,FALSE)","v":{"$error":"#N/A"}},{"$f":"VLOOKUP($B874,'Ad Week Dates'!$A:$E,3,FALSE)","v":{"$error":"#N/A"}},null,null,null,null,null,null,{"$error":"#N/A"}]
[null,null,{"$f":"VLOOKUP($B875,'Ad Week Dates'!$A:$E,4,FALSE)","v":{"$error":"#N/A"}},{"$f":"VLOOKUP($B875,'Ad Week Dates'!$A:$E,2,FALSE)","v":{"$error":"#N/A"}},{"$f":"VLOOKUP($B875,'Ad Week Dates'!$A:$E,3,FALSE)","v":{"$error":"#N/A"}},null,null,null,null,null,null,{"$error":"#N/A"}]
[null,null,{"$f":"VLOOKUP($B876,'Ad Week Dates'!$A:$E,4,FALSE)","v":{"$error":"#N/A"}},{"$f":"VLOOKUP($B876,'Ad Week Dates'!$A:$E,2,FALSE)","v":{"$error":"#N/A"}},{"$f":"VLOOKUP($B876,'Ad Week Dates'!$A:$E,3,FALSE)","v":{"$error":"#N/A"}},null,null,null,null,null,null,{"$error":"#N/A"}]
[null,null,{"$f":"VLOOKUP($B877,'Ad Week Dates'!$A:$E,4,FALSE)","v":{"$error":"#N/A"}},{"$f":"VLOOKUP($B877,'Ad Week Dates'!$A:$E,2,FALSE)","v":{"$error":"#N/A"}},{"$f":"VLOOKUP($B877,'Ad Week Dates'!$A:$E,3,FALSE)","v":{"$error":"#N/A"}},null,null,null,null,null,null,{"$error":"#N/A"}]
[null,null,{"$f":"VLOOKUP($B878,'Ad Week Dates'!$A:$E,4,FALSE)","v":{"$error":"#N/A"}},{"$f":"VLOOKUP($B878,'Ad Week Dates'!$A:$E,2,FALSE)","v":{"$error":"#N/A"}},{"$f":"VLOOKUP($B878,'Ad Week Dates'!$A:$E,3,FALSE)","v":{"$error":"#N/A"}},null,null,null,null,null,null,{"$error":"#N/A"}]
[null,null,{"$f":"VLOOKUP($B879,'Ad Week Dates'!$A:$E,4,FALSE)","v":{"$error":"#N/A"}},{"$f":"VLOOKUP($B879,'Ad Week Dates'!$A:$E,2,FALSE)","v":{"$error":"#N/A"}},{"$f":"VLOOKUP($B879,'Ad Week Dates'!$A:$E,3,FALSE)","v":{"$error":"#N/A"}},null,null,null,null,null,null,{"$error":"#N/A"}]
[null,null,{"$f":"VLOOKUP($B880,'Ad Week Dates'!$A:$E,4,FALSE)","v":{"$error":"#N/A"}},{"$f":"VLOOKUP($B880,'Ad Week Dates'!$A:$E,2,FALSE)","v":{"$error":"#N/A"}},{"$f":"VLOOKUP($B880,'Ad Week Dates'!$A:$E,3,FALSE)","v":{"$error":"#N/A"}},null,null,null,null,null,null,{"$error":"#N/A"}]
[null,null,{"$f":"VLOOKUP($B881,'Ad Week Dates'!$A:$E,4,FALSE)","v":{"$error":"#N/A"}},{"$f":"VLOOKUP($B881,'Ad Week Dates'!$A:$E,2,FALSE)","v":{"$error":"#N/A"}},{"$f":"VLOOKUP($B881,'Ad Week Dates'!$A:$E,3,FALSE)","v":{"$error":"#N/A"}},null,null,null,null,null,null,{"$error":"#N/A"}]
[null,null,{"$f":"VLOOKUP($B882,'Ad Week Dates'!$A:$E,4,FALSE)","v":{"$error":"#N/A"}},{"$f":"VLOOKUP($B882,'Ad Week Dates'!$A:$E,2,FALSE)","v":{"$error":"#N/A"}},{"$f":"VLOOKUP($B882,'Ad Week Dates'!$A:$E,3,FALSE)","v":{"$error":"#N/A"}},null,null,null,null,null,null,{"$error":"#N/A"}]
[null,null,{"$f":"VLOOKUP($B883,'Ad Week Dates'!$A:$E,4,FALSE)","v":{"$error":"#N/A"}},{"$f":"VLOOKUP($B883,'Ad Week Dates'!$A:$E,2,FALSE)","v":{"$error":"#N/A"}},{"$f":"VLOOKUP($B883,'Ad Week Dates'!$A:$E,3,FALSE)","v":{"$error":"#N/A"}},null,null,null,null,null,null,{"$error":"#N/A"}]
[null,null,{"$f":"VLOOKUP($B884,'Ad Week Dates'!$A:$E,4,FALSE)","v":{"$error":"#N/A"}},{"$f":"VLOOKUP($B884,'Ad Week Dates'!$A:$E,2,FALSE)","v":{"$error":"#N/A"}},{"$f":"VLOOKUP($B884,'Ad Week Dates'!$A:$E,3,FALSE)","v":{"$error":"#N/A"}},null,null,null,null,null,null,{"$error":"#N/A"}]
[null,null,{"$f":"VLOOKUP($B885,'Ad Week Dates'!$A:$E,4,FALSE)","v":{"$error":"#N/A"}},{"$f":"VLOOKUP($B885,'Ad Week Dates'!$A:$E,2,FALSE)","v":{"$error":"#N/A"}},{"$f":"VLOOKUP($B885,'Ad Week Dates'!$A:$E,3,FALSE)","v":{"$error":"#N/A"}},null,null,null,null,null,null,{"$error":"#N/A"}]
[null,null,{"$f":"VLOOKUP($B886,'Ad Week Dates'!$A:$E,4,FALSE)","v":{"$error":"#N/A"}},{"$f":"VLOOKUP($B886,'Ad Week Dates'!$A:$E,2,FALSE)","v":{"$error":"#N/A"}},{"$f":"VLOOKUP($B886,'Ad Week Dates'!$A:$E,3,FALSE)","v":{"$error":"#N/A"}},null,null,null,null,null,null,{"$error":"#N/A"}]
[null,null,{"$f":"VLOOKUP($B887,'Ad Week Dates'!$A:$E,4,FALSE)","v":{"$error":"#N/A"}},{"$f":"VLOOKUP($B887,'Ad Week Dates'!$A:$E,2,FALSE)","v":{"$error":"#N/A"}},{"$f":"VLOOKUP($B887,'Ad Week Dates'!$A:$E,3,FALSE)","v":{"$error":"#N/A"}},null,null,null,null,null,null,{"$error":"#N/A"}]
[null,null,{"$f":"VLOOKUP($B888,'Ad Week Dates'!$A:$E,4,FALSE)","v":{"$error":"#N/A"}},{"$f":"VLOOKUP($B888,'Ad Week Dates'!$A:$E,2,FALSE)","v":{"$error":"#N/A"}},{"$f":"VLOOKUP($B888,'Ad Week Dates'!$A:$E,3,FALSE)","v":{"$error":"#N/A"}},null,null,null,null,null,null,{"$error":"#N/A"}]
[null,null,{"$f":"VLOOKUP($B889,'Ad Week Dates'!$A:$E,4,FALSE)","v":{"$error":"#N/A"}},{"$f":"VLOOKUP($B889,'Ad Week Dates'!$A:$E,2,FALSE)","v":{"$error":"#N/A"}},{"$f":"VLOOKUP($B889,'Ad Week Dates'!$A:$E,3,FALSE)","v":{"$error":"#N/A"}},null,null,null,null,null,null,{"$error":"#N/A"}]
[null,null,{"$f":"VLOOKUP($B890,'Ad Week Dates'!$A:$E,4,FALSE)","v":{"$error":"#N/A"}},{"$f":"VLOOKUP($B890,'Ad Week Dates'!$A:$E,2,FALSE)","v":{"$error":"#N/A"}},{"$f":"VLOOKUP($B890,'Ad Week Dates'!$A:$E,3,FALSE)","v":{"$error":"#N/A"}},null,null,null,null,null,null,{"$error":"#N/A"}]
[null,null,{"$f":"VLOOKUP($B891,'Ad Week Dates'!$A:$E,4,FALSE)","v":{"$error":"#N/A"}},{"$f":"VLOOKUP($B891,'Ad Week Dates'!$A:$E,2,FALSE)","v":{"$error":"#N/A"}},{"$f":"VLOOKUP($B891,'Ad Week Dates'!$A:$E,3,FALSE)","v":{"$error":"#N/A"}},null,null,null,null,null,null,{"$error":"#N/A"}]
[null,null,{"$f":"VLOOKUP($B892,'Ad Week Dates'!$A:$E,4,FALSE)","v":{"$error":"#N/A"}},{"$f":"VLOOKUP($B892,'Ad Week Dates'!$A:$E,2,FALSE)","v":{"$error":"#N/A"}},{"$f":"VLOOKUP($B892,'Ad Week Dates'!$A:$E,3,FALSE)","v":{"$error":"#N/A"}},null,null,null,null,null,null,{"$error":"#N/A"}]
[null,null,{"$f":"VLOOKUP($B893,'Ad Week Dates'!$A:$E,4,FALSE)","v":{"$error":"#N/A"}},{"$f":"VLOOKUP($B893,'Ad Week Dates'!$A:$E,2,FALSE)","v":{"$error":"#N/A"}},{"$f":"VLOOKUP($B893,'Ad Week Dates'!$A:$E,3,FALSE)","v":{"$error":"#N/A"}},null,null,null,null,null,null,{"$error":"#N/A"}]
[null,null,{"$f":"VLOOKUP($B894,'Ad Week Dates'!$A:$E,4,FALSE)","v":{"$error":"#N/A"}},{"$f":"VLOOKUP($B894,'Ad Week Dates'!$A:$E,2,FALSE)","v":{"$error":"#N/A"}},{"$f":"VLOOKUP($B894,'Ad Week Dates'!$A:$E,3,FALSE)","v":{"$error":"#N/A"}},null,null,null,null,null,null,{"$error":"#N/A"}]
[null,null,{"$f":"VLOOKUP($B895,'Ad Week Dates'!$A:$E,4,FALSE)","v":{"$error":"#N/A"}},{"$f":"VLOOKUP($B895,'Ad Week Dates'!$A:$E,2,FALSE)","v":{"$error":"#N/A"}},{"$f":"VLOOKUP($B895,'Ad Week Dates'!$A:$E,3,FALSE)","v":{"$error":"#N/A"}},null,null,null,null,null,null,{"$error":"#N/A"}]
[null,null,{"$f":"VLOOKUP($B896,'Ad Week Dates'!$A:$E,4,FALSE)","v":{"$error":"#N/A"}},{"$f":"VLOOKUP($B896,'Ad Week Dates'!$A:$E,2,FALSE)","v":{"$error":"#N/A"}},{"$f":"VLOOKUP($B896,'Ad Week Dates'!$A:$E,3,FALSE)","v":{"$error":"#N/A"}},null,null,null,null,null,null,{"$error":"#N/A"}]
[null,null,{"$f":"VLOOKUP($B897,'Ad Week Dates'!$A:$E,4,FALSE)","v":{"$error":"#N/A"}},{"$f":"VLOOKUP($B897,'Ad Week Dates'!$A:$E,2,FALSE)","v":{"$error":"#N/A"}},{"$f":"VLOOKUP($B897,'Ad Week Dates'!$A:$E,3,FALSE)","v":{"$error":"#N/A"}},null,null,null,null,null,null,{"$error":"#N/A"}]
[null,null,{"$f":"VLOOKUP($B898,'Ad Week Dates'!$A:$E,4,FALSE)","v":{"$error":"#N/A"}},{"$f":"VLOOKUP($B898,'Ad Week Dates'!$A:$E,2,FALSE)","v":{"$error":"#N/A"}},{"$f":"VLOOKUP($B898,'Ad Week Dates'!$A:$E,3,FALSE)","v":{"$error":"#N/A"}},null,null,null,null,null,null,{"$error":"#N/A"}]
[null,null,{"$f":"VLOOKUP($B899,'Ad Week Dates'!$A:$E,4,FALSE)","v":{"$error":"#N/A"}},{"$f":"VLOOKUP($B899,'Ad Week Dates'!$A:$E,2,FALSE)","v":{"$error":"#N/A"}},{"$f":"VLOOKUP($B899,'Ad Week Dates'!$A:$E,3,FALSE)","v":{"$error":"#N/A"}},null,null,null,null,null,null,{"$error":"#N/A"}]
[null,null,{"$f":"VLOOKUP($B900,'Ad Week Dates'!$A:$E,4,FALSE)","v":{"$error":"#N/A"}},{"$f":"VLOOKUP($B900,'Ad Week Dates'!$A:$E,2,FALSE)","v":{"$error":"#N/A"}},{"$f":"VLOOKUP($B900,'Ad Week Dates'!$A:$E,3,FALSE)","v":{"$error":"#N/A"}},null,null,null,null,null,null,{"$error":"#N/A"}]
[null,null,{"$f":"VLOOKUP($B901,'Ad Week Dates'!$A:$E,4,FALSE)","v":{"$error":"#N/A"}},{"$f":"VLOOKUP($B901,'Ad Week Dates'!$A:$E,2,FALSE)","v":{"$error":"#N/A"}},{"$f":"VLOOKUP($B901,'Ad Week Dates'!$A:$E,3,FALSE)","v":{"$error":"#N/A"}},null,null,null,null,null,null,{"$error":"#N/A"}]
[null,null,{"$f":"VLOOKUP($B902,'Ad Week Dates'!$A:$E,4,FALSE)","v":{"$error":"#N/A"}},{"$f":"VLOOKUP($B902,'Ad Week Dates'!$A:$E,2,FALSE)","v":{"$error":"#N/A"}},{"$f":"VLOOKUP($B902,'Ad Week Dates'!$A:$E,3,FALSE)","v":{"$error":"#N/A"}},null,null,null,null,null,null,{"$f":"IF(ISNUMBER(J902), J902 - K902, VALUE(_xlfn.TEXTBEFORE(J902, \"-\")) - VALUE(_xlfn.TEXTBEFORE(K902, \"-\")))","v":{"$error":"#N/A"}}]
[null,null,{"$f":"VLOOKUP($B903,'Ad Week Dates'!$A:$E,4,FALSE)","v":{"$error":"#N/A"}},{"$f":"VLOOKUP($B903,'Ad Week Dates'!$A:$E,2,FALSE)","v":{"$error":"#N/A"}},{"$f":"VLOOKUP($B903,'Ad Week Dates'!$A:$E,3,FALSE)","v":{"$error":"#N/A"}},null,null,null,null,null,null,{"$error":"#N/A"}]
[null,null,{"$f":"VLOOKUP($B904,'Ad Week Dates'!$A:$E,4,FALSE)","v":{"$error":"#N/A"}},{"$f":"VLOOKUP($B904,'Ad Week Dates'!$A:$E,2,FALSE)","v":{"$error":"#N/A"}},{"$f":"VLOOKUP($B904,'Ad Week Dates'!$A:$E,3,FALSE)","v":{"$error":"#N/A"}},null,null,null,null,null,null,{"$error":"#N/A"}]
[null,null,{"$f":"VLOOKUP($B905,'Ad Week Dates'!$A:$E,4,FALSE)","v":{"$error":"#N/A"}},{"$f":"VLOOKUP($B905,'Ad Week Dates'!$A:$E,2,FALSE)","v":{"$error":"#N/A"}},{"$f":"VLOOKUP($B905,'Ad Week Dates'!$A:$E,3,FALSE)","v":{"$error":"#N/A"}},null,null,null,null,null,null,{"$error":"#N/A"}]
[null,null,{"$f":"VLOOKUP($B906,'Ad Week Dates'!$A:$E,4,FALSE)","v":{"$error":"#N/A"}},{"$f":"VLOOKUP($B906,'Ad Week Dates'!$A:$E,2,FALSE)","v":{"$error":"#N/A"}},{"$f":"VLOOKUP($B906,'Ad Week Dates'!$A:$E,3,FALSE)","v":{"$error":"#N/A"}},null,null,null,null,null,null,{"$error":"#N/A"}]
[null,null,{"$f":"VLOOKUP($B907,'Ad Week Dates'!$A:$E,4,FALSE)","v":{"$error":"#N/A"}},{"$f":"VLOOKUP($B907,'Ad Week Dates'!$A:$E,2,FALSE)","v":{"$error":"#N/A"}},{"$f":"VLOOKUP($B907,'Ad Week Dates'!$A:$E,3,FALSE)","v":{"$error":"#N/A"}},null,null,null,null,null,null,{"$error":"#N/A"}]
[null,null,{"$f":"VLOOKUP($B908,'Ad Week Dates'!$A:$E,4,FALSE)","v":{"$error":"#N/A"}},{"$f":"VLOOKUP($B908,'Ad Week Dates'!$A:$E,2,FALSE)","v":{"$error":"#N/A"}},{"$f":"VLOOKUP($B908,'Ad Week Dates'!$A:$E,3,FALSE)","v":{"$error":"#N/A"}},null,null,null,null,null,null,{"$error":"#N/A"}]
[null,null,{"$f":"VLOOKUP($B909,'Ad Week Dates'!$A:$E,4,FALSE)","v":{"$error":"#N/A"}},{"$f":"VLOOKUP($B909,'Ad Week Dates'!$A:$E,2,FALSE)","v":{"$error":"#N/A"}},{"$f":"VLOOKUP($B909,'Ad Week Dates'!$A:$E,3,FALSE)","v":{"$error":"#N/A"}},null,null,null,null,null,null,{"$error":"#N/A"}]
[null,null,{"$f":"VLOOKUP($B910,'Ad Week Dates'!$A:$E,4,FALSE)","v":{"$error":"#N/A"}},{"$f":"VLOOKUP($B910,'Ad Week Dates'!$A:$E,2,FALSE)","v":{"$error":"#N/A"}},{"$f":"VLOOKUP($B910,'Ad Week Dates'!$A:$E,3,FALSE)","v":{"$error":"#N/A"}},null,null,null,null,null,null,{"$error":"#N/A"}]
[null,null,{"$f":"VLOOKUP($B911,'Ad Week Dates'!$A:$E,4,FALSE)","v":{"$error":"#N/A"}},{"$f":"VLOOKUP($B911,'Ad Week Dates'!$A:$E,2,FALSE)","v":{"$error":"#N/A"}},{"$f":"VLOOKUP($B911,'Ad Week Dates'!$A:$E,3,FALSE)","v":{"$error":"#N/A"}},null,null,null,null,null,null,{"$error":"#N/A"}]
[null,null,{"$f":"VLOOKUP($B912,'Ad Week Dates'!$A:$E,4,FALSE)","v":{"$error":"#N/A"}},{"$f":"VLOOKUP($B912,'Ad Week Dates'!$A:$E,2,FALSE)","v":{"$error":"#N/A"}},{"$f":"VLOOKUP($B912,'Ad Week Dates'!$A:$E,3,FALSE)","v":{"$error":"#N/A"}},null,null,null,null,null,null,{"$error":"#N/A"}]
[null,null,{"$f":"VLOOKUP($B913,'Ad Week Dates'!$A:$E,4,FALSE)","v":{"$error":"#N/A"}},{"$f":"VLOOKUP($B913,'Ad Week Dates'!$A:$E,2,FALSE)","v":{"$error":"#N/A"}},{"$f":"VLOOKUP($B913,'Ad Week Dates'!$A:$E,3,FALSE)","v":{"$error":"#N/A"}},null,null,null,null,null,null,{"$error":"#N/A"}]
[null,null,{"$f":"VLOOKUP($B914,'Ad Week Dates'!$A:$E,4,FALSE)","v":{"$error":"#N/A"}},{"$f":"VLOOKUP($B914,'Ad Week Dates'!$A:$E,2,FALSE)","v":{"$error":"#N/A"}},{"$f":"VLOOKUP($B914,'Ad Week Dates'!$A:$E,3,FALSE)","v":{"$error":"#N/A"}},null,null,null,null,null,null,{"$error":"#N/A"}]
[null,null,{"$f":"VLOOKUP($B915,'Ad Week Dates'!$A:$E,4,FALSE)","v":{"$error":"#N/A"}},{"$f":"VLOOKUP($B915,'Ad Week Dates'!$A:$E,2,FALSE)","v":{"$error":"#N/A"}},{"$f":"VLOOKUP($B915,'Ad Week Dates'!$A:$E,3,FALSE)","v":{"$error":"#N/A"}},null,null,null,null,null,null,{"$error":"#N/A"}]
[null,null,{"$f":"VLOOKUP($B916,'Ad Week Dates'!$A:$E,4,FALSE)","v":{"$error":"#N/A"}},{"$f":"VLOOKUP($B916,'Ad Week Dates'!$A:$E,2,FALSE)","v":{"$error":"#N/A"}},{"$f":"VLOOKUP($B916,'Ad Week Dates'!$A:$E,3,FALSE)","v":{"$error":"#N/A"}},null,null,null,null,null,null,{"$error":"#N/A"}]
[null,null,{"$f":"VLOOKUP($B917,'Ad Week Dates'!$A:$E,4,FALSE)","v":{"$error":"#N/A"}},{"$f":"VLOOKUP($B917,'Ad Week Dates'!$A:$E,2,FALSE)","v":{"$error":"#N/A"}},{"$f":"VLOOKUP($B917,'Ad Week Dates'!$A:$E,3,FALSE)","v":{"$error":"#N/A"}},null,null,null,null,null,null,{"$error":"#N/A"}]
[null,null,{"$f":"VLOOKUP($B918,'Ad Week Dates'!$A:$E,4,FALSE)","v":{"$error":"#N/A"}},{"$f":"VLOOKUP($B918,'Ad Week Dates'!$A:$E,2,FALSE)","v":{"$error":"#N/A"}},{"$f":"VLOOKUP($B918,'Ad Week Dates'!$A:$E,3,FALSE)","v":{"$error":"#N/A"}},null,null,null,null,null,null,{"$error":"#N/A"}]
[null,null,{"$f":"VLOOKUP($B919,'Ad Week Dates'!$A:$E,4,FALSE)","v":{"$error":"#N/A"}},{"$f":"VLOOKUP($B919,'Ad Week Dates'!$A:$E,2,FALSE)","v":{"$error":"#N/A"}},{"$f":"VLOOKUP($B919,'Ad Week Dates'!$A:$E,3,FALSE)","v":{"$error":"#N/A"}},null,null,null,null,null,null,{"$error":"#N/A"}]
[null,null,{"$f":"VLOOKUP($B920,'Ad Week Dates'!$A:$E,4,FALSE)","v":{"$error":"#N/A"}},{"$f":"VLOOKUP($B920,'Ad Week Dates'!$A:$E,2,FALSE)","v":{"$error":"#N/A"}},{"$f":"VLOOKUP($B920,'Ad Week Dates'!$A:$E,3,FALSE)","v":{"$error":"#N/A"}},null,null,null,null,null,null,{"$error":"#N/A"}]
[null,null,{"$f":"VLOOKUP($B921,'Ad Week Dates'!$A:$E,4,FALSE)","v":{"$error":"#N/A"}},{"$f":"VLOOKUP($B921,'Ad Week Dates'!$A:$E,2,FALSE)","v":{"$error":"#N/A"}},{"$f":"VLOOKUP($B921,'Ad Week Dates'!$A:$E,3,FALSE)","v":{"$error":"#N/A"}},null,null,null,null,null,null,{"$error":"#N/A"}]
[null,null,{"$f":"VLOOKUP($B922,'Ad Week Dates'!$A:$E,4,FALSE)","v":{"$error":"#N/A"}},{"$f":"VLOOKUP($B922,'Ad Week Dates'!$A:$E,2,FALSE)","v":{"$error":"#N/A"}},{"$f":"VLOOKUP($B922,'Ad Week Dates'!$A:$E,3,FALSE)","v":{"$error":"#N/A"}},null,null,null,null,null,null,{"$error":"#N/A"}]
[null,null,{"$f":"VLOOKUP($B923,'Ad Week Dates'!$A:$E,4,FALSE)","v":{"$error":"#N/A"}},{"$f":"VLOOKUP($B923,'Ad Week Dates'!$A:$E,2,FALSE)","v":{"$error":"#N/A"}},{"$f":"VLOOKUP($B923,'Ad Week Dates'!$A:$E,3,FALSE)","v":{"$error":"#N/A"}},null,null,null,null,null,null,{"$error":"#N/A"}]
[null,null,{"$f":"VLOOKUP($B924,'Ad Week Dates'!$A:$E,4,FALSE)","v":{"$error":"#N/A"}},{"$f":"VLOOKUP($B924,'Ad Week Dates'!$A:$E,2,FALSE)","v":{"$error":"#N/A"}},{"$f":"VLOOKUP($B924,'Ad Week Dates'!$A:$E,3,FALSE)","v":{"$error":"#N/A"}},null,null,null,null,null,null,{"$error":"#N/A"}]
[null,null,{"$f":"VLOOKUP($B925,'Ad Week Dates'!$A:$E,4,FALSE)","v":{"$error":"#N/A"}},{"$f":"VLOOKUP($B925,'Ad Week Dates'!$A:$E,2,FALSE)","v":{"$error":"#N/A"}},{"$f":"VLOOKUP($B925,'Ad Week Dates'!$A:$E,3,FALSE)","v":{"$error":"#N/A"}},null,null,null,null,null,null,{"$error":"#N/A"}]
[null,null,{"$f":"VLOOKUP($B926,'Ad Week Dates'!$A:$E,4,FALSE)","v":{"$error":"#N/A"}},{"$f":"VLOOKUP($B926,'Ad Week Dates'!$A:$E,2,FALSE)","v":{"$error":"#N/A"}},{"$f":"VLOOKUP($B926,'Ad Week Dates'!$A:$E,3,FALSE)","v":{"$error":"#N/A"}},null,null,null,null,null,null,{"$error":"#N/A"}]
[null,null,{"$f":"VLOOKUP($B927,'Ad Week Dates'!$A:$E,4,FALSE)","v":{"$error":"#N/A"}},{"$f":"VLOOKUP($B927,'Ad Week Dates'!$A:$E,2,FALSE)","v":{"$error":"#N/A"}},{"$f":"VLOOKUP($B927,'Ad Week Dates'!$A:$E,3,FALSE)","v":{"$error":"#N/A"}},null,null,null,null,null,null,{"$error":"#N/A"}]
[null,null,{"$f":"VLOOKUP($B928,'Ad Week Dates'!$A:$E,4,FALSE)","v":{"$error":"#N/A"}},{"$f":"VLOOKUP($B928,'Ad Week Dates'!$A:$E,2,FALSE)","v":{"$error":"#N/A"}},{"$f":"VLOOKUP($B928,'Ad Week Dates'!$A:$E,3,FALSE)","v":{"$error":"#N/A"}},null,null,null,null,null,null,{"$error":"#N/A"}]
[null,null,{"$f":"VLOOKUP($B929,'Ad Week Dates'!$A:$E,4,FALSE)","v":{"$error":"#N/A"}},{"$f":"VLOOKUP($B929,'Ad Week Dates'!$A:$E,2,FALSE)","v":{"$error":"#N/A"}},{"$f":"VLOOKUP($B929,'Ad Week Dates'!$A:$E,3,FALSE)","v":{"$error":"#N/A"}},null,null,null,null,null,null,{"$error":"#N/A"}]
[null,null,{"$f":"VLOOKUP($B930,'Ad Week Dates'!$A:$E,4,FALSE)","v":{"$error":"#N/A"}},{"$f":"VLOOKUP($B930,'Ad Week Dates'!$A:$E,2,FALSE)","v":{"$error":"#N/A"}},{"$f":"VLOOKUP($B930,'Ad Week Dates'!$A:$E,3,FALSE)","v":{"$error":"#N/A"}},null,null,null,null,null,null,{"$error":"#N/A"}]
[null,null,{"$f":"VLOOKUP($B931,'Ad Week Dates'!$A:$E,4,FALSE)","v":{"$error":"#N/A"}},{"$f":"VLOOKUP($B931,'Ad Week Dates'!$A:$E,2,FALSE)","v":{"$error":"#N/A"}},{"$f":"VLOOKUP($B931,'Ad Week Dates'!$A:$E,3,FALSE)","v":{"$error":"#N/A"}},null,null,null,null,null,null,{"$error":"#N/A"}]
[null,null,{"$f":"VLOOKUP($B932,'Ad Week Dates'!$A:$E,4,FALSE)","v":{"$error":"#N/A"}},{"$f":"VLOOKUP($B932,'Ad Week Dates'!$A:$E,2,FALSE)","v":{"$error":"#N/A"}},{"$f":"VLOOKUP($B932,'Ad Week Dates'!$A:$E,3,FALSE)","v":{"$error":"#N/A"}},null,null,null,null,null,null,{"$error":"#N/A"}]
[null,null,{"$f":"VLOOKUP($B933,'Ad Week Dates'!$A:$E,4,FALSE)","v":{"$error":"#N/A"}},{"$f":"VLOOKUP($B933,'Ad Week Dates'!$A:$E,2,FALSE)","v":{"$error":"#N/A"}},{"$f":"VLOOKUP($B933,'Ad Week Dates'!$A:$E,3,FALSE)","v":{"$error":"#N/A"}},null,null,null,null,null,null,{"$error":"#N/A"}]
[null,null,{"$f":"VLOOKUP($B934,'Ad Week Dates'!$A:$E,4,FALSE)","v":{"$error":"#N/A"}},{"$f":"VLOOKUP($B934,'Ad Week Dates'!$A:$E,2,FALSE)","v":{"$error":"#N/A"}},{"$f":"VLOOKUP($B934,'Ad Week Dates'!$A:$E,3,FALSE)","v":{"$error":"#N/A"}},null,null,null,null,null,null,{"$error":"#N/A"}]
[null,null,{"$f":"VLOOKUP($B935,'Ad Week Dates'!$A:$E,4,FALSE)","v":{"$error":"#N/A"}},{"$f":"VLOOKUP($B935,'Ad Week Dates'!$A:$E,2,FALSE)","v":{"$error":"#N/A"}},{"$f":"VLOOKUP($B935,'Ad Week Dates'!$A:$E,3,FALSE)","v":{"$error":"#N/A"}},null,null,null,null,null,null,{"$error":"#N/A"}]
[null,null,{"$f":"VLOOKUP($B936,'Ad Week Dates'!$A:$E,4,FALSE)","v":{"$error":"#N/A"}},{"$f":"VLOOKUP($B936,'Ad Week Dates'!$A:$E,2,FALSE)","v":{"$error":"#N/A"}},{"$f":"VLOOKUP($B936,'Ad Week Dates'!$A:$E,3,FALSE)","v":{"$error":"#N/A"}},null,null,null,null,null,null,{"$error":"#N/A"}]
[null,null,{"$f":"VLOOKUP($B937,'Ad Week Dates'!$A:$E,4,FALSE)","v":{"$error":"#N/A"}},{"$f":"VLOOKUP($B937,'Ad Week Dates'!$A:$E,2,FALSE)","v":{"$error":"#N/A"}},{"$f":"VLOOKUP($B937,'Ad Week Dates'!$A:$E,3,FALSE)","v":{"$error":"#N/A"}},null,null,null,null,null,null,{"$error":"#N/A"}]
[null,null,{"$f":"VLOOKUP($B938,'Ad Week Dates'!$A:$E,4,FALSE)","v":{"$error":"#N/A"}},{"$f":"VLOOKUP($B938,'Ad Week Dates'!$A:$E,2,FALSE)","v":{"$error":"#N/A"}},{"$f":"VLOOKUP($B938,'Ad Week Dates'!$A:$E,3,FALSE)","v":{"$error":"#N/A"}},null,null,null,null,null,null,{"$error":"#N/A"}]
[null,null,{"$f":"VLOOKUP($B939,'Ad Week Dates'!$A:$E,4,FALSE)","v":{"$error":"#N/A"}},{"$f":"VLOOKUP($B939,'Ad Week Dates'!$A:$E,2,FALSE)","v":{"$error":"#N/A"}},{"$f":"VLOOKUP($B939,'Ad Week Dates'!$A:$E,3,FALSE)","v":{"$error":"#N/A"}},null,null,null,null,null,null,{"$error":"#N/A"}]
[null,null,{"$f":"VLOOKUP($B940,'Ad Week Dates'!$A:$E,4,FALSE)","v":{"$error":"#N/A"}},{"$f":"VLOOKUP($B940,'Ad Week Dates'!$A:$E,2,FALSE)","v":{"$error":"#N/A"}},{"$f":"VLOOKUP($B940,'Ad Week Dates'!$A:$E,3,FALSE)","v":{"$error":"#N/A"}},null,null,null,null,null,null,{"$error":"#N/A"}]
[null,null,{"$f":"VLOOKUP($B941,'Ad Week Dates'!$A:$E,4,FALSE)","v":{"$error":"#N/A"}},{"$f":"VLOOKUP($B941,'Ad Week Dates'!$A:$E,2,FALSE)","v":{"$error":"#N/A"}},{"$f":"VLOOKUP($B941,'Ad Week Dates'!$A:$E,3,FALSE)","v":{"$error":"#N/A"}},null,null,null,null,null,null,{"$error":"#N/A"}]
[null,null,{"$f":"VLOOKUP($B942,'Ad Week Dates'!$A:$E,4,FALSE)","v":{"$error":"#N/A"}},{"$f":"VLOOKUP($B942,'Ad Week Dates'!$A:$E,2,FALSE)","v":{"$error":"#N/A"}},{"$f":"VLOOKUP($B942,'Ad Week Dates'!$A:$E,3,FALSE)","v":{"$error":"#N/A"}},null,null,null,null,null,null,{"$error":"#N/A"}]
[null,null,{"$f":"VLOOKUP($B943,'Ad Week Dates'!$A:$E,4,FALSE)","v":{"$error":"#N/A"}},{"$f":"VLOOKUP($B943,'Ad Week Dates'!$A:$E,2,FALSE)","v":{"$error":"#N/A"}},{"$f":"VLOOKUP($B943,'Ad Week Dates'!$A:$E,3,FALSE)","v":{"$error":"#N/A"}},null,null,null,null,null,null,{"$error":"#N/A"}]
[null,null,{"$f":"VLOOKUP($B944,'Ad Week Dates'!$A:$E,4,FALSE)","v":{"$error":"#N/A"}},{"$f":"VLOOKUP($B944,'Ad Week Dates'!$A:$E,2,FALSE)","v":{"$error":"#N/A"}},{"$f":"VLOOKUP($B944,'Ad Week Dates'!$A:$E,3,FALSE)","v":{"$error":"#N/A"}},null,null,null,null,null,null,{"$error":"#N/A"}]
[null,null,{"$f":"VLOOKUP($B945,'Ad Week Dates'!$A:$E,4,FALSE)","v":{"$error":"#N/A"}},{"$f":"VLOOKUP($B945,'Ad Week Dates'!$A:$E,2,FALSE)","v":{"$error":"#N/A"}},{"$f":"VLOOKUP($B945,'Ad Week Dates'!$A:$E,3,FALSE)","v":{"$error":"#N/A"}},null,null,null,null,null,null,{"$error":"#N/A"}]
[null,null,{"$f":"VLOOKUP($B946,'Ad Week Dates'!$A:$E,4,FALSE)","v":{"$error":"#N/A"}},{"$f":"VLOOKUP($B946,'Ad Week Dates'!$A:$E,2,FALSE)","v":{"$error":"#N/A"}},{"$f":"VLOOKUP($B946,'Ad Week Dates'!$A:$E,3,FALSE)","v":{"$error":"#N/A"}},null,null,null,null,null,null,{"$error":"#N/A"}]
[null,null,{"$f":"VLOOKUP($B947,'Ad Week Dates'!$A:$E,4,FALSE)","v":{"$error":"#N/A"}},{"$f":"VLOOKUP($B947,'Ad Week Dates'!$A:$E,2,FALSE)","v":{"$error":"#N/A"}},{"$f":"VLOOKUP($B947,'Ad Week Dates'!$A:$E,3,FALSE)","v":{"$error":"#N/A"}},null,null,null,null,null,null,{"$error":"#N/A"}]
[null,null,{"$f":"VLOOKUP($B948,'Ad Week Dates'!$A:$E,4,FALSE)","v":{"$error":"#N/A"}},{"$f":"VLOOKUP($B948,'Ad Week Dates'!$A:$E,2,FALSE)","v":{"$error":"#N/A"}},{"$f":"VLOOKUP($B948,'Ad Week Dates'!$A:$E,3,FALSE)","v":{"$error":"#N/A"}},null,null,null,null,null,null,{"$error":"#N/A"}]
[null,null,{"$f":"VLOOKUP($B949,'Ad Week Dates'!$A:$E,4,FALSE)","v":{"$error":"#N/A"}},{"$f":"VLOOKUP($B949,'Ad Week Dates'!$A:$E,2,FALSE)","v":{"$error":"#N/A"}},{"$f":"VLOOKUP($B949,'Ad Week Dates'!$A:$E,3,FALSE)","v":{"$error":"#N/A"}},null,null,null,null,null,null,{"$error":"#N/A"}]
[null,null,{"$f":"VLOOKUP($B950,'Ad Week Dates'!$A:$E,4,FALSE)","v":{"$error":"#N/A"}},{"$f":"VLOOKUP($B950,'Ad Week Dates'!$A:$E,2,FALSE)","v":{"$error":"#N/A"}},{"$f":"VLOOKUP($B950,'Ad Week Dates'!$A:$E,3,FALSE)","v":{"$error":"#N/A"}},null,null,null,null,null,null,{"$error":"#N/A"}]
[null,null,{"$f":"VLOOKUP($B951,'Ad Week Dates'!$A:$E,4,FALSE)","v":{"$error":"#N/A"}},{"$f":"VLOOKUP($B951,'Ad Week Dates'!$A:$E,2,FALSE)","v":{"$error":"#N/A"}},{"$f":"VLOOKUP($B951,'Ad Week Dates'!$A:$E,3,FALSE)","v":{"$error":"#N/A"}},null,null,null,null,null,null,{"$error":"#N/A"}]
[null,null,{"$f":"VLOOKUP($B952,'Ad Week Dates'!$A:$E,4,FALSE)","v":{"$error":"#N/A"}},{"$f":"VLOOKUP($B952,'Ad Week Dates'!$A:$E,2,FALSE)","v":{"$error":"#N/A"}},{"$f":"VLOOKUP($B952,'Ad Week Dates'!$A:$E,3,FALSE)","v":{"$error":"#N/A"}},null,null,null,null,null,null,{"$error":"#N/A"}]
[null,null,{"$f":"VLOOKUP($B953,'Ad Week Dates'!$A:$E,4,FALSE)","v":{"$error":"#N/A"}},{"$f":"VLOOKUP($B953,'Ad Week Dates'!$A:$E,2,FALSE)","v":{"$error":"#N/A"}},{"$f":"VLOOKUP($B953,'Ad Week Dates'!$A:$E,3,FALSE)","v":{"$error":"#N/A"}},null,null,null,null,null,null,{"$error":"#N/A"}]
[null,null,{"$f":"VLOOKUP($B954,'Ad Week Dates'!$A:$E,4,FALSE)","v":{"$error":"#N/A"}},{"$f":"VLOOKUP($B954,'Ad Week Dates'!$A:$E,2,FALSE)","v":{"$error":"#N/A"}},{"$f":"VLOOKUP($B954,'Ad Week Dates'!$A:$E,3,FALSE)","v":{"$error":"#N/A"}},null,null,null,null,null,null,{"$error":"#N/A"}]
[null,null,{"$f":"VLOOKUP($B955,'Ad Week Dates'!$A:$E,4,FALSE)","v":{"$error":"#N/A"}},{"$f":"VLOOKUP($B955,'Ad Week Dates'!$A:$E,2,FALSE)","v":{"$error":"#N/A"}},{"$f":"VLOOKUP($B955,'Ad Week Dates'!$A:$E,3,FALSE)","v":{"$error":"#N/A"}},null,null,null,null,null,null,{"$error":"#N/A"}]
[null,null,{"$f":"VLOOKUP($B956,'Ad Week Dates'!$A:$E,4,FALSE)","v":{"$error":"#N/A"}},{"$f":"VLOOKUP($B956,'Ad Week Dates'!$A:$E,2,FALSE)","v":{"$error":"#N/A"}},{"$f":"VLOOKUP($B956,'Ad Week Dates'!$A:$E,3,FALSE)","v":{"$error":"#N/A"}},null,null,null,null,null,null,{"$error":"#N/A"}]
[null,null,{"$f":"VLOOKUP($B957,'Ad Week Dates'!$A:$E,4,FALSE)","v":{"$error":"#N/A"}},{"$f":"VLOOKUP($B957,'Ad Week Dates'!$A:$E,2,FALSE)","v":{"$error":"#N/A"}},{"$f":"VLOOKUP($B957,'Ad Week Dates'!$A:$E,3,FALSE)","v":{"$error":"#N/A"}},null,null,null,null,null,null,{"$error":"#N/A"}]
[null,null,{"$f":"VLOOKUP($B958,'Ad Week Dates'!$A:$E,4,FALSE)","v":{"$error":"#N/A"}},{"$f":"VLOOKUP($B958,'Ad Week Dates'!$A:$E,2,FALSE)","v":{"$error":"#N/A"}},{"$f":"VLOOKUP($B958,'Ad Week Dates'!$A:$E,3,FALSE)","v":{"$error":"#N/A"}},null,null,null,null,null,null,{"$error":"#N/A"}]
[null,null,{"$f":"VLOOKUP($B959,'Ad Week Dates'!$A:$E,4,FALSE)","v":{"$error":"#N/A"}},{"$f":"VLOOKUP($B959,'Ad Week Dates'!$A:$E,2,FALSE)","v":{"$error":"#N/A"}},{"$f":"VLOOKUP($B959,'Ad Week Dates'!$A:$E,3,FALSE)","v":{"$error":"#N/A"}},null,null,null,null,null,null,{"$error":"#N/A"}]
[null,null,{"$f":"VLOOKUP($B960,'Ad Week Dates'!$A:$E,4,FALSE)","v":{"$error":"#N/A"}},{"$f":"VLOOKUP($B960,'Ad Week Dates'!$A:$E,2,FALSE)","v":{"$error":"#N/A"}},{"$f":"VLOOKUP($B960,'Ad Week Dates'!$A:$E,3,FALSE)","v":{"$error":"#N/A"}},null,null,null,null,null,null,{"$error":"#N/A"}]
[null,null,{"$f":"VLOOKUP($B961,'Ad Week Dates'!$A:$E,4,FALSE)","v":{"$error":"#N/A"}},{"$f":"VLOOKUP($B961,'Ad Week Dates'!$A:$E,2,FALSE)","v":{"$error":"#N/A"}},{"$f":"VLOOKUP($B961,'Ad Week Dates'!$A:$E,3,FALSE)","v":{"$error":"#N/A"}},null,null,null,null,null,null,{"$error":"#N/A"}]
[null,null,{"$f":"VLOOKUP($B962,'Ad Week Dates'!$A:$E,4,FALSE)","v":{"$error":"#N/A"}},{"$f":"VLOOKUP($B962,'Ad Week Dates'!$A:$E,2,FALSE)","v":{"$error":"#N/A"}},{"$f":"VLOOKUP($B962,'Ad Week Dates'!$A:$E,3,FALSE)","v":{"$error":"#N/A"}},null,null,null,null,null,null,{"$error":"#N/A"}]
[null,null,{"$f":"VLOOKUP($B963,'Ad Week Dates'!$A:$E,4,FALSE)","v":{"$error":"#N/A"}},{"$f":"VLOOKUP($B963,'Ad Week Dates'!$A:$E,2,FALSE)","v":{"$error":"#N/A"}},{"$f":"VLOOKUP($B963,'Ad Week Dates'!$A:$E,3,FALSE)","v":{"$error":"#N/A"}},null,null,null,null,null,null,{"$error":"#N/A"}]
[null,null,{"$f":"VLOOKUP($B964,'Ad Week Dates'!$A:$E,4,FALSE)","v":{"$error":"#N/A"}},{"$f":"VLOOKUP($B964,'Ad Week Dates'!$A:$E,2,FALSE)","v":{"$error":"#N/A"}},{"$f":"VLOOKUP($B964,'Ad Week Dates'!$A:$E,3,FALSE)","v":{"$error":"#N/A"}},null,null,null,null,null,null,{"$error":"#N/A"}]
[null,null,{"$f":"VLOOKUP($B965,'Ad Week Dates'!$A:$E,4,FALSE)","v":{"$error":"#N/A"}},{"$f":"VLOOKUP($B965,'Ad Week Dates'!$A:$E,2,FALSE)","v":{"$error":"#N/A"}},{"$f":"VLOOKUP($B965,'Ad Week Dates'!$A:$E,3,FALSE)","v":{"$error":"#N/A"}},null,null,null,null,null,null,{"$error":"#N/A"}]
[null,null,{"$f":"VLOOKUP($B966,'Ad Week Dates'!$A:$E,4,FALSE)","v":{"$error":"#N/A"}},{"$f":"VLOOKUP($B966,'Ad Week Dates'!$A:$E,2,FALSE)","v":{"$error":"#N/A"}},{"$f":"VLOOKUP($B966,'Ad Week Dates'!$A:$E,3,FALSE)","v":{"$error":"#N/A"}},null,null,null,null,null,null,{"$f":"IF(ISNUMBER(J966), J966 - K966, VALUE(_xlfn.TEXTBEFORE(J966, \"-\")) - VALUE(_xlfn.TEXTBEFORE(K966, \"-\")))","v":{"$error":"#N/A"}}]
[null,null,{"$f":"VLOOKUP($B967,'Ad Week Dates'!$A:$E,4,FALSE)","v":{"$error":"#N/A"}},{"$f":"VLOOKUP($B967,'Ad Week Dates'!$A:$E,2,FALSE)","v":{"$error":"#N/A"}},{"$f":"VLOOKUP($B967,'Ad Week Dates'!$A:$E,3,FALSE)","v":{"$error":"#N/A"}},null,null,null,null,null,null,{"$error":"#N/A"}]
[null,null,{"$f":"VLOOKUP($B968,'Ad Week Dates'!$A:$E,4,FALSE)","v":{"$error":"#N/A"}},{"$f":"VLOOKUP($B968,'Ad Week Dates'!$A:$E,2,FALSE)","v":{"$error":"#N/A"}},{"$f":"VLOOKUP($B968,'Ad Week Dates'!$A:$E,3,FALSE)","v":{"$error":"#N/A"}},null,null,null,null,null,null,{"$error":"#N/A"}]
[null,null,{"$f":"VLOOKUP($B969,'Ad Week Dates'!$A:$E,4,FALSE)","v":{"$error":"#N/A"}},{"$f":"VLOOKUP($B969,'Ad Week Dates'!$A:$E,2,FALSE)","v":{"$error":"#N/A"}},{"$f":"VLOOKUP($B969,'Ad Week Dates'!$A:$E,3,FALSE)","v":{"$error":"#N/A"}},null,null,null,null,null,null,{"$error":"#N/A"}]
[null,null,{"$f":"VLOOKUP($B970,'Ad Week Dates'!$A:$E,4,FALSE)","v":{"$error":"#N/A"}},{"$f":"VLOOKUP($B970,'Ad Week Dates'!$A:$E,2,FALSE)","v":{"$error":"#N/A"}},{"$f":"VLOOKUP($B970,'Ad Week Dates'!$A:$E,3,FALSE)","v":{"$error":"#N/A"}},null,null,null,null,null,null,{"$error":"#N/A"}]
[null,null,{"$f":"VLOOKUP($B971,'Ad Week Dates'!$A:$E,4,FALSE)","v":{"$error":"#N/A"}},{"$f":"VLOOKUP($B971,'Ad Week Dates'!$A:$E,2,FALSE)","v":{"$error":"#N/A"}},{"$f":"VLOOKUP($B971,'Ad Week Dates'!$A:$E,3,FALSE)","v":{"$error":"#N/A"}},null,null,null,null,null,null,{"$error":"#N/A"}]
[null,null,{"$f":"VLOOKUP($B972,'Ad Week Dates'!$A:$E,4,FALSE)","v":{"$error":"#N/A"}},{"$f":"VLOOKUP($B972,'Ad Week Dates'!$A:$E,2,FALSE)","v":{"$error":"#N/A"}},{"$f":"VLOOKUP($B972,'Ad Week Dates'!$A:$E,3,FALSE)","v":{"$error":"#N/A"}},null,null,null,null,null,null,{"$error":"#N/A"}]
[null,null,{"$f":"VLOOKUP($B973,'Ad Week Dates'!$A:$E,4,FALSE)","v":{"$error":"#N/A"}},{"$f":"VLOOKUP($B973,'Ad Week Dates'!$A:$E,2,FALSE)","v":{"$error":"#N/A"}},{"$f":"VLOOKUP($B973,'Ad Week Dates'!$A:$E,3,FALSE)","v":{"$error":"#N/A"}},null,null,null,null,null,null,{"$error":"#N/A"}]
[null,null,{"$f":"VLOOKUP($B974,'Ad Week Dates'!$A:$E,4,FALSE)","v":{"$error":"#N/A"}},{"$f":"VLOOKUP($B974,'Ad Week Dates'!$A:$E,2,FALSE)","v":{"$error":"#N/A"}},{"$f":"VLOOKUP($B974,'Ad Week Dates'!$A:$E,3,FALSE)","v":{"$error":"#N/A"}},null,null,null,null,null,null,{"$error":"#N/A"}]
[null,null,{"$f":"VLOOKUP($B975,'Ad Week Dates'!$A:$E,4,FALSE)","v":{"$error":"#N/A"}},{"$f":"VLOOKUP($B975,'Ad Week Dates'!$A:$E,2,FALSE)","v":{"$error":"#N/A"}},{"$f":"VLOOKUP($B975,'Ad Week Dates'!$A:$E,3,FALSE)","v":{"$error":"#N/A"}},null,null,null,null,null,null,{"$error":"#N/A"}]
[null,null,{"$f":"VLOOKUP($B976,'Ad Week Dates'!$A:$E,4,FALSE)","v":{"$error":"#N/A"}},{"$f":"VLOOKUP($B976,'Ad Week Dates'!$A:$E,2,FALSE)","v":{"$error":"#N/A"}},{"$f":"VLOOKUP($B976,'Ad Week Dates'!$A:$E,3,FALSE)","v":{"$error":"#N/A"}},null,null,null,null,null,null,{"$error":"#N/A"}]
[null,null,{"$f":"VLOOKUP($B977,'Ad Week Dates'!$A:$E,4,FALSE)","v":{"$error":"#N/A"}},{"$f":"VLOOKUP($B977,'Ad Week Dates'!$A:$E,2,FALSE)","v":{"$error":"#N/A"}},{"$f":"VLOOKUP($B977,'Ad Week Dates'!$A:$E,3,FALSE)","v":{"$error":"#N/A"}},null,null,null,null,null,null,{"$error":"#N/A"}]
[null,null,{"$f":"VLOOKUP($B978,'Ad Week Dates'!$A:$E,4,FALSE)","v":{"$error":"#N/A"}},{"$f":"VLOOKUP($B978,'Ad Week Dates'!$A:$E,2,FALSE)","v":{"$error":"#N/A"}},{"$f":"VLOOKUP($B978,'Ad Week Dates'!$A:$E,3,FALSE)","v":{"$error":"#N/A"}},null,null,null,null,null,null,{"$error":"#N/A"}]
[null,null,{"$f":"VLOOKUP($B979,'Ad Week Dates'!$A:$E,4,FALSE)","v":{"$error":"#N/A"}},{"$f":"VLOOKUP($B979,'Ad Week Dates'!$A:$E,2,FALSE)","v":{"$error":"#N/A"}},{"$f":"VLOOKUP($B979,'Ad Week Dates'!$A:$E,3,FALSE)","v":{"$error":"#N/A"}},null,null,null,null,null,null,{"$error":"#N/A"}]
[null,null,{"$f":"VLOOKUP($B980,'Ad Week Dates'!$A:$E,4,FALSE)","v":{"$error":"#N/A"}},{"$f":"VLOOKUP($B980,'Ad Week Dates'!$A:$E,2,FALSE)","v":{"$error":"#N/A"}},{"$f":"VLOOKUP($B980,'Ad Week Dates'!$A:$E,3,FALSE)","v":{"$error":"#N/A"}},null,null,null,null,null,null,{"$error":"#N/A"}]
[null,null,{"$f":"VLOOKUP($B981,'Ad Week Dates'!$A:$E,4,FALSE)","v":{"$error":"#N/A"}},{"$f":"VLOOKUP($B981,'Ad Week Dates'!$A:$E,2,FALSE)","v":{"$error":"#N/A"}},{"$f":"VLOOKUP($B981,'Ad Week Dates'!$A:$E,3,FALSE)","v":{"$error":"#N/A"}},null,null,null,null,null,null,{"$error":"#N/A"}]
[null,null,{"$f":"VLOOKUP($B982,'Ad Week Dates'!$A:$E,4,FALSE)","v":{"$error":"#N/A"}},{"$f":"VLOOKUP($B982,'Ad Week Dates'!$A:$E,2,FALSE)","v":{"$error":"#N/A"}},{"$f":"VLOOKUP($B982,'Ad Week Dates'!$A:$E,3,FALSE)","v":{"$error":"#N/A"}},null,null,null,null,null,null,{"$error":"#N/A"}]
[null,null,{"$f":"VLOOKUP($B983,'Ad Week Dates'!$A:$E,4,FALSE)","v":{"$error":"#N/A"}},{"$f":"VLOOKUP($B983,'Ad Week Dates'!$A:$E,2,FALSE)","v":{"$error":"#N/A"}},{"$f":"VLOOKUP($B983,'Ad Week Dates'!$A:$E,3,FALSE)","v":{"$error":"#N/A"}},null,null,null,null,null,null,{"$error":"#N/A"}]
[null,null,{"$f":"VLOOKUP($B984,'Ad Week Dates'!$A:$E,4,FALSE)","v":{"$error":"#N/A"}},{"$f":"VLOOKUP($B984,'Ad Week Dates'!$A:$E,2,FALSE)","v":{"$error":"#N/A"}},{"$f":"VLOOKUP($B984,'Ad Week Dates'!$A:$E,3,FALSE)","v":{"$error":"#N/A"}},null,null,null,null,null,null,{"$error":"#N/A"}]
[null,null,{"$f":"VLOOKUP($B985,'Ad Week Dates'!$A:$E,4,FALSE)","v":{"$error":"#N/A"}},{"$f":"VLOOKUP($B985,'Ad Week Dates'!$A:$E,2,FALSE)","v":{"$error":"#N/A"}},{"$f":"VLOOKUP($B985,'Ad Week Dates'!$A:$E,3,FALSE)","v":{"$error":"#N/A"}},null,null,null,null,null,null,{"$error":"#N/A"}]
[null,null,{"$f":"VLOOKUP($B986,'Ad Week Dates'!$A:$E,4,FALSE)","v":{"$error":"#N/A"}},{"$f":"VLOOKUP($B986,'Ad Week Dates'!$A:$E,2,FALSE)","v":{"$error":"#N/A"}},{"$f":"VLOOKUP($B986,'Ad Week Dates'!$A:$E,3,FALSE)","v":{"$error":"#N/A"}},null,null,null,null,null,null,{"$error":"#N/A"}]
[null,null,{"$f":"VLOOKUP($B987,'Ad Week Dates'!$A:$E,4,FALSE)","v":{"$error":"#N/A"}},{"$f":"VLOOKUP($B987,'Ad Week Dates'!$A:$E,2,FALSE)","v":{"$error":"#N/A"}},{"$f":"VLOOKUP($B987,'Ad Week Dates'!$A:$E,3,FALSE)","v":{"$error":"#N/A"}},null,null,null,null,null,null,{"$error":"#N/A"}]
[null,null,{"$f":"VLOOKUP($B988,'Ad Week Dates'!$A:$E,4,FALSE)","v":{"$error":"#N/A"}},{"$f":"VLOOKUP($B988,'Ad Week Dates'!$A:$E,2,FALSE)","v":{"$error":"#N/A"}},{"$f":"VLOOKUP($B988,'Ad Week Dates'!$A:$E,3,FALSE)","v":{"$error":"#N/A"}},null,null,null,null,null,null,{"$error":"#N/A"}]
[null,null,{"$f":"VLOOKUP($B989,'Ad Week Dates'!$A:$E,4,FALSE)","v":{"$error":"#N/A"}},{"$f":"VLOOKUP($B989,'Ad Week Dates'!$A:$E,2,FALSE)","v":{"$error":"#N/A"}},{"$f":"VLOOKUP($B989,'Ad Week Dates'!$A:$E,3,FALSE)","v":{"$error":"#N/A"}},null,null,null,null,null,null,{"$error":"#N/A"}]
[null,null,{"$f":"VLOOKUP($B990,'Ad Week Dates'!$A:$E,4,FALSE)","v":{"$error":"#N/A"}},{"$f":"VLOOKUP($B990,'Ad Week Dates'!$A:$E,2,FALSE)","v":{"$error":"#N/A"}},{"$f":"VLOOKUP($B990,'Ad Week Dates'!$A:$E,3,FALSE)","v":{"$error":"#N/A"}},null,null,null,null,null,null,{"$error":"#N/A"}]
[null,null,{"$f":"VLOOKUP($B991,'Ad Week Dates'!$A:$E,4,FALSE)","v":{"$error":"#N/A"}},{"$f":"VLOOKUP($B991,'Ad Week Dates'!$A:$E,2,FALSE)","v":{"$error":"#N/A"}},{"$f":"VLOOKUP($B991,'Ad Week Dates'!$A:$E,3,FALSE)","v":{"$error":"#N/A"}},null,null,null,null,null,null,{"$error":"#N/A"}]
[null,null,{"$f":"VLOOKUP($B992,'Ad Week Dates'!$A:$E,4,FALSE)","v":{"$error":"#N/A"}},{"$f":"VLOOKUP($B992,'Ad Week Dates'!$A:$E,2,FALSE)","v":{"$error":"#N/A"}},{"$f":"VLOOKUP($B992,'Ad Week Dates'!$A:$E,3,FALSE)","v":{"$error":"#N/A"}},null,null,null,null,null,null,{"$error":"#N/A"}]
[null,null,{"$f":"VLOOKUP($B993,'Ad Week Dates'!$A:$E,4,FALSE)","v":{"$error":"#N/A"}},{"$f":"VLOOKUP($B993,'Ad Week Dates'!$A:$E,2,FALSE)","v":{"$error":"#N/A"}},{"$f":"VLOOKUP($B993,'Ad Week Dates'!$A:$E,3,FALSE)","v":{"$error":"#N/A"}},null,null,null,null,null,null,{"$error":"#N/A"}]
[null,null,{"$f":"VLOOKUP($B994,'Ad Week Dates'!$A:$E,4,FALSE)","v":{"$error":"#N/A"}},{"$f":"VLOOKUP($B994,'Ad Week Dates'!$A:$E,2,FALSE)","v":{"$error":"#N/A"}},{"$f":"VLOOKUP($B994,'Ad Week Dates'!$A:$E,3,FALSE)","v":{"$error":"#N/A"}},null,null,null,null,null,null,{"$error":"#N/A"}]
[null,null,{"$f":"VLOOKUP($B995,'Ad Week Dates'!$A:$E,4,FALSE)","v":{"$error":"#N/A"}},{"$f":"VLOOKUP($B995,'Ad Week Dates'!$A:$E,2,FALSE)","v":{"$error":"#N/A"}},{"$f":"VLOOKUP($B995,'Ad Week Dates'!$A:$E,3,FALSE)","v":{"$error":"#N/A"}},null,null,null,null,null,null,{"$error":"#N/A"}]
[null,null,{"$f":"VLOOKUP($B996,'Ad Week Dates'!$A:$E,4,FALSE)","v":{"$error":"#N/A"}},{"$f":"VLOOKUP($B996,'Ad Week Dates'!$A:$E,2,FALSE)","v":{"$error":"#N/A"}},{"$f":"VLOOKUP($B996,'Ad Week Dates'!$A:$E,3,FALSE)","v":{"$error":"#N/A"}},null,null,null,null,null,null,{"$error":"#N/A"}]
[null,null,{"$f":"VLOOKUP($B997,'Ad Week Dates'!$A:$E,4,FALSE)","v":{"$error":"#N/A"}},{"$f":"VLOOKUP($B997,'Ad Week Dates'!$A:$E,2,FALSE)","v":{"$error":"#N/A"}},{"$f":"VLOOKUP($B997,'Ad Week Dates'!$A:$E,3,FALSE)","v":{"$error":"#N/A"}},null,null,null,null,null,null,{"$error":"#N/A"}]
[null,null,{"$f":"VLOOKUP($B998,'Ad Week Dates'!$A:$E,4,FALSE)","v":{"$error":"#N/A"}},{"$f":"VLOOKUP($B998,'Ad Week Dates'!$A:$E,2,FALSE)","v":{"$error":"#N/A"}},{"$f":"VLOOKUP($B998,'Ad Week Dates'!$A:$E,3,FALSE)","v":{"$error":"#N/A"}},null,null,null,null,null,null,{"$error":"#N/A"}]
[null,null,{"$f":"VLOOKUP($B999,'Ad Week Dates'!$A:$E,4,FALSE)","v":{"$error":"#N/A"}},{"$f":"VLOOKUP($B999,'Ad Week Dates'!$A:$E,2,FALSE)","v":{"$error":"#N/A"}},{"$f":"VLOOKUP($B999,'Ad Week Dates'!$A:$E,3,FALSE)","v":{"$error":"#N/A"}},null,null,null,null,null,null,{"$error":"#N/A"}]
[null,null,{"$f":"VLOOKUP($B1000,'Ad Week Dates'!$A:$E,4,FALSE)","v":{"$error":"#N/A"}},{"$f":"VLOOKUP($B1000,'Ad Week Dates'!$A:$E,2,FALSE)","v":{"$error":"#N/A"}},{"$f":"VLOOKUP($B1000,'Ad Week Dates'!$A:$E,3,FALSE)","v":{"$error":"#N/A"}},null,null,null,null,null,null,{"$error":"#N/A"}]
[null,null,{"$f":"VLOOKUP($B1001,'Ad Week Dates'!$A:$E,4,FALSE)","v":{"$error":"#N/A"}},{"$f":"VLOOKUP($B1001,'Ad Week Dates'!$A:$E,2,FALSE)","v":{"$error":"#N/A"}},{"$f":"VLOOKUP($B1001,'Ad Week Dates'!$A:$E,3,FALSE)","v":{"$error":"#N/A"}},null,null,null,null,null,null,{"$error":"#N/A"}]
[null,null,{"$f":"VLOOKUP($B1002,'Ad Week Dates'!$A:$E,4,FALSE)","v":{"$error":"#N/A"}},{"$f":"VLOOKUP($B1002,'Ad Week Dates'!$A:$E,2,FALSE)","v":{"$error":"#N/A"}},{"$f":"VLOOKUP($B1002,'Ad Week Dates'!$A:$E,3,FALSE)","v":{"$error":"#N/A"}},null,null,null,null,null,null,{"$error":"#N/A"}]
[null,null,{"$f":"VLOOKUP($B1003,'Ad Week Dates'!$A:$E,4,FALSE)","v":{"$error":"#N/A"}},{"$f":"VLOOKUP($B1003,'Ad Week Dates'!$A:$E,2,FALSE)","v":{"$error":"#N/A"}},{"$f":"VLOOKUP($B1003,'Ad Week Dates'!$A:$E,3,FALSE)","v":{"$error":"#N/A"}},null,null,null,null,null,null,{"$error":"#N/A"}]
[null,null,{"$f":"VLOOKUP($B1004,'Ad Week Dates'!$A:$E,4,FALSE)","v":{"$error":"#N/A"}},{"$f":"VLOOKUP($B1004,'Ad Week Dates'!$A:$E,2,FALSE)","v":{"$error":"#N/A"}},{"$f":"VLOOKUP($B1004,'Ad Week Dates'!$A:$E,3,FALSE)","v":{"$error":"#N/A"}},null,null,null,null,null,null,{"$error":"#N/A"}]
[null,null,{"$f":"VLOOKUP($B1005,'Ad Week Dates'!$A:$E,4,FALSE)","v":{"$error":"#N/A"}},{"$f":"VLOOKUP($B1005,'Ad Week Dates'!$A:$E,2,FALSE)","v":{"$error":"#N/A"}},{"$f":"VLOOKUP($B1005,'Ad Week Dates'!$A:$E,3,FALSE)","v":{"$error":"#N/A"}},null,null,null,null,null,null,{"$error":"#N/A"}]
[null,null,{"$f":"VLOOKUP($B1006,'Ad Week Dates'!$A:$E,4,FALSE)","v":{"$error":"#N/A"}},{"$f":"VLOOKUP($B1006,'Ad Week Dates'!$A:$E,2,FALSE)","v":{"$error":"#N/A"}},{"$f":"VLOOKUP($B1006,'Ad Week Dates'!$A:$E,3,FALSE)","v":{"$error":"#N/A"}},null,null,null,null,null,null,{"$error":"#N/A"}]
[null,null,{"$f":"VLOOKUP($B1007,'Ad Week Dates'!$A:$E,4,FALSE)","v":{"$error":"#N/A"}},{"$f":"VLOOKUP($B1007,'Ad Week Dates'!$A:$E,2,FALSE)","v":{"$error":"#N/A"}},{"$f":"VLOOKUP($B1007,'Ad Week Dates'!$A:$E,3,FALSE)","v":{"$error":"#N/A"}},null,null,null,null,null,null,{"$error":"#N/A"}]
[null,null,{"$f":"VLOOKUP($B1008,'Ad Week Dates'!$A:$E,4,FALSE)","v":{"$error":"#N/A"}},{"$f":"VLOOKUP($B1008,'Ad Week Dates'!$A:$E,2,FALSE)","v":{"$error":"#N/A"}},{"$f":"VLOOKUP($B1008,'Ad Week Dates'!$A:$E,3,FALSE)","v":{"$error":"#N/A"}},null,null,null,null,null,null,{"$error":"#N/A"}]
[null,null,{"$f":"VLOOKUP($B1009,'Ad Week Dates'!$A:$E,4,FALSE)","v":{"$error":"#N/A"}},{"$f":"VLOOKUP($B1009,'Ad Week Dates'!$A:$E,2,FALSE)","v":{"$error":"#N/A"}},{"$f":"VLOOKUP($B1009,'Ad Week Dates'!$A:$E,3,FALSE)","v":{"$error":"#N/A"}},null,null,null,null,null,null,{"$error":"#N/A"}]
[null,null,{"$f":"VLOOKUP($B1010,'Ad Week Dates'!$A:$E,4,FALSE)","v":{"$error":"#N/A"}},{"$f":"VLOOKUP($B1010,'Ad Week Dates'!$A:$E,2,FALSE)","v":{"$error":"#N/A"}},{"$f":"VLOOKUP($B1010,'Ad Week Dates'!$A:$E,3,FALSE)","v":{"$error":"#N/A"}},null,null,null,null,null,null,{"$error":"#N/A"}]
[null,null,{"$f":"VLOOKUP($B1011,'Ad Week Dates'!$A:$E,4,FALSE)","v":{"$error":"#N/A"}},{"$f":"VLOOKUP($B1011,'Ad Week Dates'!$A:$E,2,FALSE)","v":{"$error":"#N/A"}},{"$f":"VLOOKUP($B1011,'Ad Week Dates'!$A:$E,3,FALSE)","v":{"$error":"#N/A"}},null,null,null,null,null,null,{"$error":"#N/A"}]
[null,null,{"$f":"VLOOKUP($B1012,'Ad Week Dates'!$A:$E,4,FALSE)","v":{"$error":"#N/A"}},{"$f":"VLOOKUP($B1012,'Ad Week Dates'!$A:$E,2,FALSE)","v":{"$error":"#N/A"}},{"$f":"VLOOKUP($B1012,'Ad Week Dates'!$A:$E,3,FALSE)","v":{"$error":"#N/A"}},null,null,null,null,null,null,{"$error":"#N/A"}]
[null,null,{"$f":"VLOOKUP($B1013,'Ad Week Dates'!$A:$E,4,FALSE)","v":{"$error":"#N/A"}},{"$f":"VLOOKUP($B1013,'Ad Week Dates'!$A:$E,2,FALSE)","v":{"$error":"#N/A"}},{"$f":"VLOOKUP($B1013,'Ad Week Dates'!$A:$E,3,FALSE)","v":{"$error":"#N/A"}},null,null,null,null,null,null,{"$error":"#N/A"}]
[null,null,{"$f":"VLOOKUP($B1014,'Ad Week Dates'!$A:$E,4,FALSE)","v":{"$error":"#N/A"}},{"$f":"VLOOKUP($B1014,'Ad Week Dates'!$A:$E,2,FALSE)","v":{"$error":"#N/A"}},{"$f":"VLOOKUP($B1014,'Ad Week Dates'!$A:$E,3,FALSE)","v":{"$error":"#N/A"}},null,null,null,null,null,null,{"$error":"#N/A"}]
[null,null,{"$f":"VLOOKUP($B1015,'Ad Week Dates'!$A:$E,4,FALSE)","v":{"$error":"#N/A"}},{"$f":"VLOOKUP($B1015,'Ad Week Dates'!$A:$E,2,FALSE)","v":{"$error":"#N/A"}},{"$f":"VLOOKUP($B1015,'Ad Week Dates'!$A:$E,3,FALSE)","v":{"$error":"#N/A"}},null,null,null,null,null,null,{"$error":"#N/A"}]
[null,null,{"$f":"VLOOKUP($B1016,'Ad Week Dates'!$A:$E,4,FALSE)","v":{"$error":"#N/A"}},{"$f":"VLOOKUP($B1016,'Ad Week Dates'!$A:$E,2,FALSE)","v":{"$error":"#N/A"}},{"$f":"VLOOKUP($B1016,'Ad Week Dates'!$A:$E,3,FALSE)","v":{"$error":"#N/A"}},null,null,null,null,null,null,{"$error":"#N/A"}]
[null,null,{"$f":"VLOOKUP($B1017,'Ad Week Dates'!$A:$E,4,FALSE)","v":{"$error":"#N/A"}},{"$f":"VLOOKUP($B1017,'Ad Week Dates'!$A:$E,2,FALSE)","v":{"$error":"#N/A"}},{"$f":"VLOOKUP($B1017,'Ad Week Dates'!$A:$E,3,FALSE)","v":{"$error":"#N/A"}},null,null,null,null,null,null,{"$error":"#N/A"}]
[null,null,{"$f":"VLOOKUP($B1018,'Ad Week Dates'!$A:$E,4,FALSE)","v":{"$error":"#N/A"}},{"$f":"VLOOKUP($B1018,'Ad Week Dates'!$A:$E,2,FALSE)","v":{"$error":"#N/A"}},{"$f":"VLOOKUP($B1018,'Ad Week Dates'!$A:$E,3,FALSE)","v":{"$error":"#N/A"}},null,null,null,null,null,null,{"$error":"#N/A"}]
[null,null,{"$f":"VLOOKUP($B1019,'Ad Week Dates'!$A:$E,4,FALSE)","v":{"$error":"#N/A"}},{"$f":"VLOOKUP($B1019,'Ad Week Dates'!$A:$E,2,FALSE)","v":{"$error":"#N/A"}},{"$f":"VLOOKUP($B1019,'Ad Week Dates'!$A:$E,3,FALSE)","v":{"$error":"#N/A"}},null,null,null,null,null,null,{"$error":"#N/A"}]
[null,null,{"$f":"VLOOKUP($B1020,'Ad Week Dates'!$A:$E,4,FALSE)","v":{"$error":"#N/A"}},{"$f":"VLOOKUP($B1020,'Ad Week Dates'!$A:$E,2,FALSE)","v":{"$error":"#N/A"}},{"$f":"VLOOKUP($B1020,'Ad Week Dates'!$A:$E,3,FALSE)","v":{"$error":"#N/A"}},null,null,null,null,null,null,{"$error":"#N/A"}]
[null,null,{"$f":"VLOOKUP($B1021,'Ad Week Dates'!$A:$E,4,FALSE)","v":{"$error":"#N/A"}},{"$f":"VLOOKUP($B1021,'Ad Week Dates'!$A:$E,2,FALSE)","v":{"$error":"#N/A"}},{"$f":"VLOOKUP($B1021,'Ad Week Dates'!$A:$E,3,FALSE)","v":{"$error":"#N/A"}},null,null,null,null,null,null,{"$error":"#N/A"}]
[null,null,{"$f":"VLOOKUP($B1022,'Ad Week Dates'!$A:$E,4,FALSE)","v":{"$error":"#N/A"}},{"$f":"VLOOKUP($B1022,'Ad Week Dates'!$A:$E,2,FALSE)","v":{"$error":"#N/A"}},{"$f":"VLOOKUP($B1022,'Ad Week Dates'!$A:$E,3,FALSE)","v":{"$error":"#N/A"}},null,null,null,null,null,null,{"$error":"#N/A"}]
[null,null,{"$f":"VLOOKUP($B1023,'Ad Week Dates'!$A:$E,4,FALSE)","v":{"$error":"#N/A"}},{"$f":"VLOOKUP($B1023,'Ad Week Dates'!$A:$E,2,FALSE)","v":{"$error":"#N/A"}},{"$f":"VLOOKUP($B1023,'Ad Week Dates'!$A:$E,3,FALSE)","v":{"$error":"#N/A"}},null,null,null,null,null,null,{"$error":"#N/A"}]
[null,null,{"$f":"VLOOKUP($B1024,'Ad Week Dates'!$A:$E,4,FALSE)","v":{"$error":"#N/A"}},{"$f":"VLOOKUP($B1024,'Ad Week Dates'!$A:$E,2,FALSE)","v":{"$error":"#N/A"}},{"$f":"VLOOKUP($B1024,'Ad Week Dates'!$A:$E,3,FALSE)","v":{"$error":"#N/A"}},null,null,null,null,null,null,{"$error":"#N/A"}]
[null,null,{"$f":"VLOOKUP($B1025,'Ad Week Dates'!$A:$E,4,FALSE)","v":{"$error":"#N/A"}},{"$f":"VLOOKUP($B1025,'Ad Week Dates'!$A:$E,2,FALSE)","v":{"$error":"#N/A"}},{"$f":"VLOOKUP($B1025,'Ad Week Dates'!$A:$E,3,FALSE)","v":{"$error":"#N/A"}},null,null,null,null,null,null,{"$error":"#N/A"}]
[null,null,{"$f":"VLOOKUP($B1026,'Ad Week Dates'!$A:$E,4,FALSE)","v":{"$error":"#N/A"}},{"$f":"VLOOKUP($B1026,'Ad Week Dates'!$A:$E,2,FALSE)","v":{"$error":"#N/A"}},{"$f":"VLOOKUP($B1026,'Ad Week Dates'!$A:$E,3,FALSE)","v":{"$error":"#N/A"}},null,null,null,null,null,null,{"$error":"#N/A"}]
[null,null,{"$f":"VLOOKUP($B1027,'Ad Week Dates'!$A:$E,4,FALSE)","v":{"$error":"#N/A"}},{"$f":"VLOOKUP($B1027,'Ad Week Dates'!$A:$E,2,FALSE)","v":{"$error":"#N/A"}},{"$f":"VLOOKUP($B1027,'Ad Week Dates'!$A:$E,3,FALSE)","v":{"$error":"#N/A"}},null,null,null,null,null,null,{"$error":"#N/A"}]
[null,null,{"$f":"VLOOKUP($B1028,'Ad Week Dates'!$A:$E,4,FALSE)","v":{"$error":"#N/A"}},{"$f":"VLOOKUP($B1028,'Ad Week Dates'!$A:$E,2,FALSE)","v":{"$error":"#N/A"}},{"$f":"VLOOKUP($B1028,'Ad Week Dates'!$A:$E,3,FALSE)","v":{"$error":"#N/A"}},null,null,null,null,null,null,{"$error":"#N/A"}]
[null,null,{"$f":"VLOOKUP($B1029,'Ad Week Dates'!$A:$E,4,FALSE)","v":{"$error":"#N/A"}},{"$f":"VLOOKUP($B1029,'Ad Week Dates'!$A:$E,2,FALSE)","v":{"$error":"#N/A"}},{"$f":"VLOOKUP($B1029,'Ad Week Dates'!$A:$E,3,FALSE)","v":{"$error":"#N/A"}},null,null,null,null,null,null,{"$error":"#N/A"}]
[null,null,{"$f":"VLOOKUP($B1030,'Ad Week Dates'!$A:$E,4,FALSE)","v":{"$error":"#N/A"}},{"$f":"VLOOKUP($B1030,'Ad Week Dates'!$A:$E,2,FALSE)","v":{"$error":"#N/A"}},{"$f":"VLOOKUP($B1030,'Ad Week Dates'!$A:$E,3,FALSE)","v":{"$error":"#N/A"}},null,null,null,null,null,null,{"$f":"IF(ISNUMBER(J1030), J1030 - K1030, VALUE(_xlfn.TEXTBEFORE(J1030, \"-\")) - VALUE(_xlfn.TEXTBEFORE(K1030, \"-\")))","v":{"$error":"#N/A"}}]
[null,null,{"$f":"VLOOKUP($B1031,'Ad Week Dates'!$A:$E,4,FALSE)","v":{"$error":"#N/A"}},{"$f":"VLOOKUP($B1031,'Ad Week Dates'!$A:$E,2,FALSE)","v":{"$error":"#N/A"}},{"$f":"VLOOKUP($B1031,'Ad Week Dates'!$A:$E,3,FALSE)","v":{"$error":"#N/A"}},null,null,null,null,null,null,{"$error":"#N/A"}]
[null,null,{"$f":"VLOOKUP($B1032,'Ad Week Dates'!$A:$E,4,FALSE)","v":{"$error":"#N/A"}},{"$f":"VLOOKUP($B1032,'Ad Week Dates'!$A:$E,2,FALSE)","v":{"$error":"#N/A"}},{"$f":"VLOOKUP($B1032,'Ad Week Dates'!$A:$E,3,FALSE)","v":{"$error":"#N/A"}},null,null,null,null,null,null,{"$error":"#N/A"}]
[null,null,{"$f":"VLOOKUP($B1033,'Ad Week Dates'!$A:$E,4,FALSE)","v":{"$error":"#N/A"}},{"$f":"VLOOKUP($B1033,'Ad Week Dates'!$A:$E,2,FALSE)","v":{"$error":"#N/A"}},{"$f":"VLOOKUP($B1033,'Ad Week Dates'!$A:$E,3,FALSE)","v":{"$error":"#N/A"}},null,null,null,null,null,null,{"$error":"#N/A"}]
[null,null,{"$f":"VLOOKUP($B1034,'Ad Week Dates'!$A:$E,4,FALSE)","v":{"$error":"#N/A"}},{"$f":"VLOOKUP($B1034,'Ad Week Dates'!$A:$E,2,FALSE)","v":{"$error":"#N/A"}},{"$f":"VLOOKUP($B1034,'Ad Week Dates'!$A:$E,3,FALSE)","v":{"$error":"#N/A"}},null,null,null,null,null,null,{"$error":"#N/A"}]
[null,null,{"$f":"VLOOKUP($B1035,'Ad Week Dates'!$A:$E,4,FALSE)","v":{"$error":"#N/A"}},{"$f":"VLOOKUP($B1035,'Ad Week Dates'!$A:$E,2,FALSE)","v":{"$error":"#N/A"}},{"$f":"VLOOKUP($B1035,'Ad Week Dates'!$A:$E,3,FALSE)","v":{"$error":"#N/A"}},null,null,null,null,null,null,{"$error":"#N/A"}]
[null,null,{"$f":"VLOOKUP($B1036,'Ad Week Dates'!$A:$E,4,FALSE)","v":{"$error":"#N/A"}},{"$f":"VLOOKUP($B1036,'Ad Week Dates'!$A:$E,2,FALSE)","v":{"$error":"#N/A"}},{"$f":"VLOOKUP($B1036,'Ad Week Dates'!$A:$E,3,FALSE)","v":{"$error":"#N/A"}},null,null,null,null,null,null,{"$error":"#N/A"}]
[null,null,{"$f":"VLOOKUP($B1037,'Ad Week Dates'!$A:$E,4,FALSE)","v":{"$error":"#N/A"}},{"$f":"VLOOKUP($B1037,'Ad Week Dates'!$A:$E,2,FALSE)","v":{"$error":"#N/A"}},{"$f":"VLOOKUP($B1037,'Ad Week Dates'!$A:$E,3,FALSE)","v":{"$error":"#N/A"}},null,null,null,null,null,null,{"$error":"#N/A"}]
[null,null,{"$f":"VLOOKUP($B1038,'Ad Week Dates'!$A:$E,4,FALSE)","v":{"$error":"#N/A"}},{"$f":"VLOOKUP($B1038,'Ad Week Dates'!$A:$E,2,FALSE)","v":{"$error":"#N/A"}},{"$f":"VLOOKUP($B1038,'Ad Week Dates'!$A:$E,3,FALSE)","v":{"$error":"#N/A"}},null,null,null,null,null,null,{"$error":"#N/A"}]
[null,null,{"$f":"VLOOKUP($B1039,'Ad Week Dates'!$A:$E,4,FALSE)","v":{"$error":"#N/A"}},{"$f":"VLOOKUP($B1039,'Ad Week Dates'!$A:$E,2,FALSE)","v":{"$error":"#N/A"}},{"$f":"VLOOKUP($B1039,'Ad Week Dates'!$A:$E,3,FALSE)","v":{"$error":"#N/A"}},null,null,null,null,null,null,{"$error":"#N/A"}]
[null,null,{"$f":"VLOOKUP($B1040,'Ad Week Dates'!$A:$E,4,FALSE)","v":{"$error":"#N/A"}},{"$f":"VLOOKUP($B1040,'Ad Week Dates'!$A:$E,2,FALSE)","v":{"$error":"#N/A"}},{"$f":"VLOOKUP($B1040,'Ad Week Dates'!$A:$E,3,FALSE)","v":{"$error":"#N/A"}},null,null,null,null,null,null,{"$error":"#N/A"}]
[null,null,{"$f":"VLOOKUP($B1041,'Ad Week Dates'!$A:$E,4,FALSE)","v":{"$error":"#N/A"}},{"$f":"VLOOKUP($B1041,'Ad Week Dates'!$A:$E,2,FALSE)","v":{"$error":"#N/A"}},{"$f":"VLOOKUP($B1041,'Ad Week Dates'!$A:$E,3,FALSE)","v":{"$error":"#N/A"}},null,null,null,null,null,null,{"$error":"#N/A"}]
[null,null,{"$f":"VLOOKUP($B1042,'Ad Week Dates'!$A:$E,4,FALSE)","v":{"$error":"#N/A"}},{"$f":"VLOOKUP($B1042,'Ad Week Dates'!$A:$E,2,FALSE)","v":{"$error":"#N/A"}},{"$f":"VLOOKUP($B1042,'Ad Week Dates'!$A:$E,3,FALSE)","v":{"$error":"#N/A"}},null,null,null,null,null,null,{"$error":"#N/A"}]
[null,null,{"$f":"VLOOKUP($B1043,'Ad Week Dates'!$A:$E,4,FALSE)","v":{"$error":"#N/A"}},{"$f":"VLOOKUP($B1043,'Ad Week Dates'!$A:$E,2,FALSE)","v":{"$error":"#N/A"}},{"$f":"VLOOKUP($B1043,'Ad Week Dates'!$A:$E,3,FALSE)","v":{"$error":"#N/A"}},null,null,null,null,null,null,{"$error":"#N/A"}]
[null,null,{"$f":"VLOOKUP($B1044,'Ad Week Dates'!$A:$E,4,FALSE)","v":{"$error":"#N/A"}},{"$f":"VLOOKUP($B1044,'Ad Week Dates'!$A:$E,2,FALSE)","v":{"$error":"#N/A"}},{"$f":"VLOOKUP($B1044,'Ad Week Dates'!$A:$E,3,FALSE)","v":{"$error":"#N/A"}},null,null,null,null,null,null,{"$error":"#N/A"}]
[null,null,{"$f":"VLOOKUP($B1045,'Ad Week Dates'!$A:$E,4,FALSE)","v":{"$error":"#N/A"}},{"$f":"VLOOKUP($B1045,'Ad Week Dates'!$A:$E,2,FALSE)","v":{"$error":"#N/A"}},{"$f":"VLOOKUP($B1045,'Ad Week Dates'!$A:$E,3,FALSE)","v":{"$error":"#N/A"}},null,null,null,null,null,null,{"$error":"#N/A"}]
[null,null,{"$f":"VLOOKUP($B1046,'Ad Week Dates'!$A:$E,4,FALSE)","v":{"$error":"#N/A"}},{"$f":"VLOOKUP($B1046,'Ad Week Dates'!$A:$E,2,FALSE)","v":{"$error":"#N/A"}},{"$f":"VLOOKUP($B1046,'Ad Week Dates'!$A:$E,3,FALSE)","v":{"$error":"#N/A"}},null,null,null,null,null,null,{"$error":"#N/A"}]
[null,null,{"$f":"VLOOKUP($B1047,'Ad Week Dates'!$A:$E,4,FALSE)","v":{"$error":"#N/A"}},{"$f":"VLOOKUP($B1047,'Ad Week Dates'!$A:$E,2,FALSE)","v":{"$error":"#N/A"}},{"$f":"VLOOKUP($B1047,'Ad Week Dates'!$A:$E,3,FALSE)","v":{"$error":"#N/A"}},null,null,null,null,null,null,{"$error":"#N/A"}]
[null,null,{"$f":"VLOOKUP($B1048,'Ad Week Dates'!$A:$E,4,FALSE)","v":{"$error":"#N/A"}},{"$f":"VLOOKUP($B1048,'Ad Week Dates'!$A:$E,2,FALSE)","v":{"$error":"#N/A"}},{"$f":"VLOOKUP($B1048,'Ad Week Dates'!$A:$E,3,FALSE)","v":{"$error":"#N/A"}},null,null,null,null,null,null,{"$error":"#N/A"}]
[null,null,{"$f":"VLOOKUP($B1049,'Ad Week Dates'!$A:$E,4,FALSE)","v":{"$error":"#N/A"}},{"$f":"VLOOKUP($B1049,'Ad Week Dates'!$A:$E,2,FALSE)","v":{"$error":"#N/A"}},{"$f":"VLOOKUP($B1049,'Ad Week Dates'!$A:$E,3,FALSE)","v":{"$error":"#N/A"}},null,null,null,null,null,null,{"$error":"#N/A"}]
[null,null,{"$f":"VLOOKUP($B1050,'Ad Week Dates'!$A:$E,4,FALSE)","v":{"$error":"#N/A"}},{"$f":"VLOOKUP($B1050,'Ad Week Dates'!$A:$E,2,FALSE)","v":{"$error":"#N/A"}},{"$f":"VLOOKUP($B1050,'Ad Week Dates'!$A:$E,3,FALSE)","v":{"$error":"#N/A"}},null,null,null,null,null,null,{"$error":"#N/A"}]
[null,null,{"$f":"VLOOKUP($B1051,'Ad Week Dates'!$A:$E,4,FALSE)","v":{"$error":"#N/A"}},{"$f":"VLOOKUP($B1051,'Ad Week Dates'!$A:$E,2,FALSE)","v":{"$error":"#N/A"}},{"$f":"VLOOKUP($B1051,'Ad Week Dates'!$A:$E,3,FALSE)","v":{"$error":"#N/A"}},null,null,null,null,null,null,{"$error":"#N/A"}]
[null,null,{"$f":"VLOOKUP($B1052,'Ad Week Dates'!$A:$E,4,FALSE)","v":{"$error":"#N/A"}},{"$f":"VLOOKUP($B1052,'Ad Week Dates'!$A:$E,2,FALSE)","v":{"$error":"#N/A"}},{"$f":"VLOOKUP($B1052,'Ad Week Dates'!$A:$E,3,FALSE)","v":{"$error":"#N/A"}},null,null,null,null,null,null,{"$error":"#N/A"}]
[null,null,{"$f":"VLOOKUP($B1053,'Ad Week Dates'!$A:$E,4,FALSE)","v":{"$error":"#N/A"}},{"$f":"VLOOKUP($B1053,'Ad Week Dates'!$A:$E,2,FALSE)","v":{"$error":"#N/A"}},{"$f":"VLOOKUP($B1053,'Ad Week Dates'!$A:$E,3,FALSE)","v":{"$error":"#N/A"}},null,null,null,null,null,null,{"$error":"#N/A"}]
[null,null,{"$f":"VLOOKUP($B1054,'Ad Week Dates'!$A:$E,4,FALSE)","v":{"$error":"#N/A"}},{"$f":"VLOOKUP($B1054,'Ad Week Dates'!$A:$E,2,FALSE)","v":{"$error":"#N/A"}},{"$f":"VLOOKUP($B1054,'Ad Week Dates'!$A:$E,3,FALSE)","v":{"$error":"#N/A"}},null,null,null,null,null,null,{"$error":"#N/A"}]
[null,null,{"$f":"VLOOKUP($B1055,'Ad Week Dates'!$A:$E,4,FALSE)","v":{"$error":"#N/A"}},{"$f":"VLOOKUP($B1055,'Ad Week Dates'!$A:$E,2,FALSE)","v":{"$error":"#N/A"}},{"$f":"VLOOKUP($B1055,'Ad Week Dates'!$A:$E,3,FALSE)","v":{"$error":"#N/A"}},null,null,null,null,null,null,{"$error":"#N/A"}]
[null,null,{"$f":"VLOOKUP($B1056,'Ad Week Dates'!$A:$E,4,FALSE)","v":{"$error":"#N/A"}},{"$f":"VLOOKUP($B1056,'Ad Week Dates'!$A:$E,2,FALSE)","v":{"$error":"#N/A"}},{"$f":"VLOOKUP($B1056,'Ad Week Dates'!$A:$E,3,FALSE)","v":{"$error":"#N/A"}},null,null,null,null,null,null,{"$error":"#N/A"}]
[null,null,{"$f":"VLOOKUP($B1057,'Ad Week Dates'!$A:$E,4,FALSE)","v":{"$error":"#N/A"}},{"$f":"VLOOKUP($B1057,'Ad Week Dates'!$A:$E,2,FALSE)","v":{"$error":"#N/A"}},{"$f":"VLOOKUP($B1057,'Ad Week Dates'!$A:$E,3,FALSE)","v":{"$error":"#N/A"}},null,null,null,null,null,null,{"$error":"#N/A"}]
[null,null,{"$f":"VLOOKUP($B1058,'Ad Week Dates'!$A:$E,4,FALSE)","v":{"$error":"#N/A"}},{"$f":"VLOOKUP($B1058,'Ad Week Dates'!$A:$E,2,FALSE)","v":{"$error":"#N/A"}},{"$f":"VLOOKUP($B1058,'Ad Week Dates'!$A:$E,3,FALSE)","v":{"$error":"#N/A"}},null,null,null,null,null,null,{"$error":"#N/A"}]
[null,null,{"$f":"VLOOKUP($B1059,'Ad Week Dates'!$A:$E,4,FALSE)","v":{"$error":"#N/A"}},{"$f":"VLOOKUP($B1059,'Ad Week Dates'!$A:$E,2,FALSE)","v":{"$error":"#N/A"}},{"$f":"VLOOKUP($B1059,'Ad Week Dates'!$A:$E,3,FALSE)","v":{"$error":"#N/A"}},null,null,null,null,null,null,{"$error":"#N/A"}]
[null,null,{"$f":"VLOOKUP($B1060,'Ad Week Dates'!$A:$E,4,FALSE)","v":{"$error":"#N/A"}},{"$f":"VLOOKUP($B1060,'Ad Week Dates'!$A:$E,2,FALSE)","v":{"$error":"#N/A"}},{"$f":"VLOOKUP($B1060,'Ad Week Dates'!$A:$E,3,FALSE)","v":{"$error":"#N/A"}},null,null,null,null,null,null,{"$error":"#N/A"}]
[null,null,{"$f":"VLOOKUP($B1061,'Ad Week Dates'!$A:$E,4,FALSE)","v":{"$error":"#N/A"}},{"$f":"VLOOKUP($B1061,'Ad Week Dates'!$A:$E,2,FALSE)","v":{"$error":"#N/A"}},{"$f":"VLOOKUP($B1061,'Ad Week Dates'!$A:$E,3,FALSE)","v":{"$error":"#N/A"}},null,null,null,null,null,null,{"$error":"#N/A"}]
[null,null,{"$f":"VLOOKUP($B1062,'Ad Week Dates'!$A:$E,4,FALSE)","v":{"$error":"#N/A"}},{"$f":"VLOOKUP($B1062,'Ad Week Dates'!$A:$E,2,FALSE)","v":{"$error":"#N/A"}},{"$f":"VLOOKUP($B1062,'Ad Week Dates'!$A:$E,3,FALSE)","v":{"$error":"#N/A"}},null,null,null,null,null,null,{"$error":"#N/A"}]
[null,null,{"$f":"VLOOKUP($B1063,'Ad Week Dates'!$A:$E,4,FALSE)","v":{"$error":"#N/A"}},{"$f":"VLOOKUP($B1063,'Ad Week Dates'!$A:$E,2,FALSE)","v":{"$error":"#N/A"}},{"$f":"VLOOKUP($B1063,'Ad Week Dates'!$A:$E,3,FALSE)","v":{"$error":"#N/A"}},null,null,null,null,null,null,{"$error":"#N/A"}]
[null,null,{"$f":"VLOOKUP($B1064,'Ad Week Dates'!$A:$E,4,FALSE)","v":{"$error":"#N/A"}},{"$f":"VLOOKUP($B1064,'Ad Week Dates'!$A:$E,2,FALSE)","v":{"$error":"#N/A"}},{"$f":"VLOOKUP($B1064,'Ad Week Dates'!$A:$E,3,FALSE)","v":{"$error":"#N/A"}},null,null,null,null,null,null,{"$error":"#N/A"}]
[null,null,{"$f":"VLOOKUP($B1065,'Ad Week Dates'!$A:$E,4,FALSE)","v":{"$error":"#N/A"}},{"$f":"VLOOKUP($B1065,'Ad Week Dates'!$A:$E,2,FALSE)","v":{"$error":"#N/A"}},{"$f":"VLOOKUP($B1065,'Ad Week Dates'!$A:$E,3,FALSE)","v":{"$error":"#N/A"}},null,null,null,null,null,null,{"$error":"#N/A"}]
[null,null,{"$f":"VLOOKUP($B1066,'Ad Week Dates'!$A:$E,4,FALSE)","v":{"$error":"#N/A"}},{"$f":"VLOOKUP($B1066,'Ad Week Dates'!$A:$E,2,FALSE)","v":{"$error":"#N/A"}},{"$f":"VLOOKUP($B1066,'Ad Week Dates'!$A:$E,3,FALSE)","v":{"$error":"#N/A"}},null,null,null,null,null,null,{"$error":"#N/A"}]
[null,null,{"$f":"VLOOKUP($B1067,'Ad Week Dates'!$A:$E,4,FALSE)","v":{"$error":"#N/A"}},{"$f":"VLOOKUP($B1067,'Ad Week Dates'!$A:$E,2,FALSE)","v":{"$error":"#N/A"}},{"$f":"VLOOKUP($B1067,'Ad Week Dates'!$A:$E,3,FALSE)","v":{"$error":"#N/A"}},null,null,null,null,null,null,{"$error":"#N/A"}]
[null,null,{"$f":"VLOOKUP($B1068,'Ad Week Dates'!$A:$E,4,FALSE)","v":{"$error":"#N/A"}},{"$f":"VLOOKUP($B1068,'Ad Week Dates'!$A:$E,2,FALSE)","v":{"$error":"#N/A"}},{"$f":"VLOOKUP($B1068,'Ad Week Dates'!$A:$E,3,FALSE)","v":{"$error":"#N/A"}},null,null,null,null,null,null,{"$error":"#N/A"}]
[null,null,{"$f":"VLOOKUP($B1069,'Ad Week Dates'!$A:$E,4,FALSE)","v":{"$error":"#N/A"}},{"$f":"VLOOKUP($B1069,'Ad Week Dates'!$A:$E,2,FALSE)","v":{"$error":"#N/A"}},{"$f":"VLOOKUP($B1069,'Ad Week Dates'!$A:$E,3,FALSE)","v":{"$error":"#N/A"}},null,null,null,null,null,null,{"$error":"#N/A"}]
[null,null,{"$f":"VLOOKUP($B1070,'Ad Week Dates'!$A:$E,4,FALSE)","v":{"$error":"#N/A"}},{"$f":"VLOOKUP($B1070,'Ad Week Dates'!$A:$E,2,FALSE)","v":{"$error":"#N/A"}},{"$f":"VLOOKUP($B1070,'Ad Week Dates'!$A:$E,3,FALSE)","v":{"$error":"#N/A"}},null,null,null,null,null,null,{"$error":"#N/A"}]
[null,null,{"$f":"VLOOKUP($B1071,'Ad Week Dates'!$A:$E,4,FALSE)","v":{"$error":"#N/A"}},{"$f":"VLOOKUP($B1071,'Ad Week Dates'!$A:$E,2,FALSE)","v":{"$error":"#N/A"}},{"$f":"VLOOKUP($B1071,'Ad Week Dates'!$A:$E,3,FALSE)","v":{"$error":"#N/A"}},null,null,null,null,null,null,{"$error":"#N/A"}]
[null,null,{"$f":"VLOOKUP($B1072,'Ad Week Dates'!$A:$E,4,FALSE)","v":{"$error":"#N/A"}},{"$f":"VLOOKUP($B1072,'Ad Week Dates'!$A:$E,2,FALSE)","v":{"$error":"#N/A"}},{"$f":"VLOOKUP($B1072,'Ad Week Dates'!$A:$E,3,FALSE)","v":{"$error":"#N/A"}},null,null,null,null,null,null,{"$error":"#N/A"}]
[null,null,{"$f":"VLOOKUP($B1073,'Ad Week Dates'!$A:$E,4,FALSE)","v":{"$error":"#N/A"}},{"$f":"VLOOKUP($B1073,'Ad Week Dates'!$A:$E,2,FALSE)","v":{"$error":"#N/A"}},{"$f":"VLOOKUP($B1073,'Ad Week Dates'!$A:$E,3,FALSE)","v":{"$error":"#N/A"}},null,null,null,null,null,null,{"$error":"#N/A"}]
[null,null,{"$f":"VLOOKUP($B1074,'Ad Week Dates'!$A:$E,4,FALSE)","v":{"$error":"#N/A"}},{"$f":"VLOOKUP($B1074,'Ad Week Dates'!$A:$E,2,FALSE)","v":{"$error":"#N/A"}},{"$f":"VLOOKUP($B1074,'Ad Week Dates'!$A:$E,3,FALSE)","v":{"$error":"#N/A"}},null,null,null,null,null,null,{"$error":"#N/A"}]
[null,null,{"$f":"VLOOKUP($B1075,'Ad Week Dates'!$A:$E,4,FALSE)","v":{"$error":"#N/A"}},{"$f":"VLOOKUP($B1075,'Ad Week Dates'!$A:$E,2,FALSE)","v":{"$error":"#N/A"}},{"$f":"VLOOKUP($B1075,'Ad Week Dates'!$A:$E,3,FALSE)","v":{"$error":"#N/A"}},null,null,null,null,null,null,{"$error":"#N/A"}]
[null,null,{"$f":"VLOOKUP($B1076,'Ad Week Dates'!$A:$E,4,FALSE)","v":{"$error":"#N/A"}},{"$f":"VLOOKUP($B1076,'Ad Week Dates'!$A:$E,2,FALSE)","v":{"$error":"#N/A"}},{"$f":"VLOOKUP($B1076,'Ad Week Dates'!$A:$E,3,FALSE)","v":{"$error":"#N/A"}},null,null,null,null,null,null,{"$error":"#N/A"}]
[null,null,{"$f":"VLOOKUP($B1077,'Ad Week Dates'!$A:$E,4,FALSE)","v":{"$error":"#N/A"}},{"$f":"VLOOKUP($B1077,'Ad Week Dates'!$A:$E,2,FALSE)","v":{"$error":"#N/A"}},{"$f":"VLOOKUP($B1077,'Ad Week Dates'!$A:$E,3,FALSE)","v":{"$error":"#N/A"}},null,null,null,null,null,null,{"$error":"#N/A"}]
[null,null,{"$f":"VLOOKUP($B1078,'Ad Week Dates'!$A:$E,4,FALSE)","v":{"$error":"#N/A"}},{"$f":"VLOOKUP($B1078,'Ad Week Dates'!$A:$E,2,FALSE)","v":{"$error":"#N/A"}},{"$f":"VLOOKUP($B1078,'Ad Week Dates'!$A:$E,3,FALSE)","v":{"$error":"#N/A"}},null,null,null,null,null,null,{"$error":"#N/A"}]
[null,null,{"$f":"VLOOKUP($B1079,'Ad Week Dates'!$A:$E,4,FALSE)","v":{"$error":"#N/A"}},{"$f":"VLOOKUP($B1079,'Ad Week Dates'!$A:$E,2,FALSE)","v":{"$error":"#N/A"}},{"$f":"VLOOKUP($B1079,'Ad Week Dates'!$A:$E,3,FALSE)","v":{"$error":"#N/A"}},null,null,null,null,null,null,{"$error":"#N/A"}]
[null,null,{"$f":"VLOOKUP($B1080,'Ad Week Dates'!$A:$E,4,FALSE)","v":{"$error":"#N/A"}},{"$f":"VLOOKUP($B1080,'Ad Week Dates'!$A:$E,2,FALSE)","v":{"$error":"#N/A"}},{"$f":"VLOOKUP($B1080,'Ad Week Dates'!$A:$E,3,FALSE)","v":{"$error":"#N/A"}},null,null,null,null,null,null,{"$error":"#N/A"}]
[null,null,{"$f":"VLOOKUP($B1081,'Ad Week Dates'!$A:$E,4,FALSE)","v":{"$error":"#N/A"}},{"$f":"VLOOKUP($B1081,'Ad Week Dates'!$A:$E,2,FALSE)","v":{"$error":"#N/A"}},{"$f":"VLOOKUP($B1081,'Ad Week Dates'!$A:$E,3,FALSE)","v":{"$error":"#N/A"}},null,null,null,null,null,null,{"$error":"#N/A"}]
[null,null,{"$f":"VLOOKUP($B1082,'Ad Week Dates'!$A:$E,4,FALSE)","v":{"$error":"#N/A"}},{"$f":"VLOOKUP($B1082,'Ad Week Dates'!$A:$E,2,FALSE)","v":{"$error":"#N/A"}},{"$f":"VLOOKUP($B1082,'Ad Week Dates'!$A:$E,3,FALSE)","v":{"$error":"#N/A"}},null,null,null,null,null,null,{"$error":"#N/A"}]
[null,null,{"$f":"VLOOKUP($B1083,'Ad Week Dates'!$A:$E,4,FALSE)","v":{"$error":"#N/A"}},{"$f":"VLOOKUP($B1083,'Ad Week Dates'!$A:$E,2,FALSE)","v":{"$error":"#N/A"}},{"$f":"VLOOKUP($B1083,'Ad Week Dates'!$A:$E,3,FALSE)","v":{"$error":"#N/A"}},null,null,null,null,null,null,{"$error":"#N/A"}]
[null,null,{"$f":"VLOOKUP($B1084,'Ad Week Dates'!$A:$E,4,FALSE)","v":{"$error":"#N/A"}},{"$f":"VLOOKUP($B1084,'Ad Week Dates'!$A:$E,2,FALSE)","v":{"$error":"#N/A"}},{"$f":"VLOOKUP($B1084,'Ad Week Dates'!$A:$E,3,FALSE)","v":{"$error":"#N/A"}},null,null,null,null,null,null,{"$error":"#N/A"}]
[null,null,{"$f":"VLOOKUP($B1085,'Ad Week Dates'!$A:$E,4,FALSE)","v":{"$error":"#N/A"}},{"$f":"VLOOKUP($B1085,'Ad Week Dates'!$A:$E,2,FALSE)","v":{"$error":"#N/A"}},{"$f":"VLOOKUP($B1085,'Ad Week Dates'!$A:$E,3,FALSE)","v":{"$error":"#N/A"}},null,null,null,null,null,null,{"$error":"#N/A"}]
[null,null,{"$f":"VLOOKUP($B1086,'Ad Week Dates'!$A:$E,4,FALSE)","v":{"$error":"#N/A"}},{"$f":"VLOOKUP($B1086,'Ad Week Dates'!$A:$E,2,FALSE)","v":{"$error":"#N/A"}},{"$f":"VLOOKUP($B1086,'Ad Week Dates'!$A:$E,3,FALSE)","v":{"$error":"#N/A"}},null,null,null,null,null,null,{"$error":"#N/A"}]
[null,null,{"$f":"VLOOKUP($B1087,'Ad Week Dates'!$A:$E,4,FALSE)","v":{"$error":"#N/A"}},{"$f":"VLOOKUP($B1087,'Ad Week Dates'!$A:$E,2,FALSE)","v":{"$error":"#N/A"}},{"$f":"VLOOKUP($B1087,'Ad Week Dates'!$A:$E,3,FALSE)","v":{"$error":"#N/A"}},null,null,null,null,null,null,{"$error":"#N/A"}]
[null,null,{"$f":"VLOOKUP($B1088,'Ad Week Dates'!$A:$E,4,FALSE)","v":{"$error":"#N/A"}},{"$f":"VLOOKUP($B1088,'Ad Week Dates'!$A:$E,2,FALSE)","v":{"$error":"#N/A"}},{"$f":"VLOOKUP($B1088,'Ad Week Dates'!$A:$E,3,FALSE)","v":{"$error":"#N/A"}},null,null,null,null,null,null,{"$error":"#N/A"}]
[null,null,{"$f":"VLOOKUP($B1089,'Ad Week Dates'!$A:$E,4,FALSE)","v":{"$error":"#N/A"}},{"$f":"VLOOKUP($B1089,'Ad Week Dates'!$A:$E,2,FALSE)","v":{"$error":"#N/A"}},{"$f":"VLOOKUP($B1089,'Ad Week Dates'!$A:$E,3,FALSE)","v":{"$error":"#N/A"}},null,null,null,null,null,null,{"$error":"#N/A"}]
[null,null,{"$f":"VLOOKUP($B1090,'Ad Week Dates'!$A:$E,4,FALSE)","v":{"$error":"#N/A"}},{"$f":"VLOOKUP($B1090,'Ad Week Dates'!$A:$E,2,FALSE)","v":{"$error":"#N/A"}},{"$f":"VLOOKUP($B1090,'Ad Week Dates'!$A:$E,3,FALSE)","v":{"$error":"#N/A"}},null,null,null,null,null,null,{"$error":"#N/A"}]
[null,null,{"$f":"VLOOKUP($B1091,'Ad Week Dates'!$A:$E,4,FALSE)","v":{"$error":"#N/A"}},{"$f":"VLOOKUP($B1091,'Ad Week Dates'!$A:$E,2,FALSE)","v":{"$error":"#N/A"}},{"$f":"VLOOKUP($B1091,'Ad Week Dates'!$A:$E,3,FALSE)","v":{"$error":"#N/A"}},null,null,null,null,null,null,{"$error":"#N/A"}]
[null,null,{"$f":"VLOOKUP($B1092,'Ad Week Dates'!$A:$E,4,FALSE)","v":{"$error":"#N/A"}},{"$f":"VLOOKUP($B1092,'Ad Week Dates'!$A:$E,2,FALSE)","v":{"$error":"#N/A"}},{"$f":"VLOOKUP($B1092,'Ad Week Dates'!$A:$E,3,FALSE)","v":{"$error":"#N/A"}},null,null,null,null,null,null,{"$error":"#N/A"}]
[null,null,{"$f":"VLOOKUP($B1093,'Ad Week Dates'!$A:$E,4,FALSE)","v":{"$error":"#N/A"}},{"$f":"VLOOKUP($B1093,'Ad Week Dates'!$A:$E,2,FALSE)","v":{"$error":"#N/A"}},{"$f":"VLOOKUP($B1093,'Ad Week Dates'!$A:$E,3,FALSE)","v":{"$error":"#N/A"}},null,null,null,null,null,null,{"$error":"#N/A"}]
[null,null,{"$f":"VLOOKUP($B1094,'Ad Week Dates'!$A:$E,4,FALSE)","v":{"$error":"#N/A"}},{"$f":"VLOOKUP($B1094,'Ad Week Dates'!$A:$E,2,FALSE)","v":{"$error":"#N/A"}},{"$f":"VLOOKUP($B1094,'Ad Week Dates'!$A:$E,3,FALSE)","v":{"$error":"#N/A"}},null,null,null,null,null,null,{"$f":"IF(ISNUMBER(J1094), J1094 - K1094, VALUE(_xlfn.TEXTBEFORE(J1094, \"-\")) - VALUE(_xlfn.TEXTBEFORE(K1094, \"-\")))","v":{"$error":"#N/A"}}]
[null,null,{"$f":"VLOOKUP($B1095,'Ad Week Dates'!$A:$E,4,FALSE)","v":{"$error":"#N/A"}},{"$f":"VLOOKUP($B1095,'Ad Week Dates'!$A:$E,2,FALSE)","v":{"$error":"#N/A"}},{"$f":"VLOOKUP($B1095,'Ad Week Dates'!$A:$E,3,FALSE)","v":{"$error":"#N/A"}},null,null,null,null,null,null,{"$error":"#N/A"}]
[null,null,{"$f":"VLOOKUP($B1096,'Ad Week Dates'!$A:$E,4,FALSE)","v":{"$error":"#N/A"}},{"$f":"VLOOKUP($B1096,'Ad Week Dates'!$A:$E,2,FALSE)","v":{"$error":"#N/A"}},{"$f":"VLOOKUP($B1096,'Ad Week Dates'!$A:$E,3,FALSE)","v":{"$error":"#N/A"}},null,null,null,null,null,null,{"$error":"#N/A"}]
[null,null,{"$f":"VLOOKUP($B1097,'Ad Week Dates'!$A:$E,4,FALSE)","v":{"$error":"#N/A"}},{"$f":"VLOOKUP($B1097,'Ad Week Dates'!$A:$E,2,FALSE)","v":{"$error":"#N/A"}},{"$f":"VLOOKUP($B1097,'Ad Week Dates'!$A:$E,3,FALSE)","v":{"$error":"#N/A"}},null,null,null,null,null,null,{"$error":"#N/A"}]
[null,null,{"$f":"VLOOKUP($B1098,'Ad Week Dates'!$A:$E,4,FALSE)","v":{"$error":"#N/A"}},{"$f":"VLOOKUP($B1098,'Ad Week Dates'!$A:$E,2,FALSE)","v":{"$error":"#N/A"}},{"$f":"VLOOKUP($B1098,'Ad Week Dates'!$A:$E,3,FALSE)","v":{"$error":"#N/A"}},null,null,null,null,null,null,{"$error":"#N/A"}]
[null,null,{"$f":"VLOOKUP($B1099,'Ad Week Dates'!$A:$E,4,FALSE)","v":{"$error":"#N/A"}},{"$f":"VLOOKUP($B1099,'Ad Week Dates'!$A:$E,2,FALSE)","v":{"$error":"#N/A"}},{"$f":"VLOOKUP($B1099,'Ad Week Dates'!$A:$E,3,FALSE)","v":{"$error":"#N/A"}},null,null,null,null,null,null,{"$error":"#N/A"}]
[null,null,{"$f":"VLOOKUP($B1100,'Ad Week Dates'!$A:$E,4,FALSE)","v":{"$error":"#N/A"}},{"$f":"VLOOKUP($B1100,'Ad Week Dates'!$A:$E,2,FALSE)","v":{"$error":"#N/A"}},{"$f":"VLOOKUP($B1100,'Ad Week Dates'!$A:$E,3,FALSE)","v":{"$error":"#N/A"}},null,null,null,null,null,null,{"$error":"#N/A"}]
[null,null,{"$f":"VLOOKUP($B1101,'Ad Week Dates'!$A:$E,4,FALSE)","v":{"$error":"#N/A"}},{"$f":"VLOOKUP($B1101,'Ad Week Dates'!$A:$E,2,FALSE)","v":{"$error":"#N/A"}},{"$f":"VLOOKUP($B1101,'Ad Week Dates'!$A:$E,3,FALSE)","v":{"$error":"#N/A"}},null,null,null,null,null,null,{"$error":"#N/A"}]
[null,null,{"$f":"VLOOKUP($B1102,'Ad Week Dates'!$A:$E,4,FALSE)","v":{"$error":"#N/A"}},{"$f":"VLOOKUP($B1102,'Ad Week Dates'!$A:$E,2,FALSE)","v":{"$error":"#N/A"}},{"$f":"VLOOKUP($B1102,'Ad Week Dates'!$A:$E,3,FALSE)","v":{"$error":"#N/A"}},null,null,null,null,null,null,{"$error":"#N/A"}]
[null,null,{"$f":"VLOOKUP($B1103,'Ad Week Dates'!$A:$E,4,FALSE)","v":{"$error":"#N/A"}},{"$f":"VLOOKUP($B1103,'Ad Week Dates'!$A:$E,2,FALSE)","v":{"$error":"#N/A"}},{"$f":"VLOOKUP($B1103,'Ad Week Dates'!$A:$E,3,FALSE)","v":{"$error":"#N/A"}},null,null,null,null,null,null,{"$error":"#N/A"}]
[null,null,{"$f":"VLOOKUP($B1104,'Ad Week Dates'!$A:$E,4,FALSE)","v":{"$error":"#N/A"}},{"$f":"VLOOKUP($B1104,'Ad Week Dates'!$A:$E,2,FALSE)","v":{"$error":"#N/A"}},{"$f":"VLOOKUP($B1104,'Ad Week Dates'!$A:$E,3,FALSE)","v":{"$error":"#N/A"}},null,null,null,null,null,null,{"$error":"#N/A"}]
[null,null,{"$f":"VLOOKUP($B1105,'Ad Week Dates'!$A:$E,4,FALSE)","v":{"$error":"#N/A"}},{"$f":"VLOOKUP($B1105,'Ad Week Dates'!$A:$E,2,FALSE)","v":{"$error":"#N/A"}},{"$f":"VLOOKUP($B1105,'Ad Week Dates'!$A:$E,3,FALSE)","v":{"$error":"#N/A"}},null,null,null,null,null,null,{"$error":"#N/A"}]
[null,null,{"$f":"VLOOKUP($B1106,'Ad Week Dates'!$A:$E,4,FALSE)","v":{"$error":"#N/A"}},{"$f":"VLOOKUP($B1106,'Ad Week Dates'!$A:$E,2,FALSE)","v":{"$error":"#N/A"}},{"$f":"VLOOKUP($B1106,'Ad Week Dates'!$A:$E,3,FALSE)","v":{"$error":"#N/A"}},null,null,null,null,null,null,{"$error":"#N/A"}]
[null,null,{"$f":"VLOOKUP($B1107,'Ad Week Dates'!$A:$E,4,FALSE)","v":{"$error":"#N/A"}},{"$f":"VLOOKUP($B1107,'Ad Week Dates'!$A:$E,2,FALSE)","v":{"$error":"#N/A"}},{"$f":"VLOOKUP($B1107,'Ad Week Dates'!$A:$E,3,FALSE)","v":{"$error":"#N/A"}},null,null,null,null,null,null,{"$error":"#N/A"}]
[null,null,{"$f":"VLOOKUP($B1108,'Ad Week Dates'!$A:$E,4,FALSE)","v":{"$error":"#N/A"}},{"$f":"VLOOKUP($B1108,'Ad Week Dates'!$A:$E,2,FALSE)","v":{"$error":"#N/A"}},{"$f":"VLOOKUP($B1108,'Ad Week Dates'!$A:$E,3,FALSE)","v":{"$error":"#N/A"}},null,null,null,null,null,null,{"$error":"#N/A"}]
[null,null,{"$f":"VLOOKUP($B1109,'Ad Week Dates'!$A:$E,4,FALSE)","v":{"$error":"#N/A"}},{"$f":"VLOOKUP($B1109,'Ad Week Dates'!$A:$E,2,FALSE)","v":{"$error":"#N/A"}},{"$f":"VLOOKUP($B1109,'Ad Week Dates'!$A:$E,3,FALSE)","v":{"$error":"#N/A"}},null,null,null,null,null,null,{"$error":"#N/A"}]
[null,null,{"$f":"VLOOKUP($B1110,'Ad Week Dates'!$A:$E,4,FALSE)","v":{"$error":"#N/A"}},{"$f":"VLOOKUP($B1110,'Ad Week Dates'!$A:$E,2,FALSE)","v":{"$error":"#N/A"}},{"$f":"VLOOKUP($B1110,'Ad Week Dates'!$A:$E,3,FALSE)","v":{"$error":"#N/A"}},null,null,null,null,null,null,{"$error":"#N/A"}]
[null,null,{"$f":"VLOOKUP($B1111,'Ad Week Dates'!$A:$E,4,FALSE)","v":{"$error":"#N/A"}},{"$f":"VLOOKUP($B1111,'Ad Week Dates'!$A:$E,2,FALSE)","v":{"$error":"#N/A"}},{"$f":"VLOOKUP($B1111,'Ad Week Dates'!$A:$E,3,FALSE)","v":{"$error":"#N/A"}},null,null,null,null,null,null,{"$error":"#N/A"}]
[null,null,{"$f":"VLOOKUP($B1112,'Ad Week Dates'!$A:$E,4,FALSE)","v":{"$error":"#N/A"}},{"$f":"VLOOKUP($B1112,'Ad Week Dates'!$A:$E,2,FALSE)","v":{"$error":"#N/A"}},{"$f":"VLOOKUP($B1112,'Ad Week Dates'!$A:$E,3,FALSE)","v":{"$error":"#N/A"}},null,null,null,null,null,null,{"$error":"#N/A"}]
[null,null,{"$f":"VLOOKUP($B1113,'Ad Week Dates'!$A:$E,4,FALSE)","v":{"$error":"#N/A"}},{"$f":"VLOOKUP($B1113,'Ad Week Dates'!$A:$E,2,FALSE)","v":{"$error":"#N/A"}},{"$f":"VLOOKUP($B1113,'Ad Week Dates'!$A:$E,3,FALSE)","v":{"$error":"#N/A"}},null,null,null,null,null,null,{"$error":"#N/A"}]
[null,null,{"$f":"VLOOKUP($B1114,'Ad Week Dates'!$A:$E,4,FALSE)","v":{"$error":"#N/A"}},{"$f":"VLOOKUP($B1114,'Ad Week Dates'!$A:$E,2,FALSE)","v":{"$error":"#N/A"}},{"$f":"VLOOKUP($B1114,'Ad Week Dates'!$A:$E,3,FALSE)","v":{"$error":"#N/A"}},null,null,null,null,null,null,{"$error":"#N/A"}]
[null,null,{"$f":"VLOOKUP($B1115,'Ad Week Dates'!$A:$E,4,FALSE)","v":{"$error":"#N/A"}},{"$f":"VLOOKUP($B1115,'Ad Week Dates'!$A:$E,2,FALSE)","v":{"$error":"#N/A"}},{"$f":"VLOOKUP($B1115,'Ad Week Dates'!$A:$E,3,FALSE)","v":{"$error":"#N/A"}},null,null,null,null,null,null,{"$error":"#N/A"}]
[null,null,{"$f":"VLOOKUP($B1116,'Ad Week Dates'!$A:$E,4,FALSE)","v":{"$error":"#N/A"}},{"$f":"VLOOKUP($B1116,'Ad Week Dates'!$A:$E,2,FALSE)","v":{"$error":"#N/A"}},{"$f":"VLOOKUP($B1116,'Ad Week Dates'!$A:$E,3,FALSE)","v":{"$error":"#N/A"}},null,null,null,null,null,null,{"$error":"#N/A"}]
[null,null,{"$f":"VLOOKUP($B1117,'Ad Week Dates'!$A:$E,4,FALSE)","v":{"$error":"#N/A"}},{"$f":"VLOOKUP($B1117,'Ad Week Dates'!$A:$E,2,FALSE)","v":{"$error":"#N/A"}},{"$f":"VLOOKUP($B1117,'Ad Week Dates'!$A:$E,3,FALSE)","v":{"$error":"#N/A"}},null,null,null,null,null,null,{"$error":"#N/A"}]
[null,null,{"$f":"VLOOKUP($B1118,'Ad Week Dates'!$A:$E,4,FALSE)","v":{"$error":"#N/A"}},{"$f":"VLOOKUP($B1118,'Ad Week Dates'!$A:$E,2,FALSE)","v":{"$error":"#N/A"}},{"$f":"VLOOKUP($B1118,'Ad Week Dates'!$A:$E,3,FALSE)","v":{"$error":"#N/A"}},null,null,null,null,null,null,{"$error":"#N/A"}]
[null,null,{"$f":"VLOOKUP($B1119,'Ad Week Dates'!$A:$E,4,FALSE)","v":{"$error":"#N/A"}},{"$f":"VLOOKUP($B1119,'Ad Week Dates'!$A:$E,2,FALSE)","v":{"$error":"#N/A"}},{"$f":"VLOOKUP($B1119,'Ad Week Dates'!$A:$E,3,FALSE)","v":{"$error":"#N/A"}},null,null,null,null,null,null,{"$error":"#N/A"}]
[null,null,{"$f":"VLOOKUP($B1120,'Ad Week Dates'!$A:$E,4,FALSE)","v":{"$error":"#N/A"}},{"$f":"VLOOKUP($B1120,'Ad Week Dates'!$A:$E,2,FALSE)","v":{"$error":"#N/A"}},{"$f":"VLOOKUP($B1120,'Ad Week Dates'!$A:$E,3,FALSE)","v":{"$error":"#N/A"}},null,null,null,null,null,null,{"$error":"#N/A"}]
[null,null,{"$f":"VLOOKUP($B1121,'Ad Week Dates'!$A:$E,4,FALSE)","v":{"$error":"#N/A"}},{"$f":"VLOOKUP($B1121,'Ad Week Dates'!$A:$E,2,FALSE)","v":{"$error":"#N/A"}},{"$f":"VLOOKUP($B1121,'Ad Week Dates'!$A:$E,3,FALSE)","v":{"$error":"#N/A"}},null,null,null,null,null,null,{"$error":"#N/A"}]
[null,null,{"$f":"VLOOKUP($B1122,'Ad Week Dates'!$A:$E,4,FALSE)","v":{"$error":"#N/A"}},{"$f":"VLOOKUP($B1122,'Ad Week Dates'!$A:$E,2,FALSE)","v":{"$error":"#N/A"}},{"$f":"VLOOKUP($B1122,'Ad Week Dates'!$A:$E,3,FALSE)","v":{"$error":"#N/A"}},null,null,null,null,null,null,{"$error":"#N/A"}]
[null,null,{"$f":"VLOOKUP($B1123,'Ad Week Dates'!$A:$E,4,FALSE)","v":{"$error":"#N/A"}},{"$f":"VLOOKUP($B1123,'Ad Week Dates'!$A:$E,2,FALSE)","v":{"$error":"#N/A"}},{"$f":"VLOOKUP($B1123,'Ad Week Dates'!$A:$E,3,FALSE)","v":{"$error":"#N/A"}},null,null,null,null,null,null,{"$error":"#N/A"}]
[null,null,{"$f":"VLOOKUP($B1124,'Ad Week Dates'!$A:$E,4,FALSE)","v":{"$error":"#N/A"}},{"$f":"VLOOKUP($B1124,'Ad Week Dates'!$A:$E,2,FALSE)","v":{"$error":"#N/A"}},{"$f":"VLOOKUP($B1124,'Ad Week Dates'!$A:$E,3,FALSE)","v":{"$error":"#N/A"}},null,null,null,null,null,null,{"$error":"#N/A"}]
[null,null,{"$f":"VLOOKUP($B1125,'Ad Week Dates'!$A:$E,4,FALSE)","v":{"$error":"#N/A"}},{"$f":"VLOOKUP($B1125,'Ad Week Dates'!$A:$E,2,FALSE)","v":{"$error":"#N/A"}},{"$f":"VLOOKUP($B1125,'Ad Week Dates'!$A:$E,3,FALSE)","v":{"$error":"#N/A"}},null,null,null,null,null,null,{"$error":"#N/A"}]
[null,null,{"$f":"VLOOKUP($B1126,'Ad Week Dates'!$A:$E,4,FALSE)","v":{"$error":"#N/A"}},{"$f":"VLOOKUP($B1126,'Ad Week Dates'!$A:$E,2,FALSE)","v":{"$error":"#N/A"}},{"$f":"VLOOKUP($B1126,'Ad Week Dates'!$A:$E,3,FALSE)","v":{"$error":"#N/A"}},null,null,null,null,null,null,{"$error":"#N/A"}]
[null,null,{"$f":"VLOOKUP($B1127,'Ad Week Dates'!$A:$E,4,FALSE)","v":{"$error":"#N/A"}},{"$f":"VLOOKUP($B1127,'Ad Week Dates'!$A:$E,2,FALSE)","v":{"$error":"#N/A"}},{"$f":"VLOOKUP($B1127,'Ad Week Dates'!$A:$E,3,FALSE)","v":{"$error":"#N/A"}},null,null,null,null,null,null,{"$error":"#N/A"}]
[null,null,{"$f":"VLOOKUP($B1128,'Ad Week Dates'!$A:$E,4,FALSE)","v":{"$error":"#N/A"}},{"$f":"VLOOKUP($B1128,'Ad Week Dates'!$A:$E,2,FALSE)","v":{"$error":"#N/A"}},{"$f":"VLOOKUP($B1128,'Ad Week Dates'!$A:$E,3,FALSE)","v":{"$error":"#N/A"}},null,null,null,null,null,null,{"$error":"#N/A"}]
[null,null,{"$f":"VLOOKUP($B1129,'Ad Week Dates'!$A:$E,4,FALSE)","v":{"$error":"#N/A"}},{"$f":"VLOOKUP($B1129,'Ad Week Dates'!$A:$E,2,FALSE)","v":{"$error":"#N/A"}},{"$f":"VLOOKUP($B1129,'Ad Week Dates'!$A:$E,3,FALSE)","v":{"$error":"#N/A"}},null,null,null,null,null,null,{"$error":"#N/A"}]
[null,null,{"$f":"VLOOKUP($B1130,'Ad Week Dates'!$A:$E,4,FALSE)","v":{"$error":"#N/A"}},{"$f":"VLOOKUP($B1130,'Ad Week Dates'!$A:$E,2,FALSE)","v":{"$error":"#N/A"}},{"$f":"VLOOKUP($B1130,'Ad Week Dates'!$A:$E,3,FALSE)","v":{"$error":"#N/A"}},null,null,null,null,null,null,{"$error":"#N/A"}]
[null,null,{"$f":"VLOOKUP($B1131,'Ad Week Dates'!$A:$E,4,FALSE)","v":{"$error":"#N/A"}},{"$f":"VLOOKUP($B1131,'Ad Week Dates'!$A:$E,2,FALSE)","v":{"$error":"#N/A"}},{"$f":"VLOOKUP($B1131,'Ad Week Dates'!$A:$E,3,FALSE)","v":{"$error":"#N/A"}},null,null,null,null,null,null,{"$error":"#N/A"}]
[null,null,{"$f":"VLOOKUP($B1132,'Ad Week Dates'!$A:$E,4,FALSE)","v":{"$error":"#N/A"}},{"$f":"VLOOKUP($B1132,'Ad Week Dates'!$A:$E,2,FALSE)","v":{"$error":"#N/A"}},{"$f":"VLOOKUP($B1132,'Ad Week Dates'!$A:$E,3,FALSE)","v":{"$error":"#N/A"}},null,null,null,null,null,null,{"$error":"#N/A"}]
[null,null,{"$f":"VLOOKUP($B1133,'Ad Week Dates'!$A:$E,4,FALSE)","v":{"$error":"#N/A"}},{"$f":"VLOOKUP($B1133,'Ad Week Dates'!$A:$E,2,FALSE)","v":{"$error":"#N/A"}},{"$f":"VLOOKUP($B1133,'Ad Week Dates'!$A:$E,3,FALSE)","v":{"$error":"#N/A"}},null,null,null,null,null,null,{"$error":"#N/A"}]
[null,null,{"$f":"VLOOKUP($B1134,'Ad Week Dates'!$A:$E,4,FALSE)","v":{"$error":"#N/A"}},{"$f":"VLOOKUP($B1134,'Ad Week Dates'!$A:$E,2,FALSE)","v":{"$error":"#N/A"}},{"$f":"VLOOKUP($B1134,'Ad Week Dates'!$A:$E,3,FALSE)","v":{"$error":"#N/A"}},null,null,null,null,null,null,{"$error":"#N/A"}]
[null,null,{"$f":"VLOOKUP($B1135,'Ad Week Dates'!$A:$E,4,FALSE)","v":{"$error":"#N/A"}},{"$f":"VLOOKUP($B1135,'Ad Week Dates'!$A:$E,2,FALSE)","v":{"$error":"#N/A"}},{"$f":"VLOOKUP($B1135,'Ad Week Dates'!$A:$E,3,FALSE)","v":{"$error":"#N/A"}},null,null,null,null,null,null,{"$error":"#N/A"}]
[null,null,{"$f":"VLOOKUP($B1136,'Ad Week Dates'!$A:$E,4,FALSE)","v":{"$error":"#N/A"}},{"$f":"VLOOKUP($B1136,'Ad Week Dates'!$A:$E,2,FALSE)","v":{"$error":"#N/A"}},{"$f":"VLOOKUP($B1136,'Ad Week Dates'!$A:$E,3,FALSE)","v":{"$error":"#N/A"}},null,null,null,null,null,null,{"$error":"#N/A"}]
[null,null,{"$f":"VLOOKUP($B1137,'Ad Week Dates'!$A:$E,4,FALSE)","v":{"$error":"#N/A"}},{"$f":"VLOOKUP($B1137,'Ad Week Dates'!$A:$E,2,FALSE)","v":{"$error":"#N/A"}},{"$f":"VLOOKUP($B1137,'Ad Week Dates'!$A:$E,3,FALSE)","v":{"$error":"#N/A"}},null,null,null,null,null,null,{"$error":"#N/A"}]
[null,null,{"$f":"VLOOKUP($B1138,'Ad Week Dates'!$A:$E,4,FALSE)","v":{"$error":"#N/A"}},{"$f":"VLOOKUP($B1138,'Ad Week Dates'!$A:$E,2,FALSE)","v":{"$error":"#N/A"}},{"$f":"VLOOKUP($B1138,'Ad Week Dates'!$A:$E,3,FALSE)","v":{"$error":"#N/A"}},null,null,null,null,null,null,{"$error":"#N/A"}]
[null,null,{"$f":"VLOOKUP($B1139,'Ad Week Dates'!$A:$E,4,FALSE)","v":{"$error":"#N/A"}},{"$f":"VLOOKUP($B1139,'Ad Week Dates'!$A:$E,2,FALSE)","v":{"$error":"#N/A"}},{"$f":"VLOOKUP($B1139,'Ad Week Dates'!$A:$E,3,FALSE)","v":{"$error":"#N/A"}},null,null,null,null,null,null,{"$error":"#N/A"}]
[null,null,{"$f":"VLOOKUP($B1140,'Ad Week Dates'!$A:$E,4,FALSE)","v":{"$error":"#N/A"}},{"$f":"VLOOKUP($B1140,'Ad Week Dates'!$A:$E,2,FALSE)","v":{"$error":"#N/A"}},{"$f":"VLOOKUP($B1140,'Ad Week Dates'!$A:$E,3,FALSE)","v":{"$error":"#N/A"}},null,null,null,null,null,null,{"$error":"#N/A"}]
[null,null,{"$f":"VLOOKUP($B1141,'Ad Week Dates'!$A:$E,4,FALSE)","v":{"$error":"#N/A"}},{"$f":"VLOOKUP($B1141,'Ad Week Dates'!$A:$E,2,FALSE)","v":{"$error":"#N/A"}},{"$f":"VLOOKUP($B1141,'Ad Week Dates'!$A:$E,3,FALSE)","v":{"$error":"#N/A"}},null,null,null,null,null,null,{"$error":"#N/A"}]
[null,null,{"$f":"VLOOKUP($B1142,'Ad Week Dates'!$A:$E,4,FALSE)","v":{"$error":"#N/A"}},{"$f":"VLOOKUP($B1142,'Ad Week Dates'!$A:$E,2,FALSE)","v":{"$error":"#N/A"}},{"$f":"VLOOKUP($B1142,'Ad Week Dates'!$A:$E,3,FALSE)","v":{"$error":"#N/A"}},null,null,null,null,null,null,{"$error":"#N/A"}]
[null,null,{"$f":"VLOOKUP($B1143,'Ad Week Dates'!$A:$E,4,FALSE)","v":{"$error":"#N/A"}},{"$f":"VLOOKUP($B1143,'Ad Week Dates'!$A:$E,2,FALSE)","v":{"$error":"#N/A"}},{"$f":"VLOOKUP($B1143,'Ad Week Dates'!$A:$E,3,FALSE)","v":{"$error":"#N/A"}},null,null,null,null,null,null,{"$error":"#N/A"}]
[null,null,{"$f":"VLOOKUP($B1144,'Ad Week Dates'!$A:$E,4,FALSE)","v":{"$error":"#N/A"}},{"$f":"VLOOKUP($B1144,'Ad Week Dates'!$A:$E,2,FALSE)","v":{"$error":"#N/A"}},{"$f":"VLOOKUP($B1144,'Ad Week Dates'!$A:$E,3,FALSE)","v":{"$error":"#N/A"}},null,null,null,null,null,null,{"$error":"#N/A"}]
[null,null,{"$f":"VLOOKUP($B1145,'Ad Week Dates'!$A:$E,4,FALSE)","v":{"$error":"#N/A"}},{"$f":"VLOOKUP($B1145,'Ad Week Dates'!$A:$E,2,FALSE)","v":{"$error":"#N/A"}},{"$f":"VLOOKUP($B1145,'Ad Week Dates'!$A:$E,3,FALSE)","v":{"$error":"#N/A"}},null,null,null,null,null,null,{"$error":"#N/A"}]
[null,null,{"$f":"VLOOKUP($B1146,'Ad Week Dates'!$A:$E,4,FALSE)","v":{"$error":"#N/A"}},{"$f":"VLOOKUP($B1146,'Ad Week Dates'!$A:$E,2,FALSE)","v":{"$error":"#N/A"}},{"$f":"VLOOKUP($B1146,'Ad Week Dates'!$A:$E,3,FALSE)","v":{"$error":"#N/A"}},null,null,null,null,null,null,{"$error":"#N/A"}]
[null,null,{"$f":"VLOOKUP($B1147,'Ad Week Dates'!$A:$E,4,FALSE)","v":{"$error":"#N/A"}},{"$f":"VLOOKUP($B1147,'Ad Week Dates'!$A:$E,2,FALSE)","v":{"$error":"#N/A"}},{"$f":"VLOOKUP($B1147,'Ad Week Dates'!$A:$E,3,FALSE)","v":{"$error":"#N/A"}},null,null,null,null,null,null,{"$error":"#N/A"}]
[null,null,{"$f":"VLOOKUP($B1148,'Ad Week Dates'!$A:$E,4,FALSE)","v":{"$error":"#N/A"}},{"$f":"VLOOKUP($B1148,'Ad Week Dates'!$A:$E,2,FALSE)","v":{"$error":"#N/A"}},{"$f":"VLOOKUP($B1148,'Ad Week Dates'!$A:$E,3,FALSE)","v":{"$error":"#N/A"}},null,null,null,null,null,null,{"$error":"#N/A"}]
[null,null,{"$f":"VLOOKUP($B1149,'Ad Week Dates'!$A:$E,4,FALSE)","v":{"$error":"#N/A"}},{"$f":"VLOOKUP($B1149,'Ad Week Dates'!$A:$E,2,FALSE)","v":{"$error":"#N/A"}},{"$f":"VLOOKUP($B1149,'Ad Week Dates'!$A:$E,3,FALSE)","v":{"$error":"#N/A"}},null,null,null,null,null,null,{"$error":"#N/A"}]
[null,null,{"$f":"VLOOKUP($B1150,'Ad Week Dates'!$A:$E,4,FALSE)","v":{"$error":"#N/A"}},{"$f":"VLOOKUP($B1150,'Ad Week Dates'!$A:$E,2,FALSE)","v":{"$error":"#N/A"}},{"$f":"VLOOKUP($B1150,'Ad Week Dates'!$A:$E,3,FALSE)","v":{"$error":"#N/A"}},null,null,null,null,null,null,{"$error":"#N/A"}]
[null,null,{"$f":"VLOOKUP($B1151,'Ad Week Dates'!$A:$E,4,FALSE)","v":{"$error":"#N/A"}},{"$f":"VLOOKUP($B1151,'Ad Week Dates'!$A:$E,2,FALSE)","v":{"$error":"#N/A"}},{"$f":"VLOOKUP($B1151,'Ad Week Dates'!$A:$E,3,FALSE)","v":{"$error":"#N/A"}},null,null,null,null,null,null,{"$error":"#N/A"}]
[null,null,{"$f":"VLOOKUP($B1152,'Ad Week Dates'!$A:$E,4,FALSE)","v":{"$error":"#N/A"}},{"$f":"VLOOKUP($B1152,'Ad Week Dates'!$A:$E,2,FALSE)","v":{"$error":"#N/A"}},{"$f":"VLOOKUP($B1152,'Ad Week Dates'!$A:$E,3,FALSE)","v":{"$error":"#N/A"}},null,null,null,null,null,null,{"$error":"#N/A"}]
[null,null,{"$f":"VLOOKUP($B1153,'Ad Week Dates'!$A:$E,4,FALSE)","v":{"$error":"#N/A"}},{"$f":"VLOOKUP($B1153,'Ad Week Dates'!$A:$E,2,FALSE)","v":{"$error":"#N/A"}},{"$f":"VLOOKUP($B1153,'Ad Week Dates'!$A:$E,3,FALSE)","v":{"$error":"#N/A"}},null,null,null,null,null,null,{"$error":"#N/A"}]
[null,null,{"$f":"VLOOKUP($B1154,'Ad Week Dates'!$A:$E,4,FALSE)","v":{"$error":"#N/A"}},{"$f":"VLOOKUP($B1154,'Ad Week Dates'!$A:$E,2,FALSE)","v":{"$error":"#N/A"}},{"$f":"VLOOKUP($B1154,'Ad Week Dates'!$A:$E,3,FALSE)","v":{"$error":"#N/A"}},null,null,null,null,null,null,{"$error":"#N/A"}]
[null,null,{"$f":"VLOOKUP($B1155,'Ad Week Dates'!$A:$E,4,FALSE)","v":{"$error":"#N/A"}},{"$f":"VLOOKUP($B1155,'Ad Week Dates'!$A:$E,2,FALSE)","v":{"$error":"#N/A"}},{"$f":"VLOOKUP($B1155,'Ad Week Dates'!$A:$E,3,FALSE)","v":{"$error":"#N/A"}},null,null,null,null,null,null,{"$error":"#N/A"}]
[null,null,{"$f":"VLOOKUP($B1156,'Ad Week Dates'!$A:$E,4,FALSE)","v":{"$error":"#N/A"}},{"$f":"VLOOKUP($B1156,'Ad Week Dates'!$A:$E,2,FALSE)","v":{"$error":"#N/A"}},{"$f":"VLOOKUP($B1156,'Ad Week Dates'!$A:$E,3,FALSE)","v":{"$error":"#N/A"}},null,null,null,null,null,null,{"$error":"#N/A"}]
[null,null,{"$f":"VLOOKUP($B1157,'Ad Week Dates'!$A:$E,4,FALSE)","v":{"$error":"#N/A"}},{"$f":"VLOOKUP($B1157,'Ad Week Dates'!$A:$E,2,FALSE)","v":{"$error":"#N/A"}},{"$f":"VLOOKUP($B1157,'Ad Week Dates'!$A:$E,3,FALSE)","v":{"$error":"#N/A"}},null,null,null,null,null,null,{"$error":"#N/A"}]
[null,null,{"$f":"VLOOKUP($B1158,'Ad Week Dates'!$A:$E,4,FALSE)","v":{"$error":"#N/A"}},{"$f":"VLOOKUP($B1158,'Ad Week Dates'!$A:$E,2,FALSE)","v":{"$error":"#N/A"}},{"$f":"VLOOKUP($B1158,'Ad Week Dates'!$A:$E,3,FALSE)","v":{"$error":"#N/A"}},null,null,null,null,null,null,{"$f":"IF(ISNUMBER(J1158), J1158 - K1158, VALUE(_xlfn.TEXTBEFORE(J1158, \"-\")) - VALUE(_xlfn.TEXTBEFORE(K1158, \"-\")))","v":{"$error":"#N/A"}}]
[null,null,{"$f":"VLOOKUP($B1159,'Ad Week Dates'!$A:$E,4,FALSE)","v":{"$error":"#N/A"}},{"$f":"VLOOKUP($B1159,'Ad Week Dates'!$A:$E,2,FALSE)","v":{"$error":"#N/A"}},{"$f":"VLOOKUP($B1159,'Ad Week Dates'!$A:$E,3,FALSE)","v":{"$error":"#N/A"}},null,null,null,null,null,null,{"$error":"#N/A"}]
[null,null,{"$f":"VLOOKUP($B1160,'Ad Week Dates'!$A:$E,4,FALSE)","v":{"$error":"#N/A"}},{"$f":"VLOOKUP($B1160,'Ad Week Dates'!$A:$E,2,FALSE)","v":{"$error":"#N/A"}},{"$f":"VLOOKUP($B1160,'Ad Week Dates'!$A:$E,3,FALSE)","v":{"$error":"#N/A"}},null,null,null,null,null,null,{"$error":"#N/A"}]
[null,null,{"$f":"VLOOKUP($B1161,'Ad Week Dates'!$A:$E,4,FALSE)","v":{"$error":"#N/A"}},{"$f":"VLOOKUP($B1161,'Ad Week Dates'!$A:$E,2,FALSE)","v":{"$error":"#N/A"}},{"$f":"VLOOKUP($B1161,'Ad Week Dates'!$A:$E,3,FALSE)","v":{"$error":"#N/A"}},null,null,null,null,null,null,{"$error":"#N/A"}]
[null,null,{"$f":"VLOOKUP($B1162,'Ad Week Dates'!$A:$E,4,FALSE)","v":{"$error":"#N/A"}},{"$f":"VLOOKUP($B1162,'Ad Week Dates'!$A:$E,2,FALSE)","v":{"$error":"#N/A"}},{"$f":"VLOOKUP($B1162,'Ad Week Dates'!$A:$E,3,FALSE)","v":{"$error":"#N/A"}},null,null,null,null,null,null,{"$error":"#N/A"}]
[null,null,{"$f":"VLOOKUP($B1163,'Ad Week Dates'!$A:$E,4,FALSE)","v":{"$error":"#N/A"}},{"$f":"VLOOKUP($B1163,'Ad Week Dates'!$A:$E,2,FALSE)","v":{"$error":"#N/A"}},{"$f":"VLOOKUP($B1163,'Ad Week Dates'!$A:$E,3,FALSE)","v":{"$error":"#N/A"}},null,null,null,null,null,null,{"$error":"#N/A"}]
[null,null,{"$f":"VLOOKUP($B1164,'Ad Week Dates'!$A:$E,4,FALSE)","v":{"$error":"#N/A"}},{"$f":"VLOOKUP($B1164,'Ad Week Dates'!$A:$E,2,FALSE)","v":{"$error":"#N/A"}},{"$f":"VLOOKUP($B1164,'Ad Week Dates'!$A:$E,3,FALSE)","v":{"$error":"#N/A"}},null,null,null,null,null,null,{"$error":"#N/A"}]
[null,null,{"$f":"VLOOKUP($B1165,'Ad Week Dates'!$A:$E,4,FALSE)","v":{"$error":"#N/A"}},{"$f":"VLOOKUP($B1165,'Ad Week Dates'!$A:$E,2,FALSE)","v":{"$error":"#N/A"}},{"$f":"VLOOKUP($B1165,'Ad Week Dates'!$A:$E,3,FALSE)","v":{"$error":"#N/A"}},null,null,null,null,null,null,{"$error":"#N/A"}]
[null,null,{"$f":"VLOOKUP($B1166,'Ad Week Dates'!$A:$E,4,FALSE)","v":{"$error":"#N/A"}},{"$f":"VLOOKUP($B1166,'Ad Week Dates'!$A:$E,2,FALSE)","v":{"$error":"#N/A"}},{"$f":"VLOOKUP($B1166,'Ad Week Dates'!$A:$E,3,FALSE)","v":{"$error":"#N/A"}},null,null,null,null,null,null,{"$error":"#N/A"}]
[null,null,{"$f":"VLOOKUP($B1167,'Ad Week Dates'!$A:$E,4,FALSE)","v":{"$error":"#N/A"}},{"$f":"VLOOKUP($B1167,'Ad Week Dates'!$A:$E,2,FALSE)","v":{"$error":"#N/A"}},{"$f":"VLOOKUP($B1167,'Ad Week Dates'!$A:$E,3,FALSE)","v":{"$error":"#N/A"}},null,null,null,null,null,null,{"$error":"#N/A"}]
[null,null,{"$f":"VLOOKUP($B1168,'Ad Week Dates'!$A:$E,4,FALSE)","v":{"$error":"#N/A"}},{"$f":"VLOOKUP($B1168,'Ad Week Dates'!$A:$E,2,FALSE)","v":{"$error":"#N/A"}},{"$f":"VLOOKUP($B1168,'Ad Week Dates'!$A:$E,3,FALSE)","v":{"$error":"#N/A"}},null,null,null,null,null,null,{"$error":"#N/A"}]
[null,null,{"$f":"VLOOKUP($B1169,'Ad Week Dates'!$A:$E,4,FALSE)","v":{"$error":"#N/A"}},{"$f":"VLOOKUP($B1169,'Ad Week Dates'!$A:$E,2,FALSE)","v":{"$error":"#N/A"}},{"$f":"VLOOKUP($B1169,'Ad Week Dates'!$A:$E,3,FALSE)","v":{"$error":"#N/A"}},null,null,null,null,null,null,{"$error":"#N/A"}]
[null,null,{"$f":"VLOOKUP($B1170,'Ad Week Dates'!$A:$E,4,FALSE)","v":{"$error":"#N/A"}},{"$f":"VLOOKUP($B1170,'Ad Week Dates'!$A:$E,2,FALSE)","v":{"$error":"#N/A"}},{"$f":"VLOOKUP($B1170,'Ad Week Dates'!$A:$E,3,FALSE)","v":{"$error":"#N/A"}},null,null,null,null,null,null,{"$error":"#N/A"}]
[null,null,{"$f":"VLOOKUP($B1171,'Ad Week Dates'!$A:$E,4,FALSE)","v":{"$error":"#N/A"}},{"$f":"VLOOKUP($B1171,'Ad Week Dates'!$A:$E,2,FALSE)","v":{"$error":"#N/A"}},{"$f":"VLOOKUP($B1171,'Ad Week Dates'!$A:$E,3,FALSE)","v":{"$error":"#N/A"}},null,null,null,null,null,null,{"$error":"#N/A"}]
[null,null,{"$f":"VLOOKUP($B1172,'Ad Week Dates'!$A:$E,4,FALSE)","v":{"$error":"#N/A"}},{"$f":"VLOOKUP($B1172,'Ad Week Dates'!$A:$E,2,FALSE)","v":{"$error":"#N/A"}},{"$f":"VLOOKUP($B1172,'Ad Week Dates'!$A:$E,3,FALSE)","v":{"$error":"#N/A"}},null,null,null,null,null,null,{"$error":"#N/A"}]
[null,null,{"$f":"VLOOKUP($B1173,'Ad Week Dates'!$A:$E,4,FALSE)","v":{"$error":"#N/A"}},{"$f":"VLOOKUP($B1173,'Ad Week Dates'!$A:$E,2,FALSE)","v":{"$error":"#N/A"}},{"$f":"VLOOKUP($B1173,'Ad Week Dates'!$A:$E,3,FALSE)","v":{"$error":"#N/A"}},null,null,null,null,null,null,{"$error":"#N/A"}]
[null,null,{"$f":"VLOOKUP($B1174,'Ad Week Dates'!$A:$E,4,FALSE)","v":{"$error":"#N/A"}},{"$f":"VLOOKUP($B1174,'Ad Week Dates'!$A:$E,2,FALSE)","v":{"$error":"#N/A"}},{"$f":"VLOOKUP($B1174,'Ad Week Dates'!$A:$E,3,FALSE)","v":{"$error":"#N/A"}},null,null,null,null,null,null,{"$error":"#N/A"}]
[null,null,{"$f":"VLOOKUP($B1175,'Ad Week Dates'!$A:$E,4,FALSE)","v":{"$error":"#N/A"}},{"$f":"VLOOKUP($B1175,'Ad Week Dates'!$A:$E,2,FALSE)","v":{"$error":"#N/A"}},{"$f":"VLOOKUP($B1175,'Ad Week Dates'!$A:$E,3,FALSE)","v":{"$error":"#N/A"}},null,null,null,null,null,null,{"$error":"#N/A"}]
[null,null,{"$f":"VLOOKUP($B1176,'Ad Week Dates'!$A:$E,4,FALSE)","v":{"$error":"#N/A"}},{"$f":"VLOOKUP($B1176,'Ad Week Dates'!$A:$E,2,FALSE)","v":{"$error":"#N/A"}},{"$f":"VLOOKUP($B1176,'Ad Week Dates'!$A:$E,3,FALSE)","v":{"$error":"#N/A"}},null,null,null,null,null,null,{"$error":"#N/A"}]
[null,null,{"$f":"VLOOKUP($B1177,'Ad Week Dates'!$A:$E,4,FALSE)","v":{"$error":"#N/A"}},{"$f":"VLOOKUP($B1177,'Ad Week Dates'!$A:$E,2,FALSE)","v":{"$error":"#N/A"}},{"$f":"VLOOKUP($B1177,'Ad Week Dates'!$A:$E,3,FALSE)","v":{"$error":"#N/A"}},null,null,null,null,null,null,{"$error":"#N/A"}]
[null,null,{"$f":"VLOOKUP($B1178,'Ad Week Dates'!$A:$E,4,FALSE)","v":{"$error":"#N/A"}},{"$f":"VLOOKUP($B1178,'Ad Week Dates'!$A:$E,2,FALSE)","v":{"$error":"#N/A"}},{"$f":"VLOOKUP($B1178,'Ad Week Dates'!$A:$E,3,FALSE)","v":{"$error":"#N/A"}},null,null,null,null,null,null,{"$error":"#N/A"}]
[null,null,{"$f":"VLOOKUP($B1179,'Ad Week Dates'!$A:$E,4,FALSE)","v":{"$error":"#N/A"}},{"$f":"VLOOKUP($B1179,'Ad Week Dates'!$A:$E,2,FALSE)","v":{"$error":"#N/A"}},{"$f":"VLOOKUP($B1179,'Ad Week Dates'!$A:$E,3,FALSE)","v":{"$error":"#N/A"}},null,null,null,null,null,null,{"$error":"#N/A"}]
[null,null,{"$f":"VLOOKUP($B1180,'Ad Week Dates'!$A:$E,4,FALSE)","v":{"$error":"#N/A"}},{"$f":"VLOOKUP($B1180,'Ad Week Dates'!$A:$E,2,FALSE)","v":{"$error":"#N/A"}},{"$f":"VLOOKUP($B1180,'Ad Week Dates'!$A:$E,3,FALSE)","v":{"$error":"#N/A"}},null,null,null,null,null,null,{"$error":"#N/A"}]
[null,null,{"$f":"VLOOKUP($B1181,'Ad Week Dates'!$A:$E,4,FALSE)","v":{"$error":"#N/A"}},{"$f":"VLOOKUP($B1181,'Ad Week Dates'!$A:$E,2,FALSE)","v":{"$error":"#N/A"}},{"$f":"VLOOKUP($B1181,'Ad Week Dates'!$A:$E,3,FALSE)","v":{"$error":"#N/A"}},null,null,null,null,null,null,{"$error":"#N/A"}]
[null,null,{"$f":"VLOOKUP($B1182,'Ad Week Dates'!$A:$E,4,FALSE)","v":{"$error":"#N/A"}},{"$f":"VLOOKUP($B1182,'Ad Week Dates'!$A:$E,2,FALSE)","v":{"$error":"#N/A"}},{"$f":"VLOOKUP($B1182,'Ad Week Dates'!$A:$E,3,FALSE)","v":{"$error":"#N/A"}},null,null,null,null,null,null,{"$error":"#N/A"}]
[null,null,{"$f":"VLOOKUP($B1183,'Ad Week Dates'!$A:$E,4,FALSE)","v":{"$error":"#N/A"}},{"$f":"VLOOKUP($B1183,'Ad Week Dates'!$A:$E,2,FALSE)","v":{"$error":"#N/A"}},{"$f":"VLOOKUP($B1183,'Ad Week Dates'!$A:$E,3,FALSE)","v":{"$error":"#N/A"}},null,null,null,null,null,null,{"$error":"#N/A"}]
[null,null,{"$f":"VLOOKUP($B1184,'Ad Week Dates'!$A:$E,4,FALSE)","v":{"$error":"#N/A"}},{"$f":"VLOOKUP($B1184,'Ad Week Dates'!$A:$E,2,FALSE)","v":{"$error":"#N/A"}},{"$f":"VLOOKUP($B1184,'Ad Week Dates'!$A:$E,3,FALSE)","v":{"$error":"#N/A"}},null,null,null,null,null,null,{"$error":"#N/A"}]
[null,null,{"$f":"VLOOKUP($B1185,'Ad Week Dates'!$A:$E,4,FALSE)","v":{"$error":"#N/A"}},{"$f":"VLOOKUP($B1185,'Ad Week Dates'!$A:$E,2,FALSE)","v":{"$error":"#N/A"}},{"$f":"VLOOKUP($B1185,'Ad Week Dates'!$A:$E,3,FALSE)","v":{"$error":"#N/A"}},null,null,null,null,null,null,{"$error":"#N/A"}]
[null,null,{"$f":"VLOOKUP($B1186,'Ad Week Dates'!$A:$E,4,FALSE)","v":{"$error":"#N/A"}},{"$f":"VLOOKUP($B1186,'Ad Week Dates'!$A:$E,2,FALSE)","v":{"$error":"#N/A"}},{"$f":"VLOOKUP($B1186,'Ad Week Dates'!$A:$E,3,FALSE)","v":{"$error":"#N/A"}},null,null,null,null,null,null,{"$error":"#N/A"}]
[null,null,{"$f":"VLOOKUP($B1187,'Ad Week Dates'!$A:$E,4,FALSE)","v":{"$error":"#N/A"}},{"$f":"VLOOKUP($B1187,'Ad Week Dates'!$A:$E,2,FALSE)","v":{"$error":"#N/A"}},{"$f":"VLOOKUP($B1187,'Ad Week Dates'!$A:$E,3,FALSE)","v":{"$error":"#N/A"}},null,null,null,null,null,null,{"$error":"#N/A"}]
[null,null,{"$f":"VLOOKUP($B1188,'Ad Week Dates'!$A:$E,4,FALSE)","v":{"$error":"#N/A"}},{"$f":"VLOOKUP($B1188,'Ad Week Dates'!$A:$E,2,FALSE)","v":{"$error":"#N/A"}},{"$f":"VLOOKUP($B1188,'Ad Week Dates'!$A:$E,3,FALSE)","v":{"$error":"#N/A"}},null,null,null,null,null,null,{"$error":"#N/A"}]
[null,null,{"$f":"VLOOKUP($B1189,'Ad Week Dates'!$A:$E,4,FALSE)","v":{"$error":"#N/A"}},{"$f":"VLOOKUP($B1189,'Ad Week Dates'!$A:$E,2,FALSE)","v":{"$error":"#N/A"}},{"$f":"VLOOKUP($B1189,'Ad Week Dates'!$A:$E,3,FALSE)","v":{"$error":"#N/A"}},null,null,null,null,null,null,{"$error":"#N/A"}]
[null,null,{"$f":"VLOOKUP($B1190,'Ad Week Dates'!$A:$E,4,FALSE)","v":{"$error":"#N/A"}},{"$f":"VLOOKUP($B1190,'Ad Week Dates'!$A:$E,2,FALSE)","v":{"$error":"#N/A"}},{"$f":"VLOOKUP($B1190,'Ad Week Dates'!$A:$E,3,FALSE)","v":{"$error":"#N/A"}},null,null,null,null,null,null,{"$error":"#N/A"}]
[null,null,{"$f":"VLOOKUP($B1191,'Ad Week Dates'!$A:$E,4,FALSE)","v":{"$error":"#N/A"}},{"$f":"VLOOKUP($B1191,'Ad Week Dates'!$A:$E,2,FALSE)","v":{"$error":"#N/A"}},{"$f":"VLOOKUP($B1191,'Ad Week Dates'!$A:$E,3,FALSE)","v":{"$error":"#N/A"}},null,null,null,null,null,null,{"$error":"#N/A"}]
[null,null,{"$f":"VLOOKUP($B1192,'Ad Week Dates'!$A:$E,4,FALSE)","v":{"$error":"#N/A"}},{"$f":"VLOOKUP($B1192,'Ad Week Dates'!$A:$E,2,FALSE)","v":{"$error":"#N/A"}},{"$f":"VLOOKUP($B1192,'Ad Week Dates'!$A:$E,3,FALSE)","v":{"$error":"#N/A"}},null,null,null,null,null,null,{"$error":"#N/A"}]
[null,null,{"$f":"VLOOKUP($B1193,'Ad Week Dates'!$A:$E,4,FALSE)","v":{"$error":"#N/A"}},{"$f":"VLOOKUP($B1193,'Ad Week Dates'!$A:$E,2,FALSE)","v":{"$error":"#N/A"}},{"$f":"VLOOKUP($B1193,'Ad Week Dates'!$A:$E,3,FALSE)","v":{"$error":"#N/A"}},null,null,null,null,null,null,{"$error":"#N/A"}]
[null,null,{"$f":"VLOOKUP($B1194,'Ad Week Dates'!$A:$E,4,FALSE)","v":{"$error":"#N/A"}},{"$f":"VLOOKUP($B1194,'Ad Week Dates'!$A:$E,2,FALSE)","v":{"$error":"#N/A"}},{"$f":"VLOOKUP($B1194,'Ad Week Dates'!$A:$E,3,FALSE)","v":{"$error":"#N/A"}},null,null,null,null,null,null,{"$error":"#N/A"}]
[null,null,{"$f":"VLOOKUP($B1195,'Ad Week Dates'!$A:$E,4,FALSE)","v":{"$error":"#N/A"}},{"$f":"VLOOKUP($B1195,'Ad Week Dates'!$A:$E,2,FALSE)","v":{"$error":"#N/A"}},{"$f":"VLOOKUP($B1195,'Ad Week Dates'!$A:$E,3,FALSE)","v":{"$error":"#N/A"}},null,null,null,null,null,null,{"$error":"#N/A"}]
[null,null,{"$f":"VLOOKUP($B1196,'Ad Week Dates'!$A:$E,4,FALSE)","v":{"$error":"#N/A"}},{"$f":"VLOOKUP($B1196,'Ad Week Dates'!$A:$E,2,FALSE)","v":{"$error":"#N/A"}},{"$f":"VLOOKUP($B1196,'Ad Week Dates'!$A:$E,3,FALSE)","v":{"$error":"#N/A"}},null,null,null,null,null,null,{"$error":"#N/A"}]
[null,null,{"$f":"VLOOKUP($B1197,'Ad Week Dates'!$A:$E,4,FALSE)","v":{"$error":"#N/A"}},{"$f":"VLOOKUP($B1197,'Ad Week Dates'!$A:$E,2,FALSE)","v":{"$error":"#N/A"}},{"$f":"VLOOKUP($B1197,'Ad Week Dates'!$A:$E,3,FALSE)","v":{"$error":"#N/A"}},null,null,null,null,null,null,{"$error":"#N/A"}]
[null,null,{"$f":"VLOOKUP($B1198,'Ad Week Dates'!$A:$E,4,FALSE)","v":{"$error":"#N/A"}},{"$f":"VLOOKUP($B1198,'Ad Week Dates'!$A:$E,2,FALSE)","v":{"$error":"#N/A"}},{"$f":"VLOOKUP($B1198,'Ad Week Dates'!$A:$E,3,FALSE)","v":{"$error":"#N/A"}},null,null,null,null,null,null,{"$error":"#N/A"}]
[null,null,{"$f":"VLOOKUP($B1199,'Ad Week Dates'!$A:$E,4,FALSE)","v":{"$error":"#N/A"}},{"$f":"VLOOKUP($B1199,'Ad Week Dates'!$A:$E,2,FALSE)","v":{"$error":"#N/A"}},{"$f":"VLOOKUP($B1199,'Ad Week Dates'!$A:$E,3,FALSE)","v":{"$error":"#N/A"}},null,null,null,null,null,null,{"$error":"#N/A"}]
[null,null,{"$f":"VLOOKUP($B1200,'Ad Week Dates'!$A:$E,4,FALSE)","v":{"$error":"#N/A"}},{"$f":"VLOOKUP($B1200,'Ad Week Dates'!$A:$E,2,FALSE)","v":{"$error":"#N/A"}},{"$f":"VLOOKUP($B1200,'Ad Week Dates'!$A:$E,3,FALSE)","v":{"$error":"#N/A"}},null,null,null,null,null,null,{"$error":"#N/A"}]
[null,null,{"$f":"VLOOKUP($B1201,'Ad Week Dates'!$A:$E,4,FALSE)","v":{"$error":"#N/A"}},{"$f":"VLOOKUP($B1201,'Ad Week Dates'!$A:$E,2,FALSE)","v":{"$error":"#N/A"}},{"$f":"VLOOKUP($B1201,'Ad Week Dates'!$A:$E,3,FALSE)","v":{"$error":"#N/A"}},null,null,null,null,null,null,{"$error":"#N/A"}]
[null,null,{"$f":"VLOOKUP($B1202,'Ad Week Dates'!$A:$E,4,FALSE)","v":{"$error":"#N/A"}},{"$f":"VLOOKUP($B1202,'Ad Week Dates'!$A:$E,2,FALSE)","v":{"$error":"#N/A"}},{"$f":"VLOOKUP($B1202,'Ad Week Dates'!$A:$E,3,FALSE)","v":{"$error":"#N/A"}},null,null,null,null,null,null,{"$error":"#N/A"}]
[null,null,{"$f":"VLOOKUP($B1203,'Ad Week Dates'!$A:$E,4,FALSE)","v":{"$error":"#N/A"}},{"$f":"VLOOKUP($B1203,'Ad Week Dates'!$A:$E,2,FALSE)","v":{"$error":"#N/A"}},{"$f":"VLOOKUP($B1203,'Ad Week Dates'!$A:$E,3,FALSE)","v":{"$error":"#N/A"}},null,null,null,null,null,null,{"$error":"#N/A"}]
[null,null,{"$f":"VLOOKUP($B1204,'Ad Week Dates'!$A:$E,4,FALSE)","v":{"$error":"#N/A"}},{"$f":"VLOOKUP($B1204,'Ad Week Dates'!$A:$E,2,FALSE)","v":{"$error":"#N/A"}},{"$f":"VLOOKUP($B1204,'Ad Week Dates'!$A:$E,3,FALSE)","v":{"$error":"#N/A"}},null,null,null,null,null,null,{"$error":"#N/A"}]
[null,null,{"$f":"VLOOKUP($B1205,'Ad Week Dates'!$A:$E,4,FALSE)","v":{"$error":"#N/A"}},{"$f":"VLOOKUP($B1205,'Ad Week Dates'!$A:$E,2,FALSE)","v":{"$error":"#N/A"}},{"$f":"VLOOKUP($B1205,'Ad Week Dates'!$A:$E,3,FALSE)","v":{"$error":"#N/A"}},null,null,null,null,null,null,{"$error":"#N/A"}]
[null,null,{"$f":"VLOOKUP($B1206,'Ad Week Dates'!$A:$E,4,FALSE)","v":{"$error":"#N/A"}},{"$f":"VLOOKUP($B1206,'Ad Week Dates'!$A:$E,2,FALSE)","v":{"$error":"#N/A"}},{"$f":"VLOOKUP($B1206,'Ad Week Dates'!$A:$E,3,FALSE)","v":{"$error":"#N/A"}},null,null,null,null,null,null,{"$error":"#N/A"}]
[null,null,{"$f":"VLOOKUP($B1207,'Ad Week Dates'!$A:$E,4,FALSE)","v":{"$error":"#N/A"}},{"$f":"VLOOKUP($B1207,'Ad Week Dates'!$A:$E,2,FALSE)","v":{"$error":"#N/A"}},{"$f":"VLOOKUP($B1207,'Ad Week Dates'!$A:$E,3,FALSE)","v":{"$error":"#N/A"}},null,null,null,null,null,null,{"$error":"#N/A"}]
[null,null,{"$f":"VLOOKUP($B1208,'Ad Week Dates'!$A:$E,4,FALSE)","v":{"$error":"#N/A"}},{"$f":"VLOOKUP($B1208,'Ad Week Dates'!$A:$E,2,FALSE)","v":{"$error":"#N/A"}},{"$f":"VLOOKUP($B1208,'Ad Week Dates'!$A:$E,3,FALSE)","v":{"$error":"#N/A"}},null,null,null,null,null,null,{"$error":"#N/A"}]
[null,null,{"$f":"VLOOKUP($B1209,'Ad Week Dates'!$A:$E,4,FALSE)","v":{"$error":"#N/A"}},{"$f":"VLOOKUP($B1209,'Ad Week Dates'!$A:$E,2,FALSE)","v":{"$error":"#N/A"}},{"$f":"VLOOKUP($B1209,'Ad Week Dates'!$A:$E,3,FALSE)","v":{"$error":"#N/A"}},null,null,null,null,null,null,{"$error":"#N/A"}]
[null,null,{"$f":"VLOOKUP($B1210,'Ad Week Dates'!$A:$E,4,FALSE)","v":{"$error":"#N/A"}},{"$f":"VLOOKUP($B1210,'Ad Week Dates'!$A:$E,2,FALSE)","v":{"$error":"#N/A"}},{"$f":"VLOOKUP($B1210,'Ad Week Dates'!$A:$E,3,FALSE)","v":{"$error":"#N/A"}},null,null,null,null,null,null,{"$error":"#N/A"}]
[null,null,{"$f":"VLOOKUP($B1211,'Ad Week Dates'!$A:$E,4,FALSE)","v":{"$error":"#N/A"}},{"$f":"VLOOKUP($B1211,'Ad Week Dates'!$A:$E,2,FALSE)","v":{"$error":"#N/A"}},{"$f":"VLOOKUP($B1211,'Ad Week Dates'!$A:$E,3,FALSE)","v":{"$error":"#N/A"}},null,null,null,null,null,null,{"$error":"#N/A"}]
[null,null,{"$f":"VLOOKUP($B1212,'Ad Week Dates'!$A:$E,4,FALSE)","v":{"$error":"#N/A"}},{"$f":"VLOOKUP($B1212,'Ad Week Dates'!$A:$E,2,FALSE)","v":{"$error":"#N/A"}},{"$f":"VLOOKUP($B1212,'Ad Week Dates'!$A:$E,3,FALSE)","v":{"$error":"#N/A"}},null,null,null,null,null,null,{"$error":"#N/A"}]
[null,null,{"$f":"VLOOKUP($B1213,'Ad Week Dates'!$A:$E,4,FALSE)","v":{"$error":"#N/A"}},{"$f":"VLOOKUP($B1213,'Ad Week Dates'!$A:$E,2,FALSE)","v":{"$error":"#N/A"}},{"$f":"VLOOKUP($B1213,'Ad Week Dates'!$A:$E,3,FALSE)","v":{"$error":"#N/A"}},null,null,null,null,null,null,{"$error":"#N/A"}]
[null,null,{"$f":"VLOOKUP($B1214,'Ad Week Dates'!$A:$E,4,FALSE)","v":{"$error":"#N/A"}},{"$f":"VLOOKUP($B1214,'Ad Week Dates'!$A:$E,2,FALSE)","v":{"$error":"#N/A"}},{"$f":"VLOOKUP($B1214,'Ad Week Dates'!$A:$E,3,FALSE)","v":{"$error":"#N/A"}},null,null,null,null,null,null,{"$error":"#N/A"}]
[null,null,{"$f":"VLOOKUP($B1215,'Ad Week Dates'!$A:$E,4,FALSE)","v":{"$error":"#N/A"}},{"$f":"VLOOKUP($B1215,'Ad Week Dates'!$A:$E,2,FALSE)","v":{"$error":"#N/A"}},{"$f":"VLOOKUP($B1215,'Ad Week Dates'!$A:$E,3,FALSE)","v":{"$error":"#N/A"}},null,null,null,null,null,null,{"$error":"#N/A"}]
[null,null,{"$f":"VLOOKUP($B1216,'Ad Week Dates'!$A:$E,4,FALSE)","v":{"$error":"#N/A"}},{"$f":"VLOOKUP($B1216,'Ad Week Dates'!$A:$E,2,FALSE)","v":{"$error":"#N/A"}},{"$f":"VLOOKUP($B1216,'Ad Week Dates'!$A:$E,3,FALSE)","v":{"$error":"#N/A"}},null,null,null,null,null,null,{"$error":"#N/A"}]
[null,null,{"$f":"VLOOKUP($B1217,'Ad Week Dates'!$A:$E,4,FALSE)","v":{"$error":"#N/A"}},{"$f":"VLOOKUP($B1217,'Ad Week Dates'!$A:$E,2,FALSE)","v":{"$error":"#N/A"}},{"$f":"VLOOKUP($B1217,'Ad Week Dates'!$A:$E,3,FALSE)","v":{"$error":"#N/A"}},null,null,null,null,null,null,{"$error":"#N/A"}]
[null,null,{"$f":"VLOOKUP($B1218,'Ad Week Dates'!$A:$E,4,FALSE)","v":{"$error":"#N/A"}},{"$f":"VLOOKUP($B1218,'Ad Week Dates'!$A:$E,2,FALSE)","v":{"$error":"#N/A"}},{"$f":"VLOOKUP($B1218,'Ad Week Dates'!$A:$E,3,FALSE)","v":{"$error":"#N/A"}},null,null,null,null,null,null,{"$error":"#N/A"}]
[null,null,{"$f":"VLOOKUP($B1219,'Ad Week Dates'!$A:$E,4,FALSE)","v":{"$error":"#N/A"}},{"$f":"VLOOKUP($B1219,'Ad Week Dates'!$A:$E,2,FALSE)","v":{"$error":"#N/A"}},{"$f":"VLOOKUP($B1219,'Ad Week Dates'!$A:$E,3,FALSE)","v":{"$error":"#N/A"}},null,null,null,null,null,null,{"$error":"#N/A"}]
[null,null,{"$f":"VLOOKUP($B1220,'Ad Week Dates'!$A:$E,4,FALSE)","v":{"$error":"#N/A"}},{"$f":"VLOOKUP($B1220,'Ad Week Dates'!$A:$E,2,FALSE)","v":{"$error":"#N/A"}},{"$f":"VLOOKUP($B1220,'Ad Week Dates'!$A:$E,3,FALSE)","v":{"$error":"#N/A"}},null,null,null,null,null,null,{"$error":"#N/A"}]
[null,null,{"$f":"VLOOKUP($B1221,'Ad Week Dates'!$A:$E,4,FALSE)","v":{"$error":"#N/A"}},{"$f":"VLOOKUP($B1221,'Ad Week Dates'!$A:$E,2,FALSE)","v":{"$error":"#N/A"}},{"$f":"VLOOKUP($B1221,'Ad Week Dates'!$A:$E,3,FALSE)","v":{"$error":"#N/A"}},null,null,null,null,null,null,{"$error":"#N/A"}]
[null,null,{"$f":"VLOOKUP($B1222,'Ad Week Dates'!$A:$E,4,FALSE)","v":{"$error":"#N/A"}},{"$f":"VLOOKUP($B1222,'Ad Week Dates'!$A:$E,2,FALSE)","v":{"$error":"#N/A"}},{"$f":"VLOOKUP($B1222,'Ad Week Dates'!$A:$E,3,FALSE)","v":{"$error":"#N/A"}},null,null,null,null,null,null,{"$f":"IF(ISNUMBER(J1222), J1222 - K1222, VALUE(_xlfn.TEXTBEFORE(J1222, \"-\")) - VALUE(_xlfn.TEXTBEFORE(K1222, \"-\")))","v":{"$error":"#N/A"}}]
[null,null,{"$f":"VLOOKUP($B1223,'Ad Week Dates'!$A:$E,4,FALSE)","v":{"$error":"#N/A"}},{"$f":"VLOOKUP($B1223,'Ad Week Dates'!$A:$E,2,FALSE)","v":{"$error":"#N/A"}},{"$f":"VLOOKUP($B1223,'Ad Week Dates'!$A:$E,3,FALSE)","v":{"$error":"#N/A"}},null,null,null,null,null,null,{"$error":"#N/A"}]
[null,null,{"$f":"VLOOKUP($B1224,'Ad Week Dates'!$A:$E,4,FALSE)","v":{"$error":"#N/A"}},{"$f":"VLOOKUP($B1224,'Ad Week Dates'!$A:$E,2,FALSE)","v":{"$error":"#N/A"}},{"$f":"VLOOKUP($B1224,'Ad Week Dates'!$A:$E,3,FALSE)","v":{"$error":"#N/A"}},null,null,null,null,null,null,{"$error":"#N/A"}]
[null,null,{"$f":"VLOOKUP($B1225,'Ad Week Dates'!$A:$E,4,FALSE)","v":{"$error":"#N/A"}},{"$f":"VLOOKUP($B1225,'Ad Week Dates'!$A:$E,2,FALSE)","v":{"$error":"#N/A"}},{"$f":"VLOOKUP($B1225,'Ad Week Dates'!$A:$E,3,FALSE)","v":{"$error":"#N/A"}},null,null,null,null,null,null,{"$error":"#N/A"}]
[null,null,{"$f":"VLOOKUP($B1226,'Ad Week Dates'!$A:$E,4,FALSE)","v":{"$error":"#N/A"}},{"$f":"VLOOKUP($B1226,'Ad Week Dates'!$A:$E,2,FALSE)","v":{"$error":"#N/A"}},{"$f":"VLOOKUP($B1226,'Ad Week Dates'!$A:$E,3,FALSE)","v":{"$error":"#N/A"}},null,null,null,null,null,null,{"$error":"#N/A"}]
[null,null,{"$f":"VLOOKUP($B1227,'Ad Week Dates'!$A:$E,4,FALSE)","v":{"$error":"#N/A"}},{"$f":"VLOOKUP($B1227,'Ad Week Dates'!$A:$E,2,FALSE)","v":{"$error":"#N/A"}},{"$f":"VLOOKUP($B1227,'Ad Week Dates'!$A:$E,3,FALSE)","v":{"$error":"#N/A"}},null,null,null,null,null,null,{"$error":"#N/A"}]
[null,null,{"$f":"VLOOKUP($B1228,'Ad Week Dates'!$A:$E,4,FALSE)","v":{"$error":"#N/A"}},{"$f":"VLOOKUP($B1228,'Ad Week Dates'!$A:$E,2,FALSE)","v":{"$error":"#N/A"}},{"$f":"VLOOKUP($B1228,'Ad Week Dates'!$A:$E,3,FALSE)","v":{"$error":"#N/A"}},null,null,null,null,null,null,{"$error":"#N/A"}]
[null,null,{"$f":"VLOOKUP($B1229,'Ad Week Dates'!$A:$E,4,FALSE)","v":{"$error":"#N/A"}},{"$f":"VLOOKUP($B1229,'Ad Week Dates'!$A:$E,2,FALSE)","v":{"$error":"#N/A"}},{"$f":"VLOOKUP($B1229,'Ad Week Dates'!$A:$E,3,FALSE)","v":{"$error":"#N/A"}},null,null,null,null,null,null,{"$error":"#N/A"}]
[null,null,{"$f":"VLOOKUP($B1230,'Ad Week Dates'!$A:$E,4,FALSE)","v":{"$error":"#N/A"}},{"$f":"VLOOKUP($B1230,'Ad Week Dates'!$A:$E,2,FALSE)","v":{"$error":"#N/A"}},{"$f":"VLOOKUP($B1230,'Ad Week Dates'!$A:$E,3,FALSE)","v":{"$error":"#N/A"}},null,null,null,null,null,null,{"$error":"#N/A"}]
[null,null,{"$f":"VLOOKUP($B1231,'Ad Week Dates'!$A:$E,4,FALSE)","v":{"$error":"#N/A"}},{"$f":"VLOOKUP($B1231,'Ad Week Dates'!$A:$E,2,FALSE)","v":{"$error":"#N/A"}},{"$f":"VLOOKUP($B1231,'Ad Week Dates'!$A:$E,3,FALSE)","v":{"$error":"#N/A"}},null,null,null,null,null,null,{"$error":"#N/A"}]
[null,null,{"$f":"VLOOKUP($B1232,'Ad Week Dates'!$A:$E,4,FALSE)","v":{"$error":"#N/A"}},{"$f":"VLOOKUP($B1232,'Ad Week Dates'!$A:$E,2,FALSE)","v":{"$error":"#N/A"}},{"$f":"VLOOKUP($B1232,'Ad Week Dates'!$A:$E,3,FALSE)","v":{"$error":"#N/A"}},null,null,null,null,null,null,{"$error":"#N/A"}]
[null,null,{"$f":"VLOOKUP($B1233,'Ad Week Dates'!$A:$E,4,FALSE)","v":{"$error":"#N/A"}},{"$f":"VLOOKUP($B1233,'Ad Week Dates'!$A:$E,2,FALSE)","v":{"$error":"#N/A"}},{"$f":"VLOOKUP($B1233,'Ad Week Dates'!$A:$E,3,FALSE)","v":{"$error":"#N/A"}},null,null,null,null,null,null,{"$error":"#N/A"}]
[null,null,{"$f":"VLOOKUP($B1234,'Ad Week Dates'!$A:$E,4,FALSE)","v":{"$error":"#N/A"}},{"$f":"VLOOKUP($B1234,'Ad Week Dates'!$A:$E,2,FALSE)","v":{"$error":"#N/A"}},{"$f":"VLOOKUP($B1234,'Ad Week Dates'!$A:$E,3,FALSE)","v":{"$error":"#N/A"}},null,null,null,null,null,null,{"$error":"#N/A"}]
[null,null,{"$f":"VLOOKUP($B1235,'Ad Week Dates'!$A:$E,4,FALSE)","v":{"$error":"#N/A"}},{"$f":"VLOOKUP($B1235,'Ad Week Dates'!$A:$E,2,FALSE)","v":{"$error":"#N/A"}},{"$f":"VLOOKUP($B1235,'Ad Week Dates'!$A:$E,3,FALSE)","v":{"$error":"#N/A"}},null,null,null,null,null,null,{"$error":"#N/A"}]
[null,null,{"$f":"VLOOKUP($B1236,'Ad Week Dates'!$A:$E,4,FALSE)","v":{"$error":"#N/A"}},{"$f":"VLOOKUP($B1236,'Ad Week Dates'!$A:$E,2,FALSE)","v":{"$error":"#N/A"}},{"$f":"VLOOKUP($B1236,'Ad Week Dates'!$A:$E,3,FALSE)","v":{"$error":"#N/A"}},null,null,null,null,null,null,{"$error":"#N/A"}]
[null,null,{"$f":"VLOOKUP($B1237,'Ad Week Dates'!$A:$E,4,FALSE)","v":{"$error":"#N/A"}},{"$f":"VLOOKUP($B1237,'Ad Week Dates'!$A:$E,2,FALSE)","v":{"$error":"#N/A"}},{"$f":"VLOOKUP($B1237,'Ad Week Dates'!$A:$E,3,FALSE)","v":{"$error":"#N/A"}},null,null,null,null,null,null,{"$error":"#N/A"}]
[null,null,{"$f":"VLOOKUP($B1238,'Ad Week Dates'!$A:$E,4,FALSE)","v":{"$error":"#N/A"}},{"$f":"VLOOKUP($B1238,'Ad Week Dates'!$A:$E,2,FALSE)","v":{"$error":"#N/A"}},{"$f":"VLOOKUP($B1238,'Ad Week Dates'!$A:$E,3,FALSE)","v":{"$error":"#N/A"}},null,null,null,null,null,null,{"$error":"#N/A"}]
[null,null,{"$f":"VLOOKUP($B1239,'Ad Week Dates'!$A:$E,4,FALSE)","v":{"$error":"#N/A"}},{"$f":"VLOOKUP($B1239,'Ad Week Dates'!$A:$E,2,FALSE)","v":{"$error":"#N/A"}},{"$f":"VLOOKUP($B1239,'Ad Week Dates'!$A:$E,3,FALSE)","v":{"$error":"#N/A"}},null,null,null,null,null,null,{"$error":"#N/A"}]
[null,null,{"$f":"VLOOKUP($B1240,'Ad Week Dates'!$A:$E,4,FALSE)","v":{"$error":"#N/A"}},{"$f":"VLOOKUP($B1240,'Ad Week Dates'!$A:$E,2,FALSE)","v":{"$error":"#N/A"}},{"$f":"VLOOKUP($B1240,'Ad Week Dates'!$A:$E,3,FALSE)","v":{"$error":"#N/A"}},null,null,null,null,null,null,{"$error":"#N/A"}]
[null,null,{"$f":"VLOOKUP($B1241,'Ad Week Dates'!$A:$E,4,FALSE)","v":{"$error":"#N/A"}},{"$f":"VLOOKUP($B1241,'Ad Week Dates'!$A:$E,2,FALSE)","v":{"$error":"#N/A"}},{"$f":"VLOOKUP($B1241,'Ad Week Dates'!$A:$E,3,FALSE)","v":{"$error":"#N/A"}},null,null,null,null,null,null,{"$error":"#N/A"}]
[null,null,{"$f":"VLOOKUP($B1242,'Ad Week Dates'!$A:$E,4,FALSE)","v":{"$error":"#N/A"}},{"$f":"VLOOKUP($B1242,'Ad Week Dates'!$A:$E,2,FALSE)","v":{"$error":"#N/A"}},{"$f":"VLOOKUP($B1242,'Ad Week Dates'!$A:$E,3,FALSE)","v":{"$error":"#N/A"}},null,null,null,null,null,null,{"$error":"#N/A"}]
[null,null,{"$f":"VLOOKUP($B1243,'Ad Week Dates'!$A:$E,4,FALSE)","v":{"$error":"#N/A"}},{"$f":"VLOOKUP($B1243,'Ad Week Dates'!$A:$E,2,FALSE)","v":{"$error":"#N/A"}},{"$f":"VLOOKUP($B1243,'Ad Week Dates'!$A:$E,3,FALSE)","v":{"$error":"#N/A"}},null,null,null,null,null,null,{"$error":"#N/A"}]
[null,null,{"$f":"VLOOKUP($B1244,'Ad Week Dates'!$A:$E,4,FALSE)","v":{"$error":"#N/A"}},{"$f":"VLOOKUP($B1244,'Ad Week Dates'!$A:$E,2,FALSE)","v":{"$error":"#N/A"}},{"$f":"VLOOKUP($B1244,'Ad Week Dates'!$A:$E,3,FALSE)","v":{"$error":"#N/A"}},null,null,null,null,null,null,{"$error":"#N/A"}]
[null,null,{"$f":"VLOOKUP($B1245,'Ad Week Dates'!$A:$E,4,FALSE)","v":{"$error":"#N/A"}},{"$f":"VLOOKUP($B1245,'Ad Week Dates'!$A:$E,2,FALSE)","v":{"$error":"#N/A"}},{"$f":"VLOOKUP($B1245,'Ad Week Dates'!$A:$E,3,FALSE)","v":{"$error":"#N/A"}},null,null,null,null,null,null,{"$error":"#N/A"}]
[null,null,{"$f":"VLOOKUP($B1246,'Ad Week Dates'!$A:$E,4,FALSE)","v":{"$error":"#N/A"}},{"$f":"VLOOKUP($B1246,'Ad Week Dates'!$A:$E,2,FALSE)","v":{"$error":"#N/A"}},{"$f":"VLOOKUP($B1246,'Ad Week Dates'!$A:$E,3,FALSE)","v":{"$error":"#N/A"}},null,null,null,null,null,null,{"$error":"#N/A"}]
[null,null,{"$f":"VLOOKUP($B1247,'Ad Week Dates'!$A:$E,4,FALSE)","v":{"$error":"#N/A"}},{"$f":"VLOOKUP($B1247,'Ad Week Dates'!$A:$E,2,FALSE)","v":{"$error":"#N/A"}},{"$f":"VLOOKUP($B1247,'Ad Week Dates'!$A:$E,3,FALSE)","v":{"$error":"#N/A"}},null,null,null,null,null,null,{"$error":"#N/A"}]
[null,null,{"$f":"VLOOKUP($B1248,'Ad Week Dates'!$A:$E,4,FALSE)","v":{"$error":"#N/A"}},{"$f":"VLOOKUP($B1248,'Ad Week Dates'!$A:$E,2,FALSE)","v":{"$error":"#N/A"}},{"$f":"VLOOKUP($B1248,'Ad Week Dates'!$A:$E,3,FALSE)","v":{"$error":"#N/A"}},null,null,null,null,null,null,{"$error":"#N/A"}]
[null,null,{"$f":"VLOOKUP($B1249,'Ad Week Dates'!$A:$E,4,FALSE)","v":{"$error":"#N/A"}},{"$f":"VLOOKUP($B1249,'Ad Week Dates'!$A:$E,2,FALSE)","v":{"$error":"#N/A"}},{"$f":"VLOOKUP($B1249,'Ad Week Dates'!$A:$E,3,FALSE)","v":{"$error":"#N/A"}},null,null,null,null,null,null,{"$error":"#N/A"}]
[null,null,{"$f":"VLOOKUP($B1250,'Ad Week Dates'!$A:$E,4,FALSE)","v":{"$error":"#N/A"}},{"$f":"VLOOKUP($B1250,'Ad Week Dates'!$A:$E,2,FALSE)","v":{"$error":"#N/A"}},{"$f":"VLOOKUP($B1250,'Ad Week Dates'!$A:$E,3,FALSE)","v":{"$error":"#N/A"}},null,null,null,null,null,null,{"$error":"#N/A"}]
[null,null,{"$f":"VLOOKUP($B1251,'Ad Week Dates'!$A:$E,4,FALSE)","v":{"$error":"#N/A"}},{"$f":"VLOOKUP($B1251,'Ad Week Dates'!$A:$E,2,FALSE)","v":{"$error":"#N/A"}},{"$f":"VLOOKUP($B1251,'Ad Week Dates'!$A:$E,3,FALSE)","v":{"$error":"#N/A"}},null,null,null,null,null,null,{"$error":"#N/A"}]
[null,null,{"$f":"VLOOKUP($B1252,'Ad Week Dates'!$A:$E,4,FALSE)","v":{"$error":"#N/A"}},{"$f":"VLOOKUP($B1252,'Ad Week Dates'!$A:$E,2,FALSE)","v":{"$error":"#N/A"}},{"$f":"VLOOKUP($B1252,'Ad Week Dates'!$A:$E,3,FALSE)","v":{"$error":"#N/A"}},null,null,null,null,null,null,{"$error":"#N/A"}]
[null,null,{"$f":"VLOOKUP($B1253,'Ad Week Dates'!$A:$E,4,FALSE)","v":{"$error":"#N/A"}},{"$f":"VLOOKUP($B1253,'Ad Week Dates'!$A:$E,2,FALSE)","v":{"$error":"#N/A"}},{"$f":"VLOOKUP($B1253,'Ad Week Dates'!$A:$E,3,FALSE)","v":{"$error":"#N/A"}},null,null,null,null,null,null,{"$error":"#N/A"}]
[null,null,{"$f":"VLOOKUP($B1254,'Ad Week Dates'!$A:$E,4,FALSE)","v":{"$error":"#N/A"}},{"$f":"VLOOKUP($B1254,'Ad Week Dates'!$A:$E,2,FALSE)","v":{"$error":"#N/A"}},{"$f":"VLOOKUP($B1254,'Ad Week Dates'!$A:$E,3,FALSE)","v":{"$error":"#N/A"}},null,null,null,null,null,null,{"$error":"#N/A"}]
[null,null,{"$f":"VLOOKUP($B1255,'Ad Week Dates'!$A:$E,4,FALSE)","v":{"$error":"#N/A"}},{"$f":"VLOOKUP($B1255,'Ad Week Dates'!$A:$E,2,FALSE)","v":{"$error":"#N/A"}},{"$f":"VLOOKUP($B1255,'Ad Week Dates'!$A:$E,3,FALSE)","v":{"$error":"#N/A"}},null,null,null,null,null,null,{"$error":"#N/A"}]
[null,null,{"$f":"VLOOKUP($B1256,'Ad Week Dates'!$A:$E,4,FALSE)","v":{"$error":"#N/A"}},{"$f":"VLOOKUP($B1256,'Ad Week Dates'!$A:$E,2,FALSE)","v":{"$error":"#N/A"}},{"$f":"VLOOKUP($B1256,'Ad Week Dates'!$A:$E,3,FALSE)","v":{"$error":"#N/A"}},null,null,null,null,null,null,{"$error":"#N/A"}]
[null,null,{"$f":"VLOOKUP($B1257,'Ad Week Dates'!$A:$E,4,FALSE)","v":{"$error":"#N/A"}},{"$f":"VLOOKUP($B1257,'Ad Week Dates'!$A:$E,2,FALSE)","v":{"$error":"#N/A"}},{"$f":"VLOOKUP($B1257,'Ad Week Dates'!$A:$E,3,FALSE)","v":{"$error":"#N/A"}},null,null,null,null,null,null,{"$error":"#N/A"}]
[null,null,{"$f":"VLOOKUP($B1258,'Ad Week Dates'!$A:$E,4,FALSE)","v":{"$error":"#N/A"}},{"$f":"VLOOKUP($B1258,'Ad Week Dates'!$A:$E,2,FALSE)","v":{"$error":"#N/A"}},{"$f":"VLOOKUP($B1258,'Ad Week Dates'!$A:$E,3,FALSE)","v":{"$error":"#N/A"}},null,null,null,null,null,null,{"$error":"#N/A"}]
[null,null,{"$f":"VLOOKUP($B1259,'Ad Week Dates'!$A:$E,4,FALSE)","v":{"$error":"#N/A"}},{"$f":"VLOOKUP($B1259,'Ad Week Dates'!$A:$E,2,FALSE)","v":{"$error":"#N/A"}},{"$f":"VLOOKUP($B1259,'Ad Week Dates'!$A:$E,3,FALSE)","v":{"$error":"#N/A"}},null,null,null,null,null,null,{"$error":"#N/A"}]
[null,null,{"$f":"VLOOKUP($B1260,'Ad Week Dates'!$A:$E,4,FALSE)","v":{"$error":"#N/A"}},{"$f":"VLOOKUP($B1260,'Ad Week Dates'!$A:$E,2,FALSE)","v":{"$error":"#N/A"}},{"$f":"VLOOKUP($B1260,'Ad Week Dates'!$A:$E,3,FALSE)","v":{"$error":"#N/A"}},null,null,null,null,null,null,{"$error":"#N/A"}]
[null,null,{"$f":"VLOOKUP($B1261,'Ad Week Dates'!$A:$E,4,FALSE)","v":{"$error":"#N/A"}},{"$f":"VLOOKUP($B1261,'Ad Week Dates'!$A:$E,2,FALSE)","v":{"$error":"#N/A"}},{"$f":"VLOOKUP($B1261,'Ad Week Dates'!$A:$E,3,FALSE)","v":{"$error":"#N/A"}},null,null,null,null,null,null,{"$error":"#N/A"}]
[null,null,{"$f":"VLOOKUP($B1262,'Ad Week Dates'!$A:$E,4,FALSE)","v":{"$error":"#N/A"}},{"$f":"VLOOKUP($B1262,'Ad Week Dates'!$A:$E,2,FALSE)","v":{"$error":"#N/A"}},{"$f":"VLOOKUP($B1262,'Ad Week Dates'!$A:$E,3,FALSE)","v":{"$error":"#N/A"}},null,null,null,null,null,null,{"$error":"#N/A"}]
[null,null,{"$f":"VLOOKUP($B1263,'Ad Week Dates'!$A:$E,4,FALSE)","v":{"$error":"#N/A"}},{"$f":"VLOOKUP($B1263,'Ad Week Dates'!$A:$E,2,FALSE)","v":{"$error":"#N/A"}},{"$f":"VLOOKUP($B1263,'Ad Week Dates'!$A:$E,3,FALSE)","v":{"$error":"#N/A"}},null,null,null,null,null,null,{"$error":"#N/A"}]
[null,null,{"$f":"VLOOKUP($B1264,'Ad Week Dates'!$A:$E,4,FALSE)","v":{"$error":"#N/A"}},{"$f":"VLOOKUP($B1264,'Ad Week Dates'!$A:$E,2,FALSE)","v":{"$error":"#N/A"}},{"$f":"VLOOKUP($B1264,'Ad Week Dates'!$A:$E,3,FALSE)","v":{"$error":"#N/A"}},null,null,null,null,null,null,{"$error":"#N/A"}]
[null,null,{"$f":"VLOOKUP($B1265,'Ad Week Dates'!$A:$E,4,FALSE)","v":{"$error":"#N/A"}},{"$f":"VLOOKUP($B1265,'Ad Week Dates'!$A:$E,2,FALSE)","v":{"$error":"#N/A"}},{"$f":"VLOOKUP($B1265,'Ad Week Dates'!$A:$E,3,FALSE)","v":{"$error":"#N/A"}},null,null,null,null,null,null,{"$error":"#N/A"}]
[null,null,{"$f":"VLOOKUP($B1266,'Ad Week Dates'!$A:$E,4,FALSE)","v":{"$error":"#N/A"}},{"$f":"VLOOKUP($B1266,'Ad Week Dates'!$A:$E,2,FALSE)","v":{"$error":"#N/A"}},{"$f":"VLOOKUP($B1266,'Ad Week Dates'!$A:$E,3,FALSE)","v":{"$error":"#N/A"}},null,null,null,null,null,null,{"$error":"#N/A"}]
[null,null,{"$f":"VLOOKUP($B1267,'Ad Week Dates'!$A:$E,4,FALSE)","v":{"$error":"#N/A"}},{"$f":"VLOOKUP($B1267,'Ad Week Dates'!$A:$E,2,FALSE)","v":{"$error":"#N/A"}},{"$f":"VLOOKUP($B1267,'Ad Week Dates'!$A:$E,3,FALSE)","v":{"$error":"#N/A"}},null,null,null,null,null,null,{"$error":"#N/A"}]
[null,null,{"$f":"VLOOKUP($B1268,'Ad Week Dates'!$A:$E,4,FALSE)","v":{"$error":"#N/A"}},{"$f":"VLOOKUP($B1268,'Ad Week Dates'!$A:$E,2,FALSE)","v":{"$error":"#N/A"}},{"$f":"VLOOKUP($B1268,'Ad Week Dates'!$A:$E,3,FALSE)","v":{"$error":"#N/A"}},null,null,null,null,null,null,{"$error":"#N/A"}]
[null,null,{"$f":"VLOOKUP($B1269,'Ad Week Dates'!$A:$E,4,FALSE)","v":{"$error":"#N/A"}},{"$f":"VLOOKUP($B1269,'Ad Week Dates'!$A:$E,2,FALSE)","v":{"$error":"#N/A"}},{"$f":"VLOOKUP($B1269,'Ad Week Dates'!$A:$E,3,FALSE)","v":{"$error":"#N/A"}},null,null,null,null,null,null,{"$error":"#N/A"}]
[null,null,{"$f":"VLOOKUP($B1270,'Ad Week Dates'!$A:$E,4,FALSE)","v":{"$error":"#N/A"}},{"$f":"VLOOKUP($B1270,'Ad Week Dates'!$A:$E,2,FALSE)","v":{"$error":"#N/A"}},{"$f":"VLOOKUP($B1270,'Ad Week Dates'!$A:$E,3,FALSE)","v":{"$error":"#N/A"}},null,null,null,null,null,null,{"$error":"#N/A"}]
[null,null,{"$f":"VLOOKUP($B1271,'Ad Week Dates'!$A:$E,4,FALSE)","v":{"$error":"#N/A"}},{"$f":"VLOOKUP($B1271,'Ad Week Dates'!$A:$E,2,FALSE)","v":{"$error":"#N/A"}},{"$f":"VLOOKUP($B1271,'Ad Week Dates'!$A:$E,3,FALSE)","v":{"$error":"#N/A"}},null,null,null,null,null,null,{"$error":"#N/A"}]
[null,null,{"$f":"VLOOKUP($B1272,'Ad Week Dates'!$A:$E,4,FALSE)","v":{"$error":"#N/A"}},{"$f":"VLOOKUP($B1272,'Ad Week Dates'!$A:$E,2,FALSE)","v":{"$error":"#N/A"}},{"$f":"VLOOKUP($B1272,'Ad Week Dates'!$A:$E,3,FALSE)","v":{"$error":"#N/A"}},null,null,null,null,null,null,{"$error":"#N/A"}]
[null,null,{"$f":"VLOOKUP($B1273,'Ad Week Dates'!$A:$E,4,FALSE)","v":{"$error":"#N/A"}},{"$f":"VLOOKUP($B1273,'Ad Week Dates'!$A:$E,2,FALSE)","v":{"$error":"#N/A"}},{"$f":"VLOOKUP($B1273,'Ad Week Dates'!$A:$E,3,FALSE)","v":{"$error":"#N/A"}},null,null,null,null,null,null,{"$error":"#N/A"}]
[null,null,{"$f":"VLOOKUP($B1274,'Ad Week Dates'!$A:$E,4,FALSE)","v":{"$error":"#N/A"}},{"$f":"VLOOKUP($B1274,'Ad Week Dates'!$A:$E,2,FALSE)","v":{"$error":"#N/A"}},{"$f":"VLOOKUP($B1274,'Ad Week Dates'!$A:$E,3,FALSE)","v":{"$error":"#N/A"}},null,null,null,null,null,null,{"$error":"#N/A"}]
[null,null,{"$f":"VLOOKUP($B1275,'Ad Week Dates'!$A:$E,4,FALSE)","v":{"$error":"#N/A"}},{"$f":"VLOOKUP($B1275,'Ad Week Dates'!$A:$E,2,FALSE)","v":{"$error":"#N/A"}},{"$f":"VLOOKUP($B1275,'Ad Week Dates'!$A:$E,3,FALSE)","v":{"$error":"#N/A"}},null,null,null,null,null,null,{"$error":"#N/A"}]
[null,null,{"$f":"VLOOKUP($B1276,'Ad Week Dates'!$A:$E,4,FALSE)","v":{"$error":"#N/A"}},{"$f":"VLOOKUP($B1276,'Ad Week Dates'!$A:$E,2,FALSE)","v":{"$error":"#N/A"}},{"$f":"VLOOKUP($B1276,'Ad Week Dates'!$A:$E,3,FALSE)","v":{"$error":"#N/A"}},null,null,null,null,null,null,{"$error":"#N/A"}]
[null,null,{"$f":"VLOOKUP($B1277,'Ad Week Dates'!$A:$E,4,FALSE)","v":{"$error":"#N/A"}},{"$f":"VLOOKUP($B1277,'Ad Week Dates'!$A:$E,2,FALSE)","v":{"$error":"#N/A"}},{"$f":"VLOOKUP($B1277,'Ad Week Dates'!$A:$E,3,FALSE)","v":{"$error":"#N/A"}},null,null,null,null,null,null,{"$error":"#N/A"}]
[null,null,{"$f":"VLOOKUP($B1278,'Ad Week Dates'!$A:$E,4,FALSE)","v":{"$error":"#N/A"}},{"$f":"VLOOKUP($B1278,'Ad Week Dates'!$A:$E,2,FALSE)","v":{"$error":"#N/A"}},{"$f":"VLOOKUP($B1278,'Ad Week Dates'!$A:$E,3,FALSE)","v":{"$error":"#N/A"}},null,null,null,null,null,null,{"$error":"#N/A"}]
[null,null,{"$f":"VLOOKUP($B1279,'Ad Week Dates'!$A:$E,4,FALSE)","v":{"$error":"#N/A"}},{"$f":"VLOOKUP($B1279,'Ad Week Dates'!$A:$E,2,FALSE)","v":{"$error":"#N/A"}},{"$f":"VLOOKUP($B1279,'Ad Week Dates'!$A:$E,3,FALSE)","v":{"$error":"#N/A"}},null,null,null,null,null,null,{"$error":"#N/A"}]
[null,null,{"$f":"VLOOKUP($B1280,'Ad Week Dates'!$A:$E,4,FALSE)","v":{"$error":"#N/A"}},{"$f":"VLOOKUP($B1280,'Ad Week Dates'!$A:$E,2,FALSE)","v":{"$error":"#N/A"}},{"$f":"VLOOKUP($B1280,'Ad Week Dates'!$A:$E,3,FALSE)","v":{"$error":"#N/A"}},null,null,null,null,null,null,{"$error":"#N/A"}]
[null,null,{"$f":"VLOOKUP($B1281,'Ad Week Dates'!$A:$E,4,FALSE)","v":{"$error":"#N/A"}},{"$f":"VLOOKUP($B1281,'Ad Week Dates'!$A:$E,2,FALSE)","v":{"$error":"#N/A"}},{"$f":"VLOOKUP($B1281,'Ad Week Dates'!$A:$E,3,FALSE)","v":{"$error":"#N/A"}},null,null,null,null,null,null,{"$error":"#N/A"}]
[null,null,{"$f":"VLOOKUP($B1282,'Ad Week Dates'!$A:$E,4,FALSE)","v":{"$error":"#N/A"}},{"$f":"VLOOKUP($B1282,'Ad Week Dates'!$A:$E,2,FALSE)","v":{"$error":"#N/A"}},{"$f":"VLOOKUP($B1282,'Ad Week Dates'!$A:$E,3,FALSE)","v":{"$error":"#N/A"}},null,null,null,null,null,null,{"$error":"#N/A"}]
[null,null,{"$f":"VLOOKUP($B1283,'Ad Week Dates'!$A:$E,4,FALSE)","v":{"$error":"#N/A"}},{"$f":"VLOOKUP($B1283,'Ad Week Dates'!$A:$E,2,FALSE)","v":{"$error":"#N/A"}},{"$f":"VLOOKUP($B1283,'Ad Week Dates'!$A:$E,3,FALSE)","v":{"$error":"#N/A"}},null,null,null,null,null,null,{"$error":"#N/A"}]
[null,null,{"$f":"VLOOKUP($B1284,'Ad Week Dates'!$A:$E,4,FALSE)","v":{"$error":"#N/A"}},{"$f":"VLOOKUP($B1284,'Ad Week Dates'!$A:$E,2,FALSE)","v":{"$error":"#N/A"}},{"$f":"VLOOKUP($B1284,'Ad Week Dates'!$A:$E,3,FALSE)","v":{"$error":"#N/A"}},null,null,null,null,null,null,{"$error":"#N/A"}]
[null,null,{"$f":"VLOOKUP($B1285,'Ad Week Dates'!$A:$E,4,FALSE)","v":{"$error":"#N/A"}},{"$f":"VLOOKUP($B1285,'Ad Week Dates'!$A:$E,2,FALSE)","v":{"$error":"#N/A"}},{"$f":"VLOOKUP($B1285,'Ad Week Dates'!$A:$E,3,FALSE)","v":{"$error":"#N/A"}},null,null,null,null,null,null,{"$error":"#N/A"}]
[null,null,{"$f":"VLOOKUP($B1286,'Ad Week Dates'!$A:$E,4,FALSE)","v":{"$error":"#N/A"}},{"$f":"VLOOKUP($B1286,'Ad Week Dates'!$A:$E,2,FALSE)","v":{"$error":"#N/A"}},{"$f":"VLOOKUP($B1286,'Ad Week Dates'!$A:$E,3,FALSE)","v":{"$error":"#N/A"}},null,null,null,null,null,null,{"$f":"IF(ISNUMBER(J1286), J1286 - K1286, VALUE(_xlfn.TEXTBEFORE(J1286, \"-\")) - VALUE(_xlfn.TEXTBEFORE(K1286, \"-\")))","v":{"$error":"#N/A"}}]
[null,null,{"$f":"VLOOKUP($B1287,'Ad Week Dates'!$A:$E,4,FALSE)","v":{"$error":"#N/A"}},{"$f":"VLOOKUP($B1287,'Ad Week Dates'!$A:$E,2,FALSE)","v":{"$error":"#N/A"}},{"$f":"VLOOKUP($B1287,'Ad Week Dates'!$A:$E,3,FALSE)","v":{"$error":"#N/A"}},null,null,null,null,null,null,{"$error":"#N/A"}]
[null,null,{"$f":"VLOOKUP($B1288,'Ad Week Dates'!$A:$E,4,FALSE)","v":{"$error":"#N/A"}},{"$f":"VLOOKUP($B1288,'Ad Week Dates'!$A:$E,2,FALSE)","v":{"$error":"#N/A"}},{"$f":"VLOOKUP($B1288,'Ad Week Dates'!$A:$E,3,FALSE)","v":{"$error":"#N/A"}},null,null,null,null,null,null,{"$error":"#N/A"}]
[null,null,{"$f":"VLOOKUP($B1289,'Ad Week Dates'!$A:$E,4,FALSE)","v":{"$error":"#N/A"}},{"$f":"VLOOKUP($B1289,'Ad Week Dates'!$A:$E,2,FALSE)","v":{"$error":"#N/A"}},{"$f":"VLOOKUP($B1289,'Ad Week Dates'!$A:$E,3,FALSE)","v":{"$error":"#N/A"}},null,null,null,null,null,null,{"$error":"#N/A"}]
[null,null,{"$f":"VLOOKUP($B1290,'Ad Week Dates'!$A:$E,4,FALSE)","v":{"$error":"#N/A"}},{"$f":"VLOOKUP($B1290,'Ad Week Dates'!$A:$E,2,FALSE)","v":{"$error":"#N/A"}},{"$f":"VLOOKUP($B1290,'Ad Week Dates'!$A:$E,3,FALSE)","v":{"$error":"#N/A"}},null,null,null,null,null,null,{"$error":"#N/A"}]
[null,null,{"$f":"VLOOKUP($B1291,'Ad Week Dates'!$A:$E,4,FALSE)","v":{"$error":"#N/A"}},{"$f":"VLOOKUP($B1291,'Ad Week Dates'!$A:$E,2,FALSE)","v":{"$error":"#N/A"}},{"$f":"VLOOKUP($B1291,'Ad Week Dates'!$A:$E,3,FALSE)","v":{"$error":"#N/A"}},null,null,null,null,null,null,{"$error":"#N/A"}]
[null,null,{"$f":"VLOOKUP($B1292,'Ad Week Dates'!$A:$E,4,FALSE)","v":{"$error":"#N/A"}},{"$f":"VLOOKUP($B1292,'Ad Week Dates'!$A:$E,2,FALSE)","v":{"$error":"#N/A"}},{"$f":"VLOOKUP($B1292,'Ad Week Dates'!$A:$E,3,FALSE)","v":{"$error":"#N/A"}},null,null,null,null,null,null,{"$error":"#N/A"}]
[null,null,{"$f":"VLOOKUP($B1293,'Ad Week Dates'!$A:$E,4,FALSE)","v":{"$error":"#N/A"}},{"$f":"VLOOKUP($B1293,'Ad Week Dates'!$A:$E,2,FALSE)","v":{"$error":"#N/A"}},{"$f":"VLOOKUP($B1293,'Ad Week Dates'!$A:$E,3,FALSE)","v":{"$error":"#N/A"}},null,null,null,null,null,null,{"$error":"#N/A"}]
[null,null,{"$f":"VLOOKUP($B1294,'Ad Week Dates'!$A:$E,4,FALSE)","v":{"$error":"#N/A"}},{"$f":"VLOOKUP($B1294,'Ad Week Dates'!$A:$E,2,FALSE)","v":{"$error":"#N/A"}},{"$f":"VLOOKUP($B1294,'Ad Week Dates'!$A:$E,3,FALSE)","v":{"$error":"#N/A"}},null,null,null,null,null,null,{"$error":"#N/A"}]
[null,null,{"$f":"VLOOKUP($B1295,'Ad Week Dates'!$A:$E,4,FALSE)","v":{"$error":"#N/A"}},{"$f":"VLOOKUP($B1295,'Ad Week Dates'!$A:$E,2,FALSE)","v":{"$error":"#N/A"}},{"$f":"VLOOKUP($B1295,'Ad Week Dates'!$A:$E,3,FALSE)","v":{"$error":"#N/A"}},null,null,null,null,null,null,{"$error":"#N/A"}]
[null,null,{"$f":"VLOOKUP($B1296,'Ad Week Dates'!$A:$E,4,FALSE)","v":{"$error":"#N/A"}},{"$f":"VLOOKUP($B1296,'Ad Week Dates'!$A:$E,2,FALSE)","v":{"$error":"#N/A"}},{"$f":"VLOOKUP($B1296,'Ad Week Dates'!$A:$E,3,FALSE)","v":{"$error":"#N/A"}},null,null,null,null,null,null,{"$error":"#N/A"}]
[null,null,{"$f":"VLOOKUP($B1297,'Ad Week Dates'!$A:$E,4,FALSE)","v":{"$error":"#N/A"}},{"$f":"VLOOKUP($B1297,'Ad Week Dates'!$A:$E,2,FALSE)","v":{"$error":"#N/A"}},{"$f":"VLOOKUP($B1297,'Ad Week Dates'!$A:$E,3,FALSE)","v":{"$error":"#N/A"}},null,null,null,null,null,null,{"$error":"#N/A"}]
[null,null,{"$f":"VLOOKUP($B1298,'Ad Week Dates'!$A:$E,4,FALSE)","v":{"$error":"#N/A"}},{"$f":"VLOOKUP($B1298,'Ad Week Dates'!$A:$E,2,FALSE)","v":{"$error":"#N/A"}},{"$f":"VLOOKUP($B1298,'Ad Week Dates'!$A:$E,3,FALSE)","v":{"$error":"#N/A"}},null,null,null,null,null,null,{"$error":"#N/A"}]
[null,null,{"$f":"VLOOKUP($B1299,'Ad Week Dates'!$A:$E,4,FALSE)","v":{"$error":"#N/A"}},{"$f":"VLOOKUP($B1299,'Ad Week Dates'!$A:$E,2,FALSE)","v":{"$error":"#N/A"}},{"$f":"VLOOKUP($B1299,'Ad Week Dates'!$A:$E,3,FALSE)","v":{"$error":"#N/A"}},null,null,null,null,null,null,{"$error":"#N/A"}]
[null,null,{"$f":"VLOOKUP($B1300,'Ad Week Dates'!$A:$E,4,FALSE)","v":{"$error":"#N/A"}},{"$f":"VLOOKUP($B1300,'Ad Week Dates'!$A:$E,2,FALSE)","v":{"$error":"#N/A"}},{"$f":"VLOOKUP($B1300,'Ad Week Dates'!$A:$E,3,FALSE)","v":{"$error":"#N/A"}},null,null,null,null,null,null,{"$error":"#N/A"}]
[null,null,{"$f":"VLOOKUP($B1301,'Ad Week Dates'!$A:$E,4,FALSE)","v":{"$error":"#N/A"}},{"$f":"VLOOKUP($B1301,'Ad Week Dates'!$A:$E,2,FALSE)","v":{"$error":"#N/A"}},{"$f":"VLOOKUP($B1301,'Ad Week Dates'!$A:$E,3,FALSE)","v":{"$error":"#N/A"}},null,null,null,null,null,null,{"$error":"#N/A"}]
[null,null,{"$f":"VLOOKUP($B1302,'Ad Week Dates'!$A:$E,4,FALSE)","v":{"$error":"#N/A"}},{"$f":"VLOOKUP($B1302,'Ad Week Dates'!$A:$E,2,FALSE)","v":{"$error":"#N/A"}},{"$f":"VLOOKUP($B1302,'Ad Week Dates'!$A:$E,3,FALSE)","v":{"$error":"#N/A"}},null,null,null,null,null,null,{"$error":"#N/A"}]
[null,null,{"$f":"VLOOKUP($B1303,'Ad Week Dates'!$A:$E,4,FALSE)","v":{"$error":"#N/A"}},{"$f":"VLOOKUP($B1303,'Ad Week Dates'!$A:$E,2,FALSE)","v":{"$error":"#N/A"}},{"$f":"VLOOKUP($B1303,'Ad Week Dates'!$A:$E,3,FALSE)","v":{"$error":"#N/A"}},null,null,null,null,null,null,{"$error":"#N/A"}]
[null,null,{"$f":"VLOOKUP($B1304,'Ad Week Dates'!$A:$E,4,FALSE)","v":{"$error":"#N/A"}},{"$f":"VLOOKUP($B1304,'Ad Week Dates'!$A:$E,2,FALSE)","v":{"$error":"#N/A"}},{"$f":"VLOOKUP($B1304,'Ad Week Dates'!$A:$E,3,FALSE)","v":{"$error":"#N/A"}},null,null,null,null,null,null,{"$error":"#N/A"}]
[null,null,{"$f":"VLOOKUP($B1305,'Ad Week Dates'!$A:$E,4,FALSE)","v":{"$error":"#N/A"}},{"$f":"VLOOKUP($B1305,'Ad Week Dates'!$A:$E,2,FALSE)","v":{"$error":"#N/A"}},{"$f":"VLOOKUP($B1305,'Ad Week Dates'!$A:$E,3,FALSE)","v":{"$error":"#N/A"}},null,null,null,null,null,null,{"$error":"#N/A"}]
[null,null,{"$f":"VLOOKUP($B1306,'Ad Week Dates'!$A:$E,4,FALSE)","v":{"$error":"#N/A"}},{"$f":"VLOOKUP($B1306,'Ad Week Dates'!$A:$E,2,FALSE)","v":{"$error":"#N/A"}},{"$f":"VLOOKUP($B1306,'Ad Week Dates'!$A:$E,3,FALSE)","v":{"$error":"#N/A"}},null,null,null,null,null,null,{"$error":"#N/A"}]
[null,null,{"$f":"VLOOKUP($B1307,'Ad Week Dates'!$A:$E,4,FALSE)","v":{"$error":"#N/A"}},{"$f":"VLOOKUP($B1307,'Ad Week Dates'!$A:$E,2,FALSE)","v":{"$error":"#N/A"}},{"$f":"VLOOKUP($B1307,'Ad Week Dates'!$A:$E,3,FALSE)","v":{"$error":"#N/A"}},null,null,null,null,null,null,{"$error":"#N/A"}]
[null,null,{"$f":"VLOOKUP($B1308,'Ad Week Dates'!$A:$E,4,FALSE)","v":{"$error":"#N/A"}},{"$f":"VLOOKUP($B1308,'Ad Week Dates'!$A:$E,2,FALSE)","v":{"$error":"#N/A"}},{"$f":"VLOOKUP($B1308,'Ad Week Dates'!$A:$E,3,FALSE)","v":{"$error":"#N/A"}},null,null,null,null,null,null,{"$error":"#N/A"}]
[null,null,{"$f":"VLOOKUP($B1309,'Ad Week Dates'!$A:$E,4,FALSE)","v":{"$error":"#N/A"}},{"$f":"VLOOKUP($B1309,'Ad Week Dates'!$A:$E,2,FALSE)","v":{"$error":"#N/A"}},{"$f":"VLOOKUP($B1309,'Ad Week Dates'!$A:$E,3,FALSE)","v":{"$error":"#N/A"}},null,null,null,null,null,null,{"$error":"#N/A"}]
[null,null,{"$f":"VLOOKUP($B1310,'Ad Week Dates'!$A:$E,4,FALSE)","v":{"$error":"#N/A"}},{"$f":"VLOOKUP($B1310,'Ad Week Dates'!$A:$E,2,FALSE)","v":{"$error":"#N/A"}},{"$f":"VLOOKUP($B1310,'Ad Week Dates'!$A:$E,3,FALSE)","v":{"$error":"#N/A"}},null,null,null,null,null,null,{"$error":"#N/A"}]
[null,null,{"$f":"VLOOKUP($B1311,'Ad Week Dates'!$A:$E,4,FALSE)","v":{"$error":"#N/A"}},{"$f":"VLOOKUP($B1311,'Ad Week Dates'!$A:$E,2,FALSE)","v":{"$error":"#N/A"}},{"$f":"VLOOKUP($B1311,'Ad Week Dates'!$A:$E,3,FALSE)","v":{"$error":"#N/A"}},null,null,null,null,null,null,{"$error":"#N/A"}]
[null,null,{"$f":"VLOOKUP($B1312,'Ad Week Dates'!$A:$E,4,FALSE)","v":{"$error":"#N/A"}},{"$f":"VLOOKUP($B1312,'Ad Week Dates'!$A:$E,2,FALSE)","v":{"$error":"#N/A"}},{"$f":"VLOOKUP($B1312,'Ad Week Dates'!$A:$E,3,FALSE)","v":{"$error":"#N/A"}},null,null,null,null,null,null,{"$error":"#N/A"}]
[null,null,{"$f":"VLOOKUP($B1313,'Ad Week Dates'!$A:$E,4,FALSE)","v":{"$error":"#N/A"}},{"$f":"VLOOKUP($B1313,'Ad Week Dates'!$A:$E,2,FALSE)","v":{"$error":"#N/A"}},{"$f":"VLOOKUP($B1313,'Ad Week Dates'!$A:$E,3,FALSE)","v":{"$error":"#N/A"}},null,null,null,null,null,null,{"$error":"#N/A"}]
[null,null,{"$f":"VLOOKUP($B1314,'Ad Week Dates'!$A:$E,4,FALSE)","v":{"$error":"#N/A"}},{"$f":"VLOOKUP($B1314,'Ad Week Dates'!$A:$E,2,FALSE)","v":{"$error":"#N/A"}},{"$f":"VLOOKUP($B1314,'Ad Week Dates'!$A:$E,3,FALSE)","v":{"$error":"#N/A"}},null,null,null,null,null,null,{"$error":"#N/A"}]
[null,null,{"$f":"VLOOKUP($B1315,'Ad Week Dates'!$A:$E,4,FALSE)","v":{"$error":"#N/A"}},{"$f":"VLOOKUP($B1315,'Ad Week Dates'!$A:$E,2,FALSE)","v":{"$error":"#N/A"}},{"$f":"VLOOKUP($B1315,'Ad Week Dates'!$A:$E,3,FALSE)","v":{"$error":"#N/A"}},null,null,null,null,null,null,{"$error":"#N/A"}]
[null,null,{"$f":"VLOOKUP($B1316,'Ad Week Dates'!$A:$E,4,FALSE)","v":{"$error":"#N/A"}},{"$f":"VLOOKUP($B1316,'Ad Week Dates'!$A:$E,2,FALSE)","v":{"$error":"#N/A"}},{"$f":"VLOOKUP($B1316,'Ad Week Dates'!$A:$E,3,FALSE)","v":{"$error":"#N/A"}},null,null,null,null,null,null,{"$error":"#N/A"}]
[null,null,{"$f":"VLOOKUP($B1317,'Ad Week Dates'!$A:$E,4,FALSE)","v":{"$error":"#N/A"}},{"$f":"VLOOKUP($B1317,'Ad Week Dates'!$A:$E,2,FALSE)","v":{"$error":"#N/A"}},{"$f":"VLOOKUP($B1317,'Ad Week Dates'!$A:$E,3,FALSE)","v":{"$error":"#N/A"}},null,null,null,null,null,null,{"$error":"#N/A"}]
[null,null,{"$f":"VLOOKUP($B1318,'Ad Week Dates'!$A:$E,4,FALSE)","v":{"$error":"#N/A"}},{"$f":"VLOOKUP($B1318,'Ad Week Dates'!$A:$E,2,FALSE)","v":{"$error":"#N/A"}},{"$f":"VLOOKUP($B1318,'Ad Week Dates'!$A:$E,3,FALSE)","v":{"$error":"#N/A"}},null,null,null,null,null,null,{"$error":"#N/A"}]
[null,null,{"$f":"VLOOKUP($B1319,'Ad Week Dates'!$A:$E,4,FALSE)","v":{"$error":"#N/A"}},{"$f":"VLOOKUP($B1319,'Ad Week Dates'!$A:$E,2,FALSE)","v":{"$error":"#N/A"}},{"$f":"VLOOKUP($B1319,'Ad Week Dates'!$A:$E,3,FALSE)","v":{"$error":"#N/A"}},null,null,null,null,null,null,{"$error":"#N/A"}]
[null,null,{"$f":"VLOOKUP($B1320,'Ad Week Dates'!$A:$E,4,FALSE)","v":{"$error":"#N/A"}},{"$f":"VLOOKUP($B1320,'Ad Week Dates'!$A:$E,2,FALSE)","v":{"$error":"#N/A"}},{"$f":"VLOOKUP($B1320,'Ad Week Dates'!$A:$E,3,FALSE)","v":{"$error":"#N/A"}},null,null,null,null,null,null,{"$error":"#N/A"}]
[null,null,{"$f":"VLOOKUP($B1321,'Ad Week Dates'!$A:$E,4,FALSE)","v":{"$error":"#N/A"}},{"$f":"VLOOKUP($B1321,'Ad Week Dates'!$A:$E,2,FALSE)","v":{"$error":"#N/A"}},{"$f":"VLOOKUP($B1321,'Ad Week Dates'!$A:$E,3,FALSE)","v":{"$error":"#N/A"}},null,null,null,null,null,null,{"$error":"#N/A"}]
[null,null,{"$f":"VLOOKUP($B1322,'Ad Week Dates'!$A:$E,4,FALSE)","v":{"$error":"#N/A"}},{"$f":"VLOOKUP($B1322,'Ad Week Dates'!$A:$E,2,FALSE)","v":{"$error":"#N/A"}},{"$f":"VLOOKUP($B1322,'Ad Week Dates'!$A:$E,3,FALSE)","v":{"$error":"#N/A"}},null,null,null,null,null,null,{"$error":"#N/A"}]
[null,null,{"$f":"VLOOKUP($B1323,'Ad Week Dates'!$A:$E,4,FALSE)","v":{"$error":"#N/A"}},{"$f":"VLOOKUP($B1323,'Ad Week Dates'!$A:$E,2,FALSE)","v":{"$error":"#N/A"}},{"$f":"VLOOKUP($B1323,'Ad Week Dates'!$A:$E,3,FALSE)","v":{"$error":"#N/A"}},null,null,null,null,null,null,{"$error":"#N/A"}]
[null,null,{"$f":"VLOOKUP($B1324,'Ad Week Dates'!$A:$E,4,FALSE)","v":{"$error":"#N/A"}},{"$f":"VLOOKUP($B1324,'Ad Week Dates'!$A:$E,2,FALSE)","v":{"$error":"#N/A"}},{"$f":"VLOOKUP($B1324,'Ad Week Dates'!$A:$E,3,FALSE)","v":{"$error":"#N/A"}},null,null,null,null,null,null,{"$error":"#N/A"}]
[null,null,{"$f":"VLOOKUP($B1325,'Ad Week Dates'!$A:$E,4,FALSE)","v":{"$error":"#N/A"}},{"$f":"VLOOKUP($B1325,'Ad Week Dates'!$A:$E,2,FALSE)","v":{"$error":"#N/A"}},{"$f":"VLOOKUP($B1325,'Ad Week Dates'!$A:$E,3,FALSE)","v":{"$error":"#N/A"}},null,null,null,null,null,null,{"$error":"#N/A"}]
[null,null,{"$f":"VLOOKUP($B1326,'Ad Week Dates'!$A:$E,4,FALSE)","v":{"$error":"#N/A"}},{"$f":"VLOOKUP($B1326,'Ad Week Dates'!$A:$E,2,FALSE)","v":{"$error":"#N/A"}},{"$f":"VLOOKUP($B1326,'Ad Week Dates'!$A:$E,3,FALSE)","v":{"$error":"#N/A"}},null,null,null,null,null,null,{"$error":"#N/A"}]
[null,null,{"$f":"VLOOKUP($B1327,'Ad Week Dates'!$A:$E,4,FALSE)","v":{"$error":"#N/A"}},{"$f":"VLOOKUP($B1327,'Ad Week Dates'!$A:$E,2,FALSE)","v":{"$error":"#N/A"}},{"$f":"VLOOKUP($B1327,'Ad Week Dates'!$A:$E,3,FALSE)","v":{"$error":"#N/A"}},null,null,null,null,null,null,{"$error":"#N/A"}]
[null,null,{"$f":"VLOOKUP($B1328,'Ad Week Dates'!$A:$E,4,FALSE)","v":{"$error":"#N/A"}},{"$f":"VLOOKUP($B1328,'Ad Week Dates'!$A:$E,2,FALSE)","v":{"$error":"#N/A"}},{"$f":"VLOOKUP($B1328,'Ad Week Dates'!$A:$E,3,FALSE)","v":{"$error":"#N/A"}},null,null,null,null,null,null,{"$error":"#N/A"}]
[null,null,{"$f":"VLOOKUP($B1329,'Ad Week Dates'!$A:$E,4,FALSE)","v":{"$error":"#N/A"}},{"$f":"VLOOKUP($B1329,'Ad Week Dates'!$A:$E,2,FALSE)","v":{"$error":"#N/A"}},{"$f":"VLOOKUP($B1329,'Ad Week Dates'!$A:$E,3,FALSE)","v":{"$error":"#N/A"}},null,null,null,null,null,null,{"$error":"#N/A"}]
[null,null,{"$f":"VLOOKUP($B1330,'Ad Week Dates'!$A:$E,4,FALSE)","v":{"$error":"#N/A"}},{"$f":"VLOOKUP($B1330,'Ad Week Dates'!$A:$E,2,FALSE)","v":{"$error":"#N/A"}},{"$f":"VLOOKUP($B1330,'Ad Week Dates'!$A:$E,3,FALSE)","v":{"$error":"#N/A"}},null,null,null,null,null,null,{"$error":"#N/A"}]
[null,null,{"$f":"VLOOKUP($B1331,'Ad Week Dates'!$A:$E,4,FALSE)","v":{"$error":"#N/A"}},{"$f":"VLOOKUP($B1331,'Ad Week Dates'!$A:$E,2,FALSE)","v":{"$error":"#N/A"}},{"$f":"VLOOKUP($B1331,'Ad Week Dates'!$A:$E,3,FALSE)","v":{"$error":"#N/A"}},null,null,null,null,null,null,{"$error":"#N/A"}]
[null,null,{"$f":"VLOOKUP($B1332,'Ad Week Dates'!$A:$E,4,FALSE)","v":{"$error":"#N/A"}},{"$f":"VLOOKUP($B1332,'Ad Week Dates'!$A:$E,2,FALSE)","v":{"$error":"#N/A"}},{"$f":"VLOOKUP($B1332,'Ad Week Dates'!$A:$E,3,FALSE)","v":{"$error":"#N/A"}},null,null,null,null,null,null,{"$error":"#N/A"}]
[null,null,{"$f":"VLOOKUP($B1333,'Ad Week Dates'!$A:$E,4,FALSE)","v":{"$error":"#N/A"}},{"$f":"VLOOKUP($B1333,'Ad Week Dates'!$A:$E,2,FALSE)","v":{"$error":"#N/A"}},{"$f":"VLOOKUP($B1333,'Ad Week Dates'!$A:$E,3,FALSE)","v":{"$error":"#N/A"}},null,null,null,null,null,null,{"$error":"#N/A"}]
[null,null,{"$f":"VLOOKUP($B1334,'Ad Week Dates'!$A:$E,4,FALSE)","v":{"$error":"#N/A"}},{"$f":"VLOOKUP($B1334,'Ad Week Dates'!$A:$E,2,FALSE)","v":{"$error":"#N/A"}},{"$f":"VLOOKUP($B1334,'Ad Week Dates'!$A:$E,3,FALSE)","v":{"$error":"#N/A"}},null,null,null,null,null,null,{"$error":"#N/A"}]
[null,null,{"$f":"VLOOKUP($B1335,'Ad Week Dates'!$A:$E,4,FALSE)","v":{"$error":"#N/A"}},{"$f":"VLOOKUP($B1335,'Ad Week Dates'!$A:$E,2,FALSE)","v":{"$error":"#N/A"}},{"$f":"VLOOKUP($B1335,'Ad Week Dates'!$A:$E,3,FALSE)","v":{"$error":"#N/A"}},null,null,null,null,null,null,{"$error":"#N/A"}]
[null,null,{"$f":"VLOOKUP($B1336,'Ad Week Dates'!$A:$E,4,FALSE)","v":{"$error":"#N/A"}},{"$f":"VLOOKUP($B1336,'Ad Week Dates'!$A:$E,2,FALSE)","v":{"$error":"#N/A"}},{"$f":"VLOOKUP($B1336,'Ad Week Dates'!$A:$E,3,FALSE)","v":{"$error":"#N/A"}},null,null,null,null,null,null,{"$error":"#N/A"}]
[null,null,{"$f":"VLOOKUP($B1337,'Ad Week Dates'!$A:$E,4,FALSE)","v":{"$error":"#N/A"}},{"$f":"VLOOKUP($B1337,'Ad Week Dates'!$A:$E,2,FALSE)","v":{"$error":"#N/A"}},{"$f":"VLOOKUP($B1337,'Ad Week Dates'!$A:$E,3,FALSE)","v":{"$error":"#N/A"}},null,null,null,null,null,null,{"$error":"#N/A"}]
[null,null,{"$f":"VLOOKUP($B1338,'Ad Week Dates'!$A:$E,4,FALSE)","v":{"$error":"#N/A"}},{"$f":"VLOOKUP($B1338,'Ad Week Dates'!$A:$E,2,FALSE)","v":{"$error":"#N/A"}},{"$f":"VLOOKUP($B1338,'Ad Week Dates'!$A:$E,3,FALSE)","v":{"$error":"#N/A"}},null,null,null,null,null,null,{"$error":"#N/A"}]
[null,null,{"$f":"VLOOKUP($B1339,'Ad Week Dates'!$A:$E,4,FALSE)","v":{"$error":"#N/A"}},{"$f":"VLOOKUP($B1339,'Ad Week Dates'!$A:$E,2,FALSE)","v":{"$error":"#N/A"}},{"$f":"VLOOKUP($B1339,'Ad Week Dates'!$A:$E,3,FALSE)","v":{"$error":"#N/A"}},null,null,null,null,null,null,{"$error":"#N/A"}]
[null,null,{"$f":"VLOOKUP($B1340,'Ad Week Dates'!$A:$E,4,FALSE)","v":{"$error":"#N/A"}},{"$f":"VLOOKUP($B1340,'Ad Week Dates'!$A:$E,2,FALSE)","v":{"$error":"#N/A"}},{"$f":"VLOOKUP($B1340,'Ad Week Dates'!$A:$E,3,FALSE)","v":{"$error":"#N/A"}},null,null,null,null,null,null,{"$error":"#N/A"}]
[null,null,{"$f":"VLOOKUP($B1341,'Ad Week Dates'!$A:$E,4,FALSE)","v":{"$error":"#N/A"}},{"$f":"VLOOKUP($B1341,'Ad Week Dates'!$A:$E,2,FALSE)","v":{"$error":"#N/A"}},{"$f":"VLOOKUP($B1341,'Ad Week Dates'!$A:$E,3,FALSE)","v":{"$error":"#N/A"}},null,null,null,null,null,null,{"$error":"#N/A"}]
[null,null,{"$f":"VLOOKUP($B1342,'Ad Week Dates'!$A:$E,4,FALSE)","v":{"$error":"#N/A"}},{"$f":"VLOOKUP($B1342,'Ad Week Dates'!$A:$E,2,FALSE)","v":{"$error":"#N/A"}},{"$f":"VLOOKUP($B1342,'Ad Week Dates'!$A:$E,3,FALSE)","v":{"$error":"#N/A"}},null,null,null,null,null,null,{"$error":"#N/A"}]
[null,null,{"$f":"VLOOKUP($B1343,'Ad Week Dates'!$A:$E,4,FALSE)","v":{"$error":"#N/A"}},{"$f":"VLOOKUP($B1343,'Ad Week Dates'!$A:$E,2,FALSE)","v":{"$error":"#N/A"}},{"$f":"VLOOKUP($B1343,'Ad Week Dates'!$A:$E,3,FALSE)","v":{"$error":"#N/A"}},null,null,null,null,null,null,{"$error":"#N/A"}]
[null,null,{"$f":"VLOOKUP($B1344,'Ad Week Dates'!$A:$E,4,FALSE)","v":{"$error":"#N/A"}},{"$f":"VLOOKUP($B1344,'Ad Week Dates'!$A:$E,2,FALSE)","v":{"$error":"#N/A"}},{"$f":"VLOOKUP($B1344,'Ad Week Dates'!$A:$E,3,FALSE)","v":{"$error":"#N/A"}},null,null,null,null,null,null,{"$error":"#N/A"}]
[null,null,{"$f":"VLOOKUP($B1345,'Ad Week Dates'!$A:$E,4,FALSE)","v":{"$error":"#N/A"}},{"$f":"VLOOKUP($B1345,'Ad Week Dates'!$A:$E,2,FALSE)","v":{"$error":"#N/A"}},{"$f":"VLOOKUP($B1345,'Ad Week Dates'!$A:$E,3,FALSE)","v":{"$error":"#N/A"}},null,null,null,null,null,null,{"$error":"#N/A"}]
[null,null,{"$f":"VLOOKUP($B1346,'Ad Week Dates'!$A:$E,4,FALSE)","v":{"$error":"#N/A"}},{"$f":"VLOOKUP($B1346,'Ad Week Dates'!$A:$E,2,FALSE)","v":{"$error":"#N/A"}},{"$f":"VLOOKUP($B1346,'Ad Week Dates'!$A:$E,3,FALSE)","v":{"$error":"#N/A"}},null,null,null,null,null,null,{"$error":"#N/A"}]
[null,null,{"$f":"VLOOKUP($B1347,'Ad Week Dates'!$A:$E,4,FALSE)","v":{"$error":"#N/A"}},{"$f":"VLOOKUP($B1347,'Ad Week Dates'!$A:$E,2,FALSE)","v":{"$error":"#N/A"}},{"$f":"VLOOKUP($B1347,'Ad Week Dates'!$A:$E,3,FALSE)","v":{"$error":"#N/A"}},null,null,null,null,null,null,{"$error":"#N/A"}]
[null,null,{"$f":"VLOOKUP($B1348,'Ad Week Dates'!$A:$E,4,FALSE)","v":{"$error":"#N/A"}},{"$f":"VLOOKUP($B1348,'Ad Week Dates'!$A:$E,2,FALSE)","v":{"$error":"#N/A"}},{"$f":"VLOOKUP($B1348,'Ad Week Dates'!$A:$E,3,FALSE)","v":{"$error":"#N/A"}},null,null,null,null,null,null,{"$error":"#N/A"}]
[null,null,{"$f":"VLOOKUP($B1349,'Ad Week Dates'!$A:$E,4,FALSE)","v":{"$error":"#N/A"}},{"$f":"VLOOKUP($B1349,'Ad Week Dates'!$A:$E,2,FALSE)","v":{"$error":"#N/A"}},{"$f":"VLOOKUP($B1349,'Ad Week Dates'!$A:$E,3,FALSE)","v":{"$error":"#N/A"}},null,null,null,null,null,null,{"$error":"#N/A"}]
[null,null,{"$f":"VLOOKUP($B1350,'Ad Week Dates'!$A:$E,4,FALSE)","v":{"$error":"#N/A"}},{"$f":"VLOOKUP($B1350,'Ad Week Dates'!$A:$E,2,FALSE)","v":{"$error":"#N/A"}},{"$f":"VLOOKUP($B1350,'Ad Week Dates'!$A:$E,3,FALSE)","v":{"$error":"#N/A"}},null,null,null,null,null,null,{"$f":"IF(ISNUMBER(J1350), J1350 - K1350, VALUE(_xlfn.TEXTBEFORE(J1350, \"-\")) - VALUE(_xlfn.TEXTBEFORE(K1350, \"-\")))","v":{"$error":"#N/A"}}]
[null,null,{"$f":"VLOOKUP($B1351,'Ad Week Dates'!$A:$E,4,FALSE)","v":{"$error":"#N/A"}},{"$f":"VLOOKUP($B1351,'Ad Week Dates'!$A:$E,2,FALSE)","v":{"$error":"#N/A"}},{"$f":"VLOOKUP($B1351,'Ad Week Dates'!$A:$E,3,FALSE)","v":{"$error":"#N/A"}},null,null,null,null,null,null,{"$error":"#N/A"}]
[null,null,{"$f":"VLOOKUP($B1352,'Ad Week Dates'!$A:$E,4,FALSE)","v":{"$error":"#N/A"}},{"$f":"VLOOKUP($B1352,'Ad Week Dates'!$A:$E,2,FALSE)","v":{"$error":"#N/A"}},{"$f":"VLOOKUP($B1352,'Ad Week Dates'!$A:$E,3,FALSE)","v":{"$error":"#N/A"}},null,null,null,null,null,null,{"$error":"#N/A"}]
[null,null,{"$f":"VLOOKUP($B1353,'Ad Week Dates'!$A:$E,4,FALSE)","v":{"$error":"#N/A"}},{"$f":"VLOOKUP($B1353,'Ad Week Dates'!$A:$E,2,FALSE)","v":{"$error":"#N/A"}},{"$f":"VLOOKUP($B1353,'Ad Week Dates'!$A:$E,3,FALSE)","v":{"$error":"#N/A"}},null,null,null,null,null,null,{"$error":"#N/A"}]
[null,null,{"$f":"VLOOKUP($B1354,'Ad Week Dates'!$A:$E,4,FALSE)","v":{"$error":"#N/A"}},{"$f":"VLOOKUP($B1354,'Ad Week Dates'!$A:$E,2,FALSE)","v":{"$error":"#N/A"}},{"$f":"VLOOKUP($B1354,'Ad Week Dates'!$A:$E,3,FALSE)","v":{"$error":"#N/A"}},null,null,null,null,null,null,{"$error":"#N/A"}]
[null,null,{"$f":"VLOOKUP($B1355,'Ad Week Dates'!$A:$E,4,FALSE)","v":{"$error":"#N/A"}},{"$f":"VLOOKUP($B1355,'Ad Week Dates'!$A:$E,2,FALSE)","v":{"$error":"#N/A"}},{"$f":"VLOOKUP($B1355,'Ad Week Dates'!$A:$E,3,FALSE)","v":{"$error":"#N/A"}},null,null,null,null,null,null,{"$error":"#N/A"}]
[null,null,{"$f":"VLOOKUP($B1356,'Ad Week Dates'!$A:$E,4,FALSE)","v":{"$error":"#N/A"}},{"$f":"VLOOKUP($B1356,'Ad Week Dates'!$A:$E,2,FALSE)","v":{"$error":"#N/A"}},{"$f":"VLOOKUP($B1356,'Ad Week Dates'!$A:$E,3,FALSE)","v":{"$error":"#N/A"}},null,null,null,null,null,null,{"$error":"#N/A"}]
[null,null,{"$f":"VLOOKUP($B1357,'Ad Week Dates'!$A:$E,4,FALSE)","v":{"$error":"#N/A"}},{"$f":"VLOOKUP($B1357,'Ad Week Dates'!$A:$E,2,FALSE)","v":{"$error":"#N/A"}},{"$f":"VLOOKUP($B1357,'Ad Week Dates'!$A:$E,3,FALSE)","v":{"$error":"#N/A"}},null,null,null,null,null,null,{"$error":"#N/A"}]
[null,null,{"$f":"VLOOKUP($B1358,'Ad Week Dates'!$A:$E,4,FALSE)","v":{"$error":"#N/A"}},{"$f":"VLOOKUP($B1358,'Ad Week Dates'!$A:$E,2,FALSE)","v":{"$error":"#N/A"}},{"$f":"VLOOKUP($B1358,'Ad Week Dates'!$A:$E,3,FALSE)","v":{"$error":"#N/A"}},null,null,null,null,null,null,{"$error":"#N/A"}]
[null,null,{"$f":"VLOOKUP($B1359,'Ad Week Dates'!$A:$E,4,FALSE)","v":{"$error":"#N/A"}},{"$f":"VLOOKUP($B1359,'Ad Week Dates'!$A:$E,2,FALSE)","v":{"$error":"#N/A"}},{"$f":"VLOOKUP($B1359,'Ad Week Dates'!$A:$E,3,FALSE)","v":{"$error":"#N/A"}},null,null,null,null,null,null,{"$error":"#N/A"}]
[null,null,{"$f":"VLOOKUP($B1360,'Ad Week Dates'!$A:$E,4,FALSE)","v":{"$error":"#N/A"}},{"$f":"VLOOKUP($B1360,'Ad Week Dates'!$A:$E,2,FALSE)","v":{"$error":"#N/A"}},{"$f":"VLOOKUP($B1360,'Ad Week Dates'!$A:$E,3,FALSE)","v":{"$error":"#N/A"}},null,null,null,null,null,null,{"$error":"#N/A"}]
[null,null,{"$f":"VLOOKUP($B1361,'Ad Week Dates'!$A:$E,4,FALSE)","v":{"$error":"#N/A"}},{"$f":"VLOOKUP($B1361,'Ad Week Dates'!$A:$E,2,FALSE)","v":{"$error":"#N/A"}},{"$f":"VLOOKUP($B1361,'Ad Week Dates'!$A:$E,3,FALSE)","v":{"$error":"#N/A"}},null,null,null,null,null,null,{"$error":"#N/A"}]
[null,null,{"$f":"VLOOKUP($B1362,'Ad Week Dates'!$A:$E,4,FALSE)","v":{"$error":"#N/A"}},{"$f":"VLOOKUP($B1362,'Ad Week Dates'!$A:$E,2,FALSE)","v":{"$error":"#N/A"}},{"$f":"VLOOKUP($B1362,'Ad Week Dates'!$A:$E,3,FALSE)","v":{"$error":"#N/A"}},null,null,null,null,null,null,{"$error":"#N/A"}]
[null,null,{"$f":"VLOOKUP($B1363,'Ad Week Dates'!$A:$E,4,FALSE)","v":{"$error":"#N/A"}},{"$f":"VLOOKUP($B1363,'Ad Week Dates'!$A:$E,2,FALSE)","v":{"$error":"#N/A"}},{"$f":"VLOOKUP($B1363,'Ad Week Dates'!$A:$E,3,FALSE)","v":{"$error":"#N/A"}},null,null,null,null,null,null,{"$error":"#N/A"}]
[null,null,{"$f":"VLOOKUP($B1364,'Ad Week Dates'!$A:$E,4,FALSE)","v":{"$error":"#N/A"}},{"$f":"VLOOKUP($B1364,'Ad Week Dates'!$A:$E,2,FALSE)","v":{"$error":"#N/A"}},{"$f":"VLOOKUP($B1364,'Ad Week Dates'!$A:$E,3,FALSE)","v":{"$error":"#N/A"}},null,null,null,null,null,null,{"$error":"#N/A"}]
[null,null,{"$f":"VLOOKUP($B1365,'Ad Week Dates'!$A:$E,4,FALSE)","v":{"$error":"#N/A"}},{"$f":"VLOOKUP($B1365,'Ad Week Dates'!$A:$E,2,FALSE)","v":{"$error":"#N/A"}},{"$f":"VLOOKUP($B1365,'Ad Week Dates'!$A:$E,3,FALSE)","v":{"$error":"#N/A"}},null,null,null,null,null,null,{"$error":"#N/A"}]
[null,null,{"$f":"VLOOKUP($B1366,'Ad Week Dates'!$A:$E,4,FALSE)","v":{"$error":"#N/A"}},{"$f":"VLOOKUP($B1366,'Ad Week Dates'!$A:$E,2,FALSE)","v":{"$error":"#N/A"}},{"$f":"VLOOKUP($B1366,'Ad Week Dates'!$A:$E,3,FALSE)","v":{"$error":"#N/A"}},null,null,null,null,null,null,{"$error":"#N/A"}]
[null,null,{"$f":"VLOOKUP($B1367,'Ad Week Dates'!$A:$E,4,FALSE)","v":{"$error":"#N/A"}},{"$f":"VLOOKUP($B1367,'Ad Week Dates'!$A:$E,2,FALSE)","v":{"$error":"#N/A"}},{"$f":"VLOOKUP($B1367,'Ad Week Dates'!$A:$E,3,FALSE)","v":{"$error":"#N/A"}},null,null,null,null,null,null,{"$error":"#N/A"}]
[null,null,{"$f":"VLOOKUP($B1368,'Ad Week Dates'!$A:$E,4,FALSE)","v":{"$error":"#N/A"}},{"$f":"VLOOKUP($B1368,'Ad Week Dates'!$A:$E,2,FALSE)","v":{"$error":"#N/A"}},{"$f":"VLOOKUP($B1368,'Ad Week Dates'!$A:$E,3,FALSE)","v":{"$error":"#N/A"}},null,null,null,null,null,null,{"$error":"#N/A"}]
[null,null,{"$f":"VLOOKUP($B1369,'Ad Week Dates'!$A:$E,4,FALSE)","v":{"$error":"#N/A"}},{"$f":"VLOOKUP($B1369,'Ad Week Dates'!$A:$E,2,FALSE)","v":{"$error":"#N/A"}},{"$f":"VLOOKUP($B1369,'Ad Week Dates'!$A:$E,3,FALSE)","v":{"$error":"#N/A"}},null,null,null,null,null,null,{"$error":"#N/A"}]
[null,null,{"$f":"VLOOKUP($B1370,'Ad Week Dates'!$A:$E,4,FALSE)","v":{"$error":"#N/A"}},{"$f":"VLOOKUP($B1370,'Ad Week Dates'!$A:$E,2,FALSE)","v":{"$error":"#N/A"}},{"$f":"VLOOKUP($B1370,'Ad Week Dates'!$A:$E,3,FALSE)","v":{"$error":"#N/A"}},null,null,null,null,null,null,{"$error":"#N/A"}]
[null,null,{"$f":"VLOOKUP($B1371,'Ad Week Dates'!$A:$E,4,FALSE)","v":{"$error":"#N/A"}},{"$f":"VLOOKUP($B1371,'Ad Week Dates'!$A:$E,2,FALSE)","v":{"$error":"#N/A"}},{"$f":"VLOOKUP($B1371,'Ad Week Dates'!$A:$E,3,FALSE)","v":{"$error":"#N/A"}},null,null,null,null,null,null,{"$error":"#N/A"}]
[null,null,{"$f":"VLOOKUP($B1372,'Ad Week Dates'!$A:$E,4,FALSE)","v":{"$error":"#N/A"}},{"$f":"VLOOKUP($B1372,'Ad Week Dates'!$A:$E,2,FALSE)","v":{"$error":"#N/A"}},{"$f":"VLOOKUP($B1372,'Ad Week Dates'!$A:$E,3,FALSE)","v":{"$error":"#N/A"}},null,null,null,null,null,null,{"$error":"#N/A"}]
[null,null,{"$f":"VLOOKUP($B1373,'Ad Week Dates'!$A:$E,4,FALSE)","v":{"$error":"#N/A"}},{"$f":"VLOOKUP($B1373,'Ad Week Dates'!$A:$E,2,FALSE)","v":{"$error":"#N/A"}},{"$f":"VLOOKUP($B1373,'Ad Week Dates'!$A:$E,3,FALSE)","v":{"$error":"#N/A"}},null,null,null,null,null,null,{"$error":"#N/A"}]
[null,null,{"$f":"VLOOKUP($B1374,'Ad Week Dates'!$A:$E,4,FALSE)","v":{"$error":"#N/A"}},{"$f":"VLOOKUP($B1374,'Ad Week Dates'!$A:$E,2,FALSE)","v":{"$error":"#N/A"}},{"$f":"VLOOKUP($B1374,'Ad Week Dates'!$A:$E,3,FALSE)","v":{"$error":"#N/A"}},null,null,null,null,null,null,{"$error":"#N/A"}]
[null,null,{"$f":"VLOOKUP($B1375,'Ad Week Dates'!$A:$E,4,FALSE)","v":{"$error":"#N/A"}},{"$f":"VLOOKUP($B1375,'Ad Week Dates'!$A:$E,2,FALSE)","v":{"$error":"#N/A"}},{"$f":"VLOOKUP($B1375,'Ad Week Dates'!$A:$E,3,FALSE)","v":{"$error":"#N/A"}},null,null,null,null,null,null,{"$error":"#N/A"}]
[null,null,{"$f":"VLOOKUP($B1376,'Ad Week Dates'!$A:$E,4,FALSE)","v":{"$error":"#N/A"}},{"$f":"VLOOKUP($B1376,'Ad Week Dates'!$A:$E,2,FALSE)","v":{"$error":"#N/A"}},{"$f":"VLOOKUP($B1376,'Ad Week Dates'!$A:$E,3,FALSE)","v":{"$error":"#N/A"}},null,null,null,null,null,null,{"$error":"#N/A"}]
[null,null,{"$f":"VLOOKUP($B1377,'Ad Week Dates'!$A:$E,4,FALSE)","v":{"$error":"#N/A"}},{"$f":"VLOOKUP($B1377,'Ad Week Dates'!$A:$E,2,FALSE)","v":{"$error":"#N/A"}},{"$f":"VLOOKUP($B1377,'Ad Week Dates'!$A:$E,3,FALSE)","v":{"$error":"#N/A"}},null,null,null,null,null,null,{"$error":"#N/A"}]
[null,null,{"$f":"VLOOKUP($B1378,'Ad Week Dates'!$A:$E,4,FALSE)","v":{"$error":"#N/A"}},{"$f":"VLOOKUP($B1378,'Ad Week Dates'!$A:$E,2,FALSE)","v":{"$error":"#N/A"}},{"$f":"VLOOKUP($B1378,'Ad Week Dates'!$A:$E,3,FALSE)","v":{"$error":"#N/A"}},null,null,null,null,null,null,{"$error":"#N/A"}]
[null,null,{"$f":"VLOOKUP($B1379,'Ad Week Dates'!$A:$E,4,FALSE)","v":{"$error":"#N/A"}},{"$f":"VLOOKUP($B1379,'Ad Week Dates'!$A:$E,2,FALSE)","v":{"$error":"#N/A"}},{"$f":"VLOOKUP($B1379,'Ad Week Dates'!$A:$E,3,FALSE)","v":{"$error":"#N/A"}},null,null,null,null,null,null,{"$error":"#N/A"}]
[null,null,{"$f":"VLOOKUP($B1380,'Ad Week Dates'!$A:$E,4,FALSE)","v":{"$error":"#N/A"}},{"$f":"VLOOKUP($B1380,'Ad Week Dates'!$A:$E,2,FALSE)","v":{"$error":"#N/A"}},{"$f":"VLOOKUP($B1380,'Ad Week Dates'!$A:$E,3,FALSE)","v":{"$error":"#N/A"}},null,null,null,null,null,null,{"$error":"#N/A"}]
[null,null,{"$f":"VLOOKUP($B1381,'Ad Week Dates'!$A:$E,4,FALSE)","v":{"$error":"#N/A"}},{"$f":"VLOOKUP($B1381,'Ad Week Dates'!$A:$E,2,FALSE)","v":{"$error":"#N/A"}},{"$f":"VLOOKUP($B1381,'Ad Week Dates'!$A:$E,3,FALSE)","v":{"$error":"#N/A"}},null,null,null,null,null,null,{"$error":"#N/A"}]
[null,null,{"$f":"VLOOKUP($B1382,'Ad Week Dates'!$A:$E,4,FALSE)","v":{"$error":"#N/A"}},{"$f":"VLOOKUP($B1382,'Ad Week Dates'!$A:$E,2,FALSE)","v":{"$error":"#N/A"}},{"$f":"VLOOKUP($B1382,'Ad Week Dates'!$A:$E,3,FALSE)","v":{"$error":"#N/A"}},null,null,null,null,null,null,{"$error":"#N/A"}]
[null,null,{"$f":"VLOOKUP($B1383,'Ad Week Dates'!$A:$E,4,FALSE)","v":{"$error":"#N/A"}},{"$f":"VLOOKUP($B1383,'Ad Week Dates'!$A:$E,2,FALSE)","v":{"$error":"#N/A"}},{"$f":"VLOOKUP($B1383,'Ad Week Dates'!$A:$E,3,FALSE)","v":{"$error":"#N/A"}},null,null,null,null,null,null,{"$error":"#N/A"}]
[null,null,{"$f":"VLOOKUP($B1384,'Ad Week Dates'!$A:$E,4,FALSE)","v":{"$error":"#N/A"}},{"$f":"VLOOKUP($B1384,'Ad Week Dates'!$A:$E,2,FALSE)","v":{"$error":"#N/A"}},{"$f":"VLOOKUP($B1384,'Ad Week Dates'!$A:$E,3,FALSE)","v":{"$error":"#N/A"}},null,null,null,null,null,null,{"$error":"#N/A"}]
[null,null,{"$f":"VLOOKUP($B1385,'Ad Week Dates'!$A:$E,4,FALSE)","v":{"$error":"#N/A"}},{"$f":"VLOOKUP($B1385,'Ad Week Dates'!$A:$E,2,FALSE)","v":{"$error":"#N/A"}},{"$f":"VLOOKUP($B1385,'Ad Week Dates'!$A:$E,3,FALSE)","v":{"$error":"#N/A"}},null,null,null,null,null,null,{"$error":"#N/A"}]
[null,null,{"$f":"VLOOKUP($B1386,'Ad Week Dates'!$A:$E,4,FALSE)","v":{"$error":"#N/A"}},{"$f":"VLOOKUP($B1386,'Ad Week Dates'!$A:$E,2,FALSE)","v":{"$error":"#N/A"}},{"$f":"VLOOKUP($B1386,'Ad Week Dates'!$A:$E,3,FALSE)","v":{"$error":"#N/A"}},null,null,null,null,null,null,{"$error":"#N/A"}]
[null,null,{"$f":"VLOOKUP($B1387,'Ad Week Dates'!$A:$E,4,FALSE)","v":{"$error":"#N/A"}},{"$f":"VLOOKUP($B1387,'Ad Week Dates'!$A:$E,2,FALSE)","v":{"$error":"#N/A"}},{"$f":"VLOOKUP($B1387,'Ad Week Dates'!$A:$E,3,FALSE)","v":{"$error":"#N/A"}},null,null,null,null,null,null,{"$error":"#N/A"}]
[null,null,{"$f":"VLOOKUP($B1388,'Ad Week Dates'!$A:$E,4,FALSE)","v":{"$error":"#N/A"}},{"$f":"VLOOKUP($B1388,'Ad Week Dates'!$A:$E,2,FALSE)","v":{"$error":"#N/A"}},{"$f":"VLOOKUP($B1388,'Ad Week Dates'!$A:$E,3,FALSE)","v":{"$error":"#N/A"}},null,null,null,null,null,null,{"$error":"#N/A"}]
[null,null,{"$f":"VLOOKUP($B1389,'Ad Week Dates'!$A:$E,4,FALSE)","v":{"$error":"#N/A"}},{"$f":"VLOOKUP($B1389,'Ad Week Dates'!$A:$E,2,FALSE)","v":{"$error":"#N/A"}},{"$f":"VLOOKUP($B1389,'Ad Week Dates'!$A:$E,3,FALSE)","v":{"$error":"#N/A"}},null,null,null,null,null,null,{"$error":"#N/A"}]
[null,null,{"$f":"VLOOKUP($B1390,'Ad Week Dates'!$A:$E,4,FALSE)","v":{"$error":"#N/A"}},{"$f":"VLOOKUP($B1390,'Ad Week Dates'!$A:$E,2,FALSE)","v":{"$error":"#N/A"}},{"$f":"VLOOKUP($B1390,'Ad Week Dates'!$A:$E,3,FALSE)","v":{"$error":"#N/A"}},null,null,null,null,null,null,{"$error":"#N/A"}]
[null,null,{"$f":"VLOOKUP($B1391,'Ad Week Dates'!$A:$E,4,FALSE)","v":{"$error":"#N/A"}},{"$f":"VLOOKUP($B1391,'Ad Week Dates'!$A:$E,2,FALSE)","v":{"$error":"#N/A"}},{"$f":"VLOOKUP($B1391,'Ad Week Dates'!$A:$E,3,FALSE)","v":{"$error":"#N/A"}},null,null,null,null,null,null,{"$error":"#N/A"}]
[null,null,{"$f":"VLOOKUP($B1392,'Ad Week Dates'!$A:$E,4,FALSE)","v":{"$error":"#N/A"}},{"$f":"VLOOKUP($B1392,'Ad Week Dates'!$A:$E,2,FALSE)","v":{"$error":"#N/A"}},{"$f":"VLOOKUP($B1392,'Ad Week Dates'!$A:$E,3,FALSE)","v":{"$error":"#N/A"}},null,null,null,null,null,null,{"$error":"#N/A"}]
[null,null,{"$f":"VLOOKUP($B1393,'Ad Week Dates'!$A:$E,4,FALSE)","v":{"$error":"#N/A"}},{"$f":"VLOOKUP($B1393,'Ad Week Dates'!$A:$E,2,FALSE)","v":{"$error":"#N/A"}},{"$f":"VLOOKUP($B1393,'Ad Week Dates'!$A:$E,3,FALSE)","v":{"$error":"#N/A"}},null,null,null,null,null,null,{"$error":"#N/A"}]
[null,null,{"$f":"VLOOKUP($B1394,'Ad Week Dates'!$A:$E,4,FALSE)","v":{"$error":"#N/A"}},{"$f":"VLOOKUP($B1394,'Ad Week Dates'!$A:$E,2,FALSE)","v":{"$error":"#N/A"}},{"$f":"VLOOKUP($B1394,'Ad Week Dates'!$A:$E,3,FALSE)","v":{"$error":"#N/A"}},null,null,null,null,null,null,{"$error":"#N/A"}]
[null,null,{"$f":"VLOOKUP($B1395,'Ad Week Dates'!$A:$E,4,FALSE)","v":{"$error":"#N/A"}},{"$f":"VLOOKUP($B1395,'Ad Week Dates'!$A:$E,2,FALSE)","v":{"$error":"#N/A"}},{"$f":"VLOOKUP($B1395,'Ad Week Dates'!$A:$E,3,FALSE)","v":{"$error":"#N/A"}},null,null,null,null,null,null,{"$error":"#N/A"}]
[null,null,{"$f":"VLOOKUP($B1396,'Ad Week Dates'!$A:$E,4,FALSE)","v":{"$error":"#N/A"}},{"$f":"VLOOKUP($B1396,'Ad Week Dates'!$A:$E,2,FALSE)","v":{"$error":"#N/A"}},{"$f":"VLOOKUP($B1396,'Ad Week Dates'!$A:$E,3,FALSE)","v":{"$error":"#N/A"}},null,null,null,null,null,null,{"$error":"#N/A"}]
[null,null,{"$f":"VLOOKUP($B1397,'Ad Week Dates'!$A:$E,4,FALSE)","v":{"$error":"#N/A"}},{"$f":"VLOOKUP($B1397,'Ad Week Dates'!$A:$E,2,FALSE)","v":{"$error":"#N/A"}},{"$f":"VLOOKUP($B1397,'Ad Week Dates'!$A:$E,3,FALSE)","v":{"$error":"#N/A"}},null,null,null,null,null,null,{"$error":"#N/A"}]
[null,null,{"$f":"VLOOKUP($B1398,'Ad Week Dates'!$A:$E,4,FALSE)","v":{"$error":"#N/A"}},{"$f":"VLOOKUP($B1398,'Ad Week Dates'!$A:$E,2,FALSE)","v":{"$error":"#N/A"}},{"$f":"VLOOKUP($B1398,'Ad Week Dates'!$A:$E,3,FALSE)","v":{"$error":"#N/A"}},null,null,null,null,null,null,{"$error":"#N/A"}]
[null,null,{"$f":"VLOOKUP($B1399,'Ad Week Dates'!$A:$E,4,FALSE)","v":{"$error":"#N/A"}},{"$f":"VLOOKUP($B1399,'Ad Week Dates'!$A:$E,2,FALSE)","v":{"$error":"#N/A"}},{"$f":"VLOOKUP($B1399,'Ad Week Dates'!$A:$E,3,FALSE)","v":{"$error":"#N/A"}},null,null,null,null,null,null,{"$error":"#N/A"}]
[null,null,{"$f":"VLOOKUP($B1400,'Ad Week Dates'!$A:$E,4,FALSE)","v":{"$error":"#N/A"}},{"$f":"VLOOKUP($B1400,'Ad Week Dates'!$A:$E,2,FALSE)","v":{"$error":"#N/A"}},{"$f":"VLOOKUP($B1400,'Ad Week Dates'!$A:$E,3,FALSE)","v":{"$error":"#N/A"}},null,null,null,null,null,null,{"$error":"#N/A"}]
[null,null,{"$f":"VLOOKUP($B1401,'Ad Week Dates'!$A:$E,4,FALSE)","v":{"$error":"#N/A"}},{"$f":"VLOOKUP($B1401,'Ad Week Dates'!$A:$E,2,FALSE)","v":{"$error":"#N/A"}},{"$f":"VLOOKUP($B1401,'Ad Week Dates'!$A:$E,3,FALSE)","v":{"$error":"#N/A"}},null,null,null,null,null,null,{"$error":"#N/A"}]
[null,null,{"$f":"VLOOKUP($B1402,'Ad Week Dates'!$A:$E,4,FALSE)","v":{"$error":"#N/A"}},{"$f":"VLOOKUP($B1402,'Ad Week Dates'!$A:$E,2,FALSE)","v":{"$error":"#N/A"}},{"$f":"VLOOKUP($B1402,'Ad Week Dates'!$A:$E,3,FALSE)","v":{"$error":"#N/A"}},null,null,null,null,null,null,{"$error":"#N/A"}]
[null,null,{"$f":"VLOOKUP($B1403,'Ad Week Dates'!$A:$E,4,FALSE)","v":{"$error":"#N/A"}},{"$f":"VLOOKUP($B1403,'Ad Week Dates'!$A:$E,2,FALSE)","v":{"$error":"#N/A"}},{"$f":"VLOOKUP($B1403,'Ad Week Dates'!$A:$E,3,FALSE)","v":{"$error":"#N/A"}},null,null,null,null,null,null,{"$error":"#N/A"}]
[null,null,{"$f":"VLOOKUP($B1404,'Ad Week Dates'!$A:$E,4,FALSE)","v":{"$error":"#N/A"}},{"$f":"VLOOKUP($B1404,'Ad Week Dates'!$A:$E,2,FALSE)","v":{"$error":"#N/A"}},{"$f":"VLOOKUP($B1404,'Ad Week Dates'!$A:$E,3,FALSE)","v":{"$error":"#N/A"}},null,null,null,null,null,null,{"$error":"#N/A"}]
[null,null,{"$f":"VLOOKUP($B1405,'Ad Week Dates'!$A:$E,4,FALSE)","v":{"$error":"#N/A"}},{"$f":"VLOOKUP($B1405,'Ad Week Dates'!$A:$E,2,FALSE)","v":{"$error":"#N/A"}},{"$f":"VLOOKUP($B1405,'Ad Week Dates'!$A:$E,3,FALSE)","v":{"$error":"#N/A"}},null,null,null,null,null,null,{"$error":"#N/A"}]
[null,null,{"$f":"VLOOKUP($B1406,'Ad Week Dates'!$A:$E,4,FALSE)","v":{"$error":"#N/A"}},{"$f":"VLOOKUP($B1406,'Ad Week Dates'!$A:$E,2,FALSE)","v":{"$error":"#N/A"}},{"$f":"VLOOKUP($B1406,'Ad Week Dates'!$A:$E,3,FALSE)","v":{"$error":"#N/A"}},null,null,null,null,null,null,{"$error":"#N/A"}]
[null,null,{"$f":"VLOOKUP($B1407,'Ad Week Dates'!$A:$E,4,FALSE)","v":{"$error":"#N/A"}},{"$f":"VLOOKUP($B1407,'Ad Week Dates'!$A:$E,2,FALSE)","v":{"$error":"#N/A"}},{"$f":"VLOOKUP($B1407,'Ad Week Dates'!$A:$E,3,FALSE)","v":{"$error":"#N/A"}},null,null,null,null,null,null,{"$error":"#N/A"}]
[null,null,{"$f":"VLOOKUP($B1408,'Ad Week Dates'!$A:$E,4,FALSE)","v":{"$error":"#N/A"}},{"$f":"VLOOKUP($B1408,'Ad Week Dates'!$A:$E,2,FALSE)","v":{"$error":"#N/A"}},{"$f":"VLOOKUP($B1408,'Ad Week Dates'!$A:$E,3,FALSE)","v":{"$error":"#N/A"}},null,null,null,null,null,null,{"$error":"#N/A"}]
[null,null,{"$f":"VLOOKUP($B1409,'Ad Week Dates'!$A:$E,4,FALSE)","v":{"$error":"#N/A"}},{"$f":"VLOOKUP($B1409,'Ad Week Dates'!$A:$E,2,FALSE)","v":{"$error":"#N/A"}},{"$f":"VLOOKUP($B1409,'Ad Week Dates'!$A:$E,3,FALSE)","v":{"$error":"#N/A"}},null,null,null,null,null,null,{"$error":"#N/A"}]
[null,null,{"$f":"VLOOKUP($B1410,'Ad Week Dates'!$A:$E,4,FALSE)","v":{"$error":"#N/A"}},{"$f":"VLOOKUP($B1410,'Ad Week Dates'!$A:$E,2,FALSE)","v":{"$error":"#N/A"}},{"$f":"VLOOKUP($B1410,'Ad Week Dates'!$A:$E,3,FALSE)","v":{"$error":"#N/A"}},null,null,null,null,null,null,{"$error":"#N/A"}]
[null,null,{"$f":"VLOOKUP($B1411,'Ad Week Dates'!$A:$E,4,FALSE)","v":{"$error":"#N/A"}},{"$f":"VLOOKUP($B1411,'Ad Week Dates'!$A:$E,2,FALSE)","v":{"$error":"#N/A"}},{"$f":"VLOOKUP($B1411,'Ad Week Dates'!$A:$E,3,FALSE)","v":{"$error":"#N/A"}},null,null,null,null,null,null,{"$error":"#N/A"}]
[null,null,{"$f":"VLOOKUP($B1412,'Ad Week Dates'!$A:$E,4,FALSE)","v":{"$error":"#N/A"}},{"$f":"VLOOKUP($B1412,'Ad Week Dates'!$A:$E,2,FALSE)","v":{"$error":"#N/A"}},{"$f":"VLOOKUP($B1412,'Ad Week Dates'!$A:$E,3,FALSE)","v":{"$error":"#N/A"}},null,null,null,null,null,null,{"$error":"#N/A"}]
[null,null,{"$f":"VLOOKUP($B1413,'Ad Week Dates'!$A:$E,4,FALSE)","v":{"$error":"#N/A"}},{"$f":"VLOOKUP($B1413,'Ad Week Dates'!$A:$E,2,FALSE)","v":{"$error":"#N/A"}},{"$f":"VLOOKUP($B1413,'Ad Week Dates'!$A:$E,3,FALSE)","v":{"$error":"#N/A"}},null,null,null,null,null,null,{"$error":"#N/A"}]
[null,null,{"$f":"VLOOKUP($B1414,'Ad Week Dates'!$A:$E,4,FALSE)","v":{"$error":"#N/A"}},{"$f":"VLOOKUP($B1414,'Ad Week Dates'!$A:$E,2,FALSE)","v":{"$error":"#N/A"}},{"$f":"VLOOKUP($B1414,'Ad Week Dates'!$A:$E,3,FALSE)","v":{"$error":"#N/A"}},null,null,null,null,null,null,{"$f":"IF(ISNUMBER(J1414), J1414 - K1414, VALUE(_xlfn.TEXTBEFORE(J1414, \"-\")) - VALUE(_xlfn.TEXTBEFORE(K1414, \"-\")))","v":{"$error":"#N/A"}}]
[null,null,{"$f":"VLOOKUP($B1415,'Ad Week Dates'!$A:$E,4,FALSE)","v":{"$error":"#N/A"}},{"$f":"VLOOKUP($B1415,'Ad Week Dates'!$A:$E,2,FALSE)","v":{"$error":"#N/A"}},{"$f":"VLOOKUP($B1415,'Ad Week Dates'!$A:$E,3,FALSE)","v":{"$error":"#N/A"}},null,null,null,null,null,null,{"$error":"#N/A"}]
[null,null,{"$f":"VLOOKUP($B1416,'Ad Week Dates'!$A:$E,4,FALSE)","v":{"$error":"#N/A"}},{"$f":"VLOOKUP($B1416,'Ad Week Dates'!$A:$E,2,FALSE)","v":{"$error":"#N/A"}},{"$f":"VLOOKUP($B1416,'Ad Week Dates'!$A:$E,3,FALSE)","v":{"$error":"#N/A"}},null,null,null,null,null,null,{"$error":"#N/A"}]
[null,null,{"$f":"VLOOKUP($B1417,'Ad Week Dates'!$A:$E,4,FALSE)","v":{"$error":"#N/A"}},{"$f":"VLOOKUP($B1417,'Ad Week Dates'!$A:$E,2,FALSE)","v":{"$error":"#N/A"}},{"$f":"VLOOKUP($B1417,'Ad Week Dates'!$A:$E,3,FALSE)","v":{"$error":"#N/A"}},null,null,null,null,null,null,{"$error":"#N/A"}]
[null,null,{"$f":"VLOOKUP($B1418,'Ad Week Dates'!$A:$E,4,FALSE)","v":{"$error":"#N/A"}},{"$f":"VLOOKUP($B1418,'Ad Week Dates'!$A:$E,2,FALSE)","v":{"$error":"#N/A"}},{"$f":"VLOOKUP($B1418,'Ad Week Dates'!$A:$E,3,FALSE)","v":{"$error":"#N/A"}},null,null,null,null,null,null,{"$error":"#N/A"}]
[null,null,{"$f":"VLOOKUP($B1419,'Ad Week Dates'!$A:$E,4,FALSE)","v":{"$error":"#N/A"}},{"$f":"VLOOKUP($B1419,'Ad Week Dates'!$A:$E,2,FALSE)","v":{"$error":"#N/A"}},{"$f":"VLOOKUP($B1419,'Ad Week Dates'!$A:$E,3,FALSE)","v":{"$error":"#N/A"}},null,null,null,null,null,null,{"$error":"#N/A"}]
[null,null,{"$f":"VLOOKUP($B1420,'Ad Week Dates'!$A:$E,4,FALSE)","v":{"$error":"#N/A"}},{"$f":"VLOOKUP($B1420,'Ad Week Dates'!$A:$E,2,FALSE)","v":{"$error":"#N/A"}},{"$f":"VLOOKUP($B1420,'Ad Week Dates'!$A:$E,3,FALSE)","v":{"$error":"#N/A"}},null,null,null,null,null,null,{"$error":"#N/A"}]
[null,null,{"$f":"VLOOKUP($B1421,'Ad Week Dates'!$A:$E,4,FALSE)","v":{"$error":"#N/A"}},{"$f":"VLOOKUP($B1421,'Ad Week Dates'!$A:$E,2,FALSE)","v":{"$error":"#N/A"}},{"$f":"VLOOKUP($B1421,'Ad Week Dates'!$A:$E,3,FALSE)","v":{"$error":"#N/A"}},null,null,null,null,null,null,{"$error":"#N/A"}]
[null,null,{"$f":"VLOOKUP($B1422,'Ad Week Dates'!$A:$E,4,FALSE)","v":{"$error":"#N/A"}},{"$f":"VLOOKUP($B1422,'Ad Week Dates'!$A:$E,2,FALSE)","v":{"$error":"#N/A"}},{"$f":"VLOOKUP($B1422,'Ad Week Dates'!$A:$E,3,FALSE)","v":{"$error":"#N/A"}},null,null,null,null,null,null,{"$error":"#N/A"}]
[null,null,{"$f":"VLOOKUP($B1423,'Ad Week Dates'!$A:$E,4,FALSE)","v":{"$error":"#N/A"}},{"$f":"VLOOKUP($B1423,'Ad Week Dates'!$A:$E,2,FALSE)","v":{"$error":"#N/A"}},{"$f":"VLOOKUP($B1423,'Ad Week Dates'!$A:$E,3,FALSE)","v":{"$error":"#N/A"}},null,null,null,null,null,null,{"$error":"#N/A"}]
[null,null,{"$f":"VLOOKUP($B1424,'Ad Week Dates'!$A:$E,4,FALSE)","v":{"$error":"#N/A"}},{"$f":"VLOOKUP($B1424,'Ad Week Dates'!$A:$E,2,FALSE)","v":{"$error":"#N/A"}},{"$f":"VLOOKUP($B1424,'Ad Week Dates'!$A:$E,3,FALSE)","v":{"$error":"#N/A"}},null,null,null,null,null,null,{"$error":"#N/A"}]
[null,null,{"$f":"VLOOKUP($B1425,'Ad Week Dates'!$A:$E,4,FALSE)","v":{"$error":"#N/A"}},{"$f":"VLOOKUP($B1425,'Ad Week Dates'!$A:$E,2,FALSE)","v":{"$error":"#N/A"}},{"$f":"VLOOKUP($B1425,'Ad Week Dates'!$A:$E,3,FALSE)","v":{"$error":"#N/A"}},null,null,null,null,null,null,{"$error":"#N/A"}]
[null,null,{"$f":"VLOOKUP($B1426,'Ad Week Dates'!$A:$E,4,FALSE)","v":{"$error":"#N/A"}},{"$f":"VLOOKUP($B1426,'Ad Week Dates'!$A:$E,2,FALSE)","v":{"$error":"#N/A"}},{"$f":"VLOOKUP($B1426,'Ad Week Dates'!$A:$E,3,FALSE)","v":{"$error":"#N/A"}},null,null,null,null,null,null,{"$error":"#N/A"}]
[null,null,{"$f":"VLOOKUP($B1427,'Ad Week Dates'!$A:$E,4,FALSE)","v":{"$error":"#N/A"}},{"$f":"VLOOKUP($B1427,'Ad Week Dates'!$A:$E,2,FALSE)","v":{"$error":"#N/A"}},{"$f":"VLOOKUP($B1427,'Ad Week Dates'!$A:$E,3,FALSE)","v":{"$error":"#N/A"}},null,null,null,null,null,null,{"$error":"#N/A"}]
[null,null,{"$f":"VLOOKUP($B1428,'Ad Week Dates'!$A:$E,4,FALSE)","v":{"$error":"#N/A"}},{"$f":"VLOOKUP($B1428,'Ad Week Dates'!$A:$E,2,FALSE)","v":{"$error":"#N/A"}},{"$f":"VLOOKUP($B1428,'Ad Week Dates'!$A:$E,3,FALSE)","v":{"$error":"#N/A"}},null,null,null,null,null,null,{"$error":"#N/A"}]
[null,null,{"$f":"VLOOKUP($B1429,'Ad Week Dates'!$A:$E,4,FALSE)","v":{"$error":"#N/A"}},{"$f":"VLOOKUP($B1429,'Ad Week Dates'!$A:$E,2,FALSE)","v":{"$error":"#N/A"}},{"$f":"VLOOKUP($B1429,'Ad Week Dates'!$A:$E,3,FALSE)","v":{"$error":"#N/A"}},null,null,null,null,null,null,{"$error":"#N/A"}]
[null,null,{"$f":"VLOOKUP($B1430,'Ad Week Dates'!$A:$E,4,FALSE)","v":{"$error":"#N/A"}},{"$f":"VLOOKUP($B1430,'Ad Week Dates'!$A:$E,2,FALSE)","v":{"$error":"#N/A"}},{"$f":"VLOOKUP($B1430,'Ad Week Dates'!$A:$E,3,FALSE)","v":{"$error":"#N/A"}},null,null,null,null,null,null,{"$error":"#N/A"}]
[null,null,{"$f":"VLOOKUP($B1431,'Ad Week Dates'!$A:$E,4,FALSE)","v":{"$error":"#N/A"}},{"$f":"VLOOKUP($B1431,'Ad Week Dates'!$A:$E,2,FALSE)","v":{"$error":"#N/A"}},{"$f":"VLOOKUP($B1431,'Ad Week Dates'!$A:$E,3,FALSE)","v":{"$error":"#N/A"}},null,null,null,null,null,null,{"$error":"#N/A"}]
[null,null,{"$f":"VLOOKUP($B1432,'Ad Week Dates'!$A:$E,4,FALSE)","v":{"$error":"#N/A"}},{"$f":"VLOOKUP($B1432,'Ad Week Dates'!$A:$E,2,FALSE)","v":{"$error":"#N/A"}},{"$f":"VLOOKUP($B1432,'Ad Week Dates'!$A:$E,3,FALSE)","v":{"$error":"#N/A"}},null,null,null,null,null,null,{"$error":"#N/A"}]
[null,null,{"$f":"VLOOKUP($B1433,'Ad Week Dates'!$A:$E,4,FALSE)","v":{"$error":"#N/A"}},{"$f":"VLOOKUP($B1433,'Ad Week Dates'!$A:$E,2,FALSE)","v":{"$error":"#N/A"}},{"$f":"VLOOKUP($B1433,'Ad Week Dates'!$A:$E,3,FALSE)","v":{"$error":"#N/A"}},null,null,null,null,null,null,{"$error":"#N/A"}]
[null,null,{"$f":"VLOOKUP($B1434,'Ad Week Dates'!$A:$E,4,FALSE)","v":{"$error":"#N/A"}},{"$f":"VLOOKUP($B1434,'Ad Week Dates'!$A:$E,2,FALSE)","v":{"$error":"#N/A"}},{"$f":"VLOOKUP($B1434,'Ad Week Dates'!$A:$E,3,FALSE)","v":{"$error":"#N/A"}},null,null,null,null,null,null,{"$error":"#N/A"}]
[null,null,{"$f":"VLOOKUP($B1435,'Ad Week Dates'!$A:$E,4,FALSE)","v":{"$error":"#N/A"}},{"$f":"VLOOKUP($B1435,'Ad Week Dates'!$A:$E,2,FALSE)","v":{"$error":"#N/A"}},{"$f":"VLOOKUP($B1435,'Ad Week Dates'!$A:$E,3,FALSE)","v":{"$error":"#N/A"}},null,null,null,null,null,null,{"$error":"#N/A"}]
[null,null,{"$f":"VLOOKUP($B1436,'Ad Week Dates'!$A:$E,4,FALSE)","v":{"$error":"#N/A"}},{"$f":"VLOOKUP($B1436,'Ad Week Dates'!$A:$E,2,FALSE)","v":{"$error":"#N/A"}},{"$f":"VLOOKUP($B1436,'Ad Week Dates'!$A:$E,3,FALSE)","v":{"$error":"#N/A"}},null,null,null,null,null,null,{"$error":"#N/A"}]
[null,null,{"$f":"VLOOKUP($B1437,'Ad Week Dates'!$A:$E,4,FALSE)","v":{"$error":"#N/A"}},{"$f":"VLOOKUP($B1437,'Ad Week Dates'!$A:$E,2,FALSE)","v":{"$error":"#N/A"}},{"$f":"VLOOKUP($B1437,'Ad Week Dates'!$A:$E,3,FALSE)","v":{"$error":"#N/A"}},null,null,null,null,null,null,{"$error":"#N/A"}]
[null,null,{"$f":"VLOOKUP($B1438,'Ad Week Dates'!$A:$E,4,FALSE)","v":{"$error":"#N/A"}},{"$f":"VLOOKUP($B1438,'Ad Week Dates'!$A:$E,2,FALSE)","v":{"$error":"#N/A"}},{"$f":"VLOOKUP($B1438,'Ad Week Dates'!$A:$E,3,FALSE)","v":{"$error":"#N/A"}},null,null,null,null,null,null,{"$error":"#N/A"}]
[null,null,{"$f":"VLOOKUP($B1439,'Ad Week Dates'!$A:$E,4,FALSE)","v":{"$error":"#N/A"}},{"$f":"VLOOKUP($B1439,'Ad Week Dates'!$A:$E,2,FALSE)","v":{"$error":"#N/A"}},{"$f":"VLOOKUP($B1439,'Ad Week Dates'!$A:$E,3,FALSE)","v":{"$error":"#N/A"}},null,null,null,null,null,null,{"$error":"#N/A"}]
[null,null,{"$f":"VLOOKUP($B1440,'Ad Week Dates'!$A:$E,4,FALSE)","v":{"$error":"#N/A"}},{"$f":"VLOOKUP($B1440,'Ad Week Dates'!$A:$E,2,FALSE)","v":{"$error":"#N/A"}},{"$f":"VLOOKUP($B1440,'Ad Week Dates'!$A:$E,3,FALSE)","v":{"$error":"#N/A"}},null,null,null,null,null,null,{"$error":"#N/A"}]
[null,null,{"$f":"VLOOKUP($B1441,'Ad Week Dates'!$A:$E,4,FALSE)","v":{"$error":"#N/A"}},{"$f":"VLOOKUP($B1441,'Ad Week Dates'!$A:$E,2,FALSE)","v":{"$error":"#N/A"}},{"$f":"VLOOKUP($B1441,'Ad Week Dates'!$A:$E,3,FALSE)","v":{"$error":"#N/A"}},null,null,null,null,null,null,{"$error":"#N/A"}]
[null,null,{"$f":"VLOOKUP($B1442,'Ad Week Dates'!$A:$E,4,FALSE)","v":{"$error":"#N/A"}},{"$f":"VLOOKUP($B1442,'Ad Week Dates'!$A:$E,2,FALSE)","v":{"$error":"#N/A"}},{"$f":"VLOOKUP($B1442,'Ad Week Dates'!$A:$E,3,FALSE)","v":{"$error":"#N/A"}},null,null,null,null,null,null,{"$error":"#N/A"}]
[null,null,{"$f":"VLOOKUP($B1443,'Ad Week Dates'!$A:$E,4,FALSE)","v":{"$error":"#N/A"}},{"$f":"VLOOKUP($B1443,'Ad Week Dates'!$A:$E,2,FALSE)","v":{"$error":"#N/A"}},{"$f":"VLOOKUP($B1443,'Ad Week Dates'!$A:$E,3,FALSE)","v":{"$error":"#N/A"}},null,null,null,null,null,null,{"$error":"#N/A"}]
[null,null,{"$f":"VLOOKUP($B1444,'Ad Week Dates'!$A:$E,4,FALSE)","v":{"$error":"#N/A"}},{"$f":"VLOOKUP($B1444,'Ad Week Dates'!$A:$E,2,FALSE)","v":{"$error":"#N/A"}},{"$f":"VLOOKUP($B1444,'Ad Week Dates'!$A:$E,3,FALSE)","v":{"$error":"#N/A"}},null,null,null,null,null,null,{"$error":"#N/A"}]
[null,null,{"$f":"VLOOKUP($B1445,'Ad Week Dates'!$A:$E,4,FALSE)","v":{"$error":"#N/A"}},{"$f":"VLOOKUP($B1445,'Ad Week Dates'!$A:$E,2,FALSE)","v":{"$error":"#N/A"}},{"$f":"VLOOKUP($B1445,'Ad Week Dates'!$A:$E,3,FALSE)","v":{"$error":"#N/A"}},null,null,null,null,null,null,{"$error":"#N/A"}]
[null,null,{"$f":"VLOOKUP($B1446,'Ad Week Dates'!$A:$E,4,FALSE)","v":{"$error":"#N/A"}},{"$f":"VLOOKUP($B1446,'Ad Week Dates'!$A:$E,2,FALSE)","v":{"$error":"#N/A"}},{"$f":"VLOOKUP($B1446,'Ad Week Dates'!$A:$E,3,FALSE)","v":{"$error":"#N/A"}},null,null,null,null,null,null,{"$error":"#N/A"}]
[null,null,{"$f":"VLOOKUP($B1447,'Ad Week Dates'!$A:$E,4,FALSE)","v":{"$error":"#N/A"}},{"$f":"VLOOKUP($B1447,'Ad Week Dates'!$A:$E,2,FALSE)","v":{"$error":"#N/A"}},{"$f":"VLOOKUP($B1447,'Ad Week Dates'!$A:$E,3,FALSE)","v":{"$error":"#N/A"}},null,null,null,null,null,null,{"$error":"#N/A"}]
[null,null,{"$f":"VLOOKUP($B1448,'Ad Week Dates'!$A:$E,4,FALSE)","v":{"$error":"#N/A"}},{"$f":"VLOOKUP($B1448,'Ad Week Dates'!$A:$E,2,FALSE)","v":{"$error":"#N/A"}},{"$f":"VLOOKUP($B1448,'Ad Week Dates'!$A:$E,3,FALSE)","v":{"$error":"#N/A"}},null,null,null,null,null,null,{"$error":"#N/A"}]
[null,null,{"$f":"VLOOKUP($B1449,'Ad Week Dates'!$A:$E,4,FALSE)","v":{"$error":"#N/A"}},{"$f":"VLOOKUP($B1449,'Ad Week Dates'!$A:$E,2,FALSE)","v":{"$error":"#N/A"}},{"$f":"VLOOKUP($B1449,'Ad Week Dates'!$A:$E,3,FALSE)","v":{"$error":"#N/A"}},null,null,null,null,null,null,{"$error":"#N/A"}]
[null,null,{"$f":"VLOOKUP($B1450,'Ad Week Dates'!$A:$E,4,FALSE)","v":{"$error":"#N/A"}},{"$f":"VLOOKUP($B1450,'Ad Week Dates'!$A:$E,2,FALSE)","v":{"$error":"#N/A"}},{"$f":"VLOOKUP($B1450,'Ad Week Dates'!$A:$E,3,FALSE)","v":{"$error":"#N/A"}},null,null,null,null,null,null,{"$error":"#N/A"}]
[null,null,{"$f":"VLOOKUP($B1451,'Ad Week Dates'!$A:$E,4,FALSE)","v":{"$error":"#N/A"}},{"$f":"VLOOKUP($B1451,'Ad Week Dates'!$A:$E,2,FALSE)","v":{"$error":"#N/A"}},{"$f":"VLOOKUP($B1451,'Ad Week Dates'!$A:$E,3,FALSE)","v":{"$error":"#N/A"}},null,null,null,null,null,null,{"$error":"#N/A"}]
[null,null,{"$f":"VLOOKUP($B1452,'Ad Week Dates'!$A:$E,4,FALSE)","v":{"$error":"#N/A"}},{"$f":"VLOOKUP($B1452,'Ad Week Dates'!$A:$E,2,FALSE)","v":{"$error":"#N/A"}},{"$f":"VLOOKUP($B1452,'Ad Week Dates'!$A:$E,3,FALSE)","v":{"$error":"#N/A"}},null,null,null,null,null,null,{"$error":"#N/A"}]
[null,null,{"$f":"VLOOKUP($B1453,'Ad Week Dates'!$A:$E,4,FALSE)","v":{"$error":"#N/A"}},{"$f":"VLOOKUP($B1453,'Ad Week Dates'!$A:$E,2,FALSE)","v":{"$error":"#N/A"}},{"$f":"VLOOKUP($B1453,'Ad Week Dates'!$A:$E,3,FALSE)","v":{"$error":"#N/A"}},null,null,null,null,null,null,{"$error":"#N/A"}]
[null,null,{"$f":"VLOOKUP($B1454,'Ad Week Dates'!$A:$E,4,FALSE)","v":{"$error":"#N/A"}},{"$f":"VLOOKUP($B1454,'Ad Week Dates'!$A:$E,2,FALSE)","v":{"$error":"#N/A"}},{"$f":"VLOOKUP($B1454,'Ad Week Dates'!$A:$E,3,FALSE)","v":{"$error":"#N/A"}},null,null,null,null,null,null,{"$error":"#N/A"}]
[null,null,{"$f":"VLOOKUP($B1455,'Ad Week Dates'!$A:$E,4,FALSE)","v":{"$error":"#N/A"}},{"$f":"VLOOKUP($B1455,'Ad Week Dates'!$A:$E,2,FALSE)","v":{"$error":"#N/A"}},{"$f":"VLOOKUP($B1455,'Ad Week Dates'!$A:$E,3,FALSE)","v":{"$error":"#N/A"}},null,null,null,null,null,null,{"$error":"#N/A"}]
[null,null,{"$f":"VLOOKUP($B1456,'Ad Week Dates'!$A:$E,4,FALSE)","v":{"$error":"#N/A"}},{"$f":"VLOOKUP($B1456,'Ad Week Dates'!$A:$E,2,FALSE)","v":{"$error":"#N/A"}},{"$f":"VLOOKUP($B1456,'Ad Week Dates'!$A:$E,3,FALSE)","v":{"$error":"#N/A"}},null,null,null,null,null,null,{"$error":"#N/A"}]
[null,null,{"$f":"VLOOKUP($B1457,'Ad Week Dates'!$A:$E,4,FALSE)","v":{"$error":"#N/A"}},{"$f":"VLOOKUP($B1457,'Ad Week Dates'!$A:$E,2,FALSE)","v":{"$error":"#N/A"}},{"$f":"VLOOKUP($B1457,'Ad Week Dates'!$A:$E,3,FALSE)","v":{"$error":"#N/A"}},null,null,null,null,null,null,{"$error":"#N/A"}]
[null,null,{"$f":"VLOOKUP($B1458,'Ad Week Dates'!$A:$E,4,FALSE)","v":{"$error":"#N/A"}},{"$f":"VLOOKUP($B1458,'Ad Week Dates'!$A:$E,2,FALSE)","v":{"$error":"#N/A"}},{"$f":"VLOOKUP($B1458,'Ad Week Dates'!$A:$E,3,FALSE)","v":{"$error":"#N/A"}},null,null,null,null,null,null,{"$error":"#N/A"}]
[null,null,{"$f":"VLOOKUP($B1459,'Ad Week Dates'!$A:$E,4,FALSE)","v":{"$error":"#N/A"}},{"$f":"VLOOKUP($B1459,'Ad Week Dates'!$A:$E,2,FALSE)","v":{"$error":"#N/A"}},{"$f":"VLOOKUP($B1459,'Ad Week Dates'!$A:$E,3,FALSE)","v":{"$error":"#N/A"}},null,null,null,null,null,null,{"$error":"#N/A"}]
[null,null,{"$f":"VLOOKUP($B1460,'Ad Week Dates'!$A:$E,4,FALSE)","v":{"$error":"#N/A"}},{"$f":"VLOOKUP($B1460,'Ad Week Dates'!$A:$E,2,FALSE)","v":{"$error":"#N/A"}},{"$f":"VLOOKUP($B1460,'Ad Week Dates'!$A:$E,3,FALSE)","v":{"$error":"#N/A"}},null,null,null,null,null,null,{"$error":"#N/A"}]
[null,null,{"$f":"VLOOKUP($B1461,'Ad Week Dates'!$A:$E,4,FALSE)","v":{"$error":"#N/A"}},{"$f":"VLOOKUP($B1461,'Ad Week Dates'!$A:$E,2,FALSE)","v":{"$error":"#N/A"}},{"$f":"VLOOKUP($B1461,'Ad Week Dates'!$A:$E,3,FALSE)","v":{"$error":"#N/A"}},null,null,null,null,null,null,{"$error":"#N/A"}]
[null,null,{"$f":"VLOOKUP($B1462,'Ad Week Dates'!$A:$E,4,FALSE)","v":{"$error":"#N/A"}},{"$f":"VLOOKUP($B1462,'Ad Week Dates'!$A:$E,2,FALSE)","v":{"$error":"#N/A"}},{"$f":"VLOOKUP($B1462,'Ad Week Dates'!$A:$E,3,FALSE)","v":{"$error":"#N/A"}},null,null,null,null,null,null,{"$error":"#N/A"}]
[null,null,{"$f":"VLOOKUP($B1463,'Ad Week Dates'!$A:$E,4,FALSE)","v":{"$error":"#N/A"}},{"$f":"VLOOKUP($B1463,'Ad Week Dates'!$A:$E,2,FALSE)","v":{"$error":"#N/A"}},{"$f":"VLOOKUP($B1463,'Ad Week Dates'!$A:$E,3,FALSE)","v":{"$error":"#N/A"}},null,null,null,null,null,null,{"$error":"#N/A"}]
[null,null,{"$f":"VLOOKUP($B1464,'Ad Week Dates'!$A:$E,4,FALSE)","v":{"$error":"#N/A"}},{"$f":"VLOOKUP($B1464,'Ad Week Dates'!$A:$E,2,FALSE)","v":{"$error":"#N/A"}},{"$f":"VLOOKUP($B1464,'Ad Week Dates'!$A:$E,3,FALSE)","v":{"$error":"#N/A"}},null,null,null,null,null,null,{"$error":"#N/A"}]
[null,null,{"$f":"VLOOKUP($B1465,'Ad Week Dates'!$A:$E,4,FALSE)","v":{"$error":"#N/A"}},{"$f":"VLOOKUP($B1465,'Ad Week Dates'!$A:$E,2,FALSE)","v":{"$error":"#N/A"}},{"$f":"VLOOKUP($B1465,'Ad Week Dates'!$A:$E,3,FALSE)","v":{"$error":"#N/A"}},null,null,null,null,null,null,{"$error":"#N/A"}]
[null,null,{"$f":"VLOOKUP($B1466,'Ad Week Dates'!$A:$E,4,FALSE)","v":{"$error":"#N/A"}},{"$f":"VLOOKUP($B1466,'Ad Week Dates'!$A:$E,2,FALSE)","v":{"$error":"#N/A"}},{"$f":"VLOOKUP($B1466,'Ad Week Dates'!$A:$E,3,FALSE)","v":{"$error":"#N/A"}},null,null,null,null,null,null,{"$error":"#N/A"}]
[null,null,{"$f":"VLOOKUP($B1467,'Ad Week Dates'!$A:$E,4,FALSE)","v":{"$error":"#N/A"}},{"$f":"VLOOKUP($B1467,'Ad Week Dates'!$A:$E,2,FALSE)","v":{"$error":"#N/A"}},{"$f":"VLOOKUP($B1467,'Ad Week Dates'!$A:$E,3,FALSE)","v":{"$error":"#N/A"}},null,null,null,null,null,null,{"$error":"#N/A"}]
[null,null,{"$f":"VLOOKUP($B1468,'Ad Week Dates'!$A:$E,4,FALSE)","v":{"$error":"#N/A"}},{"$f":"VLOOKUP($B1468,'Ad Week Dates'!$A:$E,2,FALSE)","v":{"$error":"#N/A"}},{"$f":"VLOOKUP($B1468,'Ad Week Dates'!$A:$E,3,FALSE)","v":{"$error":"#N/A"}},null,null,null,null,null,null,{"$error":"#N/A"}]
[null,null,{"$f":"VLOOKUP($B1469,'Ad Week Dates'!$A:$E,4,FALSE)","v":{"$error":"#N/A"}},{"$f":"VLOOKUP($B1469,'Ad Week Dates'!$A:$E,2,FALSE)","v":{"$error":"#N/A"}},{"$f":"VLOOKUP($B1469,'Ad Week Dates'!$A:$E,3,FALSE)","v":{"$error":"#N/A"}},null,null,null,null,null,null,{"$error":"#N/A"}]
[null,null,{"$f":"VLOOKUP($B1470,'Ad Week Dates'!$A:$E,4,FALSE)","v":{"$error":"#N/A"}},{"$f":"VLOOKUP($B1470,'Ad Week Dates'!$A:$E,2,FALSE)","v":{"$error":"#N/A"}},{"$f":"VLOOKUP($B1470,'Ad Week Dates'!$A:$E,3,FALSE)","v":{"$error":"#N/A"}},null,null,null,null,null,null,{"$error":"#N/A"}]
[null,null,{"$f":"VLOOKUP($B1471,'Ad Week Dates'!$A:$E,4,FALSE)","v":{"$error":"#N/A"}},{"$f":"VLOOKUP($B1471,'Ad Week Dates'!$A:$E,2,FALSE)","v":{"$error":"#N/A"}},{"$f":"VLOOKUP($B1471,'Ad Week Dates'!$A:$E,3,FALSE)","v":{"$error":"#N/A"}},null,null,null,null,null,null,{"$error":"#N/A"}]
[null,null,{"$f":"VLOOKUP($B1472,'Ad Week Dates'!$A:$E,4,FALSE)","v":{"$error":"#N/A"}},{"$f":"VLOOKUP($B1472,'Ad Week Dates'!$A:$E,2,FALSE)","v":{"$error":"#N/A"}},{"$f":"VLOOKUP($B1472,'Ad Week Dates'!$A:$E,3,FALSE)","v":{"$error":"#N/A"}},null,null,null,null,null,null,{"$error":"#N/A"}]
[null,null,{"$f":"VLOOKUP($B1473,'Ad Week Dates'!$A:$E,4,FALSE)","v":{"$error":"#N/A"}},{"$f":"VLOOKUP($B1473,'Ad Week Dates'!$A:$E,2,FALSE)","v":{"$error":"#N/A"}},{"$f":"VLOOKUP($B1473,'Ad Week Dates'!$A:$E,3,FALSE)","v":{"$error":"#N/A"}},null,null,null,null,null,null,{"$error":"#N/A"}]
[null,null,{"$f":"VLOOKUP($B1474,'Ad Week Dates'!$A:$E,4,FALSE)","v":{"$error":"#N/A"}},{"$f":"VLOOKUP($B1474,'Ad Week Dates'!$A:$E,2,FALSE)","v":{"$error":"#N/A"}},{"$f":"VLOOKUP($B1474,'Ad Week Dates'!$A:$E,3,FALSE)","v":{"$error":"#N/A"}},null,null,null,null,null,null,{"$error":"#N/A"}]
[null,null,{"$f":"VLOOKUP($B1475,'Ad Week Dates'!$A:$E,4,FALSE)","v":{"$error":"#N/A"}},{"$f":"VLOOKUP($B1475,'Ad Week Dates'!$A:$E,2,FALSE)","v":{"$error":"#N/A"}},{"$f":"VLOOKUP($B1475,'Ad Week Dates'!$A:$E,3,FALSE)","v":{"$error":"#N/A"}},null,null,null,null,null,null,{"$error":"#N/A"}]
[null,null,{"$f":"VLOOKUP($B1476,'Ad Week Dates'!$A:$E,4,FALSE)","v":{"$error":"#N/A"}},{"$f":"VLOOKUP($B1476,'Ad Week Dates'!$A:$E,2,FALSE)","v":{"$error":"#N/A"}},{"$f":"VLOOKUP($B1476,'Ad Week Dates'!$A:$E,3,FALSE)","v":{"$error":"#N/A"}},null,null,null,null,null,null,{"$error":"#N/A"}]
[null,null,{"$f":"VLOOKUP($B1477,'Ad Week Dates'!$A:$E,4,FALSE)","v":{"$error":"#N/A"}},{"$f":"VLOOKUP($B1477,'Ad Week Dates'!$A:$E,2,FALSE)","v":{"$error":"#N/A"}},{"$f":"VLOOKUP($B1477,'Ad Week Dates'!$A:$E,3,FALSE)","v":{"$error":"#N/A"}},null,null,null,null,null,null,{"$error":"#N/A"}]
[null,null,{"$f":"VLOOKUP($B1478,'Ad Week Dates'!$A:$E,4,FALSE)","v":{"$error":"#N/A"}},{"$f":"VLOOKUP($B1478,'Ad Week Dates'!$A:$E,2,FALSE)","v":{"$error":"#N/A"}},{"$f":"VLOOKUP($B1478,'Ad Week Dates'!$A:$E,3,FALSE)","v":{"$error":"#N/A"}},null,null,null,null,null,null,{"$f":"IF(ISNUMBER(J1478), J1478 - K1478, VALUE(_xlfn.TEXTBEFORE(J1478, \"-\")) - VALUE(_xlfn.TEXTBEFORE(K1478, \"-\")))","v":{"$error":"#N/A"}}]
[null,null,{"$f":"VLOOKUP($B1479,'Ad Week Dates'!$A:$E,4,FALSE)","v":{"$error":"#N/A"}},{"$f":"VLOOKUP($B1479,'Ad Week Dates'!$A:$E,2,FALSE)","v":{"$error":"#N/A"}},{"$f":"VLOOKUP($B1479,'Ad Week Dates'!$A:$E,3,FALSE)","v":{"$error":"#N/A"}},null,null,null,null,null,null,{"$error":"#N/A"}]
[null,null,{"$f":"VLOOKUP($B1480,'Ad Week Dates'!$A:$E,4,FALSE)","v":{"$error":"#N/A"}},{"$f":"VLOOKUP($B1480,'Ad Week Dates'!$A:$E,2,FALSE)","v":{"$error":"#N/A"}},{"$f":"VLOOKUP($B1480,'Ad Week Dates'!$A:$E,3,FALSE)","v":{"$error":"#N/A"}},null,null,null,null,null,null,{"$error":"#N/A"}]
[null,null,{"$f":"VLOOKUP($B1481,'Ad Week Dates'!$A:$E,4,FALSE)","v":{"$error":"#N/A"}},{"$f":"VLOOKUP($B1481,'Ad Week Dates'!$A:$E,2,FALSE)","v":{"$error":"#N/A"}},{"$f":"VLOOKUP($B1481,'Ad Week Dates'!$A:$E,3,FALSE)","v":{"$error":"#N/A"}},null,null,null,null,null,null,{"$error":"#N/A"}]
[null,null,{"$f":"VLOOKUP($B1482,'Ad Week Dates'!$A:$E,4,FALSE)","v":{"$error":"#N/A"}},{"$f":"VLOOKUP($B1482,'Ad Week Dates'!$A:$E,2,FALSE)","v":{"$error":"#N/A"}},{"$f":"VLOOKUP($B1482,'Ad Week Dates'!$A:$E,3,FALSE)","v":{"$error":"#N/A"}},null,null,null,null,null,null,{"$error":"#N/A"}]
[null,null,{"$f":"VLOOKUP($B1483,'Ad Week Dates'!$A:$E,4,FALSE)","v":{"$error":"#N/A"}},{"$f":"VLOOKUP($B1483,'Ad Week Dates'!$A:$E,2,FALSE)","v":{"$error":"#N/A"}},{"$f":"VLOOKUP($B1483,'Ad Week Dates'!$A:$E,3,FALSE)","v":{"$error":"#N/A"}},null,null,null,null,null,null,{"$error":"#N/A"}]
[null,null,{"$f":"VLOOKUP($B1484,'Ad Week Dates'!$A:$E,4,FALSE)","v":{"$error":"#N/A"}},{"$f":"VLOOKUP($B1484,'Ad Week Dates'!$A:$E,2,FALSE)","v":{"$error":"#N/A"}},{"$f":"VLOOKUP($B1484,'Ad Week Dates'!$A:$E,3,FALSE)","v":{"$error":"#N/A"}},null,null,null,null,null,null,{"$error":"#N/A"}]
[null,null,{"$f":"VLOOKUP($B1485,'Ad Week Dates'!$A:$E,4,FALSE)","v":{"$error":"#N/A"}},{"$f":"VLOOKUP($B1485,'Ad Week Dates'!$A:$E,2,FALSE)","v":{"$error":"#N/A"}},{"$f":"VLOOKUP($B1485,'Ad Week Dates'!$A:$E,3,FALSE)","v":{"$error":"#N/A"}},null,null,null,null,null,null,{"$error":"#N/A"}]
[null,null,{"$f":"VLOOKUP($B1486,'Ad Week Dates'!$A:$E,4,FALSE)","v":{"$error":"#N/A"}},{"$f":"VLOOKUP($B1486,'Ad Week Dates'!$A:$E,2,FALSE)","v":{"$error":"#N/A"}},{"$f":"VLOOKUP($B1486,'Ad Week Dates'!$A:$E,3,FALSE)","v":{"$error":"#N/A"}},null,null,null,null,null,null,{"$error":"#N/A"}]
[null,null,{"$f":"VLOOKUP($B1487,'Ad Week Dates'!$A:$E,4,FALSE)","v":{"$error":"#N/A"}},{"$f":"VLOOKUP($B1487,'Ad Week Dates'!$A:$E,2,FALSE)","v":{"$error":"#N/A"}},{"$f":"VLOOKUP($B1487,'Ad Week Dates'!$A:$E,3,FALSE)","v":{"$error":"#N/A"}},null,null,null,null,null,null,{"$error":"#N/A"}]
[null,null,{"$f":"VLOOKUP($B1488,'Ad Week Dates'!$A:$E,4,FALSE)","v":{"$error":"#N/A"}},{"$f":"VLOOKUP($B1488,'Ad Week Dates'!$A:$E,2,FALSE)","v":{"$error":"#N/A"}},{"$f":"VLOOKUP($B1488,'Ad Week Dates'!$A:$E,3,FALSE)","v":{"$error":"#N/A"}},null,null,null,null,null,null,{"$error":"#N/A"}]
[null,null,{"$f":"VLOOKUP($B1489,'Ad Week Dates'!$A:$E,4,FALSE)","v":{"$error":"#N/A"}},{"$f":"VLOOKUP($B1489,'Ad Week Dates'!$A:$E,2,FALSE)","v":{"$error":"#N/A"}},{"$f":"VLOOKUP($B1489,'Ad Week Dates'!$A:$E,3,FALSE)","v":{"$error":"#N/A"}},null,null,null,null,null,null,{"$error":"#N/A"}]
[null,null,{"$f":"VLOOKUP($B1490,'Ad Week Dates'!$A:$E,4,FALSE)","v":{"$error":"#N/A"}},{"$f":"VLOOKUP($B1490,'Ad Week Dates'!$A:$E,2,FALSE)","v":{"$error":"#N/A"}},{"$f":"VLOOKUP($B1490,'Ad Week Dates'!$A:$E,3,FALSE)","v":{"$error":"#N/A"}},null,null,null,null,null,null,{"$error":"#N/A"}]
[null,null,{"$f":"VLOOKUP($B1491,'Ad Week Dates'!$A:$E,4,FALSE)","v":{"$error":"#N/A"}},{"$f":"VLOOKUP($B1491,'Ad Week Dates'!$A:$E,2,FALSE)","v":{"$error":"#N/A"}},{"$f":"VLOOKUP($B1491,'Ad Week Dates'!$A:$E,3,FALSE)","v":{"$error":"#N/A"}},null,null,null,null,null,null,{"$error":"#N/A"}]
[null,null,{"$f":"VLOOKUP($B1492,'Ad Week Dates'!$A:$E,4,FALSE)","v":{"$error":"#N/A"}},{"$f":"VLOOKUP($B1492,'Ad Week Dates'!$A:$E,2,FALSE)","v":{"$error":"#N/A"}},{"$f":"VLOOKUP($B1492,'Ad Week Dates'!$A:$E,3,FALSE)","v":{"$error":"#N/A"}},null,null,null,null,null,null,{"$error":"#N/A"}]
[null,null,{"$f":"VLOOKUP($B1493,'Ad Week Dates'!$A:$E,4,FALSE)","v":{"$error":"#N/A"}},{"$f":"VLOOKUP($B1493,'Ad Week Dates'!$A:$E,2,FALSE)","v":{"$error":"#N/A"}},{"$f":"VLOOKUP($B1493,'Ad Week Dates'!$A:$E,3,FALSE)","v":{"$error":"#N/A"}},null,null,null,null,null,null,{"$error":"#N/A"}]
[null,null,{"$f":"VLOOKUP($B1494,'Ad Week Dates'!$A:$E,4,FALSE)","v":{"$error":"#N/A"}},{"$f":"VLOOKUP($B1494,'Ad Week Dates'!$A:$E,2,FALSE)","v":{"$error":"#N/A"}},{"$f":"VLOOKUP($B1494,'Ad Week Dates'!$A:$E,3,FALSE)","v":{"$error":"#N/A"}},null,null,null,null,null,null,{"$error":"#N/A"}]
[null,null,{"$f":"VLOOKUP($B1495,'Ad Week Dates'!$A:$E,4,FALSE)","v":{"$error":"#N/A"}},{"$f":"VLOOKUP($B1495,'Ad Week Dates'!$A:$E,2,FALSE)","v":{"$error":"#N/A"}},{"$f":"VLOOKUP($B1495,'Ad Week Dates'!$A:$E,3,FALSE)","v":{"$error":"#N/A"}},null,null,null,null,null,null,{"$error":"#N/A"}]
[null,null,{"$f":"VLOOKUP($B1496,'Ad Week Dates'!$A:$E,4,FALSE)","v":{"$error":"#N/A"}},{"$f":"VLOOKUP($B1496,'Ad Week Dates'!$A:$E,2,FALSE)","v":{"$error":"#N/A"}},{"$f":"VLOOKUP($B1496,'Ad Week Dates'!$A:$E,3,FALSE)","v":{"$error":"#N/A"}},null,null,null,null,null,null,{"$error":"#N/A"}]
[null,null,{"$f":"VLOOKUP($B1497,'Ad Week Dates'!$A:$E,4,FALSE)","v":{"$error":"#N/A"}},{"$f":"VLOOKUP($B1497,'Ad Week Dates'!$A:$E,2,FALSE)","v":{"$error":"#N/A"}},{"$f":"VLOOKUP($B1497,'Ad Week Dates'!$A:$E,3,FALSE)","v":{"$error":"#N/A"}},null,null,null,null,null,null,{"$error":"#N/A"}]
[null,null,{"$f":"VLOOKUP($B1498,'Ad Week Dates'!$A:$E,4,FALSE)","v":{"$error":"#N/A"}},{"$f":"VLOOKUP($B1498,'Ad Week Dates'!$A:$E,2,FALSE)","v":{"$error":"#N/A"}},{"$f":"VLOOKUP($B1498,'Ad Week Dates'!$A:$E,3,FALSE)","v":{"$error":"#N/A"}},null,null,null,null,null,null,{"$error":"#N/A"}]
[null,null,{"$f":"VLOOKUP($B1499,'Ad Week Dates'!$A:$E,4,FALSE)","v":{"$error":"#N/A"}},{"$f":"VLOOKUP($B1499,'Ad Week Dates'!$A:$E,2,FALSE)","v":{"$error":"#N/A"}},{"$f":"VLOOKUP($B1499,'Ad Week Dates'!$A:$E,3,FALSE)","v":{"$error":"#N/A"}},null,null,null,null,null,null,{"$error":"#N/A"}]
[null,null,{"$f":"VLOOKUP($B1500,'Ad Week Dates'!$A:$E,4,FALSE)","v":{"$error":"#N/A"}},{"$f":"VLOOKUP($B1500,'Ad Week Dates'!$A:$E,2,FALSE)","v":{"$error":"#N/A"}},{"$f":"VLOOKUP($B1500,'Ad Week Dates'!$A:$E,3,FALSE)","v":{"$error":"#N/A"}},null,null,null,null,null,null,{"$error":"#N/A"}]
[null,null,{"$f":"VLOOKUP($B1501,'Ad Week Dates'!$A:$E,4,FALSE)","v":{"$error":"#N/A"}},{"$f":"VLOOKUP($B1501,'Ad Week Dates'!$A:$E,2,FALSE)","v":{"$error":"#N/A"}},{"$f":"VLOOKUP($B1501,'Ad Week Dates'!$A:$E,3,FALSE)","v":{"$error":"#N/A"}},null,null,null,null,null,null,{"$error":"#N/A"}]
[null,null,{"$f":"VLOOKUP($B1502,'Ad Week Dates'!$A:$E,4,FALSE)","v":{"$error":"#N/A"}},{"$f":"VLOOKUP($B1502,'Ad Week Dates'!$A:$E,2,FALSE)","v":{"$error":"#N/A"}},{"$f":"VLOOKUP($B1502,'Ad Week Dates'!$A:$E,3,FALSE)","v":{"$error":"#N/A"}},null,null,null,null,null,null,{"$error":"#N/A"}]
[null,null,{"$f":"VLOOKUP($B1503,'Ad Week Dates'!$A:$E,4,FALSE)","v":{"$error":"#N/A"}},{"$f":"VLOOKUP($B1503,'Ad Week Dates'!$A:$E,2,FALSE)","v":{"$error":"#N/A"}},{"$f":"VLOOKUP($B1503,'Ad Week Dates'!$A:$E,3,FALSE)","v":{"$error":"#N/A"}},null,null,null,null,null,null,{"$error":"#N/A"}]
[null,null,{"$f":"VLOOKUP($B1504,'Ad Week Dates'!$A:$E,4,FALSE)","v":{"$error":"#N/A"}},{"$f":"VLOOKUP($B1504,'Ad Week Dates'!$A:$E,2,FALSE)","v":{"$error":"#N/A"}},{"$f":"VLOOKUP($B1504,'Ad Week Dates'!$A:$E,3,FALSE)","v":{"$error":"#N/A"}},null,null,null,null,null,null,{"$error":"#N/A"}]
[null,null,{"$f":"VLOOKUP($B1505,'Ad Week Dates'!$A:$E,4,FALSE)","v":{"$error":"#N/A"}},{"$f":"VLOOKUP($B1505,'Ad Week Dates'!$A:$E,2,FALSE)","v":{"$error":"#N/A"}},{"$f":"VLOOKUP($B1505,'Ad Week Dates'!$A:$E,3,FALSE)","v":{"$error":"#N/A"}},null,null,null,null,null,null,{"$error":"#N/A"}]
[null,null,{"$f":"VLOOKUP($B1506,'Ad Week Dates'!$A:$E,4,FALSE)","v":{"$error":"#N/A"}},{"$f":"VLOOKUP($B1506,'Ad Week Dates'!$A:$E,2,FALSE)","v":{"$error":"#N/A"}},{"$f":"VLOOKUP($B1506,'Ad Week Dates'!$A:$E,3,FALSE)","v":{"$error":"#N/A"}},null,null,null,null,null,null,{"$error":"#N/A"}]
[null,null,{"$f":"VLOOKUP($B1507,'Ad Week Dates'!$A:$E,4,FALSE)","v":{"$error":"#N/A"}},{"$f":"VLOOKUP($B1507,'Ad Week Dates'!$A:$E,2,FALSE)","v":{"$error":"#N/A"}},{"$f":"VLOOKUP($B1507,'Ad Week Dates'!$A:$E,3,FALSE)","v":{"$error":"#N/A"}},null,null,null,null,null,null,{"$error":"#N/A"}]
[null,null,{"$f":"VLOOKUP($B1508,'Ad Week Dates'!$A:$E,4,FALSE)","v":{"$error":"#N/A"}},{"$f":"VLOOKUP($B1508,'Ad Week Dates'!$A:$E,2,FALSE)","v":{"$error":"#N/A"}},{"$f":"VLOOKUP($B1508,'Ad Week Dates'!$A:$E,3,FALSE)","v":{"$error":"#N/A"}},null,null,null,null,null,null,{"$error":"#N/A"}]
[null,null,{"$f":"VLOOKUP($B1509,'Ad Week Dates'!$A:$E,4,FALSE)","v":{"$error":"#N/A"}},{"$f":"VLOOKUP($B1509,'Ad Week Dates'!$A:$E,2,FALSE)","v":{"$error":"#N/A"}},{"$f":"VLOOKUP($B1509,'Ad Week Dates'!$A:$E,3,FALSE)","v":{"$error":"#N/A"}},null,null,null,null,null,null,{"$error":"#N/A"}]
[null,null,{"$f":"VLOOKUP($B1510,'Ad Week Dates'!$A:$E,4,FALSE)","v":{"$error":"#N/A"}},{"$f":"VLOOKUP($B1510,'Ad Week Dates'!$A:$E,2,FALSE)","v":{"$error":"#N/A"}},{"$f":"VLOOKUP($B1510,'Ad Week Dates'!$A:$E,3,FALSE)","v":{"$error":"#N/A"}},null,null,null,null,null,null,{"$error":"#N/A"}]
[null,null,{"$f":"VLOOKUP($B1511,'Ad Week Dates'!$A:$E,4,FALSE)","v":{"$error":"#N/A"}},{"$f":"VLOOKUP($B1511,'Ad Week Dates'!$A:$E,2,FALSE)","v":{"$error":"#N/A"}},{"$f":"VLOOKUP($B1511,'Ad Week Dates'!$A:$E,3,FALSE)","v":{"$error":"#N/A"}},null,null,null,null,null,null,{"$error":"#N/A"}]
[null,null,{"$f":"VLOOKUP($B1512,'Ad Week Dates'!$A:$E,4,FALSE)","v":{"$error":"#N/A"}},{"$f":"VLOOKUP($B1512,'Ad Week Dates'!$A:$E,2,FALSE)","v":{"$error":"#N/A"}},{"$f":"VLOOKUP($B1512,'Ad Week Dates'!$A:$E,3,FALSE)","v":{"$error":"#N/A"}},null,null,null,null,null,null,{"$error":"#N/A"}]
[null,null,{"$f":"VLOOKUP($B1513,'Ad Week Dates'!$A:$E,4,FALSE)","v":{"$error":"#N/A"}},{"$f":"VLOOKUP($B1513,'Ad Week Dates'!$A:$E,2,FALSE)","v":{"$error":"#N/A"}},{"$f":"VLOOKUP($B1513,'Ad Week Dates'!$A:$E,3,FALSE)","v":{"$error":"#N/A"}},null,null,null,null,null,null,{"$error":"#N/A"}]
[null,null,{"$f":"VLOOKUP($B1514,'Ad Week Dates'!$A:$E,4,FALSE)","v":{"$error":"#N/A"}},{"$f":"VLOOKUP($B1514,'Ad Week Dates'!$A:$E,2,FALSE)","v":{"$error":"#N/A"}},{"$f":"VLOOKUP($B1514,'Ad Week Dates'!$A:$E,3,FALSE)","v":{"$error":"#N/A"}},null,null,null,null,null,null,{"$error":"#N/A"}]
[null,null,{"$f":"VLOOKUP($B1515,'Ad Week Dates'!$A:$E,4,FALSE)","v":{"$error":"#N/A"}},{"$f":"VLOOKUP($B1515,'Ad Week Dates'!$A:$E,2,FALSE)","v":{"$error":"#N/A"}},{"$f":"VLOOKUP($B1515,'Ad Week Dates'!$A:$E,3,FALSE)","v":{"$error":"#N/A"}},null,null,null,null,null,null,{"$error":"#N/A"}]
[null,null,{"$f":"VLOOKUP($B1516,'Ad Week Dates'!$A:$E,4,FALSE)","v":{"$error":"#N/A"}},{"$f":"VLOOKUP($B1516,'Ad Week Dates'!$A:$E,2,FALSE)","v":{"$error":"#N/A"}},{"$f":"VLOOKUP($B1516,'Ad Week Dates'!$A:$E,3,FALSE)","v":{"$error":"#N/A"}},null,null,null,null,null,null,{"$error":"#N/A"}]
[null,null,{"$f":"VLOOKUP($B1517,'Ad Week Dates'!$A:$E,4,FALSE)","v":{"$error":"#N/A"}},{"$f":"VLOOKUP($B1517,'Ad Week Dates'!$A:$E,2,FALSE)","v":{"$error":"#N/A"}},{"$f":"VLOOKUP($B1517,'Ad Week Dates'!$A:$E,3,FALSE)","v":{"$error":"#N/A"}},null,null,null,null,null,null,{"$error":"#N/A"}]
[null,null,{"$f":"VLOOKUP($B1518,'Ad Week Dates'!$A:$E,4,FALSE)","v":{"$error":"#N/A"}},{"$f":"VLOOKUP($B1518,'Ad Week Dates'!$A:$E,2,FALSE)","v":{"$error":"#N/A"}},{"$f":"VLOOKUP($B1518,'Ad Week Dates'!$A:$E,3,FALSE)","v":{"$error":"#N/A"}},null,null,null,null,null,null,{"$error":"#N/A"}]
[null,null,{"$f":"VLOOKUP($B1519,'Ad Week Dates'!$A:$E,4,FALSE)","v":{"$error":"#N/A"}},{"$f":"VLOOKUP($B1519,'Ad Week Dates'!$A:$E,2,FALSE)","v":{"$error":"#N/A"}},{"$f":"VLOOKUP($B1519,'Ad Week Dates'!$A:$E,3,FALSE)","v":{"$error":"#N/A"}},null,null,null,null,null,null,{"$error":"#N/A"}]
[null,null,{"$f":"VLOOKUP($B1520,'Ad Week Dates'!$A:$E,4,FALSE)","v":{"$error":"#N/A"}},{"$f":"VLOOKUP($B1520,'Ad Week Dates'!$A:$E,2,FALSE)","v":{"$error":"#N/A"}},{"$f":"VLOOKUP($B1520,'Ad Week Dates'!$A:$E,3,FALSE)","v":{"$error":"#N/A"}},null,null,null,null,null,null,{"$error":"#N/A"}]
[null,null,{"$f":"VLOOKUP($B1521,'Ad Week Dates'!$A:$E,4,FALSE)","v":{"$error":"#N/A"}},{"$f":"VLOOKUP($B1521,'Ad Week Dates'!$A:$E,2,FALSE)","v":{"$error":"#N/A"}},{"$f":"VLOOKUP($B1521,'Ad Week Dates'!$A:$E,3,FALSE)","v":{"$error":"#N/A"}},null,null,null,null,null,null,{"$error":"#N/A"}]
[null,null,{"$f":"VLOOKUP($B1522,'Ad Week Dates'!$A:$E,4,FALSE)","v":{"$error":"#N/A"}},{"$f":"VLOOKUP($B1522,'Ad Week Dates'!$A:$E,2,FALSE)","v":{"$error":"#N/A"}},{"$f":"VLOOKUP($B1522,'Ad Week Dates'!$A:$E,3,FALSE)","v":{"$error":"#N/A"}},null,null,null,null,null,null,{"$error":"#N/A"}]
[null,null,{"$f":"VLOOKUP($B1523,'Ad Week Dates'!$A:$E,4,FALSE)","v":{"$error":"#N/A"}},{"$f":"VLOOKUP($B1523,'Ad Week Dates'!$A:$E,2,FALSE)","v":{"$error":"#N/A"}},{"$f":"VLOOKUP($B1523,'Ad Week Dates'!$A:$E,3,FALSE)","v":{"$error":"#N/A"}},null,null,null,null,null,null,{"$error":"#N/A"}]
[null,null,{"$f":"VLOOKUP($B1524,'Ad Week Dates'!$A:$E,4,FALSE)","v":{"$error":"#N/A"}},{"$f":"VLOOKUP($B1524,'Ad Week Dates'!$A:$E,2,FALSE)","v":{"$error":"#N/A"}},{"$f":"VLOOKUP($B1524,'Ad Week Dates'!$A:$E,3,FALSE)","v":{"$error":"#N/A"}},null,null,null,null,null,null,{"$error":"#N/A"}]
[null,null,{"$f":"VLOOKUP($B1525,'Ad Week Dates'!$A:$E,4,FALSE)","v":{"$error":"#N/A"}},{"$f":"VLOOKUP($B1525,'Ad Week Dates'!$A:$E,2,FALSE)","v":{"$error":"#N/A"}},{"$f":"VLOOKUP($B1525,'Ad Week Dates'!$A:$E,3,FALSE)","v":{"$error":"#N/A"}},null,null,null,null,null,null,{"$error":"#N/A"}]
[null,null,{"$f":"VLOOKUP($B1526,'Ad Week Dates'!$A:$E,4,FALSE)","v":{"$error":"#N/A"}},{"$f":"VLOOKUP($B1526,'Ad Week Dates'!$A:$E,2,FALSE)","v":{"$error":"#N/A"}},{"$f":"VLOOKUP($B1526,'Ad Week Dates'!$A:$E,3,FALSE)","v":{"$error":"#N/A"}},null,null,null,null,null,null,{"$error":"#N/A"}]
[null,null,{"$f":"VLOOKUP($B1527,'Ad Week Dates'!$A:$E,4,FALSE)","v":{"$error":"#N/A"}},{"$f":"VLOOKUP($B1527,'Ad Week Dates'!$A:$E,2,FALSE)","v":{"$error":"#N/A"}},{"$f":"VLOOKUP($B1527,'Ad Week Dates'!$A:$E,3,FALSE)","v":{"$error":"#N/A"}},null,null,null,null,null,null,{"$error":"#N/A"}]
[null,null,{"$f":"VLOOKUP($B1528,'Ad Week Dates'!$A:$E,4,FALSE)","v":{"$error":"#N/A"}},{"$f":"VLOOKUP($B1528,'Ad Week Dates'!$A:$E,2,FALSE)","v":{"$error":"#N/A"}},{"$f":"VLOOKUP($B1528,'Ad Week Dates'!$A:$E,3,FALSE)","v":{"$error":"#N/A"}},null,null,null,null,null,null,{"$error":"#N/A"}]
[null,null,{"$f":"VLOOKUP($B1529,'Ad Week Dates'!$A:$E,4,FALSE)","v":{"$error":"#N/A"}},{"$f":"VLOOKUP($B1529,'Ad Week Dates'!$A:$E,2,FALSE)","v":{"$error":"#N/A"}},{"$f":"VLOOKUP($B1529,'Ad Week Dates'!$A:$E,3,FALSE)","v":{"$error":"#N/A"}},null,null,null,null,null,null,{"$error":"#N/A"}]
[null,null,{"$f":"VLOOKUP($B1530,'Ad Week Dates'!$A:$E,4,FALSE)","v":{"$error":"#N/A"}},{"$f":"VLOOKUP($B1530,'Ad Week Dates'!$A:$E,2,FALSE)","v":{"$error":"#N/A"}},{"$f":"VLOOKUP($B1530,'Ad Week Dates'!$A:$E,3,FALSE)","v":{"$error":"#N/A"}},null,null,null,null,null,null,{"$error":"#N/A"}]
[null,null,{"$f":"VLOOKUP($B1531,'Ad Week Dates'!$A:$E,4,FALSE)","v":{"$error":"#N/A"}},{"$f":"VLOOKUP($B1531,'Ad Week Dates'!$A:$E,2,FALSE)","v":{"$error":"#N/A"}},{"$f":"VLOOKUP($B1531,'Ad Week Dates'!$A:$E,3,FALSE)","v":{"$error":"#N/A"}},null,null,null,null,null,null,{"$error":"#N/A"}]
[null,null,{"$f":"VLOOKUP($B1532,'Ad Week Dates'!$A:$E,4,FALSE)","v":{"$error":"#N/A"}},{"$f":"VLOOKUP($B1532,'Ad Week Dates'!$A:$E,2,FALSE)","v":{"$error":"#N/A"}},{"$f":"VLOOKUP($B1532,'Ad Week Dates'!$A:$E,3,FALSE)","v":{"$error":"#N/A"}},null,null,null,null,null,null,{"$error":"#N/A"}]
[null,null,{"$f":"VLOOKUP($B1533,'Ad Week Dates'!$A:$E,4,FALSE)","v":{"$error":"#N/A"}},{"$f":"VLOOKUP($B1533,'Ad Week Dates'!$A:$E,2,FALSE)","v":{"$error":"#N/A"}},{"$f":"VLOOKUP($B1533,'Ad Week Dates'!$A:$E,3,FALSE)","v":{"$error":"#N/A"}},null,null,null,null,null,null,{"$error":"#N/A"}]
[null,null,{"$f":"VLOOKUP($B1534,'Ad Week Dates'!$A:$E,4,FALSE)","v":{"$error":"#N/A"}},{"$f":"VLOOKUP($B1534,'Ad Week Dates'!$A:$E,2,FALSE)","v":{"$error":"#N/A"}},{"$f":"VLOOKUP($B1534,'Ad Week Dates'!$A:$E,3,FALSE)","v":{"$error":"#N/A"}},null,null,null,null,null,null,{"$error":"#N/A"}]
[null,null,{"$f":"VLOOKUP($B1535,'Ad Week Dates'!$A:$E,4,FALSE)","v":{"$error":"#N/A"}},{"$f":"VLOOKUP($B1535,'Ad Week Dates'!$A:$E,2,FALSE)","v":{"$error":"#N/A"}},{"$f":"VLOOKUP($B1535,'Ad Week Dates'!$A:$E,3,FALSE)","v":{"$error":"#N/A"}},null,null,null,null,null,null,{"$error":"#N/A"}]
[null,null,{"$f":"VLOOKUP($B1536,'Ad Week Dates'!$A:$E,4,FALSE)","v":{"$error":"#N/A"}},{"$f":"VLOOKUP($B1536,'Ad Week Dates'!$A:$E,2,FALSE)","v":{"$error":"#N/A"}},{"$f":"VLOOKUP($B1536,'Ad Week Dates'!$A:$E,3,FALSE)","v":{"$error":"#N/A"}},null,null,null,null,null,null,{"$error":"#N/A"}]
[null,null,{"$f":"VLOOKUP($B1537,'Ad Week Dates'!$A:$E,4,FALSE)","v":{"$error":"#N/A"}},{"$f":"VLOOKUP($B1537,'Ad Week Dates'!$A:$E,2,FALSE)","v":{"$error":"#N/A"}},{"$f":"VLOOKUP($B1537,'Ad Week Dates'!$A:$E,3,FALSE)","v":{"$error":"#N/A"}},null,null,null,null,null,null,{"$error":"#N/A"}]
[null,null,{"$f":"VLOOKUP($B1538,'Ad Week Dates'!$A:$E,4,FALSE)","v":{"$error":"#N/A"}},{"$f":"VLOOKUP($B1538,'Ad Week Dates'!$A:$E,2,FALSE)","v":{"$error":"#N/A"}},{"$f":"VLOOKUP($B1538,'Ad Week Dates'!$A:$E,3,FALSE)","v":{"$error":"#N/A"}},null,null,null,null,null,null,{"$error":"#N/A"}]
[null,null,{"$f":"VLOOKUP($B1539,'Ad Week Dates'!$A:$E,4,FALSE)","v":{"$error":"#N/A"}},{"$f":"VLOOKUP($B1539,'Ad Week Dates'!$A:$E,2,FALSE)","v":{"$error":"#N/A"}},{"$f":"VLOOKUP($B1539,'Ad Week Dates'!$A:$E,3,FALSE)","v":{"$error":"#N/A"}},null,null,null,null,null,null,{"$error":"#N/A"}]
[null,null,{"$f":"VLOOKUP($B1540,'Ad Week Dates'!$A:$E,4,FALSE)","v":{"$error":"#N/A"}},{"$f":"VLOOKUP($B1540,'Ad Week Dates'!$A:$E,2,FALSE)","v":{"$error":"#N/A"}},{"$f":"VLOOKUP($B1540,'Ad Week Dates'!$A:$E,3,FALSE)","v":{"$error":"#N/A"}},null,null,null,null,null,null,{"$error":"#N/A"}]
[null,null,{"$f":"VLOOKUP($B1541,'Ad Week Dates'!$A:$E,4,FALSE)","v":{"$error":"#N/A"}},{"$f":"VLOOKUP($B1541,'Ad Week Dates'!$A:$E,2,FALSE)","v":{"$error":"#N/A"}},{"$f":"VLOOKUP($B1541,'Ad Week Dates'!$A:$E,3,FALSE)","v":{"$error":"#N/A"}},null,null,null,null,null,null,{"$error":"#N/A"}]
[null,null,{"$f":"VLOOKUP($B1542,'Ad Week Dates'!$A:$E,4,FALSE)","v":{"$error":"#N/A"}},{"$f":"VLOOKUP($B1542,'Ad Week Dates'!$A:$E,2,FALSE)","v":{"$error":"#N/A"}},{"$f":"VLOOKUP($B1542,'Ad Week Dates'!$A:$E,3,FALSE)","v":{"$error":"#N/A"}},null,null,null,null,null,null,{"$f":"IF(ISNUMBER(J1542), J1542 - K1542, VALUE(_xlfn.TEXTBEFORE(J1542, \"-\")) - VALUE(_xlfn.TEXTBEFORE(K1542, \"-\")))","v":{"$error":"#N/A"}}]
[null,null,{"$f":"VLOOKUP($B1543,'Ad Week Dates'!$A:$E,4,FALSE)","v":{"$error":"#N/A"}},{"$f":"VLOOKUP($B1543,'Ad Week Dates'!$A:$E,2,FALSE)","v":{"$error":"#N/A"}},{"$f":"VLOOKUP($B1543,'Ad Week Dates'!$A:$E,3,FALSE)","v":{"$error":"#N/A"}},null,null,null,null,null,null,{"$error":"#N/A"}]
[null,null,{"$f":"VLOOKUP($B1544,'Ad Week Dates'!$A:$E,4,FALSE)","v":{"$error":"#N/A"}},{"$f":"VLOOKUP($B1544,'Ad Week Dates'!$A:$E,2,FALSE)","v":{"$error":"#N/A"}},{"$f":"VLOOKUP($B1544,'Ad Week Dates'!$A:$E,3,FALSE)","v":{"$error":"#N/A"}},null,null,null,null,null,null,{"$error":"#N/A"}]
[null,null,{"$f":"VLOOKUP($B1545,'Ad Week Dates'!$A:$E,4,FALSE)","v":{"$error":"#N/A"}},{"$f":"VLOOKUP($B1545,'Ad Week Dates'!$A:$E,2,FALSE)","v":{"$error":"#N/A"}},{"$f":"VLOOKUP($B1545,'Ad Week Dates'!$A:$E,3,FALSE)","v":{"$error":"#N/A"}},null,null,null,null,null,null,{"$error":"#N/A"}]
[null,null,{"$f":"VLOOKUP($B1546,'Ad Week Dates'!$A:$E,4,FALSE)","v":{"$error":"#N/A"}},{"$f":"VLOOKUP($B1546,'Ad Week Dates'!$A:$E,2,FALSE)","v":{"$error":"#N/A"}},{"$f":"VLOOKUP($B1546,'Ad Week Dates'!$A:$E,3,FALSE)","v":{"$error":"#N/A"}},null,null,null,null,null,null,{"$error":"#N/A"}]
[null,null,{"$f":"VLOOKUP($B1547,'Ad Week Dates'!$A:$E,4,FALSE)","v":{"$error":"#N/A"}},{"$f":"VLOOKUP($B1547,'Ad Week Dates'!$A:$E,2,FALSE)","v":{"$error":"#N/A"}},{"$f":"VLOOKUP($B1547,'Ad Week Dates'!$A:$E,3,FALSE)","v":{"$error":"#N/A"}},null,null,null,null,null,null,{"$error":"#N/A"}]
[null,null,{"$f":"VLOOKUP($B1548,'Ad Week Dates'!$A:$E,4,FALSE)","v":{"$error":"#N/A"}},{"$f":"VLOOKUP($B1548,'Ad Week Dates'!$A:$E,2,FALSE)","v":{"$error":"#N/A"}},{"$f":"VLOOKUP($B1548,'Ad Week Dates'!$A:$E,3,FALSE)","v":{"$error":"#N/A"}},null,null,null,null,null,null,{"$error":"#N/A"}]
[null,null,{"$f":"VLOOKUP($B1549,'Ad Week Dates'!$A:$E,4,FALSE)","v":{"$error":"#N/A"}},{"$f":"VLOOKUP($B1549,'Ad Week Dates'!$A:$E,2,FALSE)","v":{"$error":"#N/A"}},{"$f":"VLOOKUP($B1549,'Ad Week Dates'!$A:$E,3,FALSE)","v":{"$error":"#N/A"}},null,null,null,null,null,null,{"$error":"#N/A"}]
[null,null,{"$f":"VLOOKUP($B1550,'Ad Week Dates'!$A:$E,4,FALSE)","v":{"$error":"#N/A"}},{"$f":"VLOOKUP($B1550,'Ad Week Dates'!$A:$E,2,FALSE)","v":{"$error":"#N/A"}},{"$f":"VLOOKUP($B1550,'Ad Week Dates'!$A:$E,3,FALSE)","v":{"$error":"#N/A"}},null,null,null,null,null,null,{"$error":"#N/A"}]
[null,null,{"$f":"VLOOKUP($B1551,'Ad Week Dates'!$A:$E,4,FALSE)","v":{"$error":"#N/A"}},{"$f":"VLOOKUP($B1551,'Ad Week Dates'!$A:$E,2,FALSE)","v":{"$error":"#N/A"}},{"$f":"VLOOKUP($B1551,'Ad Week Dates'!$A:$E,3,FALSE)","v":{"$error":"#N/A"}},null,null,null,null,null,null,{"$error":"#N/A"}]
[null,null,{"$f":"VLOOKUP($B1552,'Ad Week Dates'!$A:$E,4,FALSE)","v":{"$error":"#N/A"}},{"$f":"VLOOKUP($B1552,'Ad Week Dates'!$A:$E,2,FALSE)","v":{"$error":"#N/A"}},{"$f":"VLOOKUP($B1552,'Ad Week Dates'!$A:$E,3,FALSE)","v":{"$error":"#N/A"}},null,null,null,null,null,null,{"$error":"#N/A"}]
[null,null,{"$f":"VLOOKUP($B1553,'Ad Week Dates'!$A:$E,4,FALSE)","v":{"$error":"#N/A"}},{"$f":"VLOOKUP($B1553,'Ad Week Dates'!$A:$E,2,FALSE)","v":{"$error":"#N/A"}},{"$f":"VLOOKUP($B1553,'Ad Week Dates'!$A:$E,3,FALSE)","v":{"$error":"#N/A"}},null,null,null,null,null,null,{"$error":"#N/A"}]
[null,null,{"$f":"VLOOKUP($B1554,'Ad Week Dates'!$A:$E,4,FALSE)","v":{"$error":"#N/A"}},{"$f":"VLOOKUP($B1554,'Ad Week Dates'!$A:$E,2,FALSE)","v":{"$error":"#N/A"}},{"$f":"VLOOKUP($B1554,'Ad Week Dates'!$A:$E,3,FALSE)","v":{"$error":"#N/A"}},null,null,null,null,null,null,{"$error":"#N/A"}]
[null,null,{"$f":"VLOOKUP($B1555,'Ad Week Dates'!$A:$E,4,FALSE)","v":{"$error":"#N/A"}},{"$f":"VLOOKUP($B1555,'Ad Week Dates'!$A:$E,2,FALSE)","v":{"$error":"#N/A"}},{"$f":"VLOOKUP($B1555,'Ad Week Dates'!$A:$E,3,FALSE)","v":{"$error":"#N/A"}},null,null,null,null,null,null,{"$error":"#N/A"}]
[null,null,{"$f":"VLOOKUP($B1556,'Ad Week Dates'!$A:$E,4,FALSE)","v":{"$error":"#N/A"}},{"$f":"VLOOKUP($B1556,'Ad Week Dates'!$A:$E,2,FALSE)","v":{"$error":"#N/A"}},{"$f":"VLOOKUP($B1556,'Ad Week Dates'!$A:$E,3,FALSE)","v":{"$error":"#N/A"}},null,null,null,null,null,null,{"$error":"#N/A"}]
[null,null,{"$f":"VLOOKUP($B1557,'Ad Week Dates'!$A:$E,4,FALSE)","v":{"$error":"#N/A"}},{"$f":"VLOOKUP($B1557,'Ad Week Dates'!$A:$E,2,FALSE)","v":{"$error":"#N/A"}},{"$f":"VLOOKUP($B1557,'Ad Week Dates'!$A:$E,3,FALSE)","v":{"$error":"#N/A"}},null,null,null,null,null,null,{"$error":"#N/A"}]
[null,null,{"$f":"VLOOKUP($B1558,'Ad Week Dates'!$A:$E,4,FALSE)","v":{"$error":"#N/A"}},{"$f":"VLOOKUP($B1558,'Ad Week Dates'!$A:$E,2,FALSE)","v":{"$error":"#N/A"}},{"$f":"VLOOKUP($B1558,'Ad Week Dates'!$A:$E,3,FALSE)","v":{"$error":"#N/A"}},null,null,null,null,null,null,{"$error":"#N/A"}]
[null,null,{"$f":"VLOOKUP($B1559,'Ad Week Dates'!$A:$E,4,FALSE)","v":{"$error":"#N/A"}},{"$f":"VLOOKUP($B1559,'Ad Week Dates'!$A:$E,2,FALSE)","v":{"$error":"#N/A"}},{"$f":"VLOOKUP($B1559,'Ad Week Dates'!$A:$E,3,FALSE)","v":{"$error":"#N/A"}},null,null,null,null,null,null,{"$error":"#N/A"}]
[null,null,{"$f":"VLOOKUP($B1560,'Ad Week Dates'!$A:$E,4,FALSE)","v":{"$error":"#N/A"}},{"$f":"VLOOKUP($B1560,'Ad Week Dates'!$A:$E,2,FALSE)","v":{"$error":"#N/A"}},{"$f":"VLOOKUP($B1560,'Ad Week Dates'!$A:$E,3,FALSE)","v":{"$error":"#N/A"}},null,null,null,null,null,null,{"$error":"#N/A"}]
[null,null,{"$f":"VLOOKUP($B1561,'Ad Week Dates'!$A:$E,4,FALSE)","v":{"$error":"#N/A"}},{"$f":"VLOOKUP($B1561,'Ad Week Dates'!$A:$E,2,FALSE)","v":{"$error":"#N/A"}},{"$f":"VLOOKUP($B1561,'Ad Week Dates'!$A:$E,3,FALSE)","v":{"$error":"#N/A"}},null,null,null,null,null,null,{"$error":"#N/A"}]
[null,null,{"$f":"VLOOKUP($B1562,'Ad Week Dates'!$A:$E,4,FALSE)","v":{"$error":"#N/A"}},{"$f":"VLOOKUP($B1562,'Ad Week Dates'!$A:$E,2,FALSE)","v":{"$error":"#N/A"}},{"$f":"VLOOKUP($B1562,'Ad Week Dates'!$A:$E,3,FALSE)","v":{"$error":"#N/A"}},null,null,null,null,null,null,{"$error":"#N/A"}]
[null,null,{"$f":"VLOOKUP($B1563,'Ad Week Dates'!$A:$E,4,FALSE)","v":{"$error":"#N/A"}},{"$f":"VLOOKUP($B1563,'Ad Week Dates'!$A:$E,2,FALSE)","v":{"$error":"#N/A"}},{"$f":"VLOOKUP($B1563,'Ad Week Dates'!$A:$E,3,FALSE)","v":{"$error":"#N/A"}},null,null,null,null,null,null,{"$error":"#N/A"}]
[null,null,{"$f":"VLOOKUP($B1564,'Ad Week Dates'!$A:$E,4,FALSE)","v":{"$error":"#N/A"}},{"$f":"VLOOKUP($B1564,'Ad Week Dates'!$A:$E,2,FALSE)","v":{"$error":"#N/A"}},{"$f":"VLOOKUP($B1564,'Ad Week Dates'!$A:$E,3,FALSE)","v":{"$error":"#N/A"}},null,null,null,null,null,null,{"$error":"#N/A"}]
[null,null,{"$f":"VLOOKUP($B1565,'Ad Week Dates'!$A:$E,4,FALSE)","v":{"$error":"#N/A"}},{"$f":"VLOOKUP($B1565,'Ad Week Dates'!$A:$E,2,FALSE)","v":{"$error":"#N/A"}},{"$f":"VLOOKUP($B1565,'Ad Week Dates'!$A:$E,3,FALSE)","v":{"$error":"#N/A"}},null,null,null,null,null,null,{"$error":"#N/A"}]
[null,null,{"$f":"VLOOKUP($B1566,'Ad Week Dates'!$A:$E,4,FALSE)","v":{"$error":"#N/A"}},{"$f":"VLOOKUP($B1566,'Ad Week Dates'!$A:$E,2,FALSE)","v":{"$error":"#N/A"}},{"$f":"VLOOKUP($B1566,'Ad Week Dates'!$A:$E,3,FALSE)","v":{"$error":"#N/A"}},null,null,null,null,null,null,{"$error":"#N/A"}]
[null,null,{"$f":"VLOOKUP($B1567,'Ad Week Dates'!$A:$E,4,FALSE)","v":{"$error":"#N/A"}},{"$f":"VLOOKUP($B1567,'Ad Week Dates'!$A:$E,2,FALSE)","v":{"$error":"#N/A"}},{"$f":"VLOOKUP($B1567,'Ad Week Dates'!$A:$E,3,FALSE)","v":{"$error":"#N/A"}},null,null,null,null,null,null,{"$error":"#N/A"}]
[null,null,{"$f":"VLOOKUP($B1568,'Ad Week Dates'!$A:$E,4,FALSE)","v":{"$error":"#N/A"}},{"$f":"VLOOKUP($B1568,'Ad Week Dates'!$A:$E,2,FALSE)","v":{"$error":"#N/A"}},{"$f":"VLOOKUP($B1568,'Ad Week Dates'!$A:$E,3,FALSE)","v":{"$error":"#N/A"}},null,null,null,null,null,null,{"$error":"#N/A"}]
[null,null,{"$f":"VLOOKUP($B1569,'Ad Week Dates'!$A:$E,4,FALSE)","v":{"$error":"#N/A"}},{"$f":"VLOOKUP($B1569,'Ad Week Dates'!$A:$E,2,FALSE)","v":{"$error":"#N/A"}},{"$f":"VLOOKUP($B1569,'Ad Week Dates'!$A:$E,3,FALSE)","v":{"$error":"#N/A"}},null,null,null,null,null,null,{"$error":"#N/A"}]
[null,null,{"$f":"VLOOKUP($B1570,'Ad Week Dates'!$A:$E,4,FALSE)","v":{"$error":"#N/A"}},{"$f":"VLOOKUP($B1570,'Ad Week Dates'!$A:$E,2,FALSE)","v":{"$error":"#N/A"}},{"$f":"VLOOKUP($B1570,'Ad Week Dates'!$A:$E,3,FALSE)","v":{"$error":"#N/A"}},null,null,null,null,null,null,{"$error":"#N/A"}]
[null,null,{"$f":"VLOOKUP($B1571,'Ad Week Dates'!$A:$E,4,FALSE)","v":{"$error":"#N/A"}},{"$f":"VLOOKUP($B1571,'Ad Week Dates'!$A:$E,2,FALSE)","v":{"$error":"#N/A"}},{"$f":"VLOOKUP($B1571,'Ad Week Dates'!$A:$E,3,FALSE)","v":{"$error":"#N/A"}},null,null,null,null,null,null,{"$error":"#N/A"}]
[null,null,{"$f":"VLOOKUP($B1572,'Ad Week Dates'!$A:$E,4,FALSE)","v":{"$error":"#N/A"}},{"$f":"VLOOKUP($B1572,'Ad Week Dates'!$A:$E,2,FALSE)","v":{"$error":"#N/A"}},{"$f":"VLOOKUP($B1572,'Ad Week Dates'!$A:$E,3,FALSE)","v":{"$error":"#N/A"}},null,null,null,null,null,null,{"$error":"#N/A"}]
[null,null,{"$f":"VLOOKUP($B1573,'Ad Week Dates'!$A:$E,4,FALSE)","v":{"$error":"#N/A"}},{"$f":"VLOOKUP($B1573,'Ad Week Dates'!$A:$E,2,FALSE)","v":{"$error":"#N/A"}},{"$f":"VLOOKUP($B1573,'Ad Week Dates'!$A:$E,3,FALSE)","v":{"$error":"#N/A"}},null,null,null,null,null,null,{"$error":"#N/A"}]
[null,null,{"$f":"VLOOKUP($B1574,'Ad Week Dates'!$A:$E,4,FALSE)","v":{"$error":"#N/A"}},{"$f":"VLOOKUP($B1574,'Ad Week Dates'!$A:$E,2,FALSE)","v":{"$error":"#N/A"}},{"$f":"VLOOKUP($B1574,'Ad Week Dates'!$A:$E,3,FALSE)","v":{"$error":"#N/A"}},null,null,null,null,null,null,{"$error":"#N/A"}]
[null,null,{"$f":"VLOOKUP($B1575,'Ad Week Dates'!$A:$E,4,FALSE)","v":{"$error":"#N/A"}},{"$f":"VLOOKUP($B1575,'Ad Week Dates'!$A:$E,2,FALSE)","v":{"$error":"#N/A"}},{"$f":"VLOOKUP($B1575,'Ad Week Dates'!$A:$E,3,FALSE)","v":{"$error":"#N/A"}},null,null,null,null,null,null,{"$error":"#N/A"}]
[null,null,{"$f":"VLOOKUP($B1576,'Ad Week Dates'!$A:$E,4,FALSE)","v":{"$error":"#N/A"}},{"$f":"VLOOKUP($B1576,'Ad Week Dates'!$A:$E,2,FALSE)","v":{"$error":"#N/A"}},{"$f":"VLOOKUP($B1576,'Ad Week Dates'!$A:$E,3,FALSE)","v":{"$error":"#N/A"}},null,null,null,null,null,null,{"$error":"#N/A"}]
[null,null,{"$f":"VLOOKUP($B1577,'Ad Week Dates'!$A:$E,4,FALSE)","v":{"$error":"#N/A"}},{"$f":"VLOOKUP($B1577,'Ad Week Dates'!$A:$E,2,FALSE)","v":{"$error":"#N/A"}},{"$f":"VLOOKUP($B1577,'Ad Week Dates'!$A:$E,3,FALSE)","v":{"$error":"#N/A"}},null,null,null,null,null,null,{"$error":"#N/A"}]
[null,null,{"$f":"VLOOKUP($B1578,'Ad Week Dates'!$A:$E,4,FALSE)","v":{"$error":"#N/A"}},{"$f":"VLOOKUP($B1578,'Ad Week Dates'!$A:$E,2,FALSE)","v":{"$error":"#N/A"}},{"$f":"VLOOKUP($B1578,'Ad Week Dates'!$A:$E,3,FALSE)","v":{"$error":"#N/A"}},null,null,null,null,null,null,{"$error":"#N/A"}]
[null,null,{"$f":"VLOOKUP($B1579,'Ad Week Dates'!$A:$E,4,FALSE)","v":{"$error":"#N/A"}},{"$f":"VLOOKUP($B1579,'Ad Week Dates'!$A:$E,2,FALSE)","v":{"$error":"#N/A"}},{"$f":"VLOOKUP($B1579,'Ad Week Dates'!$A:$E,3,FALSE)","v":{"$error":"#N/A"}},null,null,null,null,null,null,{"$error":"#N/A"}]
[null,null,{"$f":"VLOOKUP($B1580,'Ad Week Dates'!$A:$E,4,FALSE)","v":{"$error":"#N/A"}},{"$f":"VLOOKUP($B1580,'Ad Week Dates'!$A:$E,2,FALSE)","v":{"$error":"#N/A"}},{"$f":"VLOOKUP($B1580,'Ad Week Dates'!$A:$E,3,FALSE)","v":{"$error":"#N/A"}},null,null,null,null,null,null,{"$error":"#N/A"}]
[null,null,{"$f":"VLOOKUP($B1581,'Ad Week Dates'!$A:$E,4,FALSE)","v":{"$error":"#N/A"}},{"$f":"VLOOKUP($B1581,'Ad Week Dates'!$A:$E,2,FALSE)","v":{"$error":"#N/A"}},{"$f":"VLOOKUP($B1581,'Ad Week Dates'!$A:$E,3,FALSE)","v":{"$error":"#N/A"}},null,null,null,null,null,null,{"$error":"#N/A"}]
[null,null,{"$f":"VLOOKUP($B1582,'Ad Week Dates'!$A:$E,4,FALSE)","v":{"$error":"#N/A"}},{"$f":"VLOOKUP($B1582,'Ad Week Dates'!$A:$E,2,FALSE)","v":{"$error":"#N/A"}},{"$f":"VLOOKUP($B1582,'Ad Week Dates'!$A:$E,3,FALSE)","v":{"$error":"#N/A"}},null,null,null,null,null,null,{"$error":"#N/A"}]
[null,null,{"$f":"VLOOKUP($B1583,'Ad Week Dates'!$A:$E,4,FALSE)","v":{"$error":"#N/A"}},{"$f":"VLOOKUP($B1583,'Ad Week Dates'!$A:$E,2,FALSE)","v":{"$error":"#N/A"}},{"$f":"VLOOKUP($B1583,'Ad Week Dates'!$A:$E,3,FALSE)","v":{"$error":"#N/A"}},null,null,null,null,null,null,{"$error":"#N/A"}]
[null,null,{"$f":"VLOOKUP($B1584,'Ad Week Dates'!$A:$E,4,FALSE)","v":{"$error":"#N/A"}},{"$f":"VLOOKUP($B1584,'Ad Week Dates'!$A:$E,2,FALSE)","v":{"$error":"#N/A"}},{"$f":"VLOOKUP($B1584,'Ad Week Dates'!$A:$E,3,FALSE)","v":{"$error":"#N/A"}},null,null,null,null,null,null,{"$error":"#N/A"}]
[null,null,{"$f":"VLOOKUP($B1585,'Ad Week Dates'!$A:$E,4,FALSE)","v":{"$error":"#N/A"}},{"$f":"VLOOKUP($B1585,'Ad Week Dates'!$A:$E,2,FALSE)","v":{"$error":"#N/A"}},{"$f":"VLOOKUP($B1585,'Ad Week Dates'!$A:$E,3,FALSE)","v":{"$error":"#N/A"}},null,null,null,null,null,null,{"$error":"#N/A"}]
[null,null,{"$f":"VLOOKUP($B1586,'Ad Week Dates'!$A:$E,4,FALSE)","v":{"$error":"#N/A"}},{"$f":"VLOOKUP($B1586,'Ad Week Dates'!$A:$E,2,FALSE)","v":{"$error":"#N/A"}},{"$f":"VLOOKUP($B1586,'Ad Week Dates'!$A:$E,3,FALSE)","v":{"$error":"#N/A"}},null,null,null,null,null,null,{"$error":"#N/A"}]
[null,null,{"$f":"VLOOKUP($B1587,'Ad Week Dates'!$A:$E,4,FALSE)","v":{"$error":"#N/A"}},{"$f":"VLOOKUP($B1587,'Ad Week Dates'!$A:$E,2,FALSE)","v":{"$error":"#N/A"}},{"$f":"VLOOKUP($B1587,'Ad Week Dates'!$A:$E,3,FALSE)","v":{"$error":"#N/A"}},null,null,null,null,null,null,{"$error":"#N/A"}]
[null,null,{"$f":"VLOOKUP($B1588,'Ad Week Dates'!$A:$E,4,FALSE)","v":{"$error":"#N/A"}},{"$f":"VLOOKUP($B1588,'Ad Week Dates'!$A:$E,2,FALSE)","v":{"$error":"#N/A"}},{"$f":"VLOOKUP($B1588,'Ad Week Dates'!$A:$E,3,FALSE)","v":{"$error":"#N/A"}},null,null,null,null,null,null,{"$error":"#N/A"}]
[null,null,{"$f":"VLOOKUP($B1589,'Ad Week Dates'!$A:$E,4,FALSE)","v":{"$error":"#N/A"}},{"$f":"VLOOKUP($B1589,'Ad Week Dates'!$A:$E,2,FALSE)","v":{"$error":"#N/A"}},{"$f":"VLOOKUP($B1589,'Ad Week Dates'!$A:$E,3,FALSE)","v":{"$error":"#N/A"}},null,null,null,null,null,null,{"$error":"#N/A"}]
[null,null,{"$f":"VLOOKUP($B1590,'Ad Week Dates'!$A:$E,4,FALSE)","v":{"$error":"#N/A"}},{"$f":"VLOOKUP($B1590,'Ad Week Dates'!$A:$E,2,FALSE)","v":{"$error":"#N/A"}},{"$f":"VLOOKUP($B1590,'Ad Week Dates'!$A:$E,3,FALSE)","v":{"$error":"#N/A"}},null,null,null,null,null,null,{"$error":"#N/A"}]
[null,null,{"$f":"VLOOKUP($B1591,'Ad Week Dates'!$A:$E,4,FALSE)","v":{"$error":"#N/A"}},{"$f":"VLOOKUP($B1591,'Ad Week Dates'!$A:$E,2,FALSE)","v":{"$error":"#N/A"}},{"$f":"VLOOKUP($B1591,'Ad Week Dates'!$A:$E,3,FALSE)","v":{"$error":"#N/A"}},null,null,null,null,null,null,{"$error":"#N/A"}]
[null,null,{"$f":"VLOOKUP($B1592,'Ad Week Dates'!$A:$E,4,FALSE)","v":{"$error":"#N/A"}},{"$f":"VLOOKUP($B1592,'Ad Week Dates'!$A:$E,2,FALSE)","v":{"$error":"#N/A"}},{"$f":"VLOOKUP($B1592,'Ad Week Dates'!$A:$E,3,FALSE)","v":{"$error":"#N/A"}},null,null,null,null,null,null,{"$error":"#N/A"}]
[null,null,{"$f":"VLOOKUP($B1593,'Ad Week Dates'!$A:$E,4,FALSE)","v":{"$error":"#N/A"}},{"$f":"VLOOKUP($B1593,'Ad Week Dates'!$A:$E,2,FALSE)","v":{"$error":"#N/A"}},{"$f":"VLOOKUP($B1593,'Ad Week Dates'!$A:$E,3,FALSE)","v":{"$error":"#N/A"}},null,null,null,null,null,null,{"$error":"#N/A"}]
[null,null,{"$f":"VLOOKUP($B1594,'Ad Week Dates'!$A:$E,4,FALSE)","v":{"$error":"#N/A"}},{"$f":"VLOOKUP($B1594,'Ad Week Dates'!$A:$E,2,FALSE)","v":{"$error":"#N/A"}},{"$f":"VLOOKUP($B1594,'Ad Week Dates'!$A:$E,3,FALSE)","v":{"$error":"#N/A"}},null,null,null,null,null,null,{"$error":"#N/A"}]
[null,null,{"$f":"VLOOKUP($B1595,'Ad Week Dates'!$A:$E,4,FALSE)","v":{"$error":"#N/A"}},{"$f":"VLOOKUP($B1595,'Ad Week Dates'!$A:$E,2,FALSE)","v":{"$error":"#N/A"}},{"$f":"VLOOKUP($B1595,'Ad Week Dates'!$A:$E,3,FALSE)","v":{"$error":"#N/A"}},null,null,null,null,null,null,{"$error":"#N/A"}]
[null,null,{"$f":"VLOOKUP($B1596,'Ad Week Dates'!$A:$E,4,FALSE)","v":{"$error":"#N/A"}},{"$f":"VLOOKUP($B1596,'Ad Week Dates'!$A:$E,2,FALSE)","v":{"$error":"#N/A"}},{"$f":"VLOOKUP($B1596,'Ad Week Dates'!$A:$E,3,FALSE)","v":{"$error":"#N/A"}},null,null,null,null,null,null,{"$error":"#N/A"}]
[null,null,{"$f":"VLOOKUP($B1597,'Ad Week Dates'!$A:$E,4,FALSE)","v":{"$error":"#N/A"}},{"$f":"VLOOKUP($B1597,'Ad Week Dates'!$A:$E,2,FALSE)","v":{"$error":"#N/A"}},{"$f":"VLOOKUP($B1597,'Ad Week Dates'!$A:$E,3,FALSE)","v":{"$error":"#N/A"}},null,null,null,null,null,null,{"$error":"#N/A"}]
[null,null,{"$f":"VLOOKUP($B1598,'Ad Week Dates'!$A:$E,4,FALSE)","v":{"$error":"#N/A"}},{"$f":"VLOOKUP($B1598,'Ad Week Dates'!$A:$E,2,FALSE)","v":{"$error":"#N/A"}},{"$f":"VLOOKUP($B1598,'Ad Week Dates'!$A:$E,3,FALSE)","v":{"$error":"#N/A"}},null,null,null,null,null,null,{"$error":"#N/A"}]
[null,null,{"$f":"VLOOKUP($B1599,'Ad Week Dates'!$A:$E,4,FALSE)","v":{"$error":"#N/A"}},{"$f":"VLOOKUP($B1599,'Ad Week Dates'!$A:$E,2,FALSE)","v":{"$error":"#N/A"}},{"$f":"VLOOKUP($B1599,'Ad Week Dates'!$A:$E,3,FALSE)","v":{"$error":"#N/A"}},null,null,null,null,null,null,{"$error":"#N/A"}]
[null,null,{"$f":"VLOOKUP($B1600,'Ad Week Dates'!$A:$E,4,FALSE)","v":{"$error":"#N/A"}},{"$f":"VLOOKUP($B1600,'Ad Week Dates'!$A:$E,2,FALSE)","v":{"$error":"#N/A"}},{"$f":"VLOOKUP($B1600,'Ad Week Dates'!$A:$E,3,FALSE)","v":{"$error":"#N/A"}},null,null,null,null,null,null,{"$error":"#N/A"}]
[null,null,{"$f":"VLOOKUP($B1601,'Ad Week Dates'!$A:$E,4,FALSE)","v":{"$error":"#N/A"}},{"$f":"VLOOKUP($B1601,'Ad Week Dates'!$A:$E,2,FALSE)","v":{"$error":"#N/A"}},{"$f":"VLOOKUP($B1601,'Ad Week Dates'!$A:$E,3,FALSE)","v":{"$error":"#N/A"}},null,null,null,null,null,null,{"$error":"#N/A"}]
[null,null,{"$f":"VLOOKUP($B1602,'Ad Week Dates'!$A:$E,4,FALSE)","v":{"$error":"#N/A"}},{"$f":"VLOOKUP($B1602,'Ad Week Dates'!$A:$E,2,FALSE)","v":{"$error":"#N/A"}},{"$f":"VLOOKUP($B1602,'Ad Week Dates'!$A:$E,3,FALSE)","v":{"$error":"#N/A"}},null,null,null,null,null,null,{"$error":"#N/A"}]
[null,null,{"$f":"VLOOKUP($B1603,'Ad Week Dates'!$A:$E,4,FALSE)","v":{"$error":"#N/A"}},{"$f":"VLOOKUP($B1603,'Ad Week Dates'!$A:$E,2,FALSE)","v":{"$error":"#N/A"}},{"$f":"VLOOKUP($B1603,'Ad Week Dates'!$A:$E,3,FALSE)","v":{"$error":"#N/A"}},null,null,null,null,null,null,{"$error":"#N/A"}]
[null,null,{"$f":"VLOOKUP($B1604,'Ad Week Dates'!$A:$E,4,FALSE)","v":{"$error":"#N/A"}},{"$f":"VLOOKUP($B1604,'Ad Week Dates'!$A:$E,2,FALSE)","v":{"$error":"#N/A"}},{"$f":"VLOOKUP($B1604,'Ad Week Dates'!$A:$E,3,FALSE)","v":{"$error":"#N/A"}},null,null,null,null,null,null,{"$error":"#N/A"}]
[null,null,{"$f":"VLOOKUP($B1605,'Ad Week Dates'!$A:$E,4,FALSE)","v":{"$error":"#N/A"}},{"$f":"VLOOKUP($B1605,'Ad Week Dates'!$A:$E,2,FALSE)","v":{"$error":"#N/A"}},{"$f":"VLOOKUP($B1605,'Ad Week Dates'!$A:$E,3,FALSE)","v":{"$error":"#N/A"}},null,null,null,null,null,null,{"$error":"#N/A"}]
[null,null,{"$f":"VLOOKUP($B1606,'Ad Week Dates'!$A:$E,4,FALSE)","v":{"$error":"#N/A"}},{"$f":"VLOOKUP($B1606,'Ad Week Dates'!$A:$E,2,FALSE)","v":{"$error":"#N/A"}},{"$f":"VLOOKUP($B1606,'Ad Week Dates'!$A:$E,3,FALSE)","v":{"$error":"#N/A"}},null,null,null,null,null,null,{"$f":"IF(ISNUMBER(J1606), J1606 - K1606, VALUE(_xlfn.TEXTBEFORE(J1606, \"-\")) - VALUE(_xlfn.TEXTBEFORE(K1606, \"-\")))","v":{"$error":"#N/A"}}]
[null,null,{"$f":"VLOOKUP($B1607,'Ad Week Dates'!$A:$E,4,FALSE)","v":{"$error":"#N/A"}},{"$f":"VLOOKUP($B1607,'Ad Week Dates'!$A:$E,2,FALSE)","v":{"$error":"#N/A"}},{"$f":"VLOOKUP($B1607,'Ad Week Dates'!$A:$E,3,FALSE)","v":{"$error":"#N/A"}},null,null,null,null,null,null,{"$error":"#N/A"}]
[null,null,{"$f":"VLOOKUP($B1608,'Ad Week Dates'!$A:$E,4,FALSE)","v":{"$error":"#N/A"}},{"$f":"VLOOKUP($B1608,'Ad Week Dates'!$A:$E,2,FALSE)","v":{"$error":"#N/A"}},{"$f":"VLOOKUP($B1608,'Ad Week Dates'!$A:$E,3,FALSE)","v":{"$error":"#N/A"}},null,null,null,null,null,null,{"$error":"#N/A"}]
[null,null,{"$f":"VLOOKUP($B1609,'Ad Week Dates'!$A:$E,4,FALSE)","v":{"$error":"#N/A"}},{"$f":"VLOOKUP($B1609,'Ad Week Dates'!$A:$E,2,FALSE)","v":{"$error":"#N/A"}},{"$f":"VLOOKUP($B1609,'Ad Week Dates'!$A:$E,3,FALSE)","v":{"$error":"#N/A"}},null,null,null,null,null,null,{"$error":"#N/A"}]
[null,null,{"$f":"VLOOKUP($B1610,'Ad Week Dates'!$A:$E,4,FALSE)","v":{"$error":"#N/A"}},{"$f":"VLOOKUP($B1610,'Ad Week Dates'!$A:$E,2,FALSE)","v":{"$error":"#N/A"}},{"$f":"VLOOKUP($B1610,'Ad Week Dates'!$A:$E,3,FALSE)","v":{"$error":"#N/A"}},null,null,null,null,null,null,{"$error":"#N/A"}]
[null,null,{"$f":"VLOOKUP($B1611,'Ad Week Dates'!$A:$E,4,FALSE)","v":{"$error":"#N/A"}},{"$f":"VLOOKUP($B1611,'Ad Week Dates'!$A:$E,2,FALSE)","v":{"$error":"#N/A"}},{"$f":"VLOOKUP($B1611,'Ad Week Dates'!$A:$E,3,FALSE)","v":{"$error":"#N/A"}},null,null,null,null,null,null,{"$error":"#N/A"}]
[null,null,{"$f":"VLOOKUP($B1612,'Ad Week Dates'!$A:$E,4,FALSE)","v":{"$error":"#N/A"}},{"$f":"VLOOKUP($B1612,'Ad Week Dates'!$A:$E,2,FALSE)","v":{"$error":"#N/A"}},{"$f":"VLOOKUP($B1612,'Ad Week Dates'!$A:$E,3,FALSE)","v":{"$error":"#N/A"}},null,null,null,null,null,null,{"$error":"#N/A"}]
[null,null,{"$f":"VLOOKUP($B1613,'Ad Week Dates'!$A:$E,4,FALSE)","v":{"$error":"#N/A"}},{"$f":"VLOOKUP($B1613,'Ad Week Dates'!$A:$E,2,FALSE)","v":{"$error":"#N/A"}},{"$f":"VLOOKUP($B1613,'Ad Week Dates'!$A:$E,3,FALSE)","v":{"$error":"#N/A"}},null,null,null,null,null,null,{"$error":"#N/A"}]
[null,null,{"$f":"VLOOKUP($B1614,'Ad Week Dates'!$A:$E,4,FALSE)","v":{"$error":"#N/A"}},{"$f":"VLOOKUP($B1614,'Ad Week Dates'!$A:$E,2,FALSE)","v":{"$error":"#N/A"}},{"$f":"VLOOKUP($B1614,'Ad Week Dates'!$A:$E,3,FALSE)","v":{"$error":"#N/A"}},null,null,null,null,null,null,{"$error":"#N/A"}]
[null,null,{"$f":"VLOOKUP($B1615,'Ad Week Dates'!$A:$E,4,FALSE)","v":{"$error":"#N/A"}},{"$f":"VLOOKUP($B1615,'Ad Week Dates'!$A:$E,2,FALSE)","v":{"$error":"#N/A"}},{"$f":"VLOOKUP($B1615,'Ad Week Dates'!$A:$E,3,FALSE)","v":{"$error":"#N/A"}},null,null,null,null,null,null,{"$error":"#N/A"}]
[null,null,{"$f":"VLOOKUP($B1616,'Ad Week Dates'!$A:$E,4,FALSE)","v":{"$error":"#N/A"}},{"$f":"VLOOKUP($B1616,'Ad Week Dates'!$A:$E,2,FALSE)","v":{"$error":"#N/A"}},{"$f":"VLOOKUP($B1616,'Ad Week Dates'!$A:$E,3,FALSE)","v":{"$error":"#N/A"}},null,null,null,null,null,null,{"$error":"#N/A"}]
[null,null,{"$f":"VLOOKUP($B1617,'Ad Week Dates'!$A:$E,4,FALSE)","v":{"$error":"#N/A"}},{"$f":"VLOOKUP($B1617,'Ad Week Dates'!$A:$E,2,FALSE)","v":{"$error":"#N/A"}},{"$f":"VLOOKUP($B1617,'Ad Week Dates'!$A:$E,3,FALSE)","v":{"$error":"#N/A"}},null,null,null,null,null,null,{"$error":"#N/A"}]
[null,null,{"$f":"VLOOKUP($B1618,'Ad Week Dates'!$A:$E,4,FALSE)","v":{"$error":"#N/A"}},{"$f":"VLOOKUP($B1618,'Ad Week Dates'!$A:$E,2,FALSE)","v":{"$error":"#N/A"}},{"$f":"VLOOKUP($B1618,'Ad Week Dates'!$A:$E,3,FALSE)","v":{"$error":"#N/A"}},null,null,null,null,null,null,{"$error":"#N/A"}]
[null,null,{"$f":"VLOOKUP($B1619,'Ad Week Dates'!$A:$E,4,FALSE)","v":{"$error":"#N/A"}},{"$f":"VLOOKUP($B1619,'Ad Week Dates'!$A:$E,2,FALSE)","v":{"$error":"#N/A"}},{"$f":"VLOOKUP($B1619,'Ad Week Dates'!$A:$E,3,FALSE)","v":{"$error":"#N/A"}},null,null,null,null,null,null,{"$error":"#N/A"}]
[null,null,{"$f":"VLOOKUP($B1620,'Ad Week Dates'!$A:$E,4,FALSE)","v":{"$error":"#N/A"}},{"$f":"VLOOKUP($B1620,'Ad Week Dates'!$A:$E,2,FALSE)","v":{"$error":"#N/A"}},{"$f":"VLOOKUP($B1620,'Ad Week Dates'!$A:$E,3,FALSE)","v":{"$error":"#N/A"}},null,null,null,null,null,null,{"$error":"#N/A"}]
[null,null,{"$f":"VLOOKUP($B1621,'Ad Week Dates'!$A:$E,4,FALSE)","v":{"$error":"#N/A"}},{"$f":"VLOOKUP($B1621,'Ad Week Dates'!$A:$E,2,FALSE)","v":{"$error":"#N/A"}},{"$f":"VLOOKUP($B1621,'Ad Week Dates'!$A:$E,3,FALSE)","v":{"$error":"#N/A"}},null,null,null,null,null,null,{"$error":"#N/A"}]
[null,null,{"$f":"VLOOKUP($B1622,'Ad Week Dates'!$A:$E,4,FALSE)","v":{"$error":"#N/A"}},{"$f":"VLOOKUP($B1622,'Ad Week Dates'!$A:$E,2,FALSE)","v":{"$error":"#N/A"}},{"$f":"VLOOKUP($B1622,'Ad Week Dates'!$A:$E,3,FALSE)","v":{"$error":"#N/A"}},null,null,null,null,null,null,{"$error":"#N/A"}]
[null,null,{"$f":"VLOOKUP($B1623,'Ad Week Dates'!$A:$E,4,FALSE)","v":{"$error":"#N/A"}},{"$f":"VLOOKUP($B1623,'Ad Week Dates'!$A:$E,2,FALSE)","v":{"$error":"#N/A"}},{"$f":"VLOOKUP($B1623,'Ad Week Dates'!$A:$E,3,FALSE)","v":{"$error":"#N/A"}},null,null,null,null,null,null,{"$error":"#N/A"}]
[null,null,{"$f":"VLOOKUP($B1624,'Ad Week Dates'!$A:$E,4,FALSE)","v":{"$error":"#N/A"}},{"$f":"VLOOKUP($B1624,'Ad Week Dates'!$A:$E,2,FALSE)","v":{"$error":"#N/A"}},{"$f":"VLOOKUP($B1624,'Ad Week Dates'!$A:$E,3,FALSE)","v":{"$error":"#N/A"}},null,null,null,null,null,null,{"$error":"#N/A"}]
[null,null,{"$f":"VLOOKUP($B1625,'Ad Week Dates'!$A:$E,4,FALSE)","v":{"$error":"#N/A"}},{"$f":"VLOOKUP($B1625,'Ad Week Dates'!$A:$E,2,FALSE)","v":{"$error":"#N/A"}},{"$f":"VLOOKUP($B1625,'Ad Week Dates'!$A:$E,3,FALSE)","v":{"$error":"#N/A"}},null,null,null,null,null,null,{"$error":"#N/A"}]
[null,null,{"$f":"VLOOKUP($B1626,'Ad Week Dates'!$A:$E,4,FALSE)","v":{"$error":"#N/A"}},{"$f":"VLOOKUP($B1626,'Ad Week Dates'!$A:$E,2,FALSE)","v":{"$error":"#N/A"}},{"$f":"VLOOKUP($B1626,'Ad Week Dates'!$A:$E,3,FALSE)","v":{"$error":"#N/A"}},null,null,null,null,null,null,{"$error":"#N/A"}]
[null,null,{"$f":"VLOOKUP($B1627,'Ad Week Dates'!$A:$E,4,FALSE)","v":{"$error":"#N/A"}},{"$f":"VLOOKUP($B1627,'Ad Week Dates'!$A:$E,2,FALSE)","v":{"$error":"#N/A"}},{"$f":"VLOOKUP($B1627,'Ad Week Dates'!$A:$E,3,FALSE)","v":{"$error":"#N/A"}},null,null,null,null,null,null,{"$error":"#N/A"}]
[null,null,{"$f":"VLOOKUP($B1628,'Ad Week Dates'!$A:$E,4,FALSE)","v":{"$error":"#N/A"}},{"$f":"VLOOKUP($B1628,'Ad Week Dates'!$A:$E,2,FALSE)","v":{"$error":"#N/A"}},{"$f":"VLOOKUP($B1628,'Ad Week Dates'!$A:$E,3,FALSE)","v":{"$error":"#N/A"}},null,null,null,null,null,null,{"$error":"#N/A"}]
[null,null,{"$f":"VLOOKUP($B1629,'Ad Week Dates'!$A:$E,4,FALSE)","v":{"$error":"#N/A"}},{"$f":"VLOOKUP($B1629,'Ad Week Dates'!$A:$E,2,FALSE)","v":{"$error":"#N/A"}},{"$f":"VLOOKUP($B1629,'Ad Week Dates'!$A:$E,3,FALSE)","v":{"$error":"#N/A"}},null,null,null,null,null,null,{"$error":"#N/A"}]
[null,null,{"$f":"VLOOKUP($B1630,'Ad Week Dates'!$A:$E,4,FALSE)","v":{"$error":"#N/A"}},{"$f":"VLOOKUP($B1630,'Ad Week Dates'!$A:$E,2,FALSE)","v":{"$error":"#N/A"}},{"$f":"VLOOKUP($B1630,'Ad Week Dates'!$A:$E,3,FALSE)","v":{"$error":"#N/A"}},null,null,null,null,null,null,{"$error":"#N/A"}]
[null,null,{"$f":"VLOOKUP($B1631,'Ad Week Dates'!$A:$E,4,FALSE)","v":{"$error":"#N/A"}},{"$f":"VLOOKUP($B1631,'Ad Week Dates'!$A:$E,2,FALSE)","v":{"$error":"#N/A"}},{"$f":"VLOOKUP($B1631,'Ad Week Dates'!$A:$E,3,FALSE)","v":{"$error":"#N/A"}},null,null,null,null,null,null,{"$error":"#N/A"}]
[null,null,{"$f":"VLOOKUP($B1632,'Ad Week Dates'!$A:$E,4,FALSE)","v":{"$error":"#N/A"}},{"$f":"VLOOKUP($B1632,'Ad Week Dates'!$A:$E,2,FALSE)","v":{"$error":"#N/A"}},{"$f":"VLOOKUP($B1632,'Ad Week Dates'!$A:$E,3,FALSE)","v":{"$error":"#N/A"}},null,null,null,null,null,null,{"$error":"#N/A"}]
[null,null,{"$f":"VLOOKUP($B1633,'Ad Week Dates'!$A:$E,4,FALSE)","v":{"$error":"#N/A"}},{"$f":"VLOOKUP($B1633,'Ad Week Dates'!$A:$E,2,FALSE)","v":{"$error":"#N/A"}},{"$f":"VLOOKUP($B1633,'Ad Week Dates'!$A:$E,3,FALSE)","v":{"$error":"#N/A"}},null,null,null,null,null,null,{"$error":"#N/A"}]
[null,null,{"$f":"VLOOKUP($B1634,'Ad Week Dates'!$A:$E,4,FALSE)","v":{"$error":"#N/A"}},{"$f":"VLOOKUP($B1634,'Ad Week Dates'!$A:$E,2,FALSE)","v":{"$error":"#N/A"}},{"$f":"VLOOKUP($B1634,'Ad Week Dates'!$A:$E,3,FALSE)","v":{"$error":"#N/A"}},null,null,null,null,null,null,{"$error":"#N/A"}]
[null,null,{"$f":"VLOOKUP($B1635,'Ad Week Dates'!$A:$E,4,FALSE)","v":{"$error":"#N/A"}},{"$f":"VLOOKUP($B1635,'Ad Week Dates'!$A:$E,2,FALSE)","v":{"$error":"#N/A"}},{"$f":"VLOOKUP($B1635,'Ad Week Dates'!$A:$E,3,FALSE)","v":{"$error":"#N/A"}},null,null,null,null,null,null,{"$error":"#N/A"}]
[null,null,{"$f":"VLOOKUP($B1636,'Ad Week Dates'!$A:$E,4,FALSE)","v":{"$error":"#N/A"}},{"$f":"VLOOKUP($B1636,'Ad Week Dates'!$A:$E,2,FALSE)","v":{"$error":"#N/A"}},{"$f":"VLOOKUP($B1636,'Ad Week Dates'!$A:$E,3,FALSE)","v":{"$error":"#N/A"}},null,null,null,null,null,null,{"$error":"#N/A"}]
[null,null,{"$f":"VLOOKUP($B1637,'Ad Week Dates'!$A:$E,4,FALSE)","v":{"$error":"#N/A"}},{"$f":"VLOOKUP($B1637,'Ad Week Dates'!$A:$E,2,FALSE)","v":{"$error":"#N/A"}},{"$f":"VLOOKUP($B1637,'Ad Week Dates'!$A:$E,3,FALSE)","v":{"$error":"#N/A"}},null,null,null,null,null,null,{"$error":"#N/A"}]
[null,null,{"$f":"VLOOKUP($B1638,'Ad Week Dates'!$A:$E,4,FALSE)","v":{"$error":"#N/A"}},{"$f":"VLOOKUP($B1638,'Ad Week Dates'!$A:$E,2,FALSE)","v":{"$error":"#N/A"}},{"$f":"VLOOKUP($B1638,'Ad Week Dates'!$A:$E,3,FALSE)","v":{"$error":"#N/A"}},null,null,null,null,null,null,{"$error":"#N/A"}]
[null,null,{"$f":"VLOOKUP($B1639,'Ad Week Dates'!$A:$E,4,FALSE)","v":{"$error":"#N/A"}},{"$f":"VLOOKUP($B1639,'Ad Week Dates'!$A:$E,2,FALSE)","v":{"$error":"#N/A"}},{"$f":"VLOOKUP($B1639,'Ad Week Dates'!$A:$E,3,FALSE)","v":{"$error":"#N/A"}},null,null,null,null,null,null,{"$error":"#N/A"}]
[null,null,{"$f":"VLOOKUP($B1640,'Ad Week Dates'!$A:$E,4,FALSE)","v":{"$error":"#N/A"}},{"$f":"VLOOKUP($B1640,'Ad Week Dates'!$A:$E,2,FALSE)","v":{"$error":"#N/A"}},{"$f":"VLOOKUP($B1640,'Ad Week Dates'!$A:$E,3,FALSE)","v":{"$error":"#N/A"}},null,null,null,null,null,null,{"$error":"#N/A"}]
[null,null,{"$f":"VLOOKUP($B1641,'Ad Week Dates'!$A:$E,4,FALSE)","v":{"$error":"#N/A"}},{"$f":"VLOOKUP($B1641,'Ad Week Dates'!$A:$E,2,FALSE)","v":{"$error":"#N/A"}},{"$f":"VLOOKUP($B1641,'Ad Week Dates'!$A:$E,3,FALSE)","v":{"$error":"#N/A"}},null,null,null,null,null,null,{"$error":"#N/A"}]
[null,null,{"$f":"VLOOKUP($B1642,'Ad Week Dates'!$A:$E,4,FALSE)","v":{"$error":"#N/A"}},{"$f":"VLOOKUP($B1642,'Ad Week Dates'!$A:$E,2,FALSE)","v":{"$error":"#N/A"}},{"$f":"VLOOKUP($B1642,'Ad Week Dates'!$A:$E,3,FALSE)","v":{"$error":"#N/A"}},null,null,null,null,null,null,{"$error":"#N/A"}]
[null,null,{"$f":"VLOOKUP($B1643,'Ad Week Dates'!$A:$E,4,FALSE)","v":{"$error":"#N/A"}},{"$f":"VLOOKUP($B1643,'Ad Week Dates'!$A:$E,2,FALSE)","v":{"$error":"#N/A"}},{"$f":"VLOOKUP($B1643,'Ad Week Dates'!$A:$E,3,FALSE)","v":{"$error":"#N/A"}},null,null,null,null,null,null,{"$error":"#N/A"}]
[null,null,{"$f":"VLOOKUP($B1644,'Ad Week Dates'!$A:$E,4,FALSE)","v":{"$error":"#N/A"}},{"$f":"VLOOKUP($B1644,'Ad Week Dates'!$A:$E,2,FALSE)","v":{"$error":"#N/A"}},{"$f":"VLOOKUP($B1644,'Ad Week Dates'!$A:$E,3,FALSE)","v":{"$error":"#N/A"}},null,null,null,null,null,null,{"$error":"#N/A"}]
[null,null,{"$f":"VLOOKUP($B1645,'Ad Week Dates'!$A:$E,4,FALSE)","v":{"$error":"#N/A"}},{"$f":"VLOOKUP($B1645,'Ad Week Dates'!$A:$E,2,FALSE)","v":{"$error":"#N/A"}},{"$f":"VLOOKUP($B1645,'Ad Week Dates'!$A:$E,3,FALSE)","v":{"$error":"#N/A"}},null,null,null,null,null,null,{"$error":"#N/A"}]
[null,null,{"$f":"VLOOKUP($B1646,'Ad Week Dates'!$A:$E,4,FALSE)","v":{"$error":"#N/A"}},{"$f":"VLOOKUP($B1646,'Ad Week Dates'!$A:$E,2,FALSE)","v":{"$error":"#N/A"}},{"$f":"VLOOKUP($B1646,'Ad Week Dates'!$A:$E,3,FALSE)","v":{"$error":"#N/A"}},null,null,null,null,null,null,{"$error":"#N/A"}]
[null,null,{"$f":"VLOOKUP($B1647,'Ad Week Dates'!$A:$E,4,FALSE)","v":{"$error":"#N/A"}},{"$f":"VLOOKUP($B1647,'Ad Week Dates'!$A:$E,2,FALSE)","v":{"$error":"#N/A"}},{"$f":"VLOOKUP($B1647,'Ad Week Dates'!$A:$E,3,FALSE)","v":{"$error":"#N/A"}},null,null,null,null,null,null,{"$error":"#N/A"}]
[null,null,{"$f":"VLOOKUP($B1648,'Ad Week Dates'!$A:$E,4,FALSE)","v":{"$error":"#N/A"}},{"$f":"VLOOKUP($B1648,'Ad Week Dates'!$A:$E,2,FALSE)","v":{"$error":"#N/A"}},{"$f":"VLOOKUP($B1648,'Ad Week Dates'!$A:$E,3,FALSE)","v":{"$error":"#N/A"}},null,null,null,null,null,null,{"$error":"#N/A"}]
[null,null,{"$f":"VLOOKUP($B1649,'Ad Week Dates'!$A:$E,4,FALSE)","v":{"$error":"#N/A"}},{"$f":"VLOOKUP($B1649,'Ad Week Dates'!$A:$E,2,FALSE)","v":{"$error":"#N/A"}},{"$f":"VLOOKUP($B1649,'Ad Week Dates'!$A:$E,3,FALSE)","v":{"$error":"#N/A"}},null,null,null,null,null,null,{"$error":"#N/A"}]
[null,null,{"$f":"VLOOKUP($B1650,'Ad Week Dates'!$A:$E,4,FALSE)","v":{"$error":"#N/A"}},{"$f":"VLOOKUP($B1650,'Ad Week Dates'!$A:$E,2,FALSE)","v":{"$error":"#N/A"}},{"$f":"VLOOKUP($B1650,'Ad Week Dates'!$A:$E,3,FALSE)","v":{"$error":"#N/A"}},null,null,null,null,null,null,{"$error":"#N/A"}]
[null,null,{"$f":"VLOOKUP($B1651,'Ad Week Dates'!$A:$E,4,FALSE)","v":{"$error":"#N/A"}},{"$f":"VLOOKUP($B1651,'Ad Week Dates'!$A:$E,2,FALSE)","v":{"$error":"#N/A"}},{"$f":"VLOOKUP($B1651,'Ad Week Dates'!$A:$E,3,FALSE)","v":{"$error":"#N/A"}},null,null,null,null,null,null,{"$error":"#N/A"}]
[null,null,{"$f":"VLOOKUP($B1652,'Ad Week Dates'!$A:$E,4,FALSE)","v":{"$error":"#N/A"}},{"$f":"VLOOKUP($B1652,'Ad Week Dates'!$A:$E,2,FALSE)","v":{"$error":"#N/A"}},{"$f":"VLOOKUP($B1652,'Ad Week Dates'!$A:$E,3,FALSE)","v":{"$error":"#N/A"}},null,null,null,null,null,null,{"$error":"#N/A"}]
[null,null,{"$f":"VLOOKUP($B1653,'Ad Week Dates'!$A:$E,4,FALSE)","v":{"$error":"#N/A"}},{"$f":"VLOOKUP($B1653,'Ad Week Dates'!$A:$E,2,FALSE)","v":{"$error":"#N/A"}},{"$f":"VLOOKUP($B1653,'Ad Week Dates'!$A:$E,3,FALSE)","v":{"$error":"#N/A"}},null,null,null,null,null,null,{"$error":"#N/A"}]
[null,null,{"$f":"VLOOKUP($B1654,'Ad Week Dates'!$A:$E,4,FALSE)","v":{"$error":"#N/A"}},{"$f":"VLOOKUP($B1654,'Ad Week Dates'!$A:$E,2,FALSE)","v":{"$error":"#N/A"}},{"$f":"VLOOKUP($B1654,'Ad Week Dates'!$A:$E,3,FALSE)","v":{"$error":"#N/A"}},null,null,null,null,null,null,{"$error":"#N/A"}]
[null,null,{"$f":"VLOOKUP($B1655,'Ad Week Dates'!$A:$E,4,FALSE)","v":{"$error":"#N/A"}},{"$f":"VLOOKUP($B1655,'Ad Week Dates'!$A:$E,2,FALSE)","v":{"$error":"#N/A"}},{"$f":"VLOOKUP($B1655,'Ad Week Dates'!$A:$E,3,FALSE)","v":{"$error":"#N/A"}},null,null,null,null,null,null,{"$error":"#N/A"}]
[null,null,{"$f":"VLOOKUP($B1656,'Ad Week Dates'!$A:$E,4,FALSE)","v":{"$error":"#N/A"}},{"$f":"VLOOKUP($B1656,'Ad Week Dates'!$A:$E,2,FALSE)","v":{"$error":"#N/A"}},{"$f":"VLOOKUP($B1656,'Ad Week Dates'!$A:$E,3,FALSE)","v":{"$error":"#N/A"}},null,null,null,null,null,null,{"$error":"#N/A"}]
[null,null,{"$f":"VLOOKUP($B1657,'Ad Week Dates'!$A:$E,4,FALSE)","v":{"$error":"#N/A"}},{"$f":"VLOOKUP($B1657,'Ad Week Dates'!$A:$E,2,FALSE)","v":{"$error":"#N/A"}},{"$f":"VLOOKUP($B1657,'Ad Week Dates'!$A:$E,3,FALSE)","v":{"$error":"#N/A"}},null,null,null,null,null,null,{"$error":"#N/A"}]
[null,null,{"$f":"VLOOKUP($B1658,'Ad Week Dates'!$A:$E,4,FALSE)","v":{"$error":"#N/A"}},{"$f":"VLOOKUP($B1658,'Ad Week Dates'!$A:$E,2,FALSE)","v":{"$error":"#N/A"}},{"$f":"VLOOKUP($B1658,'Ad Week Dates'!$A:$E,3,FALSE)","v":{"$error":"#N/A"}},null,null,null,null,null,null,{"$error":"#N/A"}]
[null,null,{"$f":"VLOOKUP($B1659,'Ad Week Dates'!$A:$E,4,FALSE)","v":{"$error":"#N/A"}},{"$f":"VLOOKUP($B1659,'Ad Week Dates'!$A:$E,2,FALSE)","v":{"$error":"#N/A"}},{"$f":"VLOOKUP($B1659,'Ad Week Dates'!$A:$E,3,FALSE)","v":{"$error":"#N/A"}},null,null,null,null,null,null,{"$error":"#N/A"}]
[null,null,{"$f":"VLOOKUP($B1660,'Ad Week Dates'!$A:$E,4,FALSE)","v":{"$error":"#N/A"}},{"$f":"VLOOKUP($B1660,'Ad Week Dates'!$A:$E,2,FALSE)","v":{"$error":"#N/A"}},{"$f":"VLOOKUP($B1660,'Ad Week Dates'!$A:$E,3,FALSE)","v":{"$error":"#N/A"}},null,null,null,null,null,null,{"$error":"#N/A"}]
[null,null,{"$f":"VLOOKUP($B1661,'Ad Week Dates'!$A:$E,4,FALSE)","v":{"$error":"#N/A"}},{"$f":"VLOOKUP($B1661,'Ad Week Dates'!$A:$E,2,FALSE)","v":{"$error":"#N/A"}},{"$f":"VLOOKUP($B1661,'Ad Week Dates'!$A:$E,3,FALSE)","v":{"$error":"#N/A"}},null,null,null,null,null,null,{"$error":"#N/A"}]
[null,null,{"$f":"VLOOKUP($B1662,'Ad Week Dates'!$A:$E,4,FALSE)","v":{"$error":"#N/A"}},{"$f":"VLOOKUP($B1662,'Ad Week Dates'!$A:$E,2,FALSE)","v":{"$error":"#N/A"}},{"$f":"VLOOKUP($B1662,'Ad Week Dates'!$A:$E,3,FALSE)","v":{"$error":"#N/A"}},null,null,null,null,null,null,{"$error":"#N/A"}]
[null,null,{"$f":"VLOOKUP($B1663,'Ad Week Dates'!$A:$E,4,FALSE)","v":{"$error":"#N/A"}},{"$f":"VLOOKUP($B1663,'Ad Week Dates'!$A:$E,2,FALSE)","v":{"$error":"#N/A"}},{"$f":"VLOOKUP($B1663,'Ad Week Dates'!$A:$E,3,FALSE)","v":{"$error":"#N/A"}},null,null,null,null,null,null,{"$error":"#N/A"}]
[null,null,{"$f":"VLOOKUP($B1664,'Ad Week Dates'!$A:$E,4,FALSE)","v":{"$error":"#N/A"}},{"$f":"VLOOKUP($B1664,'Ad Week Dates'!$A:$E,2,FALSE)","v":{"$error":"#N/A"}},{"$f":"VLOOKUP($B1664,'Ad Week Dates'!$A:$E,3,FALSE)","v":{"$error":"#N/A"}},null,null,null,null,null,null,{"$error":"#N/A"}]
[null,null,{"$f":"VLOOKUP($B1665,'Ad Week Dates'!$A:$E,4,FALSE)","v":{"$error":"#N/A"}},{"$f":"VLOOKUP($B1665,'Ad Week Dates'!$A:$E,2,FALSE)","v":{"$error":"#N/A"}},{"$f":"VLOOKUP($B1665,'Ad Week Dates'!$A:$E,3,FALSE)","v":{"$error":"#N/A"}},null,null,null,null,null,null,{"$error":"#N/A"}]
[null,null,{"$f":"VLOOKUP($B1666,'Ad Week Dates'!$A:$E,4,FALSE)","v":{"$error":"#N/A"}},{"$f":"VLOOKUP($B1666,'Ad Week Dates'!$A:$E,2,FALSE)","v":{"$error":"#N/A"}},{"$f":"VLOOKUP($B1666,'Ad Week Dates'!$A:$E,3,FALSE)","v":{"$error":"#N/A"}},null,null,null,null,null,null,{"$error":"#N/A"}]
[null,null,{"$f":"VLOOKUP($B1667,'Ad Week Dates'!$A:$E,4,FALSE)","v":{"$error":"#N/A"}},{"$f":"VLOOKUP($B1667,'Ad Week Dates'!$A:$E,2,FALSE)","v":{"$error":"#N/A"}},{"$f":"VLOOKUP($B1667,'Ad Week Dates'!$A:$E,3,FALSE)","v":{"$error":"#N/A"}},null,null,null,null,null,null,{"$error":"#N/A"}]
[null,null,{"$f":"VLOOKUP($B1668,'Ad Week Dates'!$A:$E,4,FALSE)","v":{"$error":"#N/A"}},{"$f":"VLOOKUP($B1668,'Ad Week Dates'!$A:$E,2,FALSE)","v":{"$error":"#N/A"}},{"$f":"VLOOKUP($B1668,'Ad Week Dates'!$A:$E,3,FALSE)","v":{"$error":"#N/A"}},null,null,null,null,null,null,{"$error":"#N/A"}]
[null,null,{"$f":"VLOOKUP($B1669,'Ad Week Dates'!$A:$E,4,FALSE)","v":{"$error":"#N/A"}},{"$f":"VLOOKUP($B1669,'Ad Week Dates'!$A:$E,2,FALSE)","v":{"$error":"#N/A"}},{"$f":"VLOOKUP($B1669,'Ad Week Dates'!$A:$E,3,FALSE)","v":{"$error":"#N/A"}},null,null,null,null,null,null,{"$error":"#N/A"}]
[null,null,{"$f":"VLOOKUP($B1670,'Ad Week Dates'!$A:$E,4,FALSE)","v":{"$error":"#N/A"}},{"$f":"VLOOKUP($B1670,'Ad Week Dates'!$A:$E,2,FALSE)","v":{"$error":"#N/A"}},{"$f":"VLOOKUP($B1670,'Ad Week Dates'!$A:$E,3,FALSE)","v":{"$error":"#N/A"}},null,null,null,null,null,null,{"$f":"IF(ISNUMBER(J1670), J1670 - K1670, VALUE(_xlfn.TEXTBEFORE(J1670, \"-\")) - VALUE(_xlfn.TEXTBEFORE(K1670, \"-\")))","v":{"$error":"#N/A"}}]
[null,null,{"$f":"VLOOKUP($B1671,'Ad Week Dates'!$A:$E,4,FALSE)","v":{"$error":"#N/A"}},{"$f":"VLOOKUP($B1671,'Ad Week Dates'!$A:$E,2,FALSE)","v":{"$error":"#N/A"}},{"$f":"VLOOKUP($B1671,'Ad Week Dates'!$A:$E,3,FALSE)","v":{"$error":"#N/A"}},null,null,null,null,null,null,{"$error":"#N/A"}]
[null,null,{"$f":"VLOOKUP($B1672,'Ad Week Dates'!$A:$E,4,FALSE)","v":{"$error":"#N/A"}},{"$f":"VLOOKUP($B1672,'Ad Week Dates'!$A:$E,2,FALSE)","v":{"$error":"#N/A"}},{"$f":"VLOOKUP($B1672,'Ad Week Dates'!$A:$E,3,FALSE)","v":{"$error":"#N/A"}},null,null,null,null,null,null,{"$error":"#N/A"}]
[null,null,{"$f":"VLOOKUP($B1673,'Ad Week Dates'!$A:$E,4,FALSE)","v":{"$error":"#N/A"}},{"$f":"VLOOKUP($B1673,'Ad Week Dates'!$A:$E,2,FALSE)","v":{"$error":"#N/A"}},{"$f":"VLOOKUP($B1673,'Ad Week Dates'!$A:$E,3,FALSE)","v":{"$error":"#N/A"}},null,null,null,null,null,null,{"$error":"#N/A"}]
[null,null,{"$f":"VLOOKUP($B1674,'Ad Week Dates'!$A:$E,4,FALSE)","v":{"$error":"#N/A"}},{"$f":"VLOOKUP($B1674,'Ad Week Dates'!$A:$E,2,FALSE)","v":{"$error":"#N/A"}},{"$f":"VLOOKUP($B1674,'Ad Week Dates'!$A:$E,3,FALSE)","v":{"$error":"#N/A"}},null,null,null,null,null,null,{"$error":"#N/A"}]
[null,null,{"$f":"VLOOKUP($B1675,'Ad Week Dates'!$A:$E,4,FALSE)","v":{"$error":"#N/A"}},{"$f":"VLOOKUP($B1675,'Ad Week Dates'!$A:$E,2,FALSE)","v":{"$error":"#N/A"}},{"$f":"VLOOKUP($B1675,'Ad Week Dates'!$A:$E,3,FALSE)","v":{"$error":"#N/A"}},null,null,null,null,null,null,{"$error":"#N/A"}]
[null,null,{"$f":"VLOOKUP($B1676,'Ad Week Dates'!$A:$E,4,FALSE)","v":{"$error":"#N/A"}},{"$f":"VLOOKUP($B1676,'Ad Week Dates'!$A:$E,2,FALSE)","v":{"$error":"#N/A"}},{"$f":"VLOOKUP($B1676,'Ad Week Dates'!$A:$E,3,FALSE)","v":{"$error":"#N/A"}},null,null,null,null,null,null,{"$error":"#N/A"}]
[null,null,{"$f":"VLOOKUP($B1677,'Ad Week Dates'!$A:$E,4,FALSE)","v":{"$error":"#N/A"}},{"$f":"VLOOKUP($B1677,'Ad Week Dates'!$A:$E,2,FALSE)","v":{"$error":"#N/A"}},{"$f":"VLOOKUP($B1677,'Ad Week Dates'!$A:$E,3,FALSE)","v":{"$error":"#N/A"}},null,null,null,null,null,null,{"$error":"#N/A"}]
[null,null,{"$f":"VLOOKUP($B1678,'Ad Week Dates'!$A:$E,4,FALSE)","v":{"$error":"#N/A"}},{"$f":"VLOOKUP($B1678,'Ad Week Dates'!$A:$E,2,FALSE)","v":{"$error":"#N/A"}},{"$f":"VLOOKUP($B1678,'Ad Week Dates'!$A:$E,3,FALSE)","v":{"$error":"#N/A"}},null,null,null,null,null,null,{"$error":"#N/A"}]
[null,null,{"$f":"VLOOKUP($B1679,'Ad Week Dates'!$A:$E,4,FALSE)","v":{"$error":"#N/A"}},{"$f":"VLOOKUP($B1679,'Ad Week Dates'!$A:$E,2,FALSE)","v":{"$error":"#N/A"}},{"$f":"VLOOKUP($B1679,'Ad Week Dates'!$A:$E,3,FALSE)","v":{"$error":"#N/A"}},null,null,null,null,null,null,{"$error":"#N/A"}]
[null,null,{"$f":"VLOOKUP($B1680,'Ad Week Dates'!$A:$E,4,FALSE)","v":{"$error":"#N/A"}},{"$f":"VLOOKUP($B1680,'Ad Week Dates'!$A:$E,2,FALSE)","v":{"$error":"#N/A"}},{"$f":"VLOOKUP($B1680,'Ad Week Dates'!$A:$E,3,FALSE)","v":{"$error":"#N/A"}},null,null,null,null,null,null,{"$error":"#N/A"}]
[null,null,{"$f":"VLOOKUP($B1681,'Ad Week Dates'!$A:$E,4,FALSE)","v":{"$error":"#N/A"}},{"$f":"VLOOKUP($B1681,'Ad Week Dates'!$A:$E,2,FALSE)","v":{"$error":"#N/A"}},{"$f":"VLOOKUP($B1681,'Ad Week Dates'!$A:$E,3,FALSE)","v":{"$error":"#N/A"}},null,null,null,null,null,null,{"$error":"#N/A"}]
[null,null,{"$f":"VLOOKUP($B1682,'Ad Week Dates'!$A:$E,4,FALSE)","v":{"$error":"#N/A"}},{"$f":"VLOOKUP($B1682,'Ad Week Dates'!$A:$E,2,FALSE)","v":{"$error":"#N/A"}},{"$f":"VLOOKUP($B1682,'Ad Week Dates'!$A:$E,3,FALSE)","v":{"$error":"#N/A"}},null,null,null,null,null,null,{"$error":"#N/A"}]
[null,null,{"$f":"VLOOKUP($B1683,'Ad Week Dates'!$A:$E,4,FALSE)","v":{"$error":"#N/A"}},{"$f":"VLOOKUP($B1683,'Ad Week Dates'!$A:$E,2,FALSE)","v":{"$error":"#N/A"}},{"$f":"VLOOKUP($B1683,'Ad Week Dates'!$A:$E,3,FALSE)","v":{"$error":"#N/A"}},null,null,null,null,null,null,{"$error":"#N/A"}]
[null,null,{"$f":"VLOOKUP($B1684,'Ad Week Dates'!$A:$E,4,FALSE)","v":{"$error":"#N/A"}},{"$f":"VLOOKUP($B1684,'Ad Week Dates'!$A:$E,2,FALSE)","v":{"$error":"#N/A"}},{"$f":"VLOOKUP($B1684,'Ad Week Dates'!$A:$E,3,FALSE)","v":{"$error":"#N/A"}},null,null,null,null,null,null,{"$error":"#N/A"}]
[null,null,{"$f":"VLOOKUP($B1685,'Ad Week Dates'!$A:$E,4,FALSE)","v":{"$error":"#N/A"}},{"$f":"VLOOKUP($B1685,'Ad Week Dates'!$A:$E,2,FALSE)","v":{"$error":"#N/A"}},{"$f":"VLOOKUP($B1685,'Ad Week Dates'!$A:$E,3,FALSE)","v":{"$error":"#N/A"}},null,null,null,null,null,null,{"$error":"#N/A"}]
[null,null,{"$f":"VLOOKUP($B1686,'Ad Week Dates'!$A:$E,4,FALSE)","v":{"$error":"#N/A"}},{"$f":"VLOOKUP($B1686,'Ad Week Dates'!$A:$E,2,FALSE)","v":{"$error":"#N/A"}},{"$f":"VLOOKUP($B1686,'Ad Week Dates'!$A:$E,3,FALSE)","v":{"$error":"#N/A"}},null,null,null,null,null,null,{"$error":"#N/A"}]
[null,null,{"$f":"VLOOKUP($B1687,'Ad Week Dates'!$A:$E,4,FALSE)","v":{"$error":"#N/A"}},{"$f":"VLOOKUP($B1687,'Ad Week Dates'!$A:$E,2,FALSE)","v":{"$error":"#N/A"}},{"$f":"VLOOKUP($B1687,'Ad Week Dates'!$A:$E,3,FALSE)","v":{"$error":"#N/A"}},null,null,null,null,null,null,{"$error":"#N/A"}]
[null,null,{"$f":"VLOOKUP($B1688,'Ad Week Dates'!$A:$E,4,FALSE)","v":{"$error":"#N/A"}},{"$f":"VLOOKUP($B1688,'Ad Week Dates'!$A:$E,2,FALSE)","v":{"$error":"#N/A"}},{"$f":"VLOOKUP($B1688,'Ad Week Dates'!$A:$E,3,FALSE)","v":{"$error":"#N/A"}},null,null,null,null,null,null,{"$error":"#N/A"}]
[null,null,{"$f":"VLOOKUP($B1689,'Ad Week Dates'!$A:$E,4,FALSE)","v":{"$error":"#N/A"}},{"$f":"VLOOKUP($B1689,'Ad Week Dates'!$A:$E,2,FALSE)","v":{"$error":"#N/A"}},{"$f":"VLOOKUP($B1689,'Ad Week Dates'!$A:$E,3,FALSE)","v":{"$error":"#N/A"}},null,null,null,null,null,null,{"$error":"#N/A"}]
[null,null,{"$f":"VLOOKUP($B1690,'Ad Week Dates'!$A:$E,4,FALSE)","v":{"$error":"#N/A"}},{"$f":"VLOOKUP($B1690,'Ad Week Dates'!$A:$E,2,FALSE)","v":{"$error":"#N/A"}},{"$f":"VLOOKUP($B1690,'Ad Week Dates'!$A:$E,3,FALSE)","v":{"$error":"#N/A"}},null,null,null,null,null,null,{"$error":"#N/A"}]
[null,null,{"$f":"VLOOKUP($B1691,'Ad Week Dates'!$A:$E,4,FALSE)","v":{"$error":"#N/A"}},{"$f":"VLOOKUP($B1691,'Ad Week Dates'!$A:$E,2,FALSE)","v":{"$error":"#N/A"}},{"$f":"VLOOKUP($B1691,'Ad Week Dates'!$A:$E,3,FALSE)","v":{"$error":"#N/A"}},null,null,null,null,null,null,{"$error":"#N/A"}]
[null,null,{"$f":"VLOOKUP($B1692,'Ad Week Dates'!$A:$E,4,FALSE)","v":{"$error":"#N/A"}},{"$f":"VLOOKUP($B1692,'Ad Week Dates'!$A:$E,2,FALSE)","v":{"$error":"#N/A"}},{"$f":"VLOOKUP($B1692,'Ad Week Dates'!$A:$E,3,FALSE)","v":{"$error":"#N/A"}},null,null,null,null,null,null,{"$error":"#N/A"}]
[null,null,{"$f":"VLOOKUP($B1693,'Ad Week Dates'!$A:$E,4,FALSE)","v":{"$error":"#N/A"}},{"$f":"VLOOKUP($B1693,'Ad Week Dates'!$A:$E,2,FALSE)","v":{"$error":"#N/A"}},{"$f":"VLOOKUP($B1693,'Ad Week Dates'!$A:$E,3,FALSE)","v":{"$error":"#N/A"}},null,null,null,null,null,null,{"$error":"#N/A"}]
[null,null,{"$f":"VLOOKUP($B1694,'Ad Week Dates'!$A:$E,4,FALSE)","v":{"$error":"#N/A"}},{"$f":"VLOOKUP($B1694,'Ad Week Dates'!$A:$E,2,FALSE)","v":{"$error":"#N/A"}},{"$f":"VLOOKUP($B1694,'Ad Week Dates'!$A:$E,3,FALSE)","v":{"$error":"#N/A"}},null,null,null,null,null,null,{"$error":"#N/A"}]
[null,null,{"$f":"VLOOKUP($B1695,'Ad Week Dates'!$A:$E,4,FALSE)","v":{"$error":"#N/A"}},{"$f":"VLOOKUP($B1695,'Ad Week Dates'!$A:$E,2,FALSE)","v":{"$error":"#N/A"}},{"$f":"VLOOKUP($B1695,'Ad Week Dates'!$A:$E,3,FALSE)","v":{"$error":"#N/A"}},null,null,null,null,null,null,{"$error":"#N/A"}]
[null,null,{"$f":"VLOOKUP($B1696,'Ad Week Dates'!$A:$E,4,FALSE)","v":{"$error":"#N/A"}},{"$f":"VLOOKUP($B1696,'Ad Week Dates'!$A:$E,2,FALSE)","v":{"$error":"#N/A"}},{"$f":"VLOOKUP($B1696,'Ad Week Dates'!$A:$E,3,FALSE)","v":{"$error":"#N/A"}},null,null,null,null,null,null,{"$error":"#N/A"}]
[null,null,{"$f":"VLOOKUP($B1697,'Ad Week Dates'!$A:$E,4,FALSE)","v":{"$error":"#N/A"}},{"$f":"VLOOKUP($B1697,'Ad Week Dates'!$A:$E,2,FALSE)","v":{"$error":"#N/A"}},{"$f":"VLOOKUP($B1697,'Ad Week Dates'!$A:$E,3,FALSE)","v":{"$error":"#N/A"}},null,null,null,null,null,null,{"$error":"#N/A"}]
[null,null,{"$f":"VLOOKUP($B1698,'Ad Week Dates'!$A:$E,4,FALSE)","v":{"$error":"#N/A"}},{"$f":"VLOOKUP($B1698,'Ad Week Dates'!$A:$E,2,FALSE)","v":{"$error":"#N/A"}},{"$f":"VLOOKUP($B1698,'Ad Week Dates'!$A:$E,3,FALSE)","v":{"$error":"#N/A"}},null,null,null,null,null,null,{"$error":"#N/A"}]
[null,null,{"$f":"VLOOKUP($B1699,'Ad Week Dates'!$A:$E,4,FALSE)","v":{"$error":"#N/A"}},{"$f":"VLOOKUP($B1699,'Ad Week Dates'!$A:$E,2,FALSE)","v":{"$error":"#N/A"}},{"$f":"VLOOKUP($B1699,'Ad Week Dates'!$A:$E,3,FALSE)","v":{"$error":"#N/A"}},null,null,null,null,null,null,{"$error":"#N/A"}]
[null,null,{"$f":"VLOOKUP($B1700,'Ad Week Dates'!$A:$E,4,FALSE)","v":{"$error":"#N/A"}},{"$f":"VLOOKUP($B1700,'Ad Week Dates'!$A:$E,2,FALSE)","v":{"$error":"#N/A"}},{"$f":"VLOOKUP($B1700,'Ad Week Dates'!$A:$E,3,FALSE)","v":{"$error":"#N/A"}},null,null,null,null,null,null,{"$error":"#N/A"}]
[null,null,{"$f":"VLOOKUP($B1701,'Ad Week Dates'!$A:$E,4,FALSE)","v":{"$error":"#N/A"}},{"$f":"VLOOKUP($B1701,'Ad Week Dates'!$A:$E,2,FALSE)","v":{"$error":"#N/A"}},{"$f":"VLOOKUP($B1701,'Ad Week Dates'!$A:$E,3,FALSE)","v":{"$error":"#N/A"}},null,null,null,null,null,null,{"$error":"#N/A"}]
[null,null,{"$f":"VLOOKUP($B1702,'Ad Week Dates'!$A:$E,4,FALSE)","v":{"$error":"#N/A"}},{"$f":"VLOOKUP($B1702,'Ad Week Dates'!$A:$E,2,FALSE)","v":{"$error":"#N/A"}},{"$f":"VLOOKUP($B1702,'Ad Week Dates'!$A:$E,3,FALSE)","v":{"$error":"#N/A"}},null,null,null,null,null,null,{"$error":"#N/A"}]
[null,null,{"$f":"VLOOKUP($B1703,'Ad Week Dates'!$A:$E,4,FALSE)","v":{"$error":"#N/A"}},{"$f":"VLOOKUP($B1703,'Ad Week Dates'!$A:$E,2,FALSE)","v":{"$error":"#N/A"}},{"$f":"VLOOKUP($B1703,'Ad Week Dates'!$A:$E,3,FALSE)","v":{"$error":"#N/A"}},null,null,null,null,null,null,{"$error":"#N/A"}]
[null,null,{"$f":"VLOOKUP($B1704,'Ad Week Dates'!$A:$E,4,FALSE)","v":{"$error":"#N/A"}},{"$f":"VLOOKUP($B1704,'Ad Week Dates'!$A:$E,2,FALSE)","v":{"$error":"#N/A"}},{"$f":"VLOOKUP($B1704,'Ad Week Dates'!$A:$E,3,FALSE)","v":{"$error":"#N/A"}},null,null,null,null,null,null,{"$error":"#N/A"}]
[null,null,{"$f":"VLOOKUP($B1705,'Ad Week Dates'!$A:$E,4,FALSE)","v":{"$error":"#N/A"}},{"$f":"VLOOKUP($B1705,'Ad Week Dates'!$A:$E,2,FALSE)","v":{"$error":"#N/A"}},{"$f":"VLOOKUP($B1705,'Ad Week Dates'!$A:$E,3,FALSE)","v":{"$error":"#N/A"}},null,null,null,null,null,null,{"$error":"#N/A"}]
[null,null,{"$f":"VLOOKUP($B1706,'Ad Week Dates'!$A:$E,4,FALSE)","v":{"$error":"#N/A"}},{"$f":"VLOOKUP($B1706,'Ad Week Dates'!$A:$E,2,FALSE)","v":{"$error":"#N/A"}},{"$f":"VLOOKUP($B1706,'Ad Week Dates'!$A:$E,3,FALSE)","v":{"$error":"#N/A"}},null,null,null,null,null,null,{"$error":"#N/A"}]
[null,null,{"$f":"VLOOKUP($B1707,'Ad Week Dates'!$A:$E,4,FALSE)","v":{"$error":"#N/A"}},{"$f":"VLOOKUP($B1707,'Ad Week Dates'!$A:$E,2,FALSE)","v":{"$error":"#N/A"}},{"$f":"VLOOKUP($B1707,'Ad Week Dates'!$A:$E,3,FALSE)","v":{"$error":"#N/A"}},null,null,null,null,null,null,{"$error":"#N/A"}]
[null,null,{"$f":"VLOOKUP($B1708,'Ad Week Dates'!$A:$E,4,FALSE)","v":{"$error":"#N/A"}},{"$f":"VLOOKUP($B1708,'Ad Week Dates'!$A:$E,2,FALSE)","v":{"$error":"#N/A"}},{"$f":"VLOOKUP($B1708,'Ad Week Dates'!$A:$E,3,FALSE)","v":{"$error":"#N/A"}},null,null,null,null,null,null,{"$error":"#N/A"}]
[null,null,{"$f":"VLOOKUP($B1709,'Ad Week Dates'!$A:$E,4,FALSE)","v":{"$error":"#N/A"}},{"$f":"VLOOKUP($B1709,'Ad Week Dates'!$A:$E,2,FALSE)","v":{"$error":"#N/A"}},{"$f":"VLOOKUP($B1709,'Ad Week Dates'!$A:$E,3,FALSE)","v":{"$error":"#N/A"}},null,null,null,null,null,null,{"$error":"#N/A"}]
[null,null,{"$f":"VLOOKUP($B1710,'Ad Week Dates'!$A:$E,4,FALSE)","v":{"$error":"#N/A"}},{"$f":"VLOOKUP($B1710,'Ad Week Dates'!$A:$E,2,FALSE)","v":{"$error":"#N/A"}},{"$f":"VLOOKUP($B1710,'Ad Week Dates'!$A:$E,3,FALSE)","v":{"$error":"#N/A"}},null,null,null,null,null,null,{"$error":"#N/A"}]
[null,null,{"$f":"VLOOKUP($B1711,'Ad Week Dates'!$A:$E,4,FALSE)","v":{"$error":"#N/A"}},{"$f":"VLOOKUP($B1711,'Ad Week Dates'!$A:$E,2,FALSE)","v":{"$error":"#N/A"}},{"$f":"VLOOKUP($B1711,'Ad Week Dates'!$A:$E,3,FALSE)","v":{"$error":"#N/A"}},null,null,null,null,null,null,{"$error":"#N/A"}]
[null,null,{"$f":"VLOOKUP($B1712,'Ad Week Dates'!$A:$E,4,FALSE)","v":{"$error":"#N/A"}},{"$f":"VLOOKUP($B1712,'Ad Week Dates'!$A:$E,2,FALSE)","v":{"$error":"#N/A"}},{"$f":"VLOOKUP($B1712,'Ad Week Dates'!$A:$E,3,FALSE)","v":{"$error":"#N/A"}},null,null,null,null,null,null,{"$error":"#N/A"}]
[null,null,{"$f":"VLOOKUP($B1713,'Ad Week Dates'!$A:$E,4,FALSE)","v":{"$error":"#N/A"}},{"$f":"VLOOKUP($B1713,'Ad Week Dates'!$A:$E,2,FALSE)","v":{"$error":"#N/A"}},{"$f":"VLOOKUP($B1713,'Ad Week Dates'!$A:$E,3,FALSE)","v":{"$error":"#N/A"}},null,null,null,null,null,null,{"$error":"#N/A"}]
[null,null,{"$f":"VLOOKUP($B1714,'Ad Week Dates'!$A:$E,4,FALSE)","v":{"$error":"#N/A"}},{"$f":"VLOOKUP($B1714,'Ad Week Dates'!$A:$E,2,FALSE)","v":{"$error":"#N/A"}},{"$f":"VLOOKUP($B1714,'Ad Week Dates'!$A:$E,3,FALSE)","v":{"$error":"#N/A"}},null,null,null,null,null,null,{"$error":"#N/A"}]
[null,null,{"$f":"VLOOKUP($B1715,'Ad Week Dates'!$A:$E,4,FALSE)","v":{"$error":"#N/A"}},{"$f":"VLOOKUP($B1715,'Ad Week Dates'!$A:$E,2,FALSE)","v":{"$error":"#N/A"}},{"$f":"VLOOKUP($B1715,'Ad Week Dates'!$A:$E,3,FALSE)","v":{"$error":"#N/A"}},null,null,null,null,null,null,{"$error":"#N/A"}]
[null,null,{"$f":"VLOOKUP($B1716,'Ad Week Dates'!$A:$E,4,FALSE)","v":{"$error":"#N/A"}},{"$f":"VLOOKUP($B1716,'Ad Week Dates'!$A:$E,2,FALSE)","v":{"$error":"#N/A"}},{"$f":"VLOOKUP($B1716,'Ad Week Dates'!$A:$E,3,FALSE)","v":{"$error":"#N/A"}},null,null,null,null,null,null,{"$error":"#N/A"}]
[null,null,{"$f":"VLOOKUP($B1717,'Ad Week Dates'!$A:$E,4,FALSE)","v":{"$error":"#N/A"}},{"$f":"VLOOKUP($B1717,'Ad Week Dates'!$A:$E,2,FALSE)","v":{"$error":"#N/A"}},{"$f":"VLOOKUP($B1717,'Ad Week Dates'!$A:$E,3,FALSE)","v":{"$error":"#N/A"}},null,null,null,null,null,null,{"$error":"#N/A"}]
[null,null,{"$f":"VLOOKUP($B1718,'Ad Week Dates'!$A:$E,4,FALSE)","v":{"$error":"#N/A"}},{"$f":"VLOOKUP($B1718,'Ad Week Dates'!$A:$E,2,FALSE)","v":{"$error":"#N/A"}},{"$f":"VLOOKUP($B1718,'Ad Week Dates'!$A:$E,3,FALSE)","v":{"$error":"#N/A"}},null,null,null,null,null,null,{"$error":"#N/A"}]
[null,null,{"$f":"VLOOKUP($B1719,'Ad Week Dates'!$A:$E,4,FALSE)","v":{"$error":"#N/A"}},{"$f":"VLOOKUP($B1719,'Ad Week Dates'!$A:$E,2,FALSE)","v":{"$error":"#N/A"}},{"$f":"VLOOKUP($B1719,'Ad Week Dates'!$A:$E,3,FALSE)","v":{"$error":"#N/A"}},null,null,null,null,null,null,{"$error":"#N/A"}]
[null,null,{"$f":"VLOOKUP($B1720,'Ad Week Dates'!$A:$E,4,FALSE)","v":{"$error":"#N/A"}},{"$f":"VLOOKUP($B1720,'Ad Week Dates'!$A:$E,2,FALSE)","v":{"$error":"#N/A"}},{"$f":"VLOOKUP($B1720,'Ad Week Dates'!$A:$E,3,FALSE)","v":{"$error":"#N/A"}},null,null,null,null,null,null,{"$error":"#N/A"}]
[null,null,{"$f":"VLOOKUP($B1721,'Ad Week Dates'!$A:$E,4,FALSE)","v":{"$error":"#N/A"}},{"$f":"VLOOKUP($B1721,'Ad Week Dates'!$A:$E,2,FALSE)","v":{"$error":"#N/A"}},{"$f":"VLOOKUP($B1721,'Ad Week Dates'!$A:$E,3,FALSE)","v":{"$error":"#N/A"}},null,null,null,null,null,null,{"$error":"#N/A"}]
[null,null,{"$f":"VLOOKUP($B1722,'Ad Week Dates'!$A:$E,4,FALSE)","v":{"$error":"#N/A"}},{"$f":"VLOOKUP($B1722,'Ad Week Dates'!$A:$E,2,FALSE)","v":{"$error":"#N/A"}},{"$f":"VLOOKUP($B1722,'Ad Week Dates'!$A:$E,3,FALSE)","v":{"$error":"#N/A"}},null,null,null,null,null,null,{"$error":"#N/A"}]
[null,null,{"$f":"VLOOKUP($B1723,'Ad Week Dates'!$A:$E,4,FALSE)","v":{"$error":"#N/A"}},{"$f":"VLOOKUP($B1723,'Ad Week Dates'!$A:$E,2,FALSE)","v":{"$error":"#N/A"}},{"$f":"VLOOKUP($B1723,'Ad Week Dates'!$A:$E,3,FALSE)","v":{"$error":"#N/A"}},null,null,null,null,null,null,{"$error":"#N/A"}]
[null,null,{"$f":"VLOOKUP($B1724,'Ad Week Dates'!$A:$E,4,FALSE)","v":{"$error":"#N/A"}},{"$f":"VLOOKUP($B1724,'Ad Week Dates'!$A:$E,2,FALSE)","v":{"$error":"#N/A"}},{"$f":"VLOOKUP($B1724,'Ad Week Dates'!$A:$E,3,FALSE)","v":{"$error":"#N/A"}},null,null,null,null,null,null,{"$error":"#N/A"}]
[null,null,{"$f":"VLOOKUP($B1725,'Ad Week Dates'!$A:$E,4,FALSE)","v":{"$error":"#N/A"}},{"$f":"VLOOKUP($B1725,'Ad Week Dates'!$A:$E,2,FALSE)","v":{"$error":"#N/A"}},{"$f":"VLOOKUP($B1725,'Ad Week Dates'!$A:$E,3,FALSE)","v":{"$error":"#N/A"}},null,null,null,null,null,null,{"$error":"#N/A"}]
[null,null,{"$f":"VLOOKUP($B1726,'Ad Week Dates'!$A:$E,4,FALSE)","v":{"$error":"#N/A"}},{"$f":"VLOOKUP($B1726,'Ad Week Dates'!$A:$E,2,FALSE)","v":{"$error":"#N/A"}},{"$f":"VLOOKUP($B1726,'Ad Week Dates'!$A:$E,3,FALSE)","v":{"$error":"#N/A"}},null,null,null,null,null,null,{"$error":"#N/A"}]
[null,null,{"$f":"VLOOKUP($B1727,'Ad Week Dates'!$A:$E,4,FALSE)","v":{"$error":"#N/A"}},{"$f":"VLOOKUP($B1727,'Ad Week Dates'!$A:$E,2,FALSE)","v":{"$error":"#N/A"}},{"$f":"VLOOKUP($B1727,'Ad Week Dates'!$A:$E,3,FALSE)","v":{"$error":"#N/A"}},null,null,null,null,null,null,{"$error":"#N/A"}]
[null,null,{"$f":"VLOOKUP($B1728,'Ad Week Dates'!$A:$E,4,FALSE)","v":{"$error":"#N/A"}},{"$f":"VLOOKUP($B1728,'Ad Week Dates'!$A:$E,2,FALSE)","v":{"$error":"#N/A"}},{"$f":"VLOOKUP($B1728,'Ad Week Dates'!$A:$E,3,FALSE)","v":{"$error":"#N/A"}},null,null,null,null,null,null,{"$error":"#N/A"}]
[null,null,{"$f":"VLOOKUP($B1729,'Ad Week Dates'!$A:$E,4,FALSE)","v":{"$error":"#N/A"}},{"$f":"VLOOKUP($B1729,'Ad Week Dates'!$A:$E,2,FALSE)","v":{"$error":"#N/A"}},{"$f":"VLOOKUP($B1729,'Ad Week Dates'!$A:$E,3,FALSE)","v":{"$error":"#N/A"}},null,null,null,null,null,null,{"$error":"#N/A"}]
[null,null,{"$f":"VLOOKUP($B1730,'Ad Week Dates'!$A:$E,4,FALSE)","v":{"$error":"#N/A"}},{"$f":"VLOOKUP($B1730,'Ad Week Dates'!$A:$E,2,FALSE)","v":{"$error":"#N/A"}},{"$f":"VLOOKUP($B1730,'Ad Week Dates'!$A:$E,3,FALSE)","v":{"$error":"#N/A"}},null,null,null,null,null,null,{"$error":"#N/A"}]
[null,null,{"$f":"VLOOKUP($B1731,'Ad Week Dates'!$A:$E,4,FALSE)","v":{"$error":"#N/A"}},{"$f":"VLOOKUP($B1731,'Ad Week Dates'!$A:$E,2,FALSE)","v":{"$error":"#N/A"}},{"$f":"VLOOKUP($B1731,'Ad Week Dates'!$A:$E,3,FALSE)","v":{"$error":"#N/A"}},null,null,null,null,null,null,{"$error":"#N/A"}]
[null,null,{"$f":"VLOOKUP($B1732,'Ad Week Dates'!$A:$E,4,FALSE)","v":{"$error":"#N/A"}},{"$f":"VLOOKUP($B1732,'Ad Week Dates'!$A:$E,2,FALSE)","v":{"$error":"#N/A"}},{"$f":"VLOOKUP($B1732,'Ad Week Dates'!$A:$E,3,FALSE)","v":{"$error":"#N/A"}},null,null,null,null,null,null,{"$error":"#N/A"}]
[null,null,{"$f":"VLOOKUP($B1733,'Ad Week Dates'!$A:$E,4,FALSE)","v":{"$error":"#N/A"}},{"$f":"VLOOKUP($B1733,'Ad Week Dates'!$A:$E,2,FALSE)","v":{"$error":"#N/A"}},{"$f":"VLOOKUP($B1733,'Ad Week Dates'!$A:$E,3,FALSE)","v":{"$error":"#N/A"}},null,null,null,null,null,null,{"$error":"#N/A"}]
[null,null,{"$f":"VLOOKUP($B1734,'Ad Week Dates'!$A:$E,4,FALSE)","v":{"$error":"#N/A"}},{"$f":"VLOOKUP($B1734,'Ad Week Dates'!$A:$E,2,FALSE)","v":{"$error":"#N/A"}},{"$f":"VLOOKUP($B1734,'Ad Week Dates'!$A:$E,3,FALSE)","v":{"$error":"#N/A"}},null,null,null,null,null,null,{"$f":"IF(ISNUMBER(J1734), J1734 - K1734, VALUE(_xlfn.TEXTBEFORE(J1734, \"-\")) - VALUE(_xlfn.TEXTBEFORE(K1734, \"-\")))","v":{"$error":"#N/A"}}]
[null,null,{"$f":"VLOOKUP($B1735,'Ad Week Dates'!$A:$E,4,FALSE)","v":{"$error":"#N/A"}},{"$f":"VLOOKUP($B1735,'Ad Week Dates'!$A:$E,2,FALSE)","v":{"$error":"#N/A"}},{"$f":"VLOOKUP($B1735,'Ad Week Dates'!$A:$E,3,FALSE)","v":{"$error":"#N/A"}},null,null,null,null,null,null,{"$error":"#N/A"}]
[null,null,{"$f":"VLOOKUP($B1736,'Ad Week Dates'!$A:$E,4,FALSE)","v":{"$error":"#N/A"}},{"$f":"VLOOKUP($B1736,'Ad Week Dates'!$A:$E,2,FALSE)","v":{"$error":"#N/A"}},{"$f":"VLOOKUP($B1736,'Ad Week Dates'!$A:$E,3,FALSE)","v":{"$error":"#N/A"}},null,null,null,null,null,null,{"$error":"#N/A"}]
[null,null,{"$f":"VLOOKUP($B1737,'Ad Week Dates'!$A:$E,4,FALSE)","v":{"$error":"#N/A"}},{"$f":"VLOOKUP($B1737,'Ad Week Dates'!$A:$E,2,FALSE)","v":{"$error":"#N/A"}},{"$f":"VLOOKUP($B1737,'Ad Week Dates'!$A:$E,3,FALSE)","v":{"$error":"#N/A"}},null,null,null,null,null,null,{"$error":"#N/A"}]
[null,null,{"$f":"VLOOKUP($B1738,'Ad Week Dates'!$A:$E,4,FALSE)","v":{"$error":"#N/A"}},{"$f":"VLOOKUP($B1738,'Ad Week Dates'!$A:$E,2,FALSE)","v":{"$error":"#N/A"}},{"$f":"VLOOKUP($B1738,'Ad Week Dates'!$A:$E,3,FALSE)","v":{"$error":"#N/A"}},null,null,null,null,null,null,{"$error":"#N/A"}]
[null,null,{"$f":"VLOOKUP($B1739,'Ad Week Dates'!$A:$E,4,FALSE)","v":{"$error":"#N/A"}},{"$f":"VLOOKUP($B1739,'Ad Week Dates'!$A:$E,2,FALSE)","v":{"$error":"#N/A"}},{"$f":"VLOOKUP($B1739,'Ad Week Dates'!$A:$E,3,FALSE)","v":{"$error":"#N/A"}},null,null,null,null,null,null,{"$error":"#N/A"}]
[null,null,{"$f":"VLOOKUP($B1740,'Ad Week Dates'!$A:$E,4,FALSE)","v":{"$error":"#N/A"}},{"$f":"VLOOKUP($B1740,'Ad Week Dates'!$A:$E,2,FALSE)","v":{"$error":"#N/A"}},{"$f":"VLOOKUP($B1740,'Ad Week Dates'!$A:$E,3,FALSE)","v":{"$error":"#N/A"}},null,null,null,null,null,null,{"$error":"#N/A"}]
[null,null,{"$f":"VLOOKUP($B1741,'Ad Week Dates'!$A:$E,4,FALSE)","v":{"$error":"#N/A"}},{"$f":"VLOOKUP($B1741,'Ad Week Dates'!$A:$E,2,FALSE)","v":{"$error":"#N/A"}},{"$f":"VLOOKUP($B1741,'Ad Week Dates'!$A:$E,3,FALSE)","v":{"$error":"#N/A"}},null,null,null,null,null,null,{"$error":"#N/A"}]
[null,null,{"$f":"VLOOKUP($B1742,'Ad Week Dates'!$A:$E,4,FALSE)","v":{"$error":"#N/A"}},{"$f":"VLOOKUP($B1742,'Ad Week Dates'!$A:$E,2,FALSE)","v":{"$error":"#N/A"}},{"$f":"VLOOKUP($B1742,'Ad Week Dates'!$A:$E,3,FALSE)","v":{"$error":"#N/A"}},null,null,null,null,null,null,{"$error":"#N/A"}]
[null,null,{"$f":"VLOOKUP($B1743,'Ad Week Dates'!$A:$E,4,FALSE)","v":{"$error":"#N/A"}},{"$f":"VLOOKUP($B1743,'Ad Week Dates'!$A:$E,2,FALSE)","v":{"$error":"#N/A"}},{"$f":"VLOOKUP($B1743,'Ad Week Dates'!$A:$E,3,FALSE)","v":{"$error":"#N/A"}},null,null,null,null,null,null,{"$error":"#N/A"}]
[null,null,{"$f":"VLOOKUP($B1744,'Ad Week Dates'!$A:$E,4,FALSE)","v":{"$error":"#N/A"}},{"$f":"VLOOKUP($B1744,'Ad Week Dates'!$A:$E,2,FALSE)","v":{"$error":"#N/A"}},{"$f":"VLOOKUP($B1744,'Ad Week Dates'!$A:$E,3,FALSE)","v":{"$error":"#N/A"}},null,null,null,null,null,null,{"$error":"#N/A"}]
[null,null,{"$f":"VLOOKUP($B1745,'Ad Week Dates'!$A:$E,4,FALSE)","v":{"$error":"#N/A"}},{"$f":"VLOOKUP($B1745,'Ad Week Dates'!$A:$E,2,FALSE)","v":{"$error":"#N/A"}},{"$f":"VLOOKUP($B1745,'Ad Week Dates'!$A:$E,3,FALSE)","v":{"$error":"#N/A"}},null,null,null,null,null,null,{"$error":"#N/A"}]
[null,null,{"$f":"VLOOKUP($B1746,'Ad Week Dates'!$A:$E,4,FALSE)","v":{"$error":"#N/A"}},{"$f":"VLOOKUP($B1746,'Ad Week Dates'!$A:$E,2,FALSE)","v":{"$error":"#N/A"}},{"$f":"VLOOKUP($B1746,'Ad Week Dates'!$A:$E,3,FALSE)","v":{"$error":"#N/A"}},null,null,null,null,null,null,{"$error":"#N/A"}]
[null,null,{"$f":"VLOOKUP($B1747,'Ad Week Dates'!$A:$E,4,FALSE)","v":{"$error":"#N/A"}},{"$f":"VLOOKUP($B1747,'Ad Week Dates'!$A:$E,2,FALSE)","v":{"$error":"#N/A"}},{"$f":"VLOOKUP($B1747,'Ad Week Dates'!$A:$E,3,FALSE)","v":{"$error":"#N/A"}},null,null,null,null,null,null,{"$error":"#N/A"}]
[null,null,{"$f":"VLOOKUP($B1748,'Ad Week Dates'!$A:$E,4,FALSE)","v":{"$error":"#N/A"}},{"$f":"VLOOKUP($B1748,'Ad Week Dates'!$A:$E,2,FALSE)","v":{"$error":"#N/A"}},{"$f":"VLOOKUP($B1748,'Ad Week Dates'!$A:$E,3,FALSE)","v":{"$error":"#N/A"}},null,null,null,null,null,null,{"$error":"#N/A"}]
[null,null,{"$f":"VLOOKUP($B1749,'Ad Week Dates'!$A:$E,4,FALSE)","v":{"$error":"#N/A"}},{"$f":"VLOOKUP($B1749,'Ad Week Dates'!$A:$E,2,FALSE)","v":{"$error":"#N/A"}},{"$f":"VLOOKUP($B1749,'Ad Week Dates'!$A:$E,3,FALSE)","v":{"$error":"#N/A"}},null,null,null,null,null,null,{"$error":"#N/A"}]
[null,null,{"$f":"VLOOKUP($B1750,'Ad Week Dates'!$A:$E,4,FALSE)","v":{"$error":"#N/A"}},{"$f":"VLOOKUP($B1750,'Ad Week Dates'!$A:$E,2,FALSE)","v":{"$error":"#N/A"}},{"$f":"VLOOKUP($B1750,'Ad Week Dates'!$A:$E,3,FALSE)","v":{"$error":"#N/A"}},null,null,null,null,null,null,{"$error":"#N/A"}]
[null,null,{"$f":"VLOOKUP($B1751,'Ad Week Dates'!$A:$E,4,FALSE)","v":{"$error":"#N/A"}},{"$f":"VLOOKUP($B1751,'Ad Week Dates'!$A:$E,2,FALSE)","v":{"$error":"#N/A"}},{"$f":"VLOOKUP($B1751,'Ad Week Dates'!$A:$E,3,FALSE)","v":{"$error":"#N/A"}},null,null,null,null,null,null,{"$error":"#N/A"}]
[null,null,{"$f":"VLOOKUP($B1752,'Ad Week Dates'!$A:$E,4,FALSE)","v":{"$error":"#N/A"}},{"$f":"VLOOKUP($B1752,'Ad Week Dates'!$A:$E,2,FALSE)","v":{"$error":"#N/A"}},{"$f":"VLOOKUP($B1752,'Ad Week Dates'!$A:$E,3,FALSE)","v":{"$error":"#N/A"}},null,null,null,null,null,null,{"$error":"#N/A"}]
[null,null,{"$f":"VLOOKUP($B1753,'Ad Week Dates'!$A:$E,4,FALSE)","v":{"$error":"#N/A"}},{"$f":"VLOOKUP($B1753,'Ad Week Dates'!$A:$E,2,FALSE)","v":{"$error":"#N/A"}},{"$f":"VLOOKUP($B1753,'Ad Week Dates'!$A:$E,3,FALSE)","v":{"$error":"#N/A"}},null,null,null,null,null,null,{"$error":"#N/A"}]
[null,null,{"$f":"VLOOKUP($B1754,'Ad Week Dates'!$A:$E,4,FALSE)","v":{"$error":"#N/A"}},{"$f":"VLOOKUP($B1754,'Ad Week Dates'!$A:$E,2,FALSE)","v":{"$error":"#N/A"}},{"$f":"VLOOKUP($B1754,'Ad Week Dates'!$A:$E,3,FALSE)","v":{"$error":"#N/A"}},null,null,null,null,null,null,{"$error":"#N/A"}]
[null,null,{"$f":"VLOOKUP($B1755,'Ad Week Dates'!$A:$E,4,FALSE)","v":{"$error":"#N/A"}},{"$f":"VLOOKUP($B1755,'Ad Week Dates'!$A:$E,2,FALSE)","v":{"$error":"#N/A"}},{"$f":"VLOOKUP($B1755,'Ad Week Dates'!$A:$E,3,FALSE)","v":{"$error":"#N/A"}},null,null,null,null,null,null,{"$error":"#N/A"}]
[null,null,{"$f":"VLOOKUP($B1756,'Ad Week Dates'!$A:$E,4,FALSE)","v":{"$error":"#N/A"}},{"$f":"VLOOKUP($B1756,'Ad Week Dates'!$A:$E,2,FALSE)","v":{"$error":"#N/A"}},{"$f":"VLOOKUP($B1756,'Ad Week Dates'!$A:$E,3,FALSE)","v":{"$error":"#N/A"}},null,null,null,null,null,null,{"$error":"#N/A"}]
[null,null,{"$f":"VLOOKUP($B1757,'Ad Week Dates'!$A:$E,4,FALSE)","v":{"$error":"#N/A"}},{"$f":"VLOOKUP($B1757,'Ad Week Dates'!$A:$E,2,FALSE)","v":{"$error":"#N/A"}},{"$f":"VLOOKUP($B1757,'Ad Week Dates'!$A:$E,3,FALSE)","v":{"$error":"#N/A"}},null,null,null,null,null,null,{"$error":"#N/A"}]
[null,null,{"$f":"VLOOKUP($B1758,'Ad Week Dates'!$A:$E,4,FALSE)","v":{"$error":"#N/A"}},{"$f":"VLOOKUP($B1758,'Ad Week Dates'!$A:$E,2,FALSE)","v":{"$error":"#N/A"}},{"$f":"VLOOKUP($B1758,'Ad Week Dates'!$A:$E,3,FALSE)","v":{"$error":"#N/A"}},null,null,null,null,null,null,{"$error":"#N/A"}]
[null,null,{"$f":"VLOOKUP($B1759,'Ad Week Dates'!$A:$E,4,FALSE)","v":{"$error":"#N/A"}},{"$f":"VLOOKUP($B1759,'Ad Week Dates'!$A:$E,2,FALSE)","v":{"$error":"#N/A"}},{"$f":"VLOOKUP($B1759,'Ad Week Dates'!$A:$E,3,FALSE)","v":{"$error":"#N/A"}},null,null,null,null,null,null,{"$error":"#N/A"}]
[null,null,{"$f":"VLOOKUP($B1760,'Ad Week Dates'!$A:$E,4,FALSE)","v":{"$error":"#N/A"}},{"$f":"VLOOKUP($B1760,'Ad Week Dates'!$A:$E,2,FALSE)","v":{"$error":"#N/A"}},{"$f":"VLOOKUP($B1760,'Ad Week Dates'!$A:$E,3,FALSE)","v":{"$error":"#N/A"}},null,null,null,null,null,null,{"$error":"#N/A"}]
[null,null,{"$f":"VLOOKUP($B1761,'Ad Week Dates'!$A:$E,4,FALSE)","v":{"$error":"#N/A"}},{"$f":"VLOOKUP($B1761,'Ad Week Dates'!$A:$E,2,FALSE)","v":{"$error":"#N/A"}},{"$f":"VLOOKUP($B1761,'Ad Week Dates'!$A:$E,3,FALSE)","v":{"$error":"#N/A"}},null,null,null,null,null,null,{"$error":"#N/A"}]
[null,null,{"$f":"VLOOKUP($B1762,'Ad Week Dates'!$A:$E,4,FALSE)","v":{"$error":"#N/A"}},{"$f":"VLOOKUP($B1762,'Ad Week Dates'!$A:$E,2,FALSE)","v":{"$error":"#N/A"}},{"$f":"VLOOKUP($B1762,'Ad Week Dates'!$A:$E,3,FALSE)","v":{"$error":"#N/A"}},null,null,null,null,null,null,{"$error":"#N/A"}]
[null,null,{"$f":"VLOOKUP($B1763,'Ad Week Dates'!$A:$E,4,FALSE)","v":{"$error":"#N/A"}},{"$f":"VLOOKUP($B1763,'Ad Week Dates'!$A:$E,2,FALSE)","v":{"$error":"#N/A"}},{"$f":"VLOOKUP($B1763,'Ad Week Dates'!$A:$E,3,FALSE)","v":{"$error":"#N/A"}},null,null,null,null,null,null,{"$error":"#N/A"}]
[null,null,{"$f":"VLOOKUP($B1764,'Ad Week Dates'!$A:$E,4,FALSE)","v":{"$error":"#N/A"}},{"$f":"VLOOKUP($B1764,'Ad Week Dates'!$A:$E,2,FALSE)","v":{"$error":"#N/A"}},{"$f":"VLOOKUP($B1764,'Ad Week Dates'!$A:$E,3,FALSE)","v":{"$error":"#N/A"}},null,null,null,null,null,null,{"$error":"#N/A"}]
[null,null,{"$f":"VLOOKUP($B1765,'Ad Week Dates'!$A:$E,4,FALSE)","v":{"$error":"#N/A"}},{"$f":"VLOOKUP($B1765,'Ad Week Dates'!$A:$E,2,FALSE)","v":{"$error":"#N/A"}},{"$f":"VLOOKUP($B1765,'Ad Week Dates'!$A:$E,3,FALSE)","v":{"$error":"#N/A"}},null,null,null,null,null,null,{"$error":"#N/A"}]
[null,null,{"$f":"VLOOKUP($B1766,'Ad Week Dates'!$A:$E,4,FALSE)","v":{"$error":"#N/A"}},{"$f":"VLOOKUP($B1766,'Ad Week Dates'!$A:$E,2,FALSE)","v":{"$error":"#N/A"}},{"$f":"VLOOKUP($B1766,'Ad Week Dates'!$A:$E,3,FALSE)","v":{"$error":"#N/A"}},null,null,null,null,null,null,{"$error":"#N/A"}]
[null,null,{"$f":"VLOOKUP($B1767,'Ad Week Dates'!$A:$E,4,FALSE)","v":{"$error":"#N/A"}},{"$f":"VLOOKUP($B1767,'Ad Week Dates'!$A:$E,2,FALSE)","v":{"$error":"#N/A"}},{"$f":"VLOOKUP($B1767,'Ad Week Dates'!$A:$E,3,FALSE)","v":{"$error":"#N/A"}},null,null,null,null,null,null,{"$error":"#N/A"}]
[null,null,{"$f":"VLOOKUP($B1768,'Ad Week Dates'!$A:$E,4,FALSE)","v":{"$error":"#N/A"}},{"$f":"VLOOKUP($B1768,'Ad Week Dates'!$A:$E,2,FALSE)","v":{"$error":"#N/A"}},{"$f":"VLOOKUP($B1768,'Ad Week Dates'!$A:$E,3,FALSE)","v":{"$error":"#N/A"}},null,null,null,null,null,null,{"$error":"#N/A"}]
[null,null,{"$f":"VLOOKUP($B1769,'Ad Week Dates'!$A:$E,4,FALSE)","v":{"$error":"#N/A"}},{"$f":"VLOOKUP($B1769,'Ad Week Dates'!$A:$E,2,FALSE)","v":{"$error":"#N/A"}},{"$f":"VLOOKUP($B1769,'Ad Week Dates'!$A:$E,3,FALSE)","v":{"$error":"#N/A"}},null,null,null,null,null,null,{"$error":"#N/A"}]
[null,null,{"$f":"VLOOKUP($B1770,'Ad Week Dates'!$A:$E,4,FALSE)","v":{"$error":"#N/A"}},{"$f":"VLOOKUP($B1770,'Ad Week Dates'!$A:$E,2,FALSE)","v":{"$error":"#N/A"}},{"$f":"VLOOKUP($B1770,'Ad Week Dates'!$A:$E,3,FALSE)","v":{"$error":"#N/A"}},null,null,null,null,null,null,{"$error":"#N/A"}]
[null,null,{"$f":"VLOOKUP($B1771,'Ad Week Dates'!$A:$E,4,FALSE)","v":{"$error":"#N/A"}},{"$f":"VLOOKUP($B1771,'Ad Week Dates'!$A:$E,2,FALSE)","v":{"$error":"#N/A"}},{"$f":"VLOOKUP($B1771,'Ad Week Dates'!$A:$E,3,FALSE)","v":{"$error":"#N/A"}},null,null,null,null,null,null,{"$error":"#N/A"}]
[null,null,{"$f":"VLOOKUP($B1772,'Ad Week Dates'!$A:$E,4,FALSE)","v":{"$error":"#N/A"}},{"$f":"VLOOKUP($B1772,'Ad Week Dates'!$A:$E,2,FALSE)","v":{"$error":"#N/A"}},{"$f":"VLOOKUP($B1772,'Ad Week Dates'!$A:$E,3,FALSE)","v":{"$error":"#N/A"}},null,null,null,null,null,null,{"$error":"#N/A"}]
[null,null,{"$f":"VLOOKUP($B1773,'Ad Week Dates'!$A:$E,4,FALSE)","v":{"$error":"#N/A"}},{"$f":"VLOOKUP($B1773,'Ad Week Dates'!$A:$E,2,FALSE)","v":{"$error":"#N/A"}},{"$f":"VLOOKUP($B1773,'Ad Week Dates'!$A:$E,3,FALSE)","v":{"$error":"#N/A"}},null,null,null,null,null,null,{"$error":"#N/A"}]
[null,null,{"$f":"VLOOKUP($B1774,'Ad Week Dates'!$A:$E,4,FALSE)","v":{"$error":"#N/A"}},{"$f":"VLOOKUP($B1774,'Ad Week Dates'!$A:$E,2,FALSE)","v":{"$error":"#N/A"}},{"$f":"VLOOKUP($B1774,'Ad Week Dates'!$A:$E,3,FALSE)","v":{"$error":"#N/A"}},null,null,null,null,null,null,{"$error":"#N/A"}]
[null,null,{"$f":"VLOOKUP($B1775,'Ad Week Dates'!$A:$E,4,FALSE)","v":{"$error":"#N/A"}},{"$f":"VLOOKUP($B1775,'Ad Week Dates'!$A:$E,2,FALSE)","v":{"$error":"#N/A"}},{"$f":"VLOOKUP($B1775,'Ad Week Dates'!$A:$E,3,FALSE)","v":{"$error":"#N/A"}},null,null,null,null,null,null,{"$error":"#N/A"}]
[null,null,{"$f":"VLOOKUP($B1776,'Ad Week Dates'!$A:$E,4,FALSE)","v":{"$error":"#N/A"}},{"$f":"VLOOKUP($B1776,'Ad Week Dates'!$A:$E,2,FALSE)","v":{"$error":"#N/A"}},{"$f":"VLOOKUP($B1776,'Ad Week Dates'!$A:$E,3,FALSE)","v":{"$error":"#N/A"}},null,null,null,null,null,null,{"$error":"#N/A"}]
[null,null,{"$f":"VLOOKUP($B1777,'Ad Week Dates'!$A:$E,4,FALSE)","v":{"$error":"#N/A"}},{"$f":"VLOOKUP($B1777,'Ad Week Dates'!$A:$E,2,FALSE)","v":{"$error":"#N/A"}},{"$f":"VLOOKUP($B1777,'Ad Week Dates'!$A:$E,3,FALSE)","v":{"$error":"#N/A"}},null,null,null,null,null,null,{"$error":"#N/A"}]
[null,null,{"$f":"VLOOKUP($B1778,'Ad Week Dates'!$A:$E,4,FALSE)","v":{"$error":"#N/A"}},{"$f":"VLOOKUP($B1778,'Ad Week Dates'!$A:$E,2,FALSE)","v":{"$error":"#N/A"}},{"$f":"VLOOKUP($B1778,'Ad Week Dates'!$A:$E,3,FALSE)","v":{"$error":"#N/A"}},null,null,null,null,null,null,{"$error":"#N/A"}]
[null,null,{"$f":"VLOOKUP($B1779,'Ad Week Dates'!$A:$E,4,FALSE)","v":{"$error":"#N/A"}},{"$f":"VLOOKUP($B1779,'Ad Week Dates'!$A:$E,2,FALSE)","v":{"$error":"#N/A"}},{"$f":"VLOOKUP($B1779,'Ad Week Dates'!$A:$E,3,FALSE)","v":{"$error":"#N/A"}},null,null,null,null,null,null,{"$error":"#N/A"}]
[null,null,{"$f":"VLOOKUP($B1780,'Ad Week Dates'!$A:$E,4,FALSE)","v":{"$error":"#N/A"}},{"$f":"VLOOKUP($B1780,'Ad Week Dates'!$A:$E,2,FALSE)","v":{"$error":"#N/A"}},{"$f":"VLOOKUP($B1780,'Ad Week Dates'!$A:$E,3,FALSE)","v":{"$error":"#N/A"}},null,null,null,null,null,null,{"$error":"#N/A"}]
[null,null,{"$f":"VLOOKUP($B1781,'Ad Week Dates'!$A:$E,4,FALSE)","v":{"$error":"#N/A"}},{"$f":"VLOOKUP($B1781,'Ad Week Dates'!$A:$E,2,FALSE)","v":{"$error":"#N/A"}},{"$f":"VLOOKUP($B1781,'Ad Week Dates'!$A:$E,3,FALSE)","v":{"$error":"#N/A"}},null,null,null,null,null,null,{"$error":"#N/A"}]
[null,null,{"$f":"VLOOKUP($B1782,'Ad Week Dates'!$A:$E,4,FALSE)","v":{"$error":"#N/A"}},{"$f":"VLOOKUP($B1782,'Ad Week Dates'!$A:$E,2,FALSE)","v":{"$error":"#N/A"}},{"$f":"VLOOKUP($B1782,'Ad Week Dates'!$A:$E,3,FALSE)","v":{"$error":"#N/A"}},null,null,null,null,null,null,{"$error":"#N/A"}]
[null,null,{"$f":"VLOOKUP($B1783,'Ad Week Dates'!$A:$E,4,FALSE)","v":{"$error":"#N/A"}},{"$f":"VLOOKUP($B1783,'Ad Week Dates'!$A:$E,2,FALSE)","v":{"$error":"#N/A"}},{"$f":"VLOOKUP($B1783,'Ad Week Dates'!$A:$E,3,FALSE)","v":{"$error":"#N/A"}},null,null,null,null,null,null,{"$error":"#N/A"}]
[null,null,{"$f":"VLOOKUP($B1784,'Ad Week Dates'!$A:$E,4,FALSE)","v":{"$error":"#N/A"}},{"$f":"VLOOKUP($B1784,'Ad Week Dates'!$A:$E,2,FALSE)","v":{"$error":"#N/A"}},{"$f":"VLOOKUP($B1784,'Ad Week Dates'!$A:$E,3,FALSE)","v":{"$error":"#N/A"}},null,null,null,null,null,null,{"$error":"#N/A"}]
[null,null,{"$f":"VLOOKUP($B1785,'Ad Week Dates'!$A:$E,4,FALSE)","v":{"$error":"#N/A"}},{"$f":"VLOOKUP($B1785,'Ad Week Dates'!$A:$E,2,FALSE)","v":{"$error":"#N/A"}},{"$f":"VLOOKUP($B1785,'Ad Week Dates'!$A:$E,3,FALSE)","v":{"$error":"#N/A"}},null,null,null,null,null,null,{"$error":"#N/A"}]
[null,null,{"$f":"VLOOKUP($B1786,'Ad Week Dates'!$A:$E,4,FALSE)","v":{"$error":"#N/A"}},{"$f":"VLOOKUP($B1786,'Ad Week Dates'!$A:$E,2,FALSE)","v":{"$error":"#N/A"}},{"$f":"VLOOKUP($B1786,'Ad Week Dates'!$A:$E,3,FALSE)","v":{"$error":"#N/A"}},null,null,null,null,null,null,{"$error":"#N/A"}]
[null,null,{"$f":"VLOOKUP($B1787,'Ad Week Dates'!$A:$E,4,FALSE)","v":{"$error":"#N/A"}},{"$f":"VLOOKUP($B1787,'Ad Week Dates'!$A:$E,2,FALSE)","v":{"$error":"#N/A"}},{"$f":"VLOOKUP($B1787,'Ad Week Dates'!$A:$E,3,FALSE)","v":{"$error":"#N/A"}},null,null,null,null,null,null,{"$error":"#N/A"}]
[null,null,{"$f":"VLOOKUP($B1788,'Ad Week Dates'!$A:$E,4,FALSE)","v":{"$error":"#N/A"}},{"$f":"VLOOKUP($B1788,'Ad Week Dates'!$A:$E,2,FALSE)","v":{"$error":"#N/A"}},{"$f":"VLOOKUP($B1788,'Ad Week Dates'!$A:$E,3,FALSE)","v":{"$error":"#N/A"}},null,null,null,null,null,null,{"$error":"#N/A"}]
[null,null,{"$f":"VLOOKUP($B1789,'Ad Week Dates'!$A:$E,4,FALSE)","v":{"$error":"#N/A"}},{"$f":"VLOOKUP($B1789,'Ad Week Dates'!$A:$E,2,FALSE)","v":{"$error":"#N/A"}},{"$f":"VLOOKUP($B1789,'Ad Week Dates'!$A:$E,3,FALSE)","v":{"$error":"#N/A"}},null,null,null,null,null,null,{"$error":"#N/A"}]
[null,null,{"$f":"VLOOKUP($B1790,'Ad Week Dates'!$A:$E,4,FALSE)","v":{"$error":"#N/A"}},{"$f":"VLOOKUP($B1790,'Ad Week Dates'!$A:$E,2,FALSE)","v":{"$error":"#N/A"}},{"$f":"VLOOKUP($B1790,'Ad Week Dates'!$A:$E,3,FALSE)","v":{"$error":"#N/A"}},null,null,null,null,null,null,{"$error":"#N/A"}]
[null,null,{"$f":"VLOOKUP($B1791,'Ad Week Dates'!$A:$E,4,FALSE)","v":{"$error":"#N/A"}},{"$f":"VLOOKUP($B1791,'Ad Week Dates'!$A:$E,2,FALSE)","v":{"$error":"#N/A"}},{"$f":"VLOOKUP($B1791,'Ad Week Dates'!$A:$E,3,FALSE)","v":{"$error":"#N/A"}},null,null,null,null,null,null,{"$error":"#N/A"}]
[null,null,{"$f":"VLOOKUP($B1792,'Ad Week Dates'!$A:$E,4,FALSE)","v":{"$error":"#N/A"}},{"$f":"VLOOKUP($B1792,'Ad Week Dates'!$A:$E,2,FALSE)","v":{"$error":"#N/A"}},{"$f":"VLOOKUP($B1792,'Ad Week Dates'!$A:$E,3,FALSE)","v":{"$error":"#N/A"}},null,null,null,null,null,null,{"$error":"#N/A"}]
[null,null,{"$f":"VLOOKUP($B1793,'Ad Week Dates'!$A:$E,4,FALSE)","v":{"$error":"#N/A"}},{"$f":"VLOOKUP($B1793,'Ad Week Dates'!$A:$E,2,FALSE)","v":{"$error":"#N/A"}},{"$f":"VLOOKUP($B1793,'Ad Week Dates'!$A:$E,3,FALSE)","v":{"$error":"#N/A"}},null,null,null,null,null,null,{"$error":"#N/A"}]
[null,null,{"$f":"VLOOKUP($B1794,'Ad Week Dates'!$A:$E,4,FALSE)","v":{"$error":"#N/A"}},{"$f":"VLOOKUP($B1794,'Ad Week Dates'!$A:$E,2,FALSE)","v":{"$error":"#N/A"}},{"$f":"VLOOKUP($B1794,'Ad Week Dates'!$A:$E,3,FALSE)","v":{"$error":"#N/A"}},null,null,null,null,null,null,{"$error":"#N/A"}]
[null,null,{"$f":"VLOOKUP($B1795,'Ad Week Dates'!$A:$E,4,FALSE)","v":{"$error":"#N/A"}},{"$f":"VLOOKUP($B1795,'Ad Week Dates'!$A:$E,2,FALSE)","v":{"$error":"#N/A"}},{"$f":"VLOOKUP($B1795,'Ad Week Dates'!$A:$E,3,FALSE)","v":{"$error":"#N/A"}},null,null,null,null,null,null,{"$error":"#N/A"}]
[null,null,{"$f":"VLOOKUP($B1796,'Ad Week Dates'!$A:$E,4,FALSE)","v":{"$error":"#N/A"}},{"$f":"VLOOKUP($B1796,'Ad Week Dates'!$A:$E,2,FALSE)","v":{"$error":"#N/A"}},{"$f":"VLOOKUP($B1796,'Ad Week Dates'!$A:$E,3,FALSE)","v":{"$error":"#N/A"}},null,null,null,null,null,null,{"$error":"#N/A"}]
[null,null,{"$f":"VLOOKUP($B1797,'Ad Week Dates'!$A:$E,4,FALSE)","v":{"$error":"#N/A"}},{"$f":"VLOOKUP($B1797,'Ad Week Dates'!$A:$E,2,FALSE)","v":{"$error":"#N/A"}},{"$f":"VLOOKUP($B1797,'Ad Week Dates'!$A:$E,3,FALSE)","v":{"$error":"#N/A"}},null,null,null,null,null,null,{"$error":"#N/A"}]
[null,null,{"$f":"VLOOKUP($B1798,'Ad Week Dates'!$A:$E,4,FALSE)","v":{"$error":"#N/A"}},{"$f":"VLOOKUP($B1798,'Ad Week Dates'!$A:$E,2,FALSE)","v":{"$error":"#N/A"}},{"$f":"VLOOKUP($B1798,'Ad Week Dates'!$A:$E,3,FALSE)","v":{"$error":"#N/A"}},null,null,null,null,null,null,{"$f":"IF(ISNUMBER(J1798), J1798 - K1798, VALUE(_xlfn.TEXTBEFORE(J1798, \"-\")) - VALUE(_xlfn.TEXTBEFORE(K1798, \"-\")))","v":{"$error":"#N/A"}}]
[null,null,{"$f":"VLOOKUP($B1799,'Ad Week Dates'!$A:$E,4,FALSE)","v":{"$error":"#N/A"}},{"$f":"VLOOKUP($B1799,'Ad Week Dates'!$A:$E,2,FALSE)","v":{"$error":"#N/A"}},{"$f":"VLOOKUP($B1799,'Ad Week Dates'!$A:$E,3,FALSE)","v":{"$error":"#N/A"}},null,null,null,null,null,null,{"$error":"#N/A"}]
[null,null,{"$f":"VLOOKUP($B1800,'Ad Week Dates'!$A:$E,4,FALSE)","v":{"$error":"#N/A"}},{"$f":"VLOOKUP($B1800,'Ad Week Dates'!$A:$E,2,FALSE)","v":{"$error":"#N/A"}},{"$f":"VLOOKUP($B1800,'Ad Week Dates'!$A:$E,3,FALSE)","v":{"$error":"#N/A"}},null,null,null,null,null,null,{"$error":"#N/A"}]
[null,null,{"$f":"VLOOKUP($B1801,'Ad Week Dates'!$A:$E,4,FALSE)","v":{"$error":"#N/A"}},{"$f":"VLOOKUP($B1801,'Ad Week Dates'!$A:$E,2,FALSE)","v":{"$error":"#N/A"}},{"$f":"VLOOKUP($B1801,'Ad Week Dates'!$A:$E,3,FALSE)","v":{"$error":"#N/A"}},null,null,null,null,null,null,{"$error":"#N/A"}]
[null,null,{"$f":"VLOOKUP($B1802,'Ad Week Dates'!$A:$E,4,FALSE)","v":{"$error":"#N/A"}},{"$f":"VLOOKUP($B1802,'Ad Week Dates'!$A:$E,2,FALSE)","v":{"$error":"#N/A"}},{"$f":"VLOOKUP($B1802,'Ad Week Dates'!$A:$E,3,FALSE)","v":{"$error":"#N/A"}},null,null,null,null,null,null,{"$error":"#N/A"}]
[null,null,{"$f":"VLOOKUP($B1803,'Ad Week Dates'!$A:$E,4,FALSE)","v":{"$error":"#N/A"}},{"$f":"VLOOKUP($B1803,'Ad Week Dates'!$A:$E,2,FALSE)","v":{"$error":"#N/A"}},{"$f":"VLOOKUP($B1803,'Ad Week Dates'!$A:$E,3,FALSE)","v":{"$error":"#N/A"}},null,null,null,null,null,null,{"$error":"#N/A"}]
[null,null,{"$f":"VLOOKUP($B1804,'Ad Week Dates'!$A:$E,4,FALSE)","v":{"$error":"#N/A"}},{"$f":"VLOOKUP($B1804,'Ad Week Dates'!$A:$E,2,FALSE)","v":{"$error":"#N/A"}},{"$f":"VLOOKUP($B1804,'Ad Week Dates'!$A:$E,3,FALSE)","v":{"$error":"#N/A"}},null,null,null,null,null,null,{"$error":"#N/A"}]
[null,null,{"$f":"VLOOKUP($B1805,'Ad Week Dates'!$A:$E,4,FALSE)","v":{"$error":"#N/A"}},{"$f":"VLOOKUP($B1805,'Ad Week Dates'!$A:$E,2,FALSE)","v":{"$error":"#N/A"}},{"$f":"VLOOKUP($B1805,'Ad Week Dates'!$A:$E,3,FALSE)","v":{"$error":"#N/A"}},null,null,null,null,null,null,{"$error":"#N/A"}]
[null,null,{"$f":"VLOOKUP($B1806,'Ad Week Dates'!$A:$E,4,FALSE)","v":{"$error":"#N/A"}},{"$f":"VLOOKUP($B1806,'Ad Week Dates'!$A:$E,2,FALSE)","v":{"$error":"#N/A"}},{"$f":"VLOOKUP($B1806,'Ad Week Dates'!$A:$E,3,FALSE)","v":{"$error":"#N/A"}},null,null,null,null,null,null,{"$error":"#N/A"}]
[null,null,{"$f":"VLOOKUP($B1807,'Ad Week Dates'!$A:$E,4,FALSE)","v":{"$error":"#N/A"}},{"$f":"VLOOKUP($B1807,'Ad Week Dates'!$A:$E,2,FALSE)","v":{"$error":"#N/A"}},{"$f":"VLOOKUP($B1807,'Ad Week Dates'!$A:$E,3,FALSE)","v":{"$error":"#N/A"}},null,null,null,null,null,null,{"$error":"#N/A"}]
[null,null,{"$f":"VLOOKUP($B1808,'Ad Week Dates'!$A:$E,4,FALSE)","v":{"$error":"#N/A"}},{"$f":"VLOOKUP($B1808,'Ad Week Dates'!$A:$E,2,FALSE)","v":{"$error":"#N/A"}},{"$f":"VLOOKUP($B1808,'Ad Week Dates'!$A:$E,3,FALSE)","v":{"$error":"#N/A"}},null,null,null,null,null,null,{"$error":"#N/A"}]
[null,null,{"$f":"VLOOKUP($B1809,'Ad Week Dates'!$A:$E,4,FALSE)","v":{"$error":"#N/A"}},{"$f":"VLOOKUP($B1809,'Ad Week Dates'!$A:$E,2,FALSE)","v":{"$error":"#N/A"}},{"$f":"VLOOKUP($B1809,'Ad Week Dates'!$A:$E,3,FALSE)","v":{"$error":"#N/A"}},null,null,null,null,null,null,{"$error":"#N/A"}]
[null,null,{"$f":"VLOOKUP($B1810,'Ad Week Dates'!$A:$E,4,FALSE)","v":{"$error":"#N/A"}},{"$f":"VLOOKUP($B1810,'Ad Week Dates'!$A:$E,2,FALSE)","v":{"$error":"#N/A"}},{"$f":"VLOOKUP($B1810,'Ad Week Dates'!$A:$E,3,FALSE)","v":{"$error":"#N/A"}},null,null,null,null,null,null,{"$error":"#N/A"}]
[null,null,{"$f":"VLOOKUP($B1811,'Ad Week Dates'!$A:$E,4,FALSE)","v":{"$error":"#N/A"}},{"$f":"VLOOKUP($B1811,'Ad Week Dates'!$A:$E,2,FALSE)","v":{"$error":"#N/A"}},{"$f":"VLOOKUP($B1811,'Ad Week Dates'!$A:$E,3,FALSE)","v":{"$error":"#N/A"}},null,null,null,null,null,null,{"$error":"#N/A"}]
[null,null,{"$f":"VLOOKUP($B1812,'Ad Week Dates'!$A:$E,4,FALSE)","v":{"$error":"#N/A"}},{"$f":"VLOOKUP($B1812,'Ad Week Dates'!$A:$E,2,FALSE)","v":{"$error":"#N/A"}},{"$f":"VLOOKUP($B1812,'Ad Week Dates'!$A:$E,3,FALSE)","v":{"$error":"#N/A"}},null,null,null,null,null,null,{"$error":"#N/A"}]
[null,null,{"$f":"VLOOKUP($B1813,'Ad Week Dates'!$A:$E,4,FALSE)","v":{"$error":"#N/A"}},{"$f":"VLOOKUP($B1813,'Ad Week Dates'!$A:$E,2,FALSE)","v":{"$error":"#N/A"}},{"$f":"VLOOKUP($B1813,'Ad Week Dates'!$A:$E,3,FALSE)","v":{"$error":"#N/A"}},null,null,null,null,null,null,{"$error":"#N/A"}]
[null,null,{"$f":"VLOOKUP($B1814,'Ad Week Dates'!$A:$E,4,FALSE)","v":{"$error":"#N/A"}},{"$f":"VLOOKUP($B1814,'Ad Week Dates'!$A:$E,2,FALSE)","v":{"$error":"#N/A"}},{"$f":"VLOOKUP($B1814,'Ad Week Dates'!$A:$E,3,FALSE)","v":{"$error":"#N/A"}},null,null,null,null,null,null,{"$error":"#N/A"}]
[null,null,{"$f":"VLOOKUP($B1815,'Ad Week Dates'!$A:$E,4,FALSE)","v":{"$error":"#N/A"}},{"$f":"VLOOKUP($B1815,'Ad Week Dates'!$A:$E,2,FALSE)","v":{"$error":"#N/A"}},{"$f":"VLOOKUP($B1815,'Ad Week Dates'!$A:$E,3,FALSE)","v":{"$error":"#N/A"}},null,null,null,null,null,null,{"$error":"#N/A"}]
[null,null,{"$f":"VLOOKUP($B1816,'Ad Week Dates'!$A:$E,4,FALSE)","v":{"$error":"#N/A"}},{"$f":"VLOOKUP($B1816,'Ad Week Dates'!$A:$E,2,FALSE)","v":{"$error":"#N/A"}},{"$f":"VLOOKUP($B1816,'Ad Week Dates'!$A:$E,3,FALSE)","v":{"$error":"#N/A"}},null,null,null,null,null,null,{"$error":"#N/A"}]
[null,null,{"$f":"VLOOKUP($B1817,'Ad Week Dates'!$A:$E,4,FALSE)","v":{"$error":"#N/A"}},{"$f":"VLOOKUP($B1817,'Ad Week Dates'!$A:$E,2,FALSE)","v":{"$error":"#N/A"}},{"$f":"VLOOKUP($B1817,'Ad Week Dates'!$A:$E,3,FALSE)","v":{"$error":"#N/A"}},null,null,null,null,null,null,{"$error":"#N/A"}]
[null,null,{"$f":"VLOOKUP($B1818,'Ad Week Dates'!$A:$E,4,FALSE)","v":{"$error":"#N/A"}},{"$f":"VLOOKUP($B1818,'Ad Week Dates'!$A:$E,2,FALSE)","v":{"$error":"#N/A"}},{"$f":"VLOOKUP($B1818,'Ad Week Dates'!$A:$E,3,FALSE)","v":{"$error":"#N/A"}},null,null,null,null,null,null,{"$error":"#N/A"}]
[null,null,{"$f":"VLOOKUP($B1819,'Ad Week Dates'!$A:$E,4,FALSE)","v":{"$error":"#N/A"}},{"$f":"VLOOKUP($B1819,'Ad Week Dates'!$A:$E,2,FALSE)","v":{"$error":"#N/A"}},{"$f":"VLOOKUP($B1819,'Ad Week Dates'!$A:$E,3,FALSE)","v":{"$error":"#N/A"}},null,null,null,null,null,null,{"$error":"#N/A"}]
[null,null,{"$f":"VLOOKUP($B1820,'Ad Week Dates'!$A:$E,4,FALSE)","v":{"$error":"#N/A"}},{"$f":"VLOOKUP($B1820,'Ad Week Dates'!$A:$E,2,FALSE)","v":{"$error":"#N/A"}},{"$f":"VLOOKUP($B1820,'Ad Week Dates'!$A:$E,3,FALSE)","v":{"$error":"#N/A"}},null,null,null,null,null,null,{"$error":"#N/A"}]
[null,null,{"$f":"VLOOKUP($B1821,'Ad Week Dates'!$A:$E,4,FALSE)","v":{"$error":"#N/A"}},{"$f":"VLOOKUP($B1821,'Ad Week Dates'!$A:$E,2,FALSE)","v":{"$error":"#N/A"}},{"$f":"VLOOKUP($B1821,'Ad Week Dates'!$A:$E,3,FALSE)","v":{"$error":"#N/A"}},null,null,null,null,null,null,{"$error":"#N/A"}]
[null,null,{"$f":"VLOOKUP($B1822,'Ad Week Dates'!$A:$E,4,FALSE)","v":{"$error":"#N/A"}},{"$f":"VLOOKUP($B1822,'Ad Week Dates'!$A:$E,2,FALSE)","v":{"$error":"#N/A"}},{"$f":"VLOOKUP($B1822,'Ad Week Dates'!$A:$E,3,FALSE)","v":{"$error":"#N/A"}},null,null,null,null,null,null,{"$error":"#N/A"}]
[null,null,{"$f":"VLOOKUP($B1823,'Ad Week Dates'!$A:$E,4,FALSE)","v":{"$error":"#N/A"}},{"$f":"VLOOKUP($B1823,'Ad Week Dates'!$A:$E,2,FALSE)","v":{"$error":"#N/A"}},{"$f":"VLOOKUP($B1823,'Ad Week Dates'!$A:$E,3,FALSE)","v":{"$error":"#N/A"}},null,null,null,null,null,null,{"$error":"#N/A"}]
[null,null,{"$f":"VLOOKUP($B1824,'Ad Week Dates'!$A:$E,4,FALSE)","v":{"$error":"#N/A"}},{"$f":"VLOOKUP($B1824,'Ad Week Dates'!$A:$E,2,FALSE)","v":{"$error":"#N/A"}},{"$f":"VLOOKUP($B1824,'Ad Week Dates'!$A:$E,3,FALSE)","v":{"$error":"#N/A"}},null,null,null,null,null,null,{"$error":"#N/A"}]
[null,null,{"$f":"VLOOKUP($B1825,'Ad Week Dates'!$A:$E,4,FALSE)","v":{"$error":"#N/A"}},{"$f":"VLOOKUP($B1825,'Ad Week Dates'!$A:$E,2,FALSE)","v":{"$error":"#N/A"}},{"$f":"VLOOKUP($B1825,'Ad Week Dates'!$A:$E,3,FALSE)","v":{"$error":"#N/A"}},null,null,null,null,null,null,{"$error":"#N/A"}]
[null,null,{"$f":"VLOOKUP($B1826,'Ad Week Dates'!$A:$E,4,FALSE)","v":{"$error":"#N/A"}},{"$f":"VLOOKUP($B1826,'Ad Week Dates'!$A:$E,2,FALSE)","v":{"$error":"#N/A"}},{"$f":"VLOOKUP($B1826,'Ad Week Dates'!$A:$E,3,FALSE)","v":{"$error":"#N/A"}},null,null,null,null,null,null,{"$error":"#N/A"}]
[null,null,{"$f":"VLOOKUP($B1827,'Ad Week Dates'!$A:$E,4,FALSE)","v":{"$error":"#N/A"}},{"$f":"VLOOKUP($B1827,'Ad Week Dates'!$A:$E,2,FALSE)","v":{"$error":"#N/A"}},{"$f":"VLOOKUP($B1827,'Ad Week Dates'!$A:$E,3,FALSE)","v":{"$error":"#N/A"}},null,null,null,null,null,null,{"$error":"#N/A"}]
[null,null,{"$f":"VLOOKUP($B1828,'Ad Week Dates'!$A:$E,4,FALSE)","v":{"$error":"#N/A"}},{"$f":"VLOOKUP($B1828,'Ad Week Dates'!$A:$E,2,FALSE)","v":{"$error":"#N/A"}},{"$f":"VLOOKUP($B1828,'Ad Week Dates'!$A:$E,3,FALSE)","v":{"$error":"#N/A"}},null,null,null,null,null,null,{"$error":"#N/A"}]
[null,null,{"$f":"VLOOKUP($B1829,'Ad Week Dates'!$A:$E,4,FALSE)","v":{"$error":"#N/A"}},{"$f":"VLOOKUP($B1829,'Ad Week Dates'!$A:$E,2,FALSE)","v":{"$error":"#N/A"}},{"$f":"VLOOKUP($B1829,'Ad Week Dates'!$A:$E,3,FALSE)","v":{"$error":"#N/A"}},null,null,null,null,null,null,{"$error":"#N/A"}]
[null,null,{"$f":"VLOOKUP($B1830,'Ad Week Dates'!$A:$E,4,FALSE)","v":{"$error":"#N/A"}},{"$f":"VLOOKUP($B1830,'Ad Week Dates'!$A:$E,2,FALSE)","v":{"$error":"#N/A"}},{"$f":"VLOOKUP($B1830,'Ad Week Dates'!$A:$E,3,FALSE)","v":{"$error":"#N/A"}},null,null,null,null,null,null,{"$error":"#N/A"}]
[null,null,{"$f":"VLOOKUP($B1831,'Ad Week Dates'!$A:$E,4,FALSE)","v":{"$error":"#N/A"}},{"$f":"VLOOKUP($B1831,'Ad Week Dates'!$A:$E,2,FALSE)","v":{"$error":"#N/A"}},{"$f":"VLOOKUP($B1831,'Ad Week Dates'!$A:$E,3,FALSE)","v":{"$error":"#N/A"}},null,null,null,null,null,null,{"$error":"#N/A"}]
[null,null,{"$f":"VLOOKUP($B1832,'Ad Week Dates'!$A:$E,4,FALSE)","v":{"$error":"#N/A"}},{"$f":"VLOOKUP($B1832,'Ad Week Dates'!$A:$E,2,FALSE)","v":{"$error":"#N/A"}},{"$f":"VLOOKUP($B1832,'Ad Week Dates'!$A:$E,3,FALSE)","v":{"$error":"#N/A"}},null,null,null,null,null,null,{"$error":"#N/A"}]
[null,null,{"$f":"VLOOKUP($B1833,'Ad Week Dates'!$A:$E,4,FALSE)","v":{"$error":"#N/A"}},{"$f":"VLOOKUP($B1833,'Ad Week Dates'!$A:$E,2,FALSE)","v":{"$error":"#N/A"}},{"$f":"VLOOKUP($B1833,'Ad Week Dates'!$A:$E,3,FALSE)","v":{"$error":"#N/A"}},null,null,null,null,null,null,{"$error":"#N/A"}]
[null,null,{"$f":"VLOOKUP($B1834,'Ad Week Dates'!$A:$E,4,FALSE)","v":{"$error":"#N/A"}},{"$f":"VLOOKUP($B1834,'Ad Week Dates'!$A:$E,2,FALSE)","v":{"$error":"#N/A"}},{"$f":"VLOOKUP($B1834,'Ad Week Dates'!$A:$E,3,FALSE)","v":{"$error":"#N/A"}},null,null,null,null,null,null,{"$error":"#N/A"}]
[null,null,{"$f":"VLOOKUP($B1835,'Ad Week Dates'!$A:$E,4,FALSE)","v":{"$error":"#N/A"}},{"$f":"VLOOKUP($B1835,'Ad Week Dates'!$A:$E,2,FALSE)","v":{"$error":"#N/A"}},{"$f":"VLOOKUP($B1835,'Ad Week Dates'!$A:$E,3,FALSE)","v":{"$error":"#N/A"}},null,null,null,null,null,null,{"$error":"#N/A"}]
[null,null,{"$f":"VLOOKUP($B1836,'Ad Week Dates'!$A:$E,4,FALSE)","v":{"$error":"#N/A"}},{"$f":"VLOOKUP($B1836,'Ad Week Dates'!$A:$E,2,FALSE)","v":{"$error":"#N/A"}},{"$f":"VLOOKUP($B1836,'Ad Week Dates'!$A:$E,3,FALSE)","v":{"$error":"#N/A"}},null,null,null,null,null,null,{"$error":"#N/A"}]
[null,null,{"$f":"VLOOKUP($B1837,'Ad Week Dates'!$A:$E,4,FALSE)","v":{"$error":"#N/A"}},{"$f":"VLOOKUP($B1837,'Ad Week Dates'!$A:$E,2,FALSE)","v":{"$error":"#N/A"}},{"$f":"VLOOKUP($B1837,'Ad Week Dates'!$A:$E,3,FALSE)","v":{"$error":"#N/A"}},null,null,null,null,null,null,{"$error":"#N/A"}]
[null,null,{"$f":"VLOOKUP($B1838,'Ad Week Dates'!$A:$E,4,FALSE)","v":{"$error":"#N/A"}},{"$f":"VLOOKUP($B1838,'Ad Week Dates'!$A:$E,2,FALSE)","v":{"$error":"#N/A"}},{"$f":"VLOOKUP($B1838,'Ad Week Dates'!$A:$E,3,FALSE)","v":{"$error":"#N/A"}},null,null,null,null,null,null,{"$error":"#N/A"}]
[null,null,{"$f":"VLOOKUP($B1839,'Ad Week Dates'!$A:$E,4,FALSE)","v":{"$error":"#N/A"}},{"$f":"VLOOKUP($B1839,'Ad Week Dates'!$A:$E,2,FALSE)","v":{"$error":"#N/A"}},{"$f":"VLOOKUP($B1839,'Ad Week Dates'!$A:$E,3,FALSE)","v":{"$error":"#N/A"}},null,null,null,null,null,null,{"$error":"#N/A"}]
[null,null,{"$f":"VLOOKUP($B1840,'Ad Week Dates'!$A:$E,4,FALSE)","v":{"$error":"#N/A"}},{"$f":"VLOOKUP($B1840,'Ad Week Dates'!$A:$E,2,FALSE)","v":{"$error":"#N/A"}},{"$f":"VLOOKUP($B1840,'Ad Week Dates'!$A:$E,3,FALSE)","v":{"$error":"#N/A"}},null,null,null,null,null,null,{"$error":"#N/A"}]
[null,null,{"$f":"VLOOKUP($B1841,'Ad Week Dates'!$A:$E,4,FALSE)","v":{"$error":"#N/A"}},{"$f":"VLOOKUP($B1841,'Ad Week Dates'!$A:$E,2,FALSE)","v":{"$error":"#N/A"}},{"$f":"VLOOKUP($B1841,'Ad Week Dates'!$A:$E,3,FALSE)","v":{"$error":"#N/A"}},null,null,null,null,null,null,{"$error":"#N/A"}]
[null,null,{"$f":"VLOOKUP($B1842,'Ad Week Dates'!$A:$E,4,FALSE)","v":{"$error":"#N/A"}},{"$f":"VLOOKUP($B1842,'Ad Week Dates'!$A:$E,2,FALSE)","v":{"$error":"#N/A"}},{"$f":"VLOOKUP($B1842,'Ad Week Dates'!$A:$E,3,FALSE)","v":{"$error":"#N/A"}},null,null,null,null,null,null,{"$error":"#N/A"}]
[null,null,{"$f":"VLOOKUP($B1843,'Ad Week Dates'!$A:$E,4,FALSE)","v":{"$error":"#N/A"}},{"$f":"VLOOKUP($B1843,'Ad Week Dates'!$A:$E,2,FALSE)","v":{"$error":"#N/A"}},{"$f":"VLOOKUP($B1843,'Ad Week Dates'!$A:$E,3,FALSE)","v":{"$error":"#N/A"}},null,null,null,null,null,null,{"$error":"#N/A"}]
[null,null,{"$f":"VLOOKUP($B1844,'Ad Week Dates'!$A:$E,4,FALSE)","v":{"$error":"#N/A"}},{"$f":"VLOOKUP($B1844,'Ad Week Dates'!$A:$E,2,FALSE)","v":{"$error":"#N/A"}},{"$f":"VLOOKUP($B1844,'Ad Week Dates'!$A:$E,3,FALSE)","v":{"$error":"#N/A"}},null,null,null,null,null,null,{"$error":"#N/A"}]
[null,null,{"$f":"VLOOKUP($B1845,'Ad Week Dates'!$A:$E,4,FALSE)","v":{"$error":"#N/A"}},{"$f":"VLOOKUP($B1845,'Ad Week Dates'!$A:$E,2,FALSE)","v":{"$error":"#N/A"}},{"$f":"VLOOKUP($B1845,'Ad Week Dates'!$A:$E,3,FALSE)","v":{"$error":"#N/A"}},null,null,null,null,null,null,{"$error":"#N/A"}]
[null,null,{"$f":"VLOOKUP($B1846,'Ad Week Dates'!$A:$E,4,FALSE)","v":{"$error":"#N/A"}},{"$f":"VLOOKUP($B1846,'Ad Week Dates'!$A:$E,2,FALSE)","v":{"$error":"#N/A"}},{"$f":"VLOOKUP($B1846,'Ad Week Dates'!$A:$E,3,FALSE)","v":{"$error":"#N/A"}},null,null,null,null,null,null,{"$error":"#N/A"}]
[null,null,{"$f":"VLOOKUP($B1847,'Ad Week Dates'!$A:$E,4,FALSE)","v":{"$error":"#N/A"}},{"$f":"VLOOKUP($B1847,'Ad Week Dates'!$A:$E,2,FALSE)","v":{"$error":"#N/A"}},{"$f":"VLOOKUP($B1847,'Ad Week Dates'!$A:$E,3,FALSE)","v":{"$error":"#N/A"}},null,null,null,null,null,null,{"$error":"#N/A"}]
[null,null,{"$f":"VLOOKUP($B1848,'Ad Week Dates'!$A:$E,4,FALSE)","v":{"$error":"#N/A"}},{"$f":"VLOOKUP($B1848,'Ad Week Dates'!$A:$E,2,FALSE)","v":{"$error":"#N/A"}},{"$f":"VLOOKUP($B1848,'Ad Week Dates'!$A:$E,3,FALSE)","v":{"$error":"#N/A"}},null,null,null,null,null,null,{"$error":"#N/A"}]
[null,null,{"$f":"VLOOKUP($B1849,'Ad Week Dates'!$A:$E,4,FALSE)","v":{"$error":"#N/A"}},{"$f":"VLOOKUP($B1849,'Ad Week Dates'!$A:$E,2,FALSE)","v":{"$error":"#N/A"}},{"$f":"VLOOKUP($B1849,'Ad Week Dates'!$A:$E,3,FALSE)","v":{"$error":"#N/A"}},null,null,null,null,null,null,{"$error":"#N/A"}]
[null,null,{"$f":"VLOOKUP($B1850,'Ad Week Dates'!$A:$E,4,FALSE)","v":{"$error":"#N/A"}},{"$f":"VLOOKUP($B1850,'Ad Week Dates'!$A:$E,2,FALSE)","v":{"$error":"#N/A"}},{"$f":"VLOOKUP($B1850,'Ad Week Dates'!$A:$E,3,FALSE)","v":{"$error":"#N/A"}},null,null,null,null,null,null,{"$error":"#N/A"}]
[null,null,{"$f":"VLOOKUP($B1851,'Ad Week Dates'!$A:$E,4,FALSE)","v":{"$error":"#N/A"}},{"$f":"VLOOKUP($B1851,'Ad Week Dates'!$A:$E,2,FALSE)","v":{"$error":"#N/A"}},{"$f":"VLOOKUP($B1851,'Ad Week Dates'!$A:$E,3,FALSE)","v":{"$error":"#N/A"}},null,null,null,null,null,null,{"$error":"#N/A"}]
[null,null,{"$f":"VLOOKUP($B1852,'Ad Week Dates'!$A:$E,4,FALSE)","v":{"$error":"#N/A"}},{"$f":"VLOOKUP($B1852,'Ad Week Dates'!$A:$E,2,FALSE)","v":{"$error":"#N/A"}},{"$f":"VLOOKUP($B1852,'Ad Week Dates'!$A:$E,3,FALSE)","v":{"$error":"#N/A"}},null,null,null,null,null,null,{"$error":"#N/A"}]
[null,null,{"$f":"VLOOKUP($B1853,'Ad Week Dates'!$A:$E,4,FALSE)","v":{"$error":"#N/A"}},{"$f":"VLOOKUP($B1853,'Ad Week Dates'!$A:$E,2,FALSE)","v":{"$error":"#N/A"}},{"$f":"VLOOKUP($B1853,'Ad Week Dates'!$A:$E,3,FALSE)","v":{"$error":"#N/A"}},null,null,null,null,null,null,{"$error":"#N/A"}]
[null,null,{"$f":"VLOOKUP($B1854,'Ad Week Dates'!$A:$E,4,FALSE)","v":{"$error":"#N/A"}},{"$f":"VLOOKUP($B1854,'Ad Week Dates'!$A:$E,2,FALSE)","v":{"$error":"#N/A"}},{"$f":"VLOOKUP($B1854,'Ad Week Dates'!$A:$E,3,FALSE)","v":{"$error":"#N/A"}},null,null,null,null,null,null,{"$error":"#N/A"}]
[null,null,{"$f":"VLOOKUP($B1855,'Ad Week Dates'!$A:$E,4,FALSE)","v":{"$error":"#N/A"}},{"$f":"VLOOKUP($B1855,'Ad Week Dates'!$A:$E,2,FALSE)","v":{"$error":"#N/A"}},{"$f":"VLOOKUP($B1855,'Ad Week Dates'!$A:$E,3,FALSE)","v":{"$error":"#N/A"}},null,null,null,null,null,null,{"$error":"#N/A"}]
[null,null,{"$f":"VLOOKUP($B1856,'Ad Week Dates'!$A:$E,4,FALSE)","v":{"$error":"#N/A"}},{"$f":"VLOOKUP($B1856,'Ad Week Dates'!$A:$E,2,FALSE)","v":{"$error":"#N/A"}},{"$f":"VLOOKUP($B1856,'Ad Week Dates'!$A:$E,3,FALSE)","v":{"$error":"#N/A"}},null,null,null,null,null,null,{"$error":"#N/A"}]
[null,null,{"$f":"VLOOKUP($B1857,'Ad Week Dates'!$A:$E,4,FALSE)","v":{"$error":"#N/A"}},{"$f":"VLOOKUP($B1857,'Ad Week Dates'!$A:$E,2,FALSE)","v":{"$error":"#N/A"}},{"$f":"VLOOKUP($B1857,'Ad Week Dates'!$A:$E,3,FALSE)","v":{"$error":"#N/A"}},null,null,null,null,null,null,{"$error":"#N/A"}]
[null,null,{"$f":"VLOOKUP($B1858,'Ad Week Dates'!$A:$E,4,FALSE)","v":{"$error":"#N/A"}},{"$f":"VLOOKUP($B1858,'Ad Week Dates'!$A:$E,2,FALSE)","v":{"$error":"#N/A"}},{"$f":"VLOOKUP($B1858,'Ad Week Dates'!$A:$E,3,FALSE)","v":{"$error":"#N/A"}},null,null,null,null,null,null,{"$error":"#N/A"}]
[null,null,{"$f":"VLOOKUP($B1859,'Ad Week Dates'!$A:$E,4,FALSE)","v":{"$error":"#N/A"}},{"$f":"VLOOKUP($B1859,'Ad Week Dates'!$A:$E,2,FALSE)","v":{"$error":"#N/A"}},{"$f":"VLOOKUP($B1859,'Ad Week Dates'!$A:$E,3,FALSE)","v":{"$error":"#N/A"}},null,null,null,null,null,null,{"$error":"#N/A"}]
[null,null,{"$f":"VLOOKUP($B1860,'Ad Week Dates'!$A:$E,4,FALSE)","v":{"$error":"#N/A"}},{"$f":"VLOOKUP($B1860,'Ad Week Dates'!$A:$E,2,FALSE)","v":{"$error":"#N/A"}},{"$f":"VLOOKUP($B1860,'Ad Week Dates'!$A:$E,3,FALSE)","v":{"$error":"#N/A"}},null,null,null,null,null,null,{"$error":"#N/A"}]
[null,null,{"$f":"VLOOKUP($B1861,'Ad Week Dates'!$A:$E,4,FALSE)","v":{"$error":"#N/A"}},{"$f":"VLOOKUP($B1861,'Ad Week Dates'!$A:$E,2,FALSE)","v":{"$error":"#N/A"}},{"$f":"VLOOKUP($B1861,'Ad Week Dates'!$A:$E,3,FALSE)","v":{"$error":"#N/A"}},null,null,null,null,null,null,{"$error":"#N/A"}]
[null,null,{"$f":"VLOOKUP($B1862,'Ad Week Dates'!$A:$E,4,FALSE)","v":{"$error":"#N/A"}},{"$f":"VLOOKUP($B1862,'Ad Week Dates'!$A:$E,2,FALSE)","v":{"$error":"#N/A"}},{"$f":"VLOOKUP($B1862,'Ad Week Dates'!$A:$E,3,FALSE)","v":{"$error":"#N/A"}},null,null,null,null,null,null,{"$f":"IF(ISNUMBER(J1862), J1862 - K1862, VALUE(_xlfn.TEXTBEFORE(J1862, \"-\")) - VALUE(_xlfn.TEXTBEFORE(K1862, \"-\")))","v":{"$error":"#N/A"}}]
[null,null,{"$f":"VLOOKUP($B1863,'Ad Week Dates'!$A:$E,4,FALSE)","v":{"$error":"#N/A"}},{"$f":"VLOOKUP($B1863,'Ad Week Dates'!$A:$E,2,FALSE)","v":{"$error":"#N/A"}},{"$f":"VLOOKUP($B1863,'Ad Week Dates'!$A:$E,3,FALSE)","v":{"$error":"#N/A"}},null,null,null,null,null,null,{"$error":"#N/A"}]
[null,null,{"$f":"VLOOKUP($B1864,'Ad Week Dates'!$A:$E,4,FALSE)","v":{"$error":"#N/A"}},{"$f":"VLOOKUP($B1864,'Ad Week Dates'!$A:$E,2,FALSE)","v":{"$error":"#N/A"}},{"$f":"VLOOKUP($B1864,'Ad Week Dates'!$A:$E,3,FALSE)","v":{"$error":"#N/A"}},null,null,null,null,null,null,{"$error":"#N/A"}]
[null,null,{"$f":"VLOOKUP($B1865,'Ad Week Dates'!$A:$E,4,FALSE)","v":{"$error":"#N/A"}},{"$f":"VLOOKUP($B1865,'Ad Week Dates'!$A:$E,2,FALSE)","v":{"$error":"#N/A"}},{"$f":"VLOOKUP($B1865,'Ad Week Dates'!$A:$E,3,FALSE)","v":{"$error":"#N/A"}},null,null,null,null,null,null,{"$error":"#N/A"}]
[null,null,{"$f":"VLOOKUP($B1866,'Ad Week Dates'!$A:$E,4,FALSE)","v":{"$error":"#N/A"}},{"$f":"VLOOKUP($B1866,'Ad Week Dates'!$A:$E,2,FALSE)","v":{"$error":"#N/A"}},{"$f":"VLOOKUP($B1866,'Ad Week Dates'!$A:$E,3,FALSE)","v":{"$error":"#N/A"}},null,null,null,null,null,null,{"$error":"#N/A"}]
[null,null,{"$f":"VLOOKUP($B1867,'Ad Week Dates'!$A:$E,4,FALSE)","v":{"$error":"#N/A"}},{"$f":"VLOOKUP($B1867,'Ad Week Dates'!$A:$E,2,FALSE)","v":{"$error":"#N/A"}},{"$f":"VLOOKUP($B1867,'Ad Week Dates'!$A:$E,3,FALSE)","v":{"$error":"#N/A"}},null,null,null,null,null,null,{"$error":"#N/A"}]
[null,null,{"$f":"VLOOKUP($B1868,'Ad Week Dates'!$A:$E,4,FALSE)","v":{"$error":"#N/A"}},{"$f":"VLOOKUP($B1868,'Ad Week Dates'!$A:$E,2,FALSE)","v":{"$error":"#N/A"}},{"$f":"VLOOKUP($B1868,'Ad Week Dates'!$A:$E,3,FALSE)","v":{"$error":"#N/A"}},null,null,null,null,null,null,{"$error":"#N/A"}]
[null,null,{"$f":"VLOOKUP($B1869,'Ad Week Dates'!$A:$E,4,FALSE)","v":{"$error":"#N/A"}},{"$f":"VLOOKUP($B1869,'Ad Week Dates'!$A:$E,2,FALSE)","v":{"$error":"#N/A"}},{"$f":"VLOOKUP($B1869,'Ad Week Dates'!$A:$E,3,FALSE)","v":{"$error":"#N/A"}},null,null,null,null,null,null,{"$error":"#N/A"}]
[null,null,{"$f":"VLOOKUP($B1870,'Ad Week Dates'!$A:$E,4,FALSE)","v":{"$error":"#N/A"}},{"$f":"VLOOKUP($B1870,'Ad Week Dates'!$A:$E,2,FALSE)","v":{"$error":"#N/A"}},{"$f":"VLOOKUP($B1870,'Ad Week Dates'!$A:$E,3,FALSE)","v":{"$error":"#N/A"}},null,null,null,null,null,null,{"$error":"#N/A"}]
[null,null,{"$f":"VLOOKUP($B1871,'Ad Week Dates'!$A:$E,4,FALSE)","v":{"$error":"#N/A"}},{"$f":"VLOOKUP($B1871,'Ad Week Dates'!$A:$E,2,FALSE)","v":{"$error":"#N/A"}},{"$f":"VLOOKUP($B1871,'Ad Week Dates'!$A:$E,3,FALSE)","v":{"$error":"#N/A"}},null,null,null,null,null,null,{"$error":"#N/A"}]
[null,null,{"$f":"VLOOKUP($B1872,'Ad Week Dates'!$A:$E,4,FALSE)","v":{"$error":"#N/A"}},{"$f":"VLOOKUP($B1872,'Ad Week Dates'!$A:$E,2,FALSE)","v":{"$error":"#N/A"}},{"$f":"VLOOKUP($B1872,'Ad Week Dates'!$A:$E,3,FALSE)","v":{"$error":"#N/A"}},null,null,null,null,null,null,{"$error":"#N/A"}]
[null,null,{"$f":"VLOOKUP($B1873,'Ad Week Dates'!$A:$E,4,FALSE)","v":{"$error":"#N/A"}},{"$f":"VLOOKUP($B1873,'Ad Week Dates'!$A:$E,2,FALSE)","v":{"$error":"#N/A"}},{"$f":"VLOOKUP($B1873,'Ad Week Dates'!$A:$E,3,FALSE)","v":{"$error":"#N/A"}},null,null,null,null,null,null,{"$error":"#N/A"}]
[null,null,{"$f":"VLOOKUP($B1874,'Ad Week Dates'!$A:$E,4,FALSE)","v":{"$error":"#N/A"}},{"$f":"VLOOKUP($B1874,'Ad Week Dates'!$A:$E,2,FALSE)","v":{"$error":"#N/A"}},{"$f":"VLOOKUP($B1874,'Ad Week Dates'!$A:$E,3,FALSE)","v":{"$error":"#N/A"}},null,null,null,null,null,null,{"$error":"#N/A"}]
[null,null,{"$f":"VLOOKUP($B1875,'Ad Week Dates'!$A:$E,4,FALSE)","v":{"$error":"#N/A"}},{"$f":"VLOOKUP($B1875,'Ad Week Dates'!$A:$E,2,FALSE)","v":{"$error":"#N/A"}},{"$f":"VLOOKUP($B1875,'Ad Week Dates'!$A:$E,3,FALSE)","v":{"$error":"#N/A"}},null,null,null,null,null,null,{"$error":"#N/A"}]
[null,null,{"$f":"VLOOKUP($B1876,'Ad Week Dates'!$A:$E,4,FALSE)","v":{"$error":"#N/A"}},{"$f":"VLOOKUP($B1876,'Ad Week Dates'!$A:$E,2,FALSE)","v":{"$error":"#N/A"}},{"$f":"VLOOKUP($B1876,'Ad Week Dates'!$A:$E,3,FALSE)","v":{"$error":"#N/A"}},null,null,null,null,null,null,{"$error":"#N/A"}]
[null,null,{"$f":"VLOOKUP($B1877,'Ad Week Dates'!$A:$E,4,FALSE)","v":{"$error":"#N/A"}},{"$f":"VLOOKUP($B1877,'Ad Week Dates'!$A:$E,2,FALSE)","v":{"$error":"#N/A"}},{"$f":"VLOOKUP($B1877,'Ad Week Dates'!$A:$E,3,FALSE)","v":{"$error":"#N/A"}},null,null,null,null,null,null,{"$error":"#N/A"}]
[null,null,{"$f":"VLOOKUP($B1878,'Ad Week Dates'!$A:$E,4,FALSE)","v":{"$error":"#N/A"}},{"$f":"VLOOKUP($B1878,'Ad Week Dates'!$A:$E,2,FALSE)","v":{"$error":"#N/A"}},{"$f":"VLOOKUP($B1878,'Ad Week Dates'!$A:$E,3,FALSE)","v":{"$error":"#N/A"}},null,null,null,null,null,null,{"$error":"#N/A"}]
[null,null,{"$f":"VLOOKUP($B1879,'Ad Week Dates'!$A:$E,4,FALSE)","v":{"$error":"#N/A"}},{"$f":"VLOOKUP($B1879,'Ad Week Dates'!$A:$E,2,FALSE)","v":{"$error":"#N/A"}},{"$f":"VLOOKUP($B1879,'Ad Week Dates'!$A:$E,3,FALSE)","v":{"$error":"#N/A"}},null,null,null,null,null,null,{"$error":"#N/A"}]
[null,null,{"$f":"VLOOKUP($B1880,'Ad Week Dates'!$A:$E,4,FALSE)","v":{"$error":"#N/A"}},{"$f":"VLOOKUP($B1880,'Ad Week Dates'!$A:$E,2,FALSE)","v":{"$error":"#N/A"}},{"$f":"VLOOKUP($B1880,'Ad Week Dates'!$A:$E,3,FALSE)","v":{"$error":"#N/A"}},null,null,null,null,null,null,{"$error":"#N/A"}]
[null,null,{"$f":"VLOOKUP($B1881,'Ad Week Dates'!$A:$E,4,FALSE)","v":{"$error":"#N/A"}},{"$f":"VLOOKUP($B1881,'Ad Week Dates'!$A:$E,2,FALSE)","v":{"$error":"#N/A"}},{"$f":"VLOOKUP($B1881,'Ad Week Dates'!$A:$E,3,FALSE)","v":{"$error":"#N/A"}},null,null,null,null,null,null,{"$error":"#N/A"}]
[null,null,{"$f":"VLOOKUP($B1882,'Ad Week Dates'!$A:$E,4,FALSE)","v":{"$error":"#N/A"}},{"$f":"VLOOKUP($B1882,'Ad Week Dates'!$A:$E,2,FALSE)","v":{"$error":"#N/A"}},{"$f":"VLOOKUP($B1882,'Ad Week Dates'!$A:$E,3,FALSE)","v":{"$error":"#N/A"}},null,null,null,null,null,null,{"$error":"#N/A"}]
[null,null,{"$f":"VLOOKUP($B1883,'Ad Week Dates'!$A:$E,4,FALSE)","v":{"$error":"#N/A"}},{"$f":"VLOOKUP($B1883,'Ad Week Dates'!$A:$E,2,FALSE)","v":{"$error":"#N/A"}},{"$f":"VLOOKUP($B1883,'Ad Week Dates'!$A:$E,3,FALSE)","v":{"$error":"#N/A"}},null,null,null,null,null,null,{"$error":"#N/A"}]
[null,null,{"$f":"VLOOKUP($B1884,'Ad Week Dates'!$A:$E,4,FALSE)","v":{"$error":"#N/A"}},{"$f":"VLOOKUP($B1884,'Ad Week Dates'!$A:$E,2,FALSE)","v":{"$error":"#N/A"}},{"$f":"VLOOKUP($B1884,'Ad Week Dates'!$A:$E,3,FALSE)","v":{"$error":"#N/A"}},null,null,null,null,null,null,{"$error":"#N/A"}]
[null,null,{"$f":"VLOOKUP($B1885,'Ad Week Dates'!$A:$E,4,FALSE)","v":{"$error":"#N/A"}},{"$f":"VLOOKUP($B1885,'Ad Week Dates'!$A:$E,2,FALSE)","v":{"$error":"#N/A"}},{"$f":"VLOOKUP($B1885,'Ad Week Dates'!$A:$E,3,FALSE)","v":{"$error":"#N/A"}},null,null,null,null,null,null,{"$error":"#N/A"}]
[null,null,{"$f":"VLOOKUP($B1886,'Ad Week Dates'!$A:$E,4,FALSE)","v":{"$error":"#N/A"}},{"$f":"VLOOKUP($B1886,'Ad Week Dates'!$A:$E,2,FALSE)","v":{"$error":"#N/A"}},{"$f":"VLOOKUP($B1886,'Ad Week Dates'!$A:$E,3,FALSE)","v":{"$error":"#N/A"}},null,null,null,null,null,null,{"$error":"#N/A"}]
[null,null,{"$f":"VLOOKUP($B1887,'Ad Week Dates'!$A:$E,4,FALSE)","v":{"$error":"#N/A"}},{"$f":"VLOOKUP($B1887,'Ad Week Dates'!$A:$E,2,FALSE)","v":{"$error":"#N/A"}},{"$f":"VLOOKUP($B1887,'Ad Week Dates'!$A:$E,3,FALSE)","v":{"$error":"#N/A"}},null,null,null,null,null,null,{"$error":"#N/A"}]
[null,null,{"$f":"VLOOKUP($B1888,'Ad Week Dates'!$A:$E,4,FALSE)","v":{"$error":"#N/A"}},{"$f":"VLOOKUP($B1888,'Ad Week Dates'!$A:$E,2,FALSE)","v":{"$error":"#N/A"}},{"$f":"VLOOKUP($B1888,'Ad Week Dates'!$A:$E,3,FALSE)","v":{"$error":"#N/A"}},null,null,null,null,null,null,{"$error":"#N/A"}]
[null,null,{"$f":"VLOOKUP($B1889,'Ad Week Dates'!$A:$E,4,FALSE)","v":{"$error":"#N/A"}},{"$f":"VLOOKUP($B1889,'Ad Week Dates'!$A:$E,2,FALSE)","v":{"$error":"#N/A"}},{"$f":"VLOOKUP($B1889,'Ad Week Dates'!$A:$E,3,FALSE)","v":{"$error":"#N/A"}},null,null,null,null,null,null,{"$error":"#N/A"}]
[null,null,{"$f":"VLOOKUP($B1890,'Ad Week Dates'!$A:$E,4,FALSE)","v":{"$error":"#N/A"}},{"$f":"VLOOKUP($B1890,'Ad Week Dates'!$A:$E,2,FALSE)","v":{"$error":"#N/A"}},{"$f":"VLOOKUP($B1890,'Ad Week Dates'!$A:$E,3,FALSE)","v":{"$error":"#N/A"}},null,null,null,null,null,null,{"$error":"#N/A"}]
[null,null,{"$f":"VLOOKUP($B1891,'Ad Week Dates'!$A:$E,4,FALSE)","v":{"$error":"#N/A"}},{"$f":"VLOOKUP($B1891,'Ad Week Dates'!$A:$E,2,FALSE)","v":{"$error":"#N/A"}},{"$f":"VLOOKUP($B1891,'Ad Week Dates'!$A:$E,3,FALSE)","v":{"$error":"#N/A"}},null,null,null,null,null,null,{"$error":"#N/A"}]
[null,null,{"$f":"VLOOKUP($B1892,'Ad Week Dates'!$A:$E,4,FALSE)","v":{"$error":"#N/A"}},{"$f":"VLOOKUP($B1892,'Ad Week Dates'!$A:$E,2,FALSE)","v":{"$error":"#N/A"}},{"$f":"VLOOKUP($B1892,'Ad Week Dates'!$A:$E,3,FALSE)","v":{"$error":"#N/A"}},null,null,null,null,null,null,{"$error":"#N/A"}]
[null,null,{"$f":"VLOOKUP($B1893,'Ad Week Dates'!$A:$E,4,FALSE)","v":{"$error":"#N/A"}},{"$f":"VLOOKUP($B1893,'Ad Week Dates'!$A:$E,2,FALSE)","v":{"$error":"#N/A"}},{"$f":"VLOOKUP($B1893,'Ad Week Dates'!$A:$E,3,FALSE)","v":{"$error":"#N/A"}},null,null,null,null,null,null,{"$error":"#N/A"}]
[null,null,{"$f":"VLOOKUP($B1894,'Ad Week Dates'!$A:$E,4,FALSE)","v":{"$error":"#N/A"}},{"$f":"VLOOKUP($B1894,'Ad Week Dates'!$A:$E,2,FALSE)","v":{"$error":"#N/A"}},{"$f":"VLOOKUP($B1894,'Ad Week Dates'!$A:$E,3,FALSE)","v":{"$error":"#N/A"}},null,null,null,null,null,null,{"$error":"#N/A"}]
[null,null,{"$f":"VLOOKUP($B1895,'Ad Week Dates'!$A:$E,4,FALSE)","v":{"$error":"#N/A"}},{"$f":"VLOOKUP($B1895,'Ad Week Dates'!$A:$E,2,FALSE)","v":{"$error":"#N/A"}},{"$f":"VLOOKUP($B1895,'Ad Week Dates'!$A:$E,3,FALSE)","v":{"$error":"#N/A"}},null,null,null,null,null,null,{"$error":"#N/A"}]
[null,null,{"$f":"VLOOKUP($B1896,'Ad Week Dates'!$A:$E,4,FALSE)","v":{"$error":"#N/A"}},{"$f":"VLOOKUP($B1896,'Ad Week Dates'!$A:$E,2,FALSE)","v":{"$error":"#N/A"}},{"$f":"VLOOKUP($B1896,'Ad Week Dates'!$A:$E,3,FALSE)","v":{"$error":"#N/A"}},null,null,null,null,null,null,{"$error":"#N/A"}]
[null,null,{"$f":"VLOOKUP($B1897,'Ad Week Dates'!$A:$E,4,FALSE)","v":{"$error":"#N/A"}},{"$f":"VLOOKUP($B1897,'Ad Week Dates'!$A:$E,2,FALSE)","v":{"$error":"#N/A"}},{"$f":"VLOOKUP($B1897,'Ad Week Dates'!$A:$E,3,FALSE)","v":{"$error":"#N/A"}},null,null,null,null,null,null,{"$error":"#N/A"}]
[null,null,{"$f":"VLOOKUP($B1898,'Ad Week Dates'!$A:$E,4,FALSE)","v":{"$error":"#N/A"}},{"$f":"VLOOKUP($B1898,'Ad Week Dates'!$A:$E,2,FALSE)","v":{"$error":"#N/A"}},{"$f":"VLOOKUP($B1898,'Ad Week Dates'!$A:$E,3,FALSE)","v":{"$error":"#N/A"}},null,null,null,null,null,null,{"$error":"#N/A"}]
[null,null,{"$f":"VLOOKUP($B1899,'Ad Week Dates'!$A:$E,4,FALSE)","v":{"$error":"#N/A"}},{"$f":"VLOOKUP($B1899,'Ad Week Dates'!$A:$E,2,FALSE)","v":{"$error":"#N/A"}},{"$f":"VLOOKUP($B1899,'Ad Week Dates'!$A:$E,3,FALSE)","v":{"$error":"#N/A"}},null,null,null,null,null,null,{"$error":"#N/A"}]
[null,null,{"$f":"VLOOKUP($B1900,'Ad Week Dates'!$A:$E,4,FALSE)","v":{"$error":"#N/A"}},{"$f":"VLOOKUP($B1900,'Ad Week Dates'!$A:$E,2,FALSE)","v":{"$error":"#N/A"}},{"$f":"VLOOKUP($B1900,'Ad Week Dates'!$A:$E,3,FALSE)","v":{"$error":"#N/A"}},null,null,null,null,null,null,{"$error":"#N/A"}]
[null,null,{"$f":"VLOOKUP($B1901,'Ad Week Dates'!$A:$E,4,FALSE)","v":{"$error":"#N/A"}},{"$f":"VLOOKUP($B1901,'Ad Week Dates'!$A:$E,2,FALSE)","v":{"$error":"#N/A"}},{"$f":"VLOOKUP($B1901,'Ad Week Dates'!$A:$E,3,FALSE)","v":{"$error":"#N/A"}},null,null,null,null,null,null,{"$error":"#N/A"}]
[null,null,{"$f":"VLOOKUP($B1902,'Ad Week Dates'!$A:$E,4,FALSE)","v":{"$error":"#N/A"}},{"$f":"VLOOKUP($B1902,'Ad Week Dates'!$A:$E,2,FALSE)","v":{"$error":"#N/A"}},{"$f":"VLOOKUP($B1902,'Ad Week Dates'!$A:$E,3,FALSE)","v":{"$error":"#N/A"}},null,null,null,null,null,null,{"$error":"#N/A"}]
[null,null,{"$f":"VLOOKUP($B1903,'Ad Week Dates'!$A:$E,4,FALSE)","v":{"$error":"#N/A"}},{"$f":"VLOOKUP($B1903,'Ad Week Dates'!$A:$E,2,FALSE)","v":{"$error":"#N/A"}},{"$f":"VLOOKUP($B1903,'Ad Week Dates'!$A:$E,3,FALSE)","v":{"$error":"#N/A"}},null,null,null,null,null,null,{"$error":"#N/A"}]
[null,null,{"$f":"VLOOKUP($B1904,'Ad Week Dates'!$A:$E,4,FALSE)","v":{"$error":"#N/A"}},{"$f":"VLOOKUP($B1904,'Ad Week Dates'!$A:$E,2,FALSE)","v":{"$error":"#N/A"}},{"$f":"VLOOKUP($B1904,'Ad Week Dates'!$A:$E,3,FALSE)","v":{"$error":"#N/A"}},null,null,null,null,null,null,{"$error":"#N/A"}]
[null,null,{"$f":"VLOOKUP($B1905,'Ad Week Dates'!$A:$E,4,FALSE)","v":{"$error":"#N/A"}},{"$f":"VLOOKUP($B1905,'Ad Week Dates'!$A:$E,2,FALSE)","v":{"$error":"#N/A"}},{"$f":"VLOOKUP($B1905,'Ad Week Dates'!$A:$E,3,FALSE)","v":{"$error":"#N/A"}},null,null,null,null,null,null,{"$error":"#N/A"}]
[null,null,{"$f":"VLOOKUP($B1906,'Ad Week Dates'!$A:$E,4,FALSE)","v":{"$error":"#N/A"}},{"$f":"VLOOKUP($B1906,'Ad Week Dates'!$A:$E,2,FALSE)","v":{"$error":"#N/A"}},{"$f":"VLOOKUP($B1906,'Ad Week Dates'!$A:$E,3,FALSE)","v":{"$error":"#N/A"}},null,null,null,null,null,null,{"$error":"#N/A"}]
[null,null,{"$f":"VLOOKUP($B1907,'Ad Week Dates'!$A:$E,4,FALSE)","v":{"$error":"#N/A"}},{"$f":"VLOOKUP($B1907,'Ad Week Dates'!$A:$E,2,FALSE)","v":{"$error":"#N/A"}},{"$f":"VLOOKUP($B1907,'Ad Week Dates'!$A:$E,3,FALSE)","v":{"$error":"#N/A"}},null,null,null,null,null,null,{"$error":"#N/A"}]
[null,null,{"$f":"VLOOKUP($B1908,'Ad Week Dates'!$A:$E,4,FALSE)","v":{"$error":"#N/A"}},{"$f":"VLOOKUP($B1908,'Ad Week Dates'!$A:$E,2,FALSE)","v":{"$error":"#N/A"}},{"$f":"VLOOKUP($B1908,'Ad Week Dates'!$A:$E,3,FALSE)","v":{"$error":"#N/A"}},null,null,null,null,null,null,{"$error":"#N/A"}]
[null,null,{"$f":"VLOOKUP($B1909,'Ad Week Dates'!$A:$E,4,FALSE)","v":{"$error":"#N/A"}},{"$f":"VLOOKUP($B1909,'Ad Week Dates'!$A:$E,2,FALSE)","v":{"$error":"#N/A"}},{"$f":"VLOOKUP($B1909,'Ad Week Dates'!$A:$E,3,FALSE)","v":{"$error":"#N/A"}},null,null,null,null,null,null,{"$error":"#N/A"}]
[null,null,{"$f":"VLOOKUP($B1910,'Ad Week Dates'!$A:$E,4,FALSE)","v":{"$error":"#N/A"}},{"$f":"VLOOKUP($B1910,'Ad Week Dates'!$A:$E,2,FALSE)","v":{"$error":"#N/A"}},{"$f":"VLOOKUP($B1910,'Ad Week Dates'!$A:$E,3,FALSE)","v":{"$error":"#N/A"}},null,null,null,null,null,null,{"$error":"#N/A"}]
[null,null,{"$f":"VLOOKUP($B1911,'Ad Week Dates'!$A:$E,4,FALSE)","v":{"$error":"#N/A"}},{"$f":"VLOOKUP($B1911,'Ad Week Dates'!$A:$E,2,FALSE)","v":{"$error":"#N/A"}},{"$f":"VLOOKUP($B1911,'Ad Week Dates'!$A:$E,3,FALSE)","v":{"$error":"#N/A"}},null,null,null,null,null,null,{"$error":"#N/A"}]
[null,null,{"$f":"VLOOKUP($B1912,'Ad Week Dates'!$A:$E,4,FALSE)","v":{"$error":"#N/A"}},{"$f":"VLOOKUP($B1912,'Ad Week Dates'!$A:$E,2,FALSE)","v":{"$error":"#N/A"}},{"$f":"VLOOKUP($B1912,'Ad Week Dates'!$A:$E,3,FALSE)","v":{"$error":"#N/A"}},null,null,null,null,null,null,{"$error":"#N/A"}]
[null,null,{"$f":"VLOOKUP($B1913,'Ad Week Dates'!$A:$E,4,FALSE)","v":{"$error":"#N/A"}},{"$f":"VLOOKUP($B1913,'Ad Week Dates'!$A:$E,2,FALSE)","v":{"$error":"#N/A"}},{"$f":"VLOOKUP($B1913,'Ad Week Dates'!$A:$E,3,FALSE)","v":{"$error":"#N/A"}},null,null,null,null,null,null,{"$error":"#N/A"}]
[null,null,{"$f":"VLOOKUP($B1914,'Ad Week Dates'!$A:$E,4,FALSE)","v":{"$error":"#N/A"}},{"$f":"VLOOKUP($B1914,'Ad Week Dates'!$A:$E,2,FALSE)","v":{"$error":"#N/A"}},{"$f":"VLOOKUP($B1914,'Ad Week Dates'!$A:$E,3,FALSE)","v":{"$error":"#N/A"}},null,null,null,null,null,null,{"$error":"#N/A"}]
[null,null,{"$f":"VLOOKUP($B1915,'Ad Week Dates'!$A:$E,4,FALSE)","v":{"$error":"#N/A"}},{"$f":"VLOOKUP($B1915,'Ad Week Dates'!$A:$E,2,FALSE)","v":{"$error":"#N/A"}},{"$f":"VLOOKUP($B1915,'Ad Week Dates'!$A:$E,3,FALSE)","v":{"$error":"#N/A"}},null,null,null,null,null,null,{"$error":"#N/A"}]
[null,null,{"$f":"VLOOKUP($B1916,'Ad Week Dates'!$A:$E,4,FALSE)","v":{"$error":"#N/A"}},{"$f":"VLOOKUP($B1916,'Ad Week Dates'!$A:$E,2,FALSE)","v":{"$error":"#N/A"}},{"$f":"VLOOKUP($B1916,'Ad Week Dates'!$A:$E,3,FALSE)","v":{"$error":"#N/A"}},null,null,null,null,null,null,{"$error":"#N/A"}]
[null,null,{"$f":"VLOOKUP($B1917,'Ad Week Dates'!$A:$E,4,FALSE)","v":{"$error":"#N/A"}},{"$f":"VLOOKUP($B1917,'Ad Week Dates'!$A:$E,2,FALSE)","v":{"$error":"#N/A"}},{"$f":"VLOOKUP($B1917,'Ad Week Dates'!$A:$E,3,FALSE)","v":{"$error":"#N/A"}},null,null,null,null,null,null,{"$error":"#N/A"}]
[null,null,{"$f":"VLOOKUP($B1918,'Ad Week Dates'!$A:$E,4,FALSE)","v":{"$error":"#N/A"}},{"$f":"VLOOKUP($B1918,'Ad Week Dates'!$A:$E,2,FALSE)","v":{"$error":"#N/A"}},{"$f":"VLOOKUP($B1918,'Ad Week Dates'!$A:$E,3,FALSE)","v":{"$error":"#N/A"}},null,null,null,null,null,null,{"$error":"#N/A"}]
[null,null,{"$f":"VLOOKUP($B1919,'Ad Week Dates'!$A:$E,4,FALSE)","v":{"$error":"#N/A"}},{"$f":"VLOOKUP($B1919,'Ad Week Dates'!$A:$E,2,FALSE)","v":{"$error":"#N/A"}},{"$f":"VLOOKUP($B1919,'Ad Week Dates'!$A:$E,3,FALSE)","v":{"$error":"#N/A"}},null,null,null,null,null,null,{"$error":"#N/A"}]
[null,null,{"$f":"VLOOKUP($B1920,'Ad Week Dates'!$A:$E,4,FALSE)","v":{"$error":"#N/A"}},{"$f":"VLOOKUP($B1920,'Ad Week Dates'!$A:$E,2,FALSE)","v":{"$error":"#N/A"}},{"$f":"VLOOKUP($B1920,'Ad Week Dates'!$A:$E,3,FALSE)","v":{"$error":"#N/A"}},null,null,null,null,null,null,{"$error":"#N/A"}]
[null,null,{"$f":"VLOOKUP($B1921,'Ad Week Dates'!$A:$E,4,FALSE)","v":{"$error":"#N/A"}},{"$f":"VLOOKUP($B1921,'Ad Week Dates'!$A:$E,2,FALSE)","v":{"$error":"#N/A"}},{"$f":"VLOOKUP($B1921,'Ad Week Dates'!$A:$E,3,FALSE)","v":{"$error":"#N/A"}},null,null,null,null,null,null,{"$error":"#N/A"}]
[null,null,{"$f":"VLOOKUP($B1922,'Ad Week Dates'!$A:$E,4,FALSE)","v":{"$error":"#N/A"}},{"$f":"VLOOKUP($B1922,'Ad Week Dates'!$A:$E,2,FALSE)","v":{"$error":"#N/A"}},{"$f":"VLOOKUP($B1922,'Ad Week Dates'!$A:$E,3,FALSE)","v":{"$error":"#N/A"}},null,null,null,null,null,null,{"$error":"#N/A"}]
[null,null,{"$f":"VLOOKUP($B1923,'Ad Week Dates'!$A:$E,4,FALSE)","v":{"$error":"#N/A"}},{"$f":"VLOOKUP($B1923,'Ad Week Dates'!$A:$E,2,FALSE)","v":{"$error":"#N/A"}},{"$f":"VLOOKUP($B1923,'Ad Week Dates'!$A:$E,3,FALSE)","v":{"$error":"#N/A"}},null,null,null,null,null,null,{"$error":"#N/A"}]
[null,null,{"$f":"VLOOKUP($B1924,'Ad Week Dates'!$A:$E,4,FALSE)","v":{"$error":"#N/A"}},{"$f":"VLOOKUP($B1924,'Ad Week Dates'!$A:$E,2,FALSE)","v":{"$error":"#N/A"}},{"$f":"VLOOKUP($B1924,'Ad Week Dates'!$A:$E,3,FALSE)","v":{"$error":"#N/A"}},null,null,null,null,null,null,{"$error":"#N/A"}]
[null,null,{"$f":"VLOOKUP($B1925,'Ad Week Dates'!$A:$E,4,FALSE)","v":{"$error":"#N/A"}},{"$f":"VLOOKUP($B1925,'Ad Week Dates'!$A:$E,2,FALSE)","v":{"$error":"#N/A"}},{"$f":"VLOOKUP($B1925,'Ad Week Dates'!$A:$E,3,FALSE)","v":{"$error":"#N/A"}},null,null,null,null,null,null,{"$error":"#N/A"}]
[null,null,{"$f":"VLOOKUP($B1926,'Ad Week Dates'!$A:$E,4,FALSE)","v":{"$error":"#N/A"}},{"$f":"VLOOKUP($B1926,'Ad Week Dates'!$A:$E,2,FALSE)","v":{"$error":"#N/A"}},{"$f":"VLOOKUP($B1926,'Ad Week Dates'!$A:$E,3,FALSE)","v":{"$error":"#N/A"}},null,null,null,null,null,null,{"$f":"IF(ISNUMBER(J1926), J1926 - K1926, VALUE(_xlfn.TEXTBEFORE(J1926, \"-\")) - VALUE(_xlfn.TEXTBEFORE(K1926, \"-\")))","v":{"$error":"#N/A"}}]
[null,null,{"$f":"VLOOKUP($B1927,'Ad Week Dates'!$A:$E,4,FALSE)","v":{"$error":"#N/A"}},{"$f":"VLOOKUP($B1927,'Ad Week Dates'!$A:$E,2,FALSE)","v":{"$error":"#N/A"}},{"$f":"VLOOKUP($B1927,'Ad Week Dates'!$A:$E,3,FALSE)","v":{"$error":"#N/A"}},null,null,null,null,null,null,{"$error":"#N/A"}]
[null,null,{"$f":"VLOOKUP($B1928,'Ad Week Dates'!$A:$E,4,FALSE)","v":{"$error":"#N/A"}},{"$f":"VLOOKUP($B1928,'Ad Week Dates'!$A:$E,2,FALSE)","v":{"$error":"#N/A"}},{"$f":"VLOOKUP($B1928,'Ad Week Dates'!$A:$E,3,FALSE)","v":{"$error":"#N/A"}},null,null,null,null,null,null,{"$error":"#N/A"}]
[null,null,{"$f":"VLOOKUP($B1929,'Ad Week Dates'!$A:$E,4,FALSE)","v":{"$error":"#N/A"}},{"$f":"VLOOKUP($B1929,'Ad Week Dates'!$A:$E,2,FALSE)","v":{"$error":"#N/A"}},{"$f":"VLOOKUP($B1929,'Ad Week Dates'!$A:$E,3,FALSE)","v":{"$error":"#N/A"}},null,null,null,null,null,null,{"$error":"#N/A"}]
[null,null,{"$f":"VLOOKUP($B1930,'Ad Week Dates'!$A:$E,4,FALSE)","v":{"$error":"#N/A"}},{"$f":"VLOOKUP($B1930,'Ad Week Dates'!$A:$E,2,FALSE)","v":{"$error":"#N/A"}},{"$f":"VLOOKUP($B1930,'Ad Week Dates'!$A:$E,3,FALSE)","v":{"$error":"#N/A"}},null,null,null,null,null,null,{"$error":"#N/A"}]
[null,null,{"$f":"VLOOKUP($B1931,'Ad Week Dates'!$A:$E,4,FALSE)","v":{"$error":"#N/A"}},{"$f":"VLOOKUP($B1931,'Ad Week Dates'!$A:$E,2,FALSE)","v":{"$error":"#N/A"}},{"$f":"VLOOKUP($B1931,'Ad Week Dates'!$A:$E,3,FALSE)","v":{"$error":"#N/A"}},null,null,null,null,null,null,{"$error":"#N/A"}]
[null,null,{"$f":"VLOOKUP($B1932,'Ad Week Dates'!$A:$E,4,FALSE)","v":{"$error":"#N/A"}},{"$f":"VLOOKUP($B1932,'Ad Week Dates'!$A:$E,2,FALSE)","v":{"$error":"#N/A"}},{"$f":"VLOOKUP($B1932,'Ad Week Dates'!$A:$E,3,FALSE)","v":{"$error":"#N/A"}},null,null,null,null,null,null,{"$error":"#N/A"}]
[null,null,{"$f":"VLOOKUP($B1933,'Ad Week Dates'!$A:$E,4,FALSE)","v":{"$error":"#N/A"}},{"$f":"VLOOKUP($B1933,'Ad Week Dates'!$A:$E,2,FALSE)","v":{"$error":"#N/A"}},{"$f":"VLOOKUP($B1933,'Ad Week Dates'!$A:$E,3,FALSE)","v":{"$error":"#N/A"}},null,null,null,null,null,null,{"$error":"#N/A"}]
[null,null,{"$f":"VLOOKUP($B1934,'Ad Week Dates'!$A:$E,4,FALSE)","v":{"$error":"#N/A"}},{"$f":"VLOOKUP($B1934,'Ad Week Dates'!$A:$E,2,FALSE)","v":{"$error":"#N/A"}},{"$f":"VLOOKUP($B1934,'Ad Week Dates'!$A:$E,3,FALSE)","v":{"$error":"#N/A"}},null,null,null,null,null,null,{"$error":"#N/A"}]
[null,null,{"$f":"VLOOKUP($B1935,'Ad Week Dates'!$A:$E,4,FALSE)","v":{"$error":"#N/A"}},{"$f":"VLOOKUP($B1935,'Ad Week Dates'!$A:$E,2,FALSE)","v":{"$error":"#N/A"}},{"$f":"VLOOKUP($B1935,'Ad Week Dates'!$A:$E,3,FALSE)","v":{"$error":"#N/A"}},null,null,null,null,null,null,{"$error":"#N/A"}]
[null,null,{"$f":"VLOOKUP($B1936,'Ad Week Dates'!$A:$E,4,FALSE)","v":{"$error":"#N/A"}},{"$f":"VLOOKUP($B1936,'Ad Week Dates'!$A:$E,2,FALSE)","v":{"$error":"#N/A"}},{"$f":"VLOOKUP($B1936,'Ad Week Dates'!$A:$E,3,FALSE)","v":{"$error":"#N/A"}},null,null,null,null,null,null,{"$error":"#N/A"}]
[null,null,{"$f":"VLOOKUP($B1937,'Ad Week Dates'!$A:$E,4,FALSE)","v":{"$error":"#N/A"}},{"$f":"VLOOKUP($B1937,'Ad Week Dates'!$A:$E,2,FALSE)","v":{"$error":"#N/A"}},{"$f":"VLOOKUP($B1937,'Ad Week Dates'!$A:$E,3,FALSE)","v":{"$error":"#N/A"}},null,null,null,null,null,null,{"$error":"#N/A"}]
[null,null,{"$f":"VLOOKUP($B1938,'Ad Week Dates'!$A:$E,4,FALSE)","v":{"$error":"#N/A"}},{"$f":"VLOOKUP($B1938,'Ad Week Dates'!$A:$E,2,FALSE)","v":{"$error":"#N/A"}},{"$f":"VLOOKUP($B1938,'Ad Week Dates'!$A:$E,3,FALSE)","v":{"$error":"#N/A"}},null,null,null,null,null,null,{"$error":"#N/A"}]
[null,null,{"$f":"VLOOKUP($B1939,'Ad Week Dates'!$A:$E,4,FALSE)","v":{"$error":"#N/A"}},{"$f":"VLOOKUP($B1939,'Ad Week Dates'!$A:$E,2,FALSE)","v":{"$error":"#N/A"}},{"$f":"VLOOKUP($B1939,'Ad Week Dates'!$A:$E,3,FALSE)","v":{"$error":"#N/A"}},null,null,null,null,null,null,{"$error":"#N/A"}]
[null,null,{"$f":"VLOOKUP($B1940,'Ad Week Dates'!$A:$E,4,FALSE)","v":{"$error":"#N/A"}},{"$f":"VLOOKUP($B1940,'Ad Week Dates'!$A:$E,2,FALSE)","v":{"$error":"#N/A"}},{"$f":"VLOOKUP($B1940,'Ad Week Dates'!$A:$E,3,FALSE)","v":{"$error":"#N/A"}},null,null,null,null,null,null,{"$error":"#N/A"}]
[null,null,{"$f":"VLOOKUP($B1941,'Ad Week Dates'!$A:$E,4,FALSE)","v":{"$error":"#N/A"}},{"$f":"VLOOKUP($B1941,'Ad Week Dates'!$A:$E,2,FALSE)","v":{"$error":"#N/A"}},{"$f":"VLOOKUP($B1941,'Ad Week Dates'!$A:$E,3,FALSE)","v":{"$error":"#N/A"}},null,null,null,null,null,null,{"$error":"#N/A"}]
[null,null,{"$f":"VLOOKUP($B1942,'Ad Week Dates'!$A:$E,4,FALSE)","v":{"$error":"#N/A"}},{"$f":"VLOOKUP($B1942,'Ad Week Dates'!$A:$E,2,FALSE)","v":{"$error":"#N/A"}},{"$f":"VLOOKUP($B1942,'Ad Week Dates'!$A:$E,3,FALSE)","v":{"$error":"#N/A"}},null,null,null,null,null,null,{"$error":"#N/A"}]
[null,null,{"$f":"VLOOKUP($B1943,'Ad Week Dates'!$A:$E,4,FALSE)","v":{"$error":"#N/A"}},{"$f":"VLOOKUP($B1943,'Ad Week Dates'!$A:$E,2,FALSE)","v":{"$error":"#N/A"}},{"$f":"VLOOKUP($B1943,'Ad Week Dates'!$A:$E,3,FALSE)","v":{"$error":"#N/A"}},null,null,null,null,null,null,{"$error":"#N/A"}]
[null,null,{"$f":"VLOOKUP($B1944,'Ad Week Dates'!$A:$E,4,FALSE)","v":{"$error":"#N/A"}},{"$f":"VLOOKUP($B1944,'Ad Week Dates'!$A:$E,2,FALSE)","v":{"$error":"#N/A"}},{"$f":"VLOOKUP($B1944,'Ad Week Dates'!$A:$E,3,FALSE)","v":{"$error":"#N/A"}},null,null,null,null,null,null,{"$error":"#N/A"}]
[null,null,{"$f":"VLOOKUP($B1945,'Ad Week Dates'!$A:$E,4,FALSE)","v":{"$error":"#N/A"}},{"$f":"VLOOKUP($B1945,'Ad Week Dates'!$A:$E,2,FALSE)","v":{"$error":"#N/A"}},{"$f":"VLOOKUP($B1945,'Ad Week Dates'!$A:$E,3,FALSE)","v":{"$error":"#N/A"}},null,null,null,null,null,null,{"$error":"#N/A"}]
[null,null,{"$f":"VLOOKUP($B1946,'Ad Week Dates'!$A:$E,4,FALSE)","v":{"$error":"#N/A"}},{"$f":"VLOOKUP($B1946,'Ad Week Dates'!$A:$E,2,FALSE)","v":{"$error":"#N/A"}},{"$f":"VLOOKUP($B1946,'Ad Week Dates'!$A:$E,3,FALSE)","v":{"$error":"#N/A"}},null,null,null,null,null,null,{"$error":"#N/A"}]
[null,null,{"$f":"VLOOKUP($B1947,'Ad Week Dates'!$A:$E,4,FALSE)","v":{"$error":"#N/A"}},{"$f":"VLOOKUP($B1947,'Ad Week Dates'!$A:$E,2,FALSE)","v":{"$error":"#N/A"}},{"$f":"VLOOKUP($B1947,'Ad Week Dates'!$A:$E,3,FALSE)","v":{"$error":"#N/A"}},null,null,null,null,null,null,{"$error":"#N/A"}]
[null,null,{"$f":"VLOOKUP($B1948,'Ad Week Dates'!$A:$E,4,FALSE)","v":{"$error":"#N/A"}},{"$f":"VLOOKUP($B1948,'Ad Week Dates'!$A:$E,2,FALSE)","v":{"$error":"#N/A"}},{"$f":"VLOOKUP($B1948,'Ad Week Dates'!$A:$E,3,FALSE)","v":{"$error":"#N/A"}},null,null,null,null,null,null,{"$error":"#N/A"}]
[null,null,{"$f":"VLOOKUP($B1949,'Ad Week Dates'!$A:$E,4,FALSE)","v":{"$error":"#N/A"}},{"$f":"VLOOKUP($B1949,'Ad Week Dates'!$A:$E,2,FALSE)","v":{"$error":"#N/A"}},{"$f":"VLOOKUP($B1949,'Ad Week Dates'!$A:$E,3,FALSE)","v":{"$error":"#N/A"}},null,null,null,null,null,null,{"$error":"#N/A"}]
[null,null,{"$f":"VLOOKUP($B1950,'Ad Week Dates'!$A:$E,4,FALSE)","v":{"$error":"#N/A"}},{"$f":"VLOOKUP($B1950,'Ad Week Dates'!$A:$E,2,FALSE)","v":{"$error":"#N/A"}},{"$f":"VLOOKUP($B1950,'Ad Week Dates'!$A:$E,3,FALSE)","v":{"$error":"#N/A"}},null,null,null,null,null,null,{"$error":"#N/A"}]
[null,null,{"$f":"VLOOKUP($B1951,'Ad Week Dates'!$A:$E,4,FALSE)","v":{"$error":"#N/A"}},{"$f":"VLOOKUP($B1951,'Ad Week Dates'!$A:$E,2,FALSE)","v":{"$error":"#N/A"}},{"$f":"VLOOKUP($B1951,'Ad Week Dates'!$A:$E,3,FALSE)","v":{"$error":"#N/A"}},null,null,null,null,null,null,{"$error":"#N/A"}]
[null,null,{"$f":"VLOOKUP($B1952,'Ad Week Dates'!$A:$E,4,FALSE)","v":{"$error":"#N/A"}},{"$f":"VLOOKUP($B1952,'Ad Week Dates'!$A:$E,2,FALSE)","v":{"$error":"#N/A"}},{"$f":"VLOOKUP($B1952,'Ad Week Dates'!$A:$E,3,FALSE)","v":{"$error":"#N/A"}},null,null,null,null,null,null,{"$error":"#N/A"}]
[null,null,{"$f":"VLOOKUP($B1953,'Ad Week Dates'!$A:$E,4,FALSE)","v":{"$error":"#N/A"}},{"$f":"VLOOKUP($B1953,'Ad Week Dates'!$A:$E,2,FALSE)","v":{"$error":"#N/A"}},{"$f":"VLOOKUP($B1953,'Ad Week Dates'!$A:$E,3,FALSE)","v":{"$error":"#N/A"}},null,null,null,null,null,null,{"$error":"#N/A"}]
[null,null,{"$f":"VLOOKUP($B1954,'Ad Week Dates'!$A:$E,4,FALSE)","v":{"$error":"#N/A"}},{"$f":"VLOOKUP($B1954,'Ad Week Dates'!$A:$E,2,FALSE)","v":{"$error":"#N/A"}},{"$f":"VLOOKUP($B1954,'Ad Week Dates'!$A:$E,3,FALSE)","v":{"$error":"#N/A"}},null,null,null,null,null,null,{"$error":"#N/A"}]
[null,null,{"$f":"VLOOKUP($B1955,'Ad Week Dates'!$A:$E,4,FALSE)","v":{"$error":"#N/A"}},{"$f":"VLOOKUP($B1955,'Ad Week Dates'!$A:$E,2,FALSE)","v":{"$error":"#N/A"}},{"$f":"VLOOKUP($B1955,'Ad Week Dates'!$A:$E,3,FALSE)","v":{"$error":"#N/A"}},null,null,null,null,null,null,{"$error":"#N/A"}]
[null,null,{"$f":"VLOOKUP($B1956,'Ad Week Dates'!$A:$E,4,FALSE)","v":{"$error":"#N/A"}},{"$f":"VLOOKUP($B1956,'Ad Week Dates'!$A:$E,2,FALSE)","v":{"$error":"#N/A"}},{"$f":"VLOOKUP($B1956,'Ad Week Dates'!$A:$E,3,FALSE)","v":{"$error":"#N/A"}},null,null,null,null,null,null,{"$error":"#N/A"}]
[null,null,{"$f":"VLOOKUP($B1957,'Ad Week Dates'!$A:$E,4,FALSE)","v":{"$error":"#N/A"}},{"$f":"VLOOKUP($B1957,'Ad Week Dates'!$A:$E,2,FALSE)","v":{"$error":"#N/A"}},{"$f":"VLOOKUP($B1957,'Ad Week Dates'!$A:$E,3,FALSE)","v":{"$error":"#N/A"}},null,null,null,null,null,null,{"$error":"#N/A"}]
[null,null,{"$f":"VLOOKUP($B1958,'Ad Week Dates'!$A:$E,4,FALSE)","v":{"$error":"#N/A"}},{"$f":"VLOOKUP($B1958,'Ad Week Dates'!$A:$E,2,FALSE)","v":{"$error":"#N/A"}},{"$f":"VLOOKUP($B1958,'Ad Week Dates'!$A:$E,3,FALSE)","v":{"$error":"#N/A"}},null,null,null,null,null,null,{"$error":"#N/A"}]
[null,null,{"$f":"VLOOKUP($B1959,'Ad Week Dates'!$A:$E,4,FALSE)","v":{"$error":"#N/A"}},{"$f":"VLOOKUP($B1959,'Ad Week Dates'!$A:$E,2,FALSE)","v":{"$error":"#N/A"}},{"$f":"VLOOKUP($B1959,'Ad Week Dates'!$A:$E,3,FALSE)","v":{"$error":"#N/A"}},null,null,null,null,null,null,{"$error":"#N/A"}]
[null,null,{"$f":"VLOOKUP($B1960,'Ad Week Dates'!$A:$E,4,FALSE)","v":{"$error":"#N/A"}},{"$f":"VLOOKUP($B1960,'Ad Week Dates'!$A:$E,2,FALSE)","v":{"$error":"#N/A"}},{"$f":"VLOOKUP($B1960,'Ad Week Dates'!$A:$E,3,FALSE)","v":{"$error":"#N/A"}},null,null,null,null,null,null,{"$error":"#N/A"}]
[null,null,{"$f":"VLOOKUP($B1961,'Ad Week Dates'!$A:$E,4,FALSE)","v":{"$error":"#N/A"}},{"$f":"VLOOKUP($B1961,'Ad Week Dates'!$A:$E,2,FALSE)","v":{"$error":"#N/A"}},{"$f":"VLOOKUP($B1961,'Ad Week Dates'!$A:$E,3,FALSE)","v":{"$error":"#N/A"}},null,null,null,null,null,null,{"$error":"#N/A"}]
[null,null,{"$f":"VLOOKUP($B1962,'Ad Week Dates'!$A:$E,4,FALSE)","v":{"$error":"#N/A"}},{"$f":"VLOOKUP($B1962,'Ad Week Dates'!$A:$E,2,FALSE)","v":{"$error":"#N/A"}},{"$f":"VLOOKUP($B1962,'Ad Week Dates'!$A:$E,3,FALSE)","v":{"$error":"#N/A"}},null,null,null,null,null,null,{"$error":"#N/A"}]
[null,null,{"$f":"VLOOKUP($B1963,'Ad Week Dates'!$A:$E,4,FALSE)","v":{"$error":"#N/A"}},{"$f":"VLOOKUP($B1963,'Ad Week Dates'!$A:$E,2,FALSE)","v":{"$error":"#N/A"}},{"$f":"VLOOKUP($B1963,'Ad Week Dates'!$A:$E,3,FALSE)","v":{"$error":"#N/A"}},null,null,null,null,null,null,{"$error":"#N/A"}]
[null,null,{"$f":"VLOOKUP($B1964,'Ad Week Dates'!$A:$E,4,FALSE)","v":{"$error":"#N/A"}},{"$f":"VLOOKUP($B1964,'Ad Week Dates'!$A:$E,2,FALSE)","v":{"$error":"#N/A"}},{"$f":"VLOOKUP($B1964,'Ad Week Dates'!$A:$E,3,FALSE)","v":{"$error":"#N/A"}},null,null,null,null,null,null,{"$error":"#N/A"}]
[null,null,{"$f":"VLOOKUP($B1965,'Ad Week Dates'!$A:$E,4,FALSE)","v":{"$error":"#N/A"}},{"$f":"VLOOKUP($B1965,'Ad Week Dates'!$A:$E,2,FALSE)","v":{"$error":"#N/A"}},{"$f":"VLOOKUP($B1965,'Ad Week Dates'!$A:$E,3,FALSE)","v":{"$error":"#N/A"}},null,null,null,null,null,null,{"$error":"#N/A"}]
[null,null,{"$f":"VLOOKUP($B1966,'Ad Week Dates'!$A:$E,4,FALSE)","v":{"$error":"#N/A"}},{"$f":"VLOOKUP($B1966,'Ad Week Dates'!$A:$E,2,FALSE)","v":{"$error":"#N/A"}},{"$f":"VLOOKUP($B1966,'Ad Week Dates'!$A:$E,3,FALSE)","v":{"$error":"#N/A"}},null,null,null,null,null,null,{"$error":"#N/A"}]
[null,null,{"$f":"VLOOKUP($B1967,'Ad Week Dates'!$A:$E,4,FALSE)","v":{"$error":"#N/A"}},{"$f":"VLOOKUP($B1967,'Ad Week Dates'!$A:$E,2,FALSE)","v":{"$error":"#N/A"}},{"$f":"VLOOKUP($B1967,'Ad Week Dates'!$A:$E,3,FALSE)","v":{"$error":"#N/A"}},null,null,null,null,null,null,{"$error":"#N/A"}]
[null,null,{"$f":"VLOOKUP($B1968,'Ad Week Dates'!$A:$E,4,FALSE)","v":{"$error":"#N/A"}},{"$f":"VLOOKUP($B1968,'Ad Week Dates'!$A:$E,2,FALSE)","v":{"$error":"#N/A"}},{"$f":"VLOOKUP($B1968,'Ad Week Dates'!$A:$E,3,FALSE)","v":{"$error":"#N/A"}},null,null,null,null,null,null,{"$error":"#N/A"}]
[null,null,{"$f":"VLOOKUP($B1969,'Ad Week Dates'!$A:$E,4,FALSE)","v":{"$error":"#N/A"}},{"$f":"VLOOKUP($B1969,'Ad Week Dates'!$A:$E,2,FALSE)","v":{"$error":"#N/A"}},{"$f":"VLOOKUP($B1969,'Ad Week Dates'!$A:$E,3,FALSE)","v":{"$error":"#N/A"}},null,null,null,null,null,null,{"$error":"#N/A"}]
[null,null,{"$f":"VLOOKUP($B1970,'Ad Week Dates'!$A:$E,4,FALSE)","v":{"$error":"#N/A"}},{"$f":"VLOOKUP($B1970,'Ad Week Dates'!$A:$E,2,FALSE)","v":{"$error":"#N/A"}},{"$f":"VLOOKUP($B1970,'Ad Week Dates'!$A:$E,3,FALSE)","v":{"$error":"#N/A"}},null,null,null,null,null,null,{"$error":"#N/A"}]
[null,null,{"$f":"VLOOKUP($B1971,'Ad Week Dates'!$A:$E,4,FALSE)","v":{"$error":"#N/A"}},{"$f":"VLOOKUP($B1971,'Ad Week Dates'!$A:$E,2,FALSE)","v":{"$error":"#N/A"}},{"$f":"VLOOKUP($B1971,'Ad Week Dates'!$A:$E,3,FALSE)","v":{"$error":"#N/A"}},null,null,null,null,null,null,{"$error":"#N/A"}]
[null,null,{"$f":"VLOOKUP($B1972,'Ad Week Dates'!$A:$E,4,FALSE)","v":{"$error":"#N/A"}},{"$f":"VLOOKUP($B1972,'Ad Week Dates'!$A:$E,2,FALSE)","v":{"$error":"#N/A"}},{"$f":"VLOOKUP($B1972,'Ad Week Dates'!$A:$E,3,FALSE)","v":{"$error":"#N/A"}},null,null,null,null,null,null,{"$error":"#N/A"}]
[null,null,{"$f":"VLOOKUP($B1973,'Ad Week Dates'!$A:$E,4,FALSE)","v":{"$error":"#N/A"}},{"$f":"VLOOKUP($B1973,'Ad Week Dates'!$A:$E,2,FALSE)","v":{"$error":"#N/A"}},{"$f":"VLOOKUP($B1973,'Ad Week Dates'!$A:$E,3,FALSE)","v":{"$error":"#N/A"}},null,null,null,null,null,null,{"$error":"#N/A"}]
[null,null,{"$f":"VLOOKUP($B1974,'Ad Week Dates'!$A:$E,4,FALSE)","v":{"$error":"#N/A"}},{"$f":"VLOOKUP($B1974,'Ad Week Dates'!$A:$E,2,FALSE)","v":{"$error":"#N/A"}},{"$f":"VLOOKUP($B1974,'Ad Week Dates'!$A:$E,3,FALSE)","v":{"$error":"#N/A"}},null,null,null,null,null,null,{"$error":"#N/A"}]
[null,null,{"$f":"VLOOKUP($B1975,'Ad Week Dates'!$A:$E,4,FALSE)","v":{"$error":"#N/A"}},{"$f":"VLOOKUP($B1975,'Ad Week Dates'!$A:$E,2,FALSE)","v":{"$error":"#N/A"}},{"$f":"VLOOKUP($B1975,'Ad Week Dates'!$A:$E,3,FALSE)","v":{"$error":"#N/A"}},null,null,null,null,null,null,{"$error":"#N/A"}]
[null,null,{"$f":"VLOOKUP($B1976,'Ad Week Dates'!$A:$E,4,FALSE)","v":{"$error":"#N/A"}},{"$f":"VLOOKUP($B1976,'Ad Week Dates'!$A:$E,2,FALSE)","v":{"$error":"#N/A"}},{"$f":"VLOOKUP($B1976,'Ad Week Dates'!$A:$E,3,FALSE)","v":{"$error":"#N/A"}},null,null,null,null,null,null,{"$error":"#N/A"}]
[null,null,{"$f":"VLOOKUP($B1977,'Ad Week Dates'!$A:$E,4,FALSE)","v":{"$error":"#N/A"}},{"$f":"VLOOKUP($B1977,'Ad Week Dates'!$A:$E,2,FALSE)","v":{"$error":"#N/A"}},{"$f":"VLOOKUP($B1977,'Ad Week Dates'!$A:$E,3,FALSE)","v":{"$error":"#N/A"}},null,null,null,null,null,null,{"$error":"#N/A"}]
[null,null,{"$f":"VLOOKUP($B1978,'Ad Week Dates'!$A:$E,4,FALSE)","v":{"$error":"#N/A"}},{"$f":"VLOOKUP($B1978,'Ad Week Dates'!$A:$E,2,FALSE)","v":{"$error":"#N/A"}},{"$f":"VLOOKUP($B1978,'Ad Week Dates'!$A:$E,3,FALSE)","v":{"$error":"#N/A"}},null,null,null,null,null,null,{"$error":"#N/A"}]
[null,null,{"$f":"VLOOKUP($B1979,'Ad Week Dates'!$A:$E,4,FALSE)","v":{"$error":"#N/A"}},{"$f":"VLOOKUP($B1979,'Ad Week Dates'!$A:$E,2,FALSE)","v":{"$error":"#N/A"}},{"$f":"VLOOKUP($B1979,'Ad Week Dates'!$A:$E,3,FALSE)","v":{"$error":"#N/A"}},null,null,null,null,null,null,{"$error":"#N/A"}]
[null,null,{"$f":"VLOOKUP($B1980,'Ad Week Dates'!$A:$E,4,FALSE)","v":{"$error":"#N/A"}},{"$f":"VLOOKUP($B1980,'Ad Week Dates'!$A:$E,2,FALSE)","v":{"$error":"#N/A"}},{"$f":"VLOOKUP($B1980,'Ad Week Dates'!$A:$E,3,FALSE)","v":{"$error":"#N/A"}},null,null,null,null,null,null,{"$error":"#N/A"}]
[null,null,{"$f":"VLOOKUP($B1981,'Ad Week Dates'!$A:$E,4,FALSE)","v":{"$error":"#N/A"}},{"$f":"VLOOKUP($B1981,'Ad Week Dates'!$A:$E,2,FALSE)","v":{"$error":"#N/A"}},{"$f":"VLOOKUP($B1981,'Ad Week Dates'!$A:$E,3,FALSE)","v":{"$error":"#N/A"}},null,null,null,null,null,null,{"$error":"#N/A"}]
[null,null,{"$f":"VLOOKUP($B1982,'Ad Week Dates'!$A:$E,4,FALSE)","v":{"$error":"#N/A"}},{"$f":"VLOOKUP($B1982,'Ad Week Dates'!$A:$E,2,FALSE)","v":{"$error":"#N/A"}},{"$f":"VLOOKUP($B1982,'Ad Week Dates'!$A:$E,3,FALSE)","v":{"$error":"#N/A"}},null,null,null,null,null,null,{"$error":"#N/A"}]
[null,null,{"$f":"VLOOKUP($B1983,'Ad Week Dates'!$A:$E,4,FALSE)","v":{"$error":"#N/A"}},{"$f":"VLOOKUP($B1983,'Ad Week Dates'!$A:$E,2,FALSE)","v":{"$error":"#N/A"}},{"$f":"VLOOKUP($B1983,'Ad Week Dates'!$A:$E,3,FALSE)","v":{"$error":"#N/A"}},null,null,null,null,null,null,{"$error":"#N/A"}]
[null,null,{"$f":"VLOOKUP($B1984,'Ad Week Dates'!$A:$E,4,FALSE)","v":{"$error":"#N/A"}},{"$f":"VLOOKUP($B1984,'Ad Week Dates'!$A:$E,2,FALSE)","v":{"$error":"#N/A"}},{"$f":"VLOOKUP($B1984,'Ad Week Dates'!$A:$E,3,FALSE)","v":{"$error":"#N/A"}},null,null,null,null,null,null,{"$error":"#N/A"}]
[null,null,{"$f":"VLOOKUP($B1985,'Ad Week Dates'!$A:$E,4,FALSE)","v":{"$error":"#N/A"}},{"$f":"VLOOKUP($B1985,'Ad Week Dates'!$A:$E,2,FALSE)","v":{"$error":"#N/A"}},{"$f":"VLOOKUP($B1985,'Ad Week Dates'!$A:$E,3,FALSE)","v":{"$error":"#N/A"}},null,null,null,null,null,null,{"$error":"#N/A"}]
[null,null,{"$f":"VLOOKUP($B1986,'Ad Week Dates'!$A:$E,4,FALSE)","v":{"$error":"#N/A"}},{"$f":"VLOOKUP($B1986,'Ad Week Dates'!$A:$E,2,FALSE)","v":{"$error":"#N/A"}},{"$f":"VLOOKUP($B1986,'Ad Week Dates'!$A:$E,3,FALSE)","v":{"$error":"#N/A"}},null,null,null,null,null,null,{"$error":"#N/A"}]
[null,null,{"$f":"VLOOKUP($B1987,'Ad Week Dates'!$A:$E,4,FALSE)","v":{"$error":"#N/A"}},{"$f":"VLOOKUP($B1987,'Ad Week Dates'!$A:$E,2,FALSE)","v":{"$error":"#N/A"}},{"$f":"VLOOKUP($B1987,'Ad Week Dates'!$A:$E,3,FALSE)","v":{"$error":"#N/A"}},null,null,null,null,null,null,{"$error":"#N/A"}]
[null,null,{"$f":"VLOOKUP($B1988,'Ad Week Dates'!$A:$E,4,FALSE)","v":{"$error":"#N/A"}},{"$f":"VLOOKUP($B1988,'Ad Week Dates'!$A:$E,2,FALSE)","v":{"$error":"#N/A"}},{"$f":"VLOOKUP($B1988,'Ad Week Dates'!$A:$E,3,FALSE)","v":{"$error":"#N/A"}},null,null,null,null,null,null,{"$error":"#N/A"}]
[null,null,{"$f":"VLOOKUP($B1989,'Ad Week Dates'!$A:$E,4,FALSE)","v":{"$error":"#N/A"}},{"$f":"VLOOKUP($B1989,'Ad Week Dates'!$A:$E,2,FALSE)","v":{"$error":"#N/A"}},{"$f":"VLOOKUP($B1989,'Ad Week Dates'!$A:$E,3,FALSE)","v":{"$error":"#N/A"}},null,null,null,null,null,null,{"$error":"#N/A"}]
[null,null,{"$f":"VLOOKUP($B1990,'Ad Week Dates'!$A:$E,4,FALSE)","v":{"$error":"#N/A"}},{"$f":"VLOOKUP($B1990,'Ad Week Dates'!$A:$E,2,FALSE)","v":{"$error":"#N/A"}},{"$f":"VLOOKUP($B1990,'Ad Week Dates'!$A:$E,3,FALSE)","v":{"$error":"#N/A"}},null,null,null,null,null,null,{"$f":"IF(ISNUMBER(J1990), J1990 - K1990, VALUE(_xlfn.TEXTBEFORE(J1990, \"-\")) - VALUE(_xlfn.TEXTBEFORE(K1990, \"-\")))","v":{"$error":"#N/A"}}]
[null,null,{"$f":"VLOOKUP($B1991,'Ad Week Dates'!$A:$E,4,FALSE)","v":{"$error":"#N/A"}},{"$f":"VLOOKUP($B1991,'Ad Week Dates'!$A:$E,2,FALSE)","v":{"$error":"#N/A"}},{"$f":"VLOOKUP($B1991,'Ad Week Dates'!$A:$E,3,FALSE)","v":{"$error":"#N/A"}},null,null,null,null,null,null,{"$error":"#N/A"}]
[null,null,{"$f":"VLOOKUP($B1992,'Ad Week Dates'!$A:$E,4,FALSE)","v":{"$error":"#N/A"}},{"$f":"VLOOKUP($B1992,'Ad Week Dates'!$A:$E,2,FALSE)","v":{"$error":"#N/A"}},{"$f":"VLOOKUP($B1992,'Ad Week Dates'!$A:$E,3,FALSE)","v":{"$error":"#N/A"}},null,null,null,null,null,null,{"$error":"#N/A"}]
[null,null,{"$f":"VLOOKUP($B1993,'Ad Week Dates'!$A:$E,4,FALSE)","v":{"$error":"#N/A"}},{"$f":"VLOOKUP($B1993,'Ad Week Dates'!$A:$E,2,FALSE)","v":{"$error":"#N/A"}},{"$f":"VLOOKUP($B1993,'Ad Week Dates'!$A:$E,3,FALSE)","v":{"$error":"#N/A"}},null,null,null,null,null,null,{"$error":"#N/A"}]
[null,null,{"$f":"VLOOKUP($B1994,'Ad Week Dates'!$A:$E,4,FALSE)","v":{"$error":"#N/A"}},{"$f":"VLOOKUP($B1994,'Ad Week Dates'!$A:$E,2,FALSE)","v":{"$error":"#N/A"}},{"$f":"VLOOKUP($B1994,'Ad Week Dates'!$A:$E,3,FALSE)","v":{"$error":"#N/A"}},null,null,null,null,null,null,{"$error":"#N/A"}]
[null,null,{"$f":"VLOOKUP($B1995,'Ad Week Dates'!$A:$E,4,FALSE)","v":{"$error":"#N/A"}},{"$f":"VLOOKUP($B1995,'Ad Week Dates'!$A:$E,2,FALSE)","v":{"$error":"#N/A"}},{"$f":"VLOOKUP($B1995,'Ad Week Dates'!$A:$E,3,FALSE)","v":{"$error":"#N/A"}},null,null,null,null,null,null,{"$error":"#N/A"}]
[null,null,{"$f":"VLOOKUP($B1996,'Ad Week Dates'!$A:$E,4,FALSE)","v":{"$error":"#N/A"}},{"$f":"VLOOKUP($B1996,'Ad Week Dates'!$A:$E,2,FALSE)","v":{"$error":"#N/A"}},{"$f":"VLOOKUP($B1996,'Ad Week Dates'!$A:$E,3,FALSE)","v":{"$error":"#N/A"}},null,null,null,null,null,null,{"$error":"#N/A"}]
[null,null,{"$f":"VLOOKUP($B1997,'Ad Week Dates'!$A:$E,4,FALSE)","v":{"$error":"#N/A"}},{"$f":"VLOOKUP($B1997,'Ad Week Dates'!$A:$E,2,FALSE)","v":{"$error":"#N/A"}},{"$f":"VLOOKUP($B1997,'Ad Week Dates'!$A:$E,3,FALSE)","v":{"$error":"#N/A"}},null,null,null,null,null,null,{"$error":"#N/A"}]
[null,null,{"$f":"VLOOKUP($B1998,'Ad Week Dates'!$A:$E,4,FALSE)","v":{"$error":"#N/A"}},{"$f":"VLOOKUP($B1998,'Ad Week Dates'!$A:$E,2,FALSE)","v":{"$error":"#N/A"}},{"$f":"VLOOKUP($B1998,'Ad Week Dates'!$A:$E,3,FALSE)","v":{"$error":"#N/A"}},null,null,null,null,null,null,{"$error":"#N/A"}]
[null,null,{"$f":"VLOOKUP($B1999,'Ad Week Dates'!$A:$E,4,FALSE)","v":{"$error":"#N/A"}},{"$f":"VLOOKUP($B1999,'Ad Week Dates'!$A:$E,2,FALSE)","v":{"$error":"#N/A"}},{"$f":"VLOOKUP($B1999,'Ad Week Dates'!$A:$E,3,FALSE)","v":{"$error":"#N/A"}},null,null,null,null,null,null,{"$error":"#N/A"}]
[null,null,{"$f":"VLOOKUP($B2000,'Ad Week Dates'!$A:$E,4,FALSE)","v":{"$error":"#N/A"}},{"$f":"VLOOKUP($B2000,'Ad Week Dates'!$A:$E,2,FALSE)","v":{"$error":"#N/A"}},{"$f":"VLOOKUP($B2000,'Ad Week Dates'!$A:$E,3,FALSE)","v":{"$error":"#N/A"}},null,null,null,null,null,null,{"$error":"#N/A"}]
[null,null,{"$f":"VLOOKUP($B2001,'Ad Week Dates'!$A:$E,4,FALSE)","v":{"$error":"#N/A"}},{"$f":"VLOOKUP($B2001,'Ad Week Dates'!$A:$E,2,FALSE)","v":{"$error":"#N/A"}},{"$f":"VLOOKUP($B2001,'Ad Week Dates'!$A:$E,3,FALSE)","v":{"$error":"#N/A"}},null,null,null,null,null,null,{"$error":"#N/A"}]
[null,null,{"$f":"VLOOKUP($B2002,'Ad Week Dates'!$A:$E,4,FALSE)","v":{"$error":"#N/A"}},{"$f":"VLOOKUP($B2002,'Ad Week Dates'!$A:$E,2,FALSE)","v":{"$error":"#N/A"}},{"$f":"VLOOKUP($B2002,'Ad Week Dates'!$A:$E,3,FALSE)","v":{"$error":"#N/A"}},null,null,null,null,null,null,{"$error":"#N/A"}]
[null,null,{"$f":"VLOOKUP($B2003,'Ad Week Dates'!$A:$E,4,FALSE)","v":{"$error":"#N/A"}},{"$f":"VLOOKUP($B2003,'Ad Week Dates'!$A:$E,2,FALSE)","v":{"$error":"#N/A"}},{"$f":"VLOOKUP($B2003,'Ad Week Dates'!$A:$E,3,FALSE)","v":{"$error":"#N/A"}},null,null,null,null,null,null,{"$error":"#N/A"}]
[null,null,{"$f":"VLOOKUP($B2004,'Ad Week Dates'!$A:$E,4,FALSE)","v":{"$error":"#N/A"}},{"$f":"VLOOKUP($B2004,'Ad Week Dates'!$A:$E,2,FALSE)","v":{"$error":"#N/A"}},{"$f":"VLOOKUP($B2004,'Ad Week Dates'!$A:$E,3,FALSE)","v":{"$error":"#N/A"}},null,null,null,null,null,null,{"$error":"#N/A"}]
[null,null,{"$f":"VLOOKUP($B2005,'Ad Week Dates'!$A:$E,4,FALSE)","v":{"$error":"#N/A"}},{"$f":"VLOOKUP($B2005,'Ad Week Dates'!$A:$E,2,FALSE)","v":{"$error":"#N/A"}},{"$f":"VLOOKUP($B2005,'Ad Week Dates'!$A:$E,3,FALSE)","v":{"$error":"#N/A"}},null,null,null,null,null,null,{"$error":"#N/A"}]
[null,null,{"$f":"VLOOKUP($B2006,'Ad Week Dates'!$A:$E,4,FALSE)","v":{"$error":"#N/A"}},{"$f":"VLOOKUP($B2006,'Ad Week Dates'!$A:$E,2,FALSE)","v":{"$error":"#N/A"}},{"$f":"VLOOKUP($B2006,'Ad Week Dates'!$A:$E,3,FALSE)","v":{"$error":"#N/A"}},null,null,null,null,null,null,{"$error":"#N/A"}]
[null,null,{"$f":"VLOOKUP($B2007,'Ad Week Dates'!$A:$E,4,FALSE)","v":{"$error":"#N/A"}},{"$f":"VLOOKUP($B2007,'Ad Week Dates'!$A:$E,2,FALSE)","v":{"$error":"#N/A"}},{"$f":"VLOOKUP($B2007,'Ad Week Dates'!$A:$E,3,FALSE)","v":{"$error":"#N/A"}},null,null,null,null,null,null,{"$error":"#N/A"}]
[null,null,{"$f":"VLOOKUP($B2008,'Ad Week Dates'!$A:$E,4,FALSE)","v":{"$error":"#N/A"}},{"$f":"VLOOKUP($B2008,'Ad Week Dates'!$A:$E,2,FALSE)","v":{"$error":"#N/A"}},{"$f":"VLOOKUP($B2008,'Ad Week Dates'!$A:$E,3,FALSE)","v":{"$error":"#N/A"}},null,null,null,null,null,null,{"$error":"#N/A"}]
[null,null,{"$f":"VLOOKUP($B2009,'Ad Week Dates'!$A:$E,4,FALSE)","v":{"$error":"#N/A"}},{"$f":"VLOOKUP($B2009,'Ad Week Dates'!$A:$E,2,FALSE)","v":{"$error":"#N/A"}},{"$f":"VLOOKUP($B2009,'Ad Week Dates'!$A:$E,3,FALSE)","v":{"$error":"#N/A"}},null,null,null,null,null,null,{"$error":"#N/A"}]
[null,null,{"$f":"VLOOKUP($B2010,'Ad Week Dates'!$A:$E,4,FALSE)","v":{"$error":"#N/A"}},{"$f":"VLOOKUP($B2010,'Ad Week Dates'!$A:$E,2,FALSE)","v":{"$error":"#N/A"}},{"$f":"VLOOKUP($B2010,'Ad Week Dates'!$A:$E,3,FALSE)","v":{"$error":"#N/A"}},null,null,null,null,null,null,{"$error":"#N/A"}]
[null,null,{"$f":"VLOOKUP($B2011,'Ad Week Dates'!$A:$E,4,FALSE)","v":{"$error":"#N/A"}},{"$f":"VLOOKUP($B2011,'Ad Week Dates'!$A:$E,2,FALSE)","v":{"$error":"#N/A"}},{"$f":"VLOOKUP($B2011,'Ad Week Dates'!$A:$E,3,FALSE)","v":{"$error":"#N/A"}},null,null,null,null,null,null,{"$error":"#N/A"}]
[null,null,{"$f":"VLOOKUP($B2012,'Ad Week Dates'!$A:$E,4,FALSE)","v":{"$error":"#N/A"}},{"$f":"VLOOKUP($B2012,'Ad Week Dates'!$A:$E,2,FALSE)","v":{"$error":"#N/A"}},{"$f":"VLOOKUP($B2012,'Ad Week Dates'!$A:$E,3,FALSE)","v":{"$error":"#N/A"}},null,null,null,null,null,null,{"$error":"#N/A"}]
[null,null,{"$f":"VLOOKUP($B2013,'Ad Week Dates'!$A:$E,4,FALSE)","v":{"$error":"#N/A"}},{"$f":"VLOOKUP($B2013,'Ad Week Dates'!$A:$E,2,FALSE)","v":{"$error":"#N/A"}},{"$f":"VLOOKUP($B2013,'Ad Week Dates'!$A:$E,3,FALSE)","v":{"$error":"#N/A"}},null,null,null,null,null,null,{"$error":"#N/A"}]
[null,null,{"$f":"VLOOKUP($B2014,'Ad Week Dates'!$A:$E,4,FALSE)","v":{"$error":"#N/A"}},{"$f":"VLOOKUP($B2014,'Ad Week Dates'!$A:$E,2,FALSE)","v":{"$error":"#N/A"}},{"$f":"VLOOKUP($B2014,'Ad Week Dates'!$A:$E,3,FALSE)","v":{"$error":"#N/A"}},null,null,null,null,null,null,{"$error":"#N/A"}]
[null,null,{"$f":"VLOOKUP($B2015,'Ad Week Dates'!$A:$E,4,FALSE)","v":{"$error":"#N/A"}},{"$f":"VLOOKUP($B2015,'Ad Week Dates'!$A:$E,2,FALSE)","v":{"$error":"#N/A"}},{"$f":"VLOOKUP($B2015,'Ad Week Dates'!$A:$E,3,FALSE)","v":{"$error":"#N/A"}},null,null,null,null,null,null,{"$error":"#N/A"}]
[null,null,{"$f":"VLOOKUP($B2016,'Ad Week Dates'!$A:$E,4,FALSE)","v":{"$error":"#N/A"}},{"$f":"VLOOKUP($B2016,'Ad Week Dates'!$A:$E,2,FALSE)","v":{"$error":"#N/A"}},{"$f":"VLOOKUP($B2016,'Ad Week Dates'!$A:$E,3,FALSE)","v":{"$error":"#N/A"}},null,null,null,null,null,null,{"$error":"#N/A"}]
[null,null,{"$f":"VLOOKUP($B2017,'Ad Week Dates'!$A:$E,4,FALSE)","v":{"$error":"#N/A"}},{"$f":"VLOOKUP($B2017,'Ad Week Dates'!$A:$E,2,FALSE)","v":{"$error":"#N/A"}},{"$f":"VLOOKUP($B2017,'Ad Week Dates'!$A:$E,3,FALSE)","v":{"$error":"#N/A"}},null,null,null,null,null,null,{"$error":"#N/A"}]
[null,null,{"$f":"VLOOKUP($B2018,'Ad Week Dates'!$A:$E,4,FALSE)","v":{"$error":"#N/A"}},{"$f":"VLOOKUP($B2018,'Ad Week Dates'!$A:$E,2,FALSE)","v":{"$error":"#N/A"}},{"$f":"VLOOKUP($B2018,'Ad Week Dates'!$A:$E,3,FALSE)","v":{"$error":"#N/A"}},null,null,null,null,null,null,{"$error":"#N/A"}]
[null,null,{"$f":"VLOOKUP($B2019,'Ad Week Dates'!$A:$E,4,FALSE)","v":{"$error":"#N/A"}},{"$f":"VLOOKUP($B2019,'Ad Week Dates'!$A:$E,2,FALSE)","v":{"$error":"#N/A"}},{"$f":"VLOOKUP($B2019,'Ad Week Dates'!$A:$E,3,FALSE)","v":{"$error":"#N/A"}},null,null,null,null,null,null,{"$error":"#N/A"}]
[null,null,{"$f":"VLOOKUP($B2020,'Ad Week Dates'!$A:$E,4,FALSE)","v":{"$error":"#N/A"}},{"$f":"VLOOKUP($B2020,'Ad Week Dates'!$A:$E,2,FALSE)","v":{"$error":"#N/A"}},{"$f":"VLOOKUP($B2020,'Ad Week Dates'!$A:$E,3,FALSE)","v":{"$error":"#N/A"}},null,null,null,null,null,null,{"$error":"#N/A"}]
[null,null,{"$f":"VLOOKUP($B2021,'Ad Week Dates'!$A:$E,4,FALSE)","v":{"$error":"#N/A"}},{"$f":"VLOOKUP($B2021,'Ad Week Dates'!$A:$E,2,FALSE)","v":{"$error":"#N/A"}},{"$f":"VLOOKUP($B2021,'Ad Week Dates'!$A:$E,3,FALSE)","v":{"$error":"#N/A"}},null,null,null,null,null,null,{"$error":"#N/A"}]
[null,null,{"$f":"VLOOKUP($B2022,'Ad Week Dates'!$A:$E,4,FALSE)","v":{"$error":"#N/A"}},{"$f":"VLOOKUP($B2022,'Ad Week Dates'!$A:$E,2,FALSE)","v":{"$error":"#N/A"}},{"$f":"VLOOKUP($B2022,'Ad Week Dates'!$A:$E,3,FALSE)","v":{"$error":"#N/A"}},null,null,null,null,null,null,{"$error":"#N/A"}]
[null,null,{"$f":"VLOOKUP($B2023,'Ad Week Dates'!$A:$E,4,FALSE)","v":{"$error":"#N/A"}},{"$f":"VLOOKUP($B2023,'Ad Week Dates'!$A:$E,2,FALSE)","v":{"$error":"#N/A"}},{"$f":"VLOOKUP($B2023,'Ad Week Dates'!$A:$E,3,FALSE)","v":{"$error":"#N/A"}},null,null,null,null,null,null,{"$error":"#N/A"}]
[null,null,{"$f":"VLOOKUP($B2024,'Ad Week Dates'!$A:$E,4,FALSE)","v":{"$error":"#N/A"}},{"$f":"VLOOKUP($B2024,'Ad Week Dates'!$A:$E,2,FALSE)","v":{"$error":"#N/A"}},{"$f":"VLOOKUP($B2024,'Ad Week Dates'!$A:$E,3,FALSE)","v":{"$error":"#N/A"}},null,null,null,null,null,null,{"$error":"#N/A"}]
[null,null,{"$f":"VLOOKUP($B2025,'Ad Week Dates'!$A:$E,4,FALSE)","v":{"$error":"#N/A"}},{"$f":"VLOOKUP($B2025,'Ad Week Dates'!$A:$E,2,FALSE)","v":{"$error":"#N/A"}},{"$f":"VLOOKUP($B2025,'Ad Week Dates'!$A:$E,3,FALSE)","v":{"$error":"#N/A"}},null,null,null,null,null,null,{"$error":"#N/A"}]
[null,null,{"$f":"VLOOKUP($B2026,'Ad Week Dates'!$A:$E,4,FALSE)","v":{"$error":"#N/A"}},{"$f":"VLOOKUP($B2026,'Ad Week Dates'!$A:$E,2,FALSE)","v":{"$error":"#N/A"}},{"$f":"VLOOKUP($B2026,'Ad Week Dates'!$A:$E,3,FALSE)","v":{"$error":"#N/A"}},null,null,null,null,null,null,{"$error":"#N/A"}]
[null,null,{"$f":"VLOOKUP($B2027,'Ad Week Dates'!$A:$E,4,FALSE)","v":{"$error":"#N/A"}},{"$f":"VLOOKUP($B2027,'Ad Week Dates'!$A:$E,2,FALSE)","v":{"$error":"#N/A"}},{"$f":"VLOOKUP($B2027,'Ad Week Dates'!$A:$E,3,FALSE)","v":{"$error":"#N/A"}},null,null,null,null,null,null,{"$error":"#N/A"}]
[null,null,{"$f":"VLOOKUP($B2028,'Ad Week Dates'!$A:$E,4,FALSE)","v":{"$error":"#N/A"}},{"$f":"VLOOKUP($B2028,'Ad Week Dates'!$A:$E,2,FALSE)","v":{"$error":"#N/A"}},{"$f":"VLOOKUP($B2028,'Ad Week Dates'!$A:$E,3,FALSE)","v":{"$error":"#N/A"}},null,null,null,null,null,null,{"$error":"#N/A"}]
[null,null,{"$f":"VLOOKUP($B2029,'Ad Week Dates'!$A:$E,4,FALSE)","v":{"$error":"#N/A"}},{"$f":"VLOOKUP($B2029,'Ad Week Dates'!$A:$E,2,FALSE)","v":{"$error":"#N/A"}},{"$f":"VLOOKUP($B2029,'Ad Week Dates'!$A:$E,3,FALSE)","v":{"$error":"#N/A"}},null,null,null,null,null,null,{"$error":"#N/A"}]
[null,null,{"$f":"VLOOKUP($B2030,'Ad Week Dates'!$A:$E,4,FALSE)","v":{"$error":"#N/A"}},{"$f":"VLOOKUP($B2030,'Ad Week Dates'!$A:$E,2,FALSE)","v":{"$error":"#N/A"}},{"$f":"VLOOKUP($B2030,'Ad Week Dates'!$A:$E,3,FALSE)","v":{"$error":"#N/A"}},null,null,null,null,null,null,{"$error":"#N/A"}]
[null,null,{"$f":"VLOOKUP($B2031,'Ad Week Dates'!$A:$E,4,FALSE)","v":{"$error":"#N/A"}},{"$f":"VLOOKUP($B2031,'Ad Week Dates'!$A:$E,2,FALSE)","v":{"$error":"#N/A"}},{"$f":"VLOOKUP($B2031,'Ad Week Dates'!$A:$E,3,FALSE)","v":{"$error":"#N/A"}},null,null,null,null,null,null,{"$error":"#N/A"}]
[null,null,{"$f":"VLOOKUP($B2032,'Ad Week Dates'!$A:$E,4,FALSE)","v":{"$error":"#N/A"}},{"$f":"VLOOKUP($B2032,'Ad Week Dates'!$A:$E,2,FALSE)","v":{"$error":"#N/A"}},{"$f":"VLOOKUP($B2032,'Ad Week Dates'!$A:$E,3,FALSE)","v":{"$error":"#N/A"}},null,null,null,null,null,null,{"$error":"#N/A"}]
[null,null,{"$f":"VLOOKUP($B2033,'Ad Week Dates'!$A:$E,4,FALSE)","v":{"$error":"#N/A"}},{"$f":"VLOOKUP($B2033,'Ad Week Dates'!$A:$E,2,FALSE)","v":{"$error":"#N/A"}},{"$f":"VLOOKUP($B2033,'Ad Week Dates'!$A:$E,3,FALSE)","v":{"$error":"#N/A"}},null,null,null,null,null,null,{"$error":"#N/A"}]
[null,null,{"$f":"VLOOKUP($B2034,'Ad Week Dates'!$A:$E,4,FALSE)","v":{"$error":"#N/A"}},{"$f":"VLOOKUP($B2034,'Ad Week Dates'!$A:$E,2,FALSE)","v":{"$error":"#N/A"}},{"$f":"VLOOKUP($B2034,'Ad Week Dates'!$A:$E,3,FALSE)","v":{"$error":"#N/A"}},null,null,null,null,null,null,{"$error":"#N/A"}]
[null,null,{"$f":"VLOOKUP($B2035,'Ad Week Dates'!$A:$E,4,FALSE)","v":{"$error":"#N/A"}},{"$f":"VLOOKUP($B2035,'Ad Week Dates'!$A:$E,2,FALSE)","v":{"$error":"#N/A"}},{"$f":"VLOOKUP($B2035,'Ad Week Dates'!$A:$E,3,FALSE)","v":{"$error":"#N/A"}},null,null,null,null,null,null,{"$error":"#N/A"}]
[null,null,{"$f":"VLOOKUP($B2036,'Ad Week Dates'!$A:$E,4,FALSE)","v":{"$error":"#N/A"}},{"$f":"VLOOKUP($B2036,'Ad Week Dates'!$A:$E,2,FALSE)","v":{"$error":"#N/A"}},{"$f":"VLOOKUP($B2036,'Ad Week Dates'!$A:$E,3,FALSE)","v":{"$error":"#N/A"}},null,null,null,null,null,null,{"$error":"#N/A"}]
[null,null,{"$f":"VLOOKUP($B2037,'Ad Week Dates'!$A:$E,4,FALSE)","v":{"$error":"#N/A"}},{"$f":"VLOOKUP($B2037,'Ad Week Dates'!$A:$E,2,FALSE)","v":{"$error":"#N/A"}},{"$f":"VLOOKUP($B2037,'Ad Week Dates'!$A:$E,3,FALSE)","v":{"$error":"#N/A"}},null,null,null,null,null,null,{"$error":"#N/A"}]
[null,null,{"$f":"VLOOKUP($B2038,'Ad Week Dates'!$A:$E,4,FALSE)","v":{"$error":"#N/A"}},{"$f":"VLOOKUP($B2038,'Ad Week Dates'!$A:$E,2,FALSE)","v":{"$error":"#N/A"}},{"$f":"VLOOKUP($B2038,'Ad Week Dates'!$A:$E,3,FALSE)","v":{"$error":"#N/A"}},null,null,null,null,null,null,{"$error":"#N/A"}]
[null,null,{"$f":"VLOOKUP($B2039,'Ad Week Dates'!$A:$E,4,FALSE)","v":{"$error":"#N/A"}},{"$f":"VLOOKUP($B2039,'Ad Week Dates'!$A:$E,2,FALSE)","v":{"$error":"#N/A"}},{"$f":"VLOOKUP($B2039,'Ad Week Dates'!$A:$E,3,FALSE)","v":{"$error":"#N/A"}},null,null,null,null,null,null,{"$error":"#N/A"}]
[null,null,{"$f":"VLOOKUP($B2040,'Ad Week Dates'!$A:$E,4,FALSE)","v":{"$error":"#N/A"}},{"$f":"VLOOKUP($B2040,'Ad Week Dates'!$A:$E,2,FALSE)","v":{"$error":"#N/A"}},{"$f":"VLOOKUP($B2040,'Ad Week Dates'!$A:$E,3,FALSE)","v":{"$error":"#N/A"}},null,null,null,null,null,null,{"$error":"#N/A"}]
[null,null,{"$f":"VLOOKUP($B2041,'Ad Week Dates'!$A:$E,4,FALSE)","v":{"$error":"#N/A"}},{"$f":"VLOOKUP($B2041,'Ad Week Dates'!$A:$E,2,FALSE)","v":{"$error":"#N/A"}},{"$f":"VLOOKUP($B2041,'Ad Week Dates'!$A:$E,3,FALSE)","v":{"$error":"#N/A"}},null,null,null,null,null,null,{"$error":"#N/A"}]
[null,null,{"$f":"VLOOKUP($B2042,'Ad Week Dates'!$A:$E,4,FALSE)","v":{"$error":"#N/A"}},{"$f":"VLOOKUP($B2042,'Ad Week Dates'!$A:$E,2,FALSE)","v":{"$error":"#N/A"}},{"$f":"VLOOKUP($B2042,'Ad Week Dates'!$A:$E,3,FALSE)","v":{"$error":"#N/A"}},null,null,null,null,null,null,{"$error":"#N/A"}]
[null,null,{"$f":"VLOOKUP($B2043,'Ad Week Dates'!$A:$E,4,FALSE)","v":{"$error":"#N/A"}},{"$f":"VLOOKUP($B2043,'Ad Week Dates'!$A:$E,2,FALSE)","v":{"$error":"#N/A"}},{"$f":"VLOOKUP($B2043,'Ad Week Dates'!$A:$E,3,FALSE)","v":{"$error":"#N/A"}},null,null,null,null,null,null,{"$error":"#N/A"}]
[null,null,{"$f":"VLOOKUP($B2044,'Ad Week Dates'!$A:$E,4,FALSE)","v":{"$error":"#N/A"}},{"$f":"VLOOKUP($B2044,'Ad Week Dates'!$A:$E,2,FALSE)","v":{"$error":"#N/A"}},{"$f":"VLOOKUP($B2044,'Ad Week Dates'!$A:$E,3,FALSE)","v":{"$error":"#N/A"}},null,null,null,null,null,null,{"$error":"#N/A"}]
[null,null,{"$f":"VLOOKUP($B2045,'Ad Week Dates'!$A:$E,4,FALSE)","v":{"$error":"#N/A"}},{"$f":"VLOOKUP($B2045,'Ad Week Dates'!$A:$E,2,FALSE)","v":{"$error":"#N/A"}},{"$f":"VLOOKUP($B2045,'Ad Week Dates'!$A:$E,3,FALSE)","v":{"$error":"#N/A"}},null,null,null,null,null,null,{"$error":"#N/A"}]
[null,null,{"$f":"VLOOKUP($B2046,'Ad Week Dates'!$A:$E,4,FALSE)","v":{"$error":"#N/A"}},{"$f":"VLOOKUP($B2046,'Ad Week Dates'!$A:$E,2,FALSE)","v":{"$error":"#N/A"}},{"$f":"VLOOKUP($B2046,'Ad Week Dates'!$A:$E,3,FALSE)","v":{"$error":"#N/A"}},null,null,null,null,null,null,{"$error":"#N/A"}]
[null,null,{"$f":"VLOOKUP($B2047,'Ad Week Dates'!$A:$E,4,FALSE)","v":{"$error":"#N/A"}},{"$f":"VLOOKUP($B2047,'Ad Week Dates'!$A:$E,2,FALSE)","v":{"$error":"#N/A"}},{"$f":"VLOOKUP($B2047,'Ad Week Dates'!$A:$E,3,FALSE)","v":{"$error":"#N/A"}},null,null,null,null,null,null,{"$error":"#N/A"}]
[null,null,{"$f":"VLOOKUP($B2048,'Ad Week Dates'!$A:$E,4,FALSE)","v":{"$error":"#N/A"}},{"$f":"VLOOKUP($B2048,'Ad Week Dates'!$A:$E,2,FALSE)","v":{"$error":"#N/A"}},{"$f":"VLOOKUP($B2048,'Ad Week Dates'!$A:$E,3,FALSE)","v":{"$error":"#N/A"}},null,null,null,null,null,null,{"$error":"#N/A"}]
[null,null,{"$f":"VLOOKUP($B2049,'Ad Week Dates'!$A:$E,4,FALSE)","v":{"$error":"#N/A"}},{"$f":"VLOOKUP($B2049,'Ad Week Dates'!$A:$E,2,FALSE)","v":{"$error":"#N/A"}},{"$f":"VLOOKUP($B2049,'Ad Week Dates'!$A:$E,3,FALSE)","v":{"$error":"#N/A"}},null,null,null,null,null,null,{"$error":"#N/A"}]
[null,null,{"$f":"VLOOKUP($B2050,'Ad Week Dates'!$A:$E,4,FALSE)","v":{"$error":"#N/A"}},{"$f":"VLOOKUP($B2050,'Ad Week Dates'!$A:$E,2,FALSE)","v":{"$error":"#N/A"}},{"$f":"VLOOKUP($B2050,'Ad Week Dates'!$A:$E,3,FALSE)","v":{"$error":"#N/A"}},null,null,null,null,null,null,{"$error":"#N/A"}]
[null,null,{"$f":"VLOOKUP($B2051,'Ad Week Dates'!$A:$E,4,FALSE)","v":{"$error":"#N/A"}},{"$f":"VLOOKUP($B2051,'Ad Week Dates'!$A:$E,2,FALSE)","v":{"$error":"#N/A"}},{"$f":"VLOOKUP($B2051,'Ad Week Dates'!$A:$E,3,FALSE)","v":{"$error":"#N/A"}},null,null,null,null,null,null,{"$error":"#N/A"}]
[null,null,{"$f":"VLOOKUP($B2052,'Ad Week Dates'!$A:$E,4,FALSE)","v":{"$error":"#N/A"}},{"$f":"VLOOKUP($B2052,'Ad Week Dates'!$A:$E,2,FALSE)","v":{"$error":"#N/A"}},{"$f":"VLOOKUP($B2052,'Ad Week Dates'!$A:$E,3,FALSE)","v":{"$error":"#N/A"}},null,null,null,null,null,null,{"$error":"#N/A"}]
[null,null,{"$f":"VLOOKUP($B2053,'Ad Week Dates'!$A:$E,4,FALSE)","v":{"$error":"#N/A"}},{"$f":"VLOOKUP($B2053,'Ad Week Dates'!$A:$E,2,FALSE)","v":{"$error":"#N/A"}},{"$f":"VLOOKUP($B2053,'Ad Week Dates'!$A:$E,3,FALSE)","v":{"$error":"#N/A"}},null,null,null,null,null,null,{"$error":"#N/A"}]
[null,null,{"$f":"VLOOKUP($B2054,'Ad Week Dates'!$A:$E,4,FALSE)","v":{"$error":"#N/A"}},{"$f":"VLOOKUP($B2054,'Ad Week Dates'!$A:$E,2,FALSE)","v":{"$error":"#N/A"}},{"$f":"VLOOKUP($B2054,'Ad Week Dates'!$A:$E,3,FALSE)","v":{"$error":"#N/A"}},null,null,null,null,null,null,{"$f":"IF(ISNUMBER(J2054), J2054 - K2054, VALUE(_xlfn.TEXTBEFORE(J2054, \"-\")) - VALUE(_xlfn.TEXTBEFORE(K2054, \"-\")))","v":{"$error":"#N/A"}}]
[null,null,{"$f":"VLOOKUP($B2055,'Ad Week Dates'!$A:$E,4,FALSE)","v":{"$error":"#N/A"}},{"$f":"VLOOKUP($B2055,'Ad Week Dates'!$A:$E,2,FALSE)","v":{"$error":"#N/A"}},{"$f":"VLOOKUP($B2055,'Ad Week Dates'!$A:$E,3,FALSE)","v":{"$error":"#N/A"}},null,null,null,null,null,null,{"$error":"#N/A"}]
[null,null,{"$f":"VLOOKUP($B2056,'Ad Week Dates'!$A:$E,4,FALSE)","v":{"$error":"#N/A"}},{"$f":"VLOOKUP($B2056,'Ad Week Dates'!$A:$E,2,FALSE)","v":{"$error":"#N/A"}},{"$f":"VLOOKUP($B2056,'Ad Week Dates'!$A:$E,3,FALSE)","v":{"$error":"#N/A"}},null,null,null,null,null,null,{"$error":"#N/A"}]
[null,null,{"$f":"VLOOKUP($B2057,'Ad Week Dates'!$A:$E,4,FALSE)","v":{"$error":"#N/A"}},{"$f":"VLOOKUP($B2057,'Ad Week Dates'!$A:$E,2,FALSE)","v":{"$error":"#N/A"}},{"$f":"VLOOKUP($B2057,'Ad Week Dates'!$A:$E,3,FALSE)","v":{"$error":"#N/A"}},null,null,null,null,null,null,{"$error":"#N/A"}]
[null,null,{"$f":"VLOOKUP($B2058,'Ad Week Dates'!$A:$E,4,FALSE)","v":{"$error":"#N/A"}},{"$f":"VLOOKUP($B2058,'Ad Week Dates'!$A:$E,2,FALSE)","v":{"$error":"#N/A"}},{"$f":"VLOOKUP($B2058,'Ad Week Dates'!$A:$E,3,FALSE)","v":{"$error":"#N/A"}},null,null,null,null,null,null,{"$error":"#N/A"}]
[null,null,{"$f":"VLOOKUP($B2059,'Ad Week Dates'!$A:$E,4,FALSE)","v":{"$error":"#N/A"}},{"$f":"VLOOKUP($B2059,'Ad Week Dates'!$A:$E,2,FALSE)","v":{"$error":"#N/A"}},{"$f":"VLOOKUP($B2059,'Ad Week Dates'!$A:$E,3,FALSE)","v":{"$error":"#N/A"}},null,null,null,null,null,null,{"$error":"#N/A"}]
[null,null,{"$f":"VLOOKUP($B2060,'Ad Week Dates'!$A:$E,4,FALSE)","v":{"$error":"#N/A"}},{"$f":"VLOOKUP($B2060,'Ad Week Dates'!$A:$E,2,FALSE)","v":{"$error":"#N/A"}},{"$f":"VLOOKUP($B2060,'Ad Week Dates'!$A:$E,3,FALSE)","v":{"$error":"#N/A"}},null,null,null,null,null,null,{"$error":"#N/A"}]
[null,null,{"$f":"VLOOKUP($B2061,'Ad Week Dates'!$A:$E,4,FALSE)","v":{"$error":"#N/A"}},{"$f":"VLOOKUP($B2061,'Ad Week Dates'!$A:$E,2,FALSE)","v":{"$error":"#N/A"}},{"$f":"VLOOKUP($B2061,'Ad Week Dates'!$A:$E,3,FALSE)","v":{"$error":"#N/A"}},null,null,null,null,null,null,{"$error":"#N/A"}]
[null,null,{"$f":"VLOOKUP($B2062,'Ad Week Dates'!$A:$E,4,FALSE)","v":{"$error":"#N/A"}},{"$f":"VLOOKUP($B2062,'Ad Week Dates'!$A:$E,2,FALSE)","v":{"$error":"#N/A"}},{"$f":"VLOOKUP($B2062,'Ad Week Dates'!$A:$E,3,FALSE)","v":{"$error":"#N/A"}},null,null,null,null,null,null,{"$error":"#N/A"}]
[null,null,{"$f":"VLOOKUP($B2063,'Ad Week Dates'!$A:$E,4,FALSE)","v":{"$error":"#N/A"}},{"$f":"VLOOKUP($B2063,'Ad Week Dates'!$A:$E,2,FALSE)","v":{"$error":"#N/A"}},{"$f":"VLOOKUP($B2063,'Ad Week Dates'!$A:$E,3,FALSE)","v":{"$error":"#N/A"}},null,null,null,null,null,null,{"$error":"#N/A"}]
[null,null,{"$f":"VLOOKUP($B2064,'Ad Week Dates'!$A:$E,4,FALSE)","v":{"$error":"#N/A"}},{"$f":"VLOOKUP($B2064,'Ad Week Dates'!$A:$E,2,FALSE)","v":{"$error":"#N/A"}},{"$f":"VLOOKUP($B2064,'Ad Week Dates'!$A:$E,3,FALSE)","v":{"$error":"#N/A"}},null,null,null,null,null,null,{"$error":"#N/A"}]
[null,null,{"$f":"VLOOKUP($B2065,'Ad Week Dates'!$A:$E,4,FALSE)","v":{"$error":"#N/A"}},{"$f":"VLOOKUP($B2065,'Ad Week Dates'!$A:$E,2,FALSE)","v":{"$error":"#N/A"}},{"$f":"VLOOKUP($B2065,'Ad Week Dates'!$A:$E,3,FALSE)","v":{"$error":"#N/A"}},null,null,null,null,null,null,{"$error":"#N/A"}]
[null,null,{"$f":"VLOOKUP($B2066,'Ad Week Dates'!$A:$E,4,FALSE)","v":{"$error":"#N/A"}},{"$f":"VLOOKUP($B2066,'Ad Week Dates'!$A:$E,2,FALSE)","v":{"$error":"#N/A"}},{"$f":"VLOOKUP($B2066,'Ad Week Dates'!$A:$E,3,FALSE)","v":{"$error":"#N/A"}},null,null,null,null,null,null,{"$error":"#N/A"}]
[null,null,{"$f":"VLOOKUP($B2067,'Ad Week Dates'!$A:$E,4,FALSE)","v":{"$error":"#N/A"}},{"$f":"VLOOKUP($B2067,'Ad Week Dates'!$A:$E,2,FALSE)","v":{"$error":"#N/A"}},{"$f":"VLOOKUP($B2067,'Ad Week Dates'!$A:$E,3,FALSE)","v":{"$error":"#N/A"}},null,null,null,null,null,null,{"$error":"#N/A"}]
[null,null,{"$f":"VLOOKUP($B2068,'Ad Week Dates'!$A:$E,4,FALSE)","v":{"$error":"#N/A"}},{"$f":"VLOOKUP($B2068,'Ad Week Dates'!$A:$E,2,FALSE)","v":{"$error":"#N/A"}},{"$f":"VLOOKUP($B2068,'Ad Week Dates'!$A:$E,3,FALSE)","v":{"$error":"#N/A"}},null,null,null,null,null,null,{"$error":"#N/A"}]
[null,null,{"$f":"VLOOKUP($B2069,'Ad Week Dates'!$A:$E,4,FALSE)","v":{"$error":"#N/A"}},{"$f":"VLOOKUP($B2069,'Ad Week Dates'!$A:$E,2,FALSE)","v":{"$error":"#N/A"}},{"$f":"VLOOKUP($B2069,'Ad Week Dates'!$A:$E,3,FALSE)","v":{"$error":"#N/A"}},null,null,null,null,null,null,{"$error":"#N/A"}]
[null,null,{"$f":"VLOOKUP($B2070,'Ad Week Dates'!$A:$E,4,FALSE)","v":{"$error":"#N/A"}},{"$f":"VLOOKUP($B2070,'Ad Week Dates'!$A:$E,2,FALSE)","v":{"$error":"#N/A"}},{"$f":"VLOOKUP($B2070,'Ad Week Dates'!$A:$E,3,FALSE)","v":{"$error":"#N/A"}},null,null,null,null,null,null,{"$error":"#N/A"}]
[null,null,{"$f":"VLOOKUP($B2071,'Ad Week Dates'!$A:$E,4,FALSE)","v":{"$error":"#N/A"}},{"$f":"VLOOKUP($B2071,'Ad Week Dates'!$A:$E,2,FALSE)","v":{"$error":"#N/A"}},{"$f":"VLOOKUP($B2071,'Ad Week Dates'!$A:$E,3,FALSE)","v":{"$error":"#N/A"}},null,null,null,null,null,null,{"$error":"#N/A"}]
[null,null,{"$f":"VLOOKUP($B2072,'Ad Week Dates'!$A:$E,4,FALSE)","v":{"$error":"#N/A"}},{"$f":"VLOOKUP($B2072,'Ad Week Dates'!$A:$E,2,FALSE)","v":{"$error":"#N/A"}},{"$f":"VLOOKUP($B2072,'Ad Week Dates'!$A:$E,3,FALSE)","v":{"$error":"#N/A"}},null,null,null,null,null,null,{"$error":"#N/A"}]
[null,null,{"$f":"VLOOKUP($B2073,'Ad Week Dates'!$A:$E,4,FALSE)","v":{"$error":"#N/A"}},{"$f":"VLOOKUP($B2073,'Ad Week Dates'!$A:$E,2,FALSE)","v":{"$error":"#N/A"}},{"$f":"VLOOKUP($B2073,'Ad Week Dates'!$A:$E,3,FALSE)","v":{"$error":"#N/A"}},null,null,null,null,null,null,{"$error":"#N/A"}]
[null,null,{"$f":"VLOOKUP($B2074,'Ad Week Dates'!$A:$E,4,FALSE)","v":{"$error":"#N/A"}},{"$f":"VLOOKUP($B2074,'Ad Week Dates'!$A:$E,2,FALSE)","v":{"$error":"#N/A"}},{"$f":"VLOOKUP($B2074,'Ad Week Dates'!$A:$E,3,FALSE)","v":{"$error":"#N/A"}},null,null,null,null,null,null,{"$error":"#N/A"}]
[null,null,{"$f":"VLOOKUP($B2075,'Ad Week Dates'!$A:$E,4,FALSE)","v":{"$error":"#N/A"}},{"$f":"VLOOKUP($B2075,'Ad Week Dates'!$A:$E,2,FALSE)","v":{"$error":"#N/A"}},{"$f":"VLOOKUP($B2075,'Ad Week Dates'!$A:$E,3,FALSE)","v":{"$error":"#N/A"}},null,null,null,null,null,null,{"$error":"#N/A"}]
[null,null,{"$f":"VLOOKUP($B2076,'Ad Week Dates'!$A:$E,4,FALSE)","v":{"$error":"#N/A"}},{"$f":"VLOOKUP($B2076,'Ad Week Dates'!$A:$E,2,FALSE)","v":{"$error":"#N/A"}},{"$f":"VLOOKUP($B2076,'Ad Week Dates'!$A:$E,3,FALSE)","v":{"$error":"#N/A"}},null,null,null,null,null,null,{"$error":"#N/A"}]
[null,null,{"$f":"VLOOKUP($B2077,'Ad Week Dates'!$A:$E,4,FALSE)","v":{"$error":"#N/A"}},{"$f":"VLOOKUP($B2077,'Ad Week Dates'!$A:$E,2,FALSE)","v":{"$error":"#N/A"}},{"$f":"VLOOKUP($B2077,'Ad Week Dates'!$A:$E,3,FALSE)","v":{"$error":"#N/A"}},null,null,null,null,null,null,{"$error":"#N/A"}]
[null,null,{"$f":"VLOOKUP($B2078,'Ad Week Dates'!$A:$E,4,FALSE)","v":{"$error":"#N/A"}},{"$f":"VLOOKUP($B2078,'Ad Week Dates'!$A:$E,2,FALSE)","v":{"$error":"#N/A"}},{"$f":"VLOOKUP($B2078,'Ad Week Dates'!$A:$E,3,FALSE)","v":{"$error":"#N/A"}},null,null,null,null,null,null,{"$error":"#N/A"}]
[null,null,{"$f":"VLOOKUP($B2079,'Ad Week Dates'!$A:$E,4,FALSE)","v":{"$error":"#N/A"}},{"$f":"VLOOKUP($B2079,'Ad Week Dates'!$A:$E,2,FALSE)","v":{"$error":"#N/A"}},{"$f":"VLOOKUP($B2079,'Ad Week Dates'!$A:$E,3,FALSE)","v":{"$error":"#N/A"}},null,null,null,null,null,null,{"$error":"#N/A"}]
[null,null,{"$f":"VLOOKUP($B2080,'Ad Week Dates'!$A:$E,4,FALSE)","v":{"$error":"#N/A"}},{"$f":"VLOOKUP($B2080,'Ad Week Dates'!$A:$E,2,FALSE)","v":{"$error":"#N/A"}},{"$f":"VLOOKUP($B2080,'Ad Week Dates'!$A:$E,3,FALSE)","v":{"$error":"#N/A"}},null,null,null,null,null,null,{"$error":"#N/A"}]
[null,null,{"$f":"VLOOKUP($B2081,'Ad Week Dates'!$A:$E,4,FALSE)","v":{"$error":"#N/A"}},{"$f":"VLOOKUP($B2081,'Ad Week Dates'!$A:$E,2,FALSE)","v":{"$error":"#N/A"}},{"$f":"VLOOKUP($B2081,'Ad Week Dates'!$A:$E,3,FALSE)","v":{"$error":"#N/A"}},null,null,null,null,null,null,{"$error":"#N/A"}]
[null,null,{"$f":"VLOOKUP($B2082,'Ad Week Dates'!$A:$E,4,FALSE)","v":{"$error":"#N/A"}},{"$f":"VLOOKUP($B2082,'Ad Week Dates'!$A:$E,2,FALSE)","v":{"$error":"#N/A"}},{"$f":"VLOOKUP($B2082,'Ad Week Dates'!$A:$E,3,FALSE)","v":{"$error":"#N/A"}},null,null,null,null,null,null,{"$error":"#N/A"}]
[null,null,{"$f":"VLOOKUP($B2083,'Ad Week Dates'!$A:$E,4,FALSE)","v":{"$error":"#N/A"}},{"$f":"VLOOKUP($B2083,'Ad Week Dates'!$A:$E,2,FALSE)","v":{"$error":"#N/A"}},{"$f":"VLOOKUP($B2083,'Ad Week Dates'!$A:$E,3,FALSE)","v":{"$error":"#N/A"}},null,null,null,null,null,null,{"$error":"#N/A"}]
[null,null,{"$f":"VLOOKUP($B2084,'Ad Week Dates'!$A:$E,4,FALSE)","v":{"$error":"#N/A"}},{"$f":"VLOOKUP($B2084,'Ad Week Dates'!$A:$E,2,FALSE)","v":{"$error":"#N/A"}},{"$f":"VLOOKUP($B2084,'Ad Week Dates'!$A:$E,3,FALSE)","v":{"$error":"#N/A"}},null,null,null,null,null,null,{"$error":"#N/A"}]
[null,null,{"$f":"VLOOKUP($B2085,'Ad Week Dates'!$A:$E,4,FALSE)","v":{"$error":"#N/A"}},{"$f":"VLOOKUP($B2085,'Ad Week Dates'!$A:$E,2,FALSE)","v":{"$error":"#N/A"}},{"$f":"VLOOKUP($B2085,'Ad Week Dates'!$A:$E,3,FALSE)","v":{"$error":"#N/A"}},null,null,null,null,null,null,{"$error":"#N/A"}]
[null,null,{"$f":"VLOOKUP($B2086,'Ad Week Dates'!$A:$E,4,FALSE)","v":{"$error":"#N/A"}},{"$f":"VLOOKUP($B2086,'Ad Week Dates'!$A:$E,2,FALSE)","v":{"$error":"#N/A"}},{"$f":"VLOOKUP($B2086,'Ad Week Dates'!$A:$E,3,FALSE)","v":{"$error":"#N/A"}},null,null,null,null,null,null,{"$error":"#N/A"}]
[null,null,{"$f":"VLOOKUP($B2087,'Ad Week Dates'!$A:$E,4,FALSE)","v":{"$error":"#N/A"}},{"$f":"VLOOKUP($B2087,'Ad Week Dates'!$A:$E,2,FALSE)","v":{"$error":"#N/A"}},{"$f":"VLOOKUP($B2087,'Ad Week Dates'!$A:$E,3,FALSE)","v":{"$error":"#N/A"}},null,null,null,null,null,null,{"$error":"#N/A"}]
[null,null,{"$f":"VLOOKUP($B2088,'Ad Week Dates'!$A:$E,4,FALSE)","v":{"$error":"#N/A"}},{"$f":"VLOOKUP($B2088,'Ad Week Dates'!$A:$E,2,FALSE)","v":{"$error":"#N/A"}},{"$f":"VLOOKUP($B2088,'Ad Week Dates'!$A:$E,3,FALSE)","v":{"$error":"#N/A"}},null,null,null,null,null,null,{"$error":"#N/A"}]
[null,null,{"$f":"VLOOKUP($B2089,'Ad Week Dates'!$A:$E,4,FALSE)","v":{"$error":"#N/A"}},{"$f":"VLOOKUP($B2089,'Ad Week Dates'!$A:$E,2,FALSE)","v":{"$error":"#N/A"}},{"$f":"VLOOKUP($B2089,'Ad Week Dates'!$A:$E,3,FALSE)","v":{"$error":"#N/A"}},null,null,null,null,null,null,{"$error":"#N/A"}]
[null,null,{"$f":"VLOOKUP($B2090,'Ad Week Dates'!$A:$E,4,FALSE)","v":{"$error":"#N/A"}},{"$f":"VLOOKUP($B2090,'Ad Week Dates'!$A:$E,2,FALSE)","v":{"$error":"#N/A"}},{"$f":"VLOOKUP($B2090,'Ad Week Dates'!$A:$E,3,FALSE)","v":{"$error":"#N/A"}},null,null,null,null,null,null,{"$error":"#N/A"}]
[null,null,{"$f":"VLOOKUP($B2091,'Ad Week Dates'!$A:$E,4,FALSE)","v":{"$error":"#N/A"}},{"$f":"VLOOKUP($B2091,'Ad Week Dates'!$A:$E,2,FALSE)","v":{"$error":"#N/A"}},{"$f":"VLOOKUP($B2091,'Ad Week Dates'!$A:$E,3,FALSE)","v":{"$error":"#N/A"}},null,null,null,null,null,null,{"$error":"#N/A"}]
[null,null,{"$f":"VLOOKUP($B2092,'Ad Week Dates'!$A:$E,4,FALSE)","v":{"$error":"#N/A"}},{"$f":"VLOOKUP($B2092,'Ad Week Dates'!$A:$E,2,FALSE)","v":{"$error":"#N/A"}},{"$f":"VLOOKUP($B2092,'Ad Week Dates'!$A:$E,3,FALSE)","v":{"$error":"#N/A"}},null,null,null,null,null,null,{"$error":"#N/A"}]
[null,null,{"$f":"VLOOKUP($B2093,'Ad Week Dates'!$A:$E,4,FALSE)","v":{"$error":"#N/A"}},{"$f":"VLOOKUP($B2093,'Ad Week Dates'!$A:$E,2,FALSE)","v":{"$error":"#N/A"}},{"$f":"VLOOKUP($B2093,'Ad Week Dates'!$A:$E,3,FALSE)","v":{"$error":"#N/A"}},null,null,null,null,null,null,{"$error":"#N/A"}]
[null,null,{"$f":"VLOOKUP($B2094,'Ad Week Dates'!$A:$E,4,FALSE)","v":{"$error":"#N/A"}},{"$f":"VLOOKUP($B2094,'Ad Week Dates'!$A:$E,2,FALSE)","v":{"$error":"#N/A"}},{"$f":"VLOOKUP($B2094,'Ad Week Dates'!$A:$E,3,FALSE)","v":{"$error":"#N/A"}},null,null,null,null,null,null,{"$error":"#N/A"}]
[null,null,{"$f":"VLOOKUP($B2095,'Ad Week Dates'!$A:$E,4,FALSE)","v":{"$error":"#N/A"}},{"$f":"VLOOKUP($B2095,'Ad Week Dates'!$A:$E,2,FALSE)","v":{"$error":"#N/A"}},{"$f":"VLOOKUP($B2095,'Ad Week Dates'!$A:$E,3,FALSE)","v":{"$error":"#N/A"}},null,null,null,null,null,null,{"$error":"#N/A"}]
[null,null,{"$f":"VLOOKUP($B2096,'Ad Week Dates'!$A:$E,4,FALSE)","v":{"$error":"#N/A"}},{"$f":"VLOOKUP($B2096,'Ad Week Dates'!$A:$E,2,FALSE)","v":{"$error":"#N/A"}},{"$f":"VLOOKUP($B2096,'Ad Week Dates'!$A:$E,3,FALSE)","v":{"$error":"#N/A"}},null,null,null,null,null,null,{"$error":"#N/A"}]
[null,null,{"$f":"VLOOKUP($B2097,'Ad Week Dates'!$A:$E,4,FALSE)","v":{"$error":"#N/A"}},{"$f":"VLOOKUP($B2097,'Ad Week Dates'!$A:$E,2,FALSE)","v":{"$error":"#N/A"}},{"$f":"VLOOKUP($B2097,'Ad Week Dates'!$A:$E,3,FALSE)","v":{"$error":"#N/A"}},null,null,null,null,null,null,{"$error":"#N/A"}]
[null,null,{"$f":"VLOOKUP($B2098,'Ad Week Dates'!$A:$E,4,FALSE)","v":{"$error":"#N/A"}},{"$f":"VLOOKUP($B2098,'Ad Week Dates'!$A:$E,2,FALSE)","v":{"$error":"#N/A"}},{"$f":"VLOOKUP($B2098,'Ad Week Dates'!$A:$E,3,FALSE)","v":{"$error":"#N/A"}},null,null,null,null,null,null,{"$error":"#N/A"}]
[null,null,{"$f":"VLOOKUP($B2099,'Ad Week Dates'!$A:$E,4,FALSE)","v":{"$error":"#N/A"}},{"$f":"VLOOKUP($B2099,'Ad Week Dates'!$A:$E,2,FALSE)","v":{"$error":"#N/A"}},{"$f":"VLOOKUP($B2099,'Ad Week Dates'!$A:$E,3,FALSE)","v":{"$error":"#N/A"}},null,null,null,null,null,null,{"$error":"#N/A"}]
[null,null,{"$f":"VLOOKUP($B2100,'Ad Week Dates'!$A:$E,4,FALSE)","v":{"$error":"#N/A"}},{"$f":"VLOOKUP($B2100,'Ad Week Dates'!$A:$E,2,FALSE)","v":{"$error":"#N/A"}},{"$f":"VLOOKUP($B2100,'Ad Week Dates'!$A:$E,3,FALSE)","v":{"$error":"#N/A"}},null,null,null,null,null,null,{"$error":"#N/A"}]
[null,null,{"$f":"VLOOKUP($B2101,'Ad Week Dates'!$A:$E,4,FALSE)","v":{"$error":"#N/A"}},{"$f":"VLOOKUP($B2101,'Ad Week Dates'!$A:$E,2,FALSE)","v":{"$error":"#N/A"}},{"$f":"VLOOKUP($B2101,'Ad Week Dates'!$A:$E,3,FALSE)","v":{"$error":"#N/A"}},null,null,null,null,null,null,{"$error":"#N/A"}]
[null,null,{"$f":"VLOOKUP($B2102,'Ad Week Dates'!$A:$E,4,FALSE)","v":{"$error":"#N/A"}},{"$f":"VLOOKUP($B2102,'Ad Week Dates'!$A:$E,2,FALSE)","v":{"$error":"#N/A"}},{"$f":"VLOOKUP($B2102,'Ad Week Dates'!$A:$E,3,FALSE)","v":{"$error":"#N/A"}},null,null,null,null,null,null,{"$error":"#N/A"}]
[null,null,{"$f":"VLOOKUP($B2103,'Ad Week Dates'!$A:$E,4,FALSE)","v":{"$error":"#N/A"}},{"$f":"VLOOKUP($B2103,'Ad Week Dates'!$A:$E,2,FALSE)","v":{"$error":"#N/A"}},{"$f":"VLOOKUP($B2103,'Ad Week Dates'!$A:$E,3,FALSE)","v":{"$error":"#N/A"}},null,null,null,null,null,null,{"$error":"#N/A"}]
[null,null,{"$f":"VLOOKUP($B2104,'Ad Week Dates'!$A:$E,4,FALSE)","v":{"$error":"#N/A"}},{"$f":"VLOOKUP($B2104,'Ad Week Dates'!$A:$E,2,FALSE)","v":{"$error":"#N/A"}},{"$f":"VLOOKUP($B2104,'Ad Week Dates'!$A:$E,3,FALSE)","v":{"$error":"#N/A"}},null,null,null,null,null,null,{"$error":"#N/A"}]
[null,null,{"$f":"VLOOKUP($B2105,'Ad Week Dates'!$A:$E,4,FALSE)","v":{"$error":"#N/A"}},{"$f":"VLOOKUP($B2105,'Ad Week Dates'!$A:$E,2,FALSE)","v":{"$error":"#N/A"}},{"$f":"VLOOKUP($B2105,'Ad Week Dates'!$A:$E,3,FALSE)","v":{"$error":"#N/A"}},null,null,null,null,null,null,{"$error":"#N/A"}]
[null,null,{"$f":"VLOOKUP($B2106,'Ad Week Dates'!$A:$E,4,FALSE)","v":{"$error":"#N/A"}},{"$f":"VLOOKUP($B2106,'Ad Week Dates'!$A:$E,2,FALSE)","v":{"$error":"#N/A"}},{"$f":"VLOOKUP($B2106,'Ad Week Dates'!$A:$E,3,FALSE)","v":{"$error":"#N/A"}},null,null,null,null,null,null,{"$error":"#N/A"}]
[null,null,{"$f":"VLOOKUP($B2107,'Ad Week Dates'!$A:$E,4,FALSE)","v":{"$error":"#N/A"}},{"$f":"VLOOKUP($B2107,'Ad Week Dates'!$A:$E,2,FALSE)","v":{"$error":"#N/A"}},{"$f":"VLOOKUP($B2107,'Ad Week Dates'!$A:$E,3,FALSE)","v":{"$error":"#N/A"}},null,null,null,null,null,null,{"$error":"#N/A"}]
[null,null,{"$f":"VLOOKUP($B2108,'Ad Week Dates'!$A:$E,4,FALSE)","v":{"$error":"#N/A"}},{"$f":"VLOOKUP($B2108,'Ad Week Dates'!$A:$E,2,FALSE)","v":{"$error":"#N/A"}},{"$f":"VLOOKUP($B2108,'Ad Week Dates'!$A:$E,3,FALSE)","v":{"$error":"#N/A"}},null,null,null,null,null,null,{"$error":"#N/A"}]
[null,null,{"$f":"VLOOKUP($B2109,'Ad Week Dates'!$A:$E,4,FALSE)","v":{"$error":"#N/A"}},{"$f":"VLOOKUP($B2109,'Ad Week Dates'!$A:$E,2,FALSE)","v":{"$error":"#N/A"}},{"$f":"VLOOKUP($B2109,'Ad Week Dates'!$A:$E,3,FALSE)","v":{"$error":"#N/A"}},null,null,null,null,null,null,{"$error":"#N/A"}]
[null,null,{"$f":"VLOOKUP($B2110,'Ad Week Dates'!$A:$E,4,FALSE)","v":{"$error":"#N/A"}},{"$f":"VLOOKUP($B2110,'Ad Week Dates'!$A:$E,2,FALSE)","v":{"$error":"#N/A"}},{"$f":"VLOOKUP($B2110,'Ad Week Dates'!$A:$E,3,FALSE)","v":{"$error":"#N/A"}},null,null,null,null,null,null,{"$error":"#N/A"}]
[null,null,{"$f":"VLOOKUP($B2111,'Ad Week Dates'!$A:$E,4,FALSE)","v":{"$error":"#N/A"}},{"$f":"VLOOKUP($B2111,'Ad Week Dates'!$A:$E,2,FALSE)","v":{"$error":"#N/A"}},{"$f":"VLOOKUP($B2111,'Ad Week Dates'!$A:$E,3,FALSE)","v":{"$error":"#N/A"}},null,null,null,null,null,null,{"$error":"#N/A"}]
[null,null,{"$f":"VLOOKUP($B2112,'Ad Week Dates'!$A:$E,4,FALSE)","v":{"$error":"#N/A"}},{"$f":"VLOOKUP($B2112,'Ad Week Dates'!$A:$E,2,FALSE)","v":{"$error":"#N/A"}},{"$f":"VLOOKUP($B2112,'Ad Week Dates'!$A:$E,3,FALSE)","v":{"$error":"#N/A"}},null,null,null,null,null,null,{"$error":"#N/A"}]
[null,null,{"$f":"VLOOKUP($B2113,'Ad Week Dates'!$A:$E,4,FALSE)","v":{"$error":"#N/A"}},{"$f":"VLOOKUP($B2113,'Ad Week Dates'!$A:$E,2,FALSE)","v":{"$error":"#N/A"}},{"$f":"VLOOKUP($B2113,'Ad Week Dates'!$A:$E,3,FALSE)","v":{"$error":"#N/A"}},null,null,null,null,null,null,{"$error":"#N/A"}]
[null,null,{"$f":"VLOOKUP($B2114,'Ad Week Dates'!$A:$E,4,FALSE)","v":{"$error":"#N/A"}},{"$f":"VLOOKUP($B2114,'Ad Week Dates'!$A:$E,2,FALSE)","v":{"$error":"#N/A"}},{"$f":"VLOOKUP($B2114,'Ad Week Dates'!$A:$E,3,FALSE)","v":{"$error":"#N/A"}},null,null,null,null,null,null,{"$error":"#N/A"}]
[null,null,{"$f":"VLOOKUP($B2115,'Ad Week Dates'!$A:$E,4,FALSE)","v":{"$error":"#N/A"}},{"$f":"VLOOKUP($B2115,'Ad Week Dates'!$A:$E,2,FALSE)","v":{"$error":"#N/A"}},{"$f":"VLOOKUP($B2115,'Ad Week Dates'!$A:$E,3,FALSE)","v":{"$error":"#N/A"}},null,null,null,null,null,null,{"$error":"#N/A"}]
[null,null,{"$f":"VLOOKUP($B2116,'Ad Week Dates'!$A:$E,4,FALSE)","v":{"$error":"#N/A"}},{"$f":"VLOOKUP($B2116,'Ad Week Dates'!$A:$E,2,FALSE)","v":{"$error":"#N/A"}},{"$f":"VLOOKUP($B2116,'Ad Week Dates'!$A:$E,3,FALSE)","v":{"$error":"#N/A"}},null,null,null,null,null,null,{"$error":"#N/A"}]
[null,null,{"$f":"VLOOKUP($B2117,'Ad Week Dates'!$A:$E,4,FALSE)","v":{"$error":"#N/A"}},{"$f":"VLOOKUP($B2117,'Ad Week Dates'!$A:$E,2,FALSE)","v":{"$error":"#N/A"}},{"$f":"VLOOKUP($B2117,'Ad Week Dates'!$A:$E,3,FALSE)","v":{"$error":"#N/A"}},null,null,null,null,null,null,{"$error":"#N/A"}]
[null,null,{"$f":"VLOOKUP($B2118,'Ad Week Dates'!$A:$E,4,FALSE)","v":{"$error":"#N/A"}},{"$f":"VLOOKUP($B2118,'Ad Week Dates'!$A:$E,2,FALSE)","v":{"$error":"#N/A"}},{"$f":"VLOOKUP($B2118,'Ad Week Dates'!$A:$E,3,FALSE)","v":{"$error":"#N/A"}},null,null,null,null,null,null,{"$f":"IF(ISNUMBER(J2118), J2118 - K2118, VALUE(_xlfn.TEXTBEFORE(J2118, \"-\")) - VALUE(_xlfn.TEXTBEFORE(K2118, \"-\")))","v":{"$error":"#N/A"}}]
[null,null,{"$f":"VLOOKUP($B2119,'Ad Week Dates'!$A:$E,4,FALSE)","v":{"$error":"#N/A"}},{"$f":"VLOOKUP($B2119,'Ad Week Dates'!$A:$E,2,FALSE)","v":{"$error":"#N/A"}},{"$f":"VLOOKUP($B2119,'Ad Week Dates'!$A:$E,3,FALSE)","v":{"$error":"#N/A"}},null,null,null,null,null,null,{"$error":"#N/A"}]
[null,null,{"$f":"VLOOKUP($B2120,'Ad Week Dates'!$A:$E,4,FALSE)","v":{"$error":"#N/A"}},{"$f":"VLOOKUP($B2120,'Ad Week Dates'!$A:$E,2,FALSE)","v":{"$error":"#N/A"}},{"$f":"VLOOKUP($B2120,'Ad Week Dates'!$A:$E,3,FALSE)","v":{"$error":"#N/A"}},null,null,null,null,null,null,{"$error":"#N/A"}]
[null,null,{"$f":"VLOOKUP($B2121,'Ad Week Dates'!$A:$E,4,FALSE)","v":{"$error":"#N/A"}},{"$f":"VLOOKUP($B2121,'Ad Week Dates'!$A:$E,2,FALSE)","v":{"$error":"#N/A"}},{"$f":"VLOOKUP($B2121,'Ad Week Dates'!$A:$E,3,FALSE)","v":{"$error":"#N/A"}},null,null,null,null,null,null,{"$error":"#N/A"}]
[null,null,{"$f":"VLOOKUP($B2122,'Ad Week Dates'!$A:$E,4,FALSE)","v":{"$error":"#N/A"}},{"$f":"VLOOKUP($B2122,'Ad Week Dates'!$A:$E,2,FALSE)","v":{"$error":"#N/A"}},{"$f":"VLOOKUP($B2122,'Ad Week Dates'!$A:$E,3,FALSE)","v":{"$error":"#N/A"}},null,null,null,null,null,null,{"$error":"#N/A"}]
[null,null,{"$f":"VLOOKUP($B2123,'Ad Week Dates'!$A:$E,4,FALSE)","v":{"$error":"#N/A"}},{"$f":"VLOOKUP($B2123,'Ad Week Dates'!$A:$E,2,FALSE)","v":{"$error":"#N/A"}},{"$f":"VLOOKUP($B2123,'Ad Week Dates'!$A:$E,3,FALSE)","v":{"$error":"#N/A"}},null,null,null,null,null,null,{"$error":"#N/A"}]
[null,null,{"$f":"VLOOKUP($B2124,'Ad Week Dates'!$A:$E,4,FALSE)","v":{"$error":"#N/A"}},{"$f":"VLOOKUP($B2124,'Ad Week Dates'!$A:$E,2,FALSE)","v":{"$error":"#N/A"}},{"$f":"VLOOKUP($B2124,'Ad Week Dates'!$A:$E,3,FALSE)","v":{"$error":"#N/A"}},null,null,null,null,null,null,{"$error":"#N/A"}]
[null,null,{"$f":"VLOOKUP($B2125,'Ad Week Dates'!$A:$E,4,FALSE)","v":{"$error":"#N/A"}},{"$f":"VLOOKUP($B2125,'Ad Week Dates'!$A:$E,2,FALSE)","v":{"$error":"#N/A"}},{"$f":"VLOOKUP($B2125,'Ad Week Dates'!$A:$E,3,FALSE)","v":{"$error":"#N/A"}},null,null,null,null,null,null,{"$error":"#N/A"}]
[null,null,{"$f":"VLOOKUP($B2126,'Ad Week Dates'!$A:$E,4,FALSE)","v":{"$error":"#N/A"}},{"$f":"VLOOKUP($B2126,'Ad Week Dates'!$A:$E,2,FALSE)","v":{"$error":"#N/A"}},{"$f":"VLOOKUP($B2126,'Ad Week Dates'!$A:$E,3,FALSE)","v":{"$error":"#N/A"}},null,null,null,null,null,null,{"$error":"#N/A"}]
[null,null,{"$f":"VLOOKUP($B2127,'Ad Week Dates'!$A:$E,4,FALSE)","v":{"$error":"#N/A"}},{"$f":"VLOOKUP($B2127,'Ad Week Dates'!$A:$E,2,FALSE)","v":{"$error":"#N/A"}},{"$f":"VLOOKUP($B2127,'Ad Week Dates'!$A:$E,3,FALSE)","v":{"$error":"#N/A"}},null,null,null,null,null,null,{"$error":"#N/A"}]
[null,null,{"$f":"VLOOKUP($B2128,'Ad Week Dates'!$A:$E,4,FALSE)","v":{"$error":"#N/A"}},{"$f":"VLOOKUP($B2128,'Ad Week Dates'!$A:$E,2,FALSE)","v":{"$error":"#N/A"}},{"$f":"VLOOKUP($B2128,'Ad Week Dates'!$A:$E,3,FALSE)","v":{"$error":"#N/A"}},null,null,null,null,null,null,{"$error":"#N/A"}]
[null,null,{"$f":"VLOOKUP($B2129,'Ad Week Dates'!$A:$E,4,FALSE)","v":{"$error":"#N/A"}},{"$f":"VLOOKUP($B2129,'Ad Week Dates'!$A:$E,2,FALSE)","v":{"$error":"#N/A"}},{"$f":"VLOOKUP($B2129,'Ad Week Dates'!$A:$E,3,FALSE)","v":{"$error":"#N/A"}},null,null,null,null,null,null,{"$error":"#N/A"}]
[null,null,{"$f":"VLOOKUP($B2130,'Ad Week Dates'!$A:$E,4,FALSE)","v":{"$error":"#N/A"}},{"$f":"VLOOKUP($B2130,'Ad Week Dates'!$A:$E,2,FALSE)","v":{"$error":"#N/A"}},{"$f":"VLOOKUP($B2130,'Ad Week Dates'!$A:$E,3,FALSE)","v":{"$error":"#N/A"}},null,null,null,null,null,null,{"$error":"#N/A"}]
[null,null,{"$f":"VLOOKUP($B2131,'Ad Week Dates'!$A:$E,4,FALSE)","v":{"$error":"#N/A"}},{"$f":"VLOOKUP($B2131,'Ad Week Dates'!$A:$E,2,FALSE)","v":{"$error":"#N/A"}},{"$f":"VLOOKUP($B2131,'Ad Week Dates'!$A:$E,3,FALSE)","v":{"$error":"#N/A"}},null,null,null,null,null,null,{"$error":"#N/A"}]
[null,null,{"$f":"VLOOKUP($B2132,'Ad Week Dates'!$A:$E,4,FALSE)","v":{"$error":"#N/A"}},{"$f":"VLOOKUP($B2132,'Ad Week Dates'!$A:$E,2,FALSE)","v":{"$error":"#N/A"}},{"$f":"VLOOKUP($B2132,'Ad Week Dates'!$A:$E,3,FALSE)","v":{"$error":"#N/A"}},null,null,null,null,null,null,{"$error":"#N/A"}]
[null,null,{"$f":"VLOOKUP($B2133,'Ad Week Dates'!$A:$E,4,FALSE)","v":{"$error":"#N/A"}},{"$f":"VLOOKUP($B2133,'Ad Week Dates'!$A:$E,2,FALSE)","v":{"$error":"#N/A"}},{"$f":"VLOOKUP($B2133,'Ad Week Dates'!$A:$E,3,FALSE)","v":{"$error":"#N/A"}},null,null,null,null,null,null,{"$error":"#N/A"}]
[null,null,{"$f":"VLOOKUP($B2134,'Ad Week Dates'!$A:$E,4,FALSE)","v":{"$error":"#N/A"}},{"$f":"VLOOKUP($B2134,'Ad Week Dates'!$A:$E,2,FALSE)","v":{"$error":"#N/A"}},{"$f":"VLOOKUP($B2134,'Ad Week Dates'!$A:$E,3,FALSE)","v":{"$error":"#N/A"}},null,null,null,null,null,null,{"$error":"#N/A"}]
[null,null,{"$f":"VLOOKUP($B2135,'Ad Week Dates'!$A:$E,4,FALSE)","v":{"$error":"#N/A"}},{"$f":"VLOOKUP($B2135,'Ad Week Dates'!$A:$E,2,FALSE)","v":{"$error":"#N/A"}},{"$f":"VLOOKUP($B2135,'Ad Week Dates'!$A:$E,3,FALSE)","v":{"$error":"#N/A"}},null,null,null,null,null,null,{"$error":"#N/A"}]
[null,null,{"$f":"VLOOKUP($B2136,'Ad Week Dates'!$A:$E,4,FALSE)","v":{"$error":"#N/A"}},{"$f":"VLOOKUP($B2136,'Ad Week Dates'!$A:$E,2,FALSE)","v":{"$error":"#N/A"}},{"$f":"VLOOKUP($B2136,'Ad Week Dates'!$A:$E,3,FALSE)","v":{"$error":"#N/A"}},null,null,null,null,null,null,{"$error":"#N/A"}]
[null,null,{"$f":"VLOOKUP($B2137,'Ad Week Dates'!$A:$E,4,FALSE)","v":{"$error":"#N/A"}},{"$f":"VLOOKUP($B2137,'Ad Week Dates'!$A:$E,2,FALSE)","v":{"$error":"#N/A"}},{"$f":"VLOOKUP($B2137,'Ad Week Dates'!$A:$E,3,FALSE)","v":{"$error":"#N/A"}},null,null,null,null,null,null,{"$error":"#N/A"}]
[null,null,{"$f":"VLOOKUP($B2138,'Ad Week Dates'!$A:$E,4,FALSE)","v":{"$error":"#N/A"}},{"$f":"VLOOKUP($B2138,'Ad Week Dates'!$A:$E,2,FALSE)","v":{"$error":"#N/A"}},{"$f":"VLOOKUP($B2138,'Ad Week Dates'!$A:$E,3,FALSE)","v":{"$error":"#N/A"}},null,null,null,null,null,null,{"$error":"#N/A"}]
[null,null,{"$f":"VLOOKUP($B2139,'Ad Week Dates'!$A:$E,4,FALSE)","v":{"$error":"#N/A"}},{"$f":"VLOOKUP($B2139,'Ad Week Dates'!$A:$E,2,FALSE)","v":{"$error":"#N/A"}},{"$f":"VLOOKUP($B2139,'Ad Week Dates'!$A:$E,3,FALSE)","v":{"$error":"#N/A"}},null,null,null,null,null,null,{"$error":"#N/A"}]
[null,null,{"$f":"VLOOKUP($B2140,'Ad Week Dates'!$A:$E,4,FALSE)","v":{"$error":"#N/A"}},{"$f":"VLOOKUP($B2140,'Ad Week Dates'!$A:$E,2,FALSE)","v":{"$error":"#N/A"}},{"$f":"VLOOKUP($B2140,'Ad Week Dates'!$A:$E,3,FALSE)","v":{"$error":"#N/A"}},null,null,null,null,null,null,{"$error":"#N/A"}]
[null,null,{"$f":"VLOOKUP($B2141,'Ad Week Dates'!$A:$E,4,FALSE)","v":{"$error":"#N/A"}},{"$f":"VLOOKUP($B2141,'Ad Week Dates'!$A:$E,2,FALSE)","v":{"$error":"#N/A"}},{"$f":"VLOOKUP($B2141,'Ad Week Dates'!$A:$E,3,FALSE)","v":{"$error":"#N/A"}},null,null,null,null,null,null,{"$error":"#N/A"}]
[null,null,{"$f":"VLOOKUP($B2142,'Ad Week Dates'!$A:$E,4,FALSE)","v":{"$error":"#N/A"}},{"$f":"VLOOKUP($B2142,'Ad Week Dates'!$A:$E,2,FALSE)","v":{"$error":"#N/A"}},{"$f":"VLOOKUP($B2142,'Ad Week Dates'!$A:$E,3,FALSE)","v":{"$error":"#N/A"}},null,null,null,null,null,null,{"$error":"#N/A"}]
[null,null,{"$f":"VLOOKUP($B2143,'Ad Week Dates'!$A:$E,4,FALSE)","v":{"$error":"#N/A"}},{"$f":"VLOOKUP($B2143,'Ad Week Dates'!$A:$E,2,FALSE)","v":{"$error":"#N/A"}},{"$f":"VLOOKUP($B2143,'Ad Week Dates'!$A:$E,3,FALSE)","v":{"$error":"#N/A"}},null,null,null,null,null,null,{"$error":"#N/A"}]
[null,null,{"$f":"VLOOKUP($B2144,'Ad Week Dates'!$A:$E,4,FALSE)","v":{"$error":"#N/A"}},{"$f":"VLOOKUP($B2144,'Ad Week Dates'!$A:$E,2,FALSE)","v":{"$error":"#N/A"}},{"$f":"VLOOKUP($B2144,'Ad Week Dates'!$A:$E,3,FALSE)","v":{"$error":"#N/A"}},null,null,null,null,null,null,{"$error":"#N/A"}]
[null,null,{"$f":"VLOOKUP($B2145,'Ad Week Dates'!$A:$E,4,FALSE)","v":{"$error":"#N/A"}},{"$f":"VLOOKUP($B2145,'Ad Week Dates'!$A:$E,2,FALSE)","v":{"$error":"#N/A"}},{"$f":"VLOOKUP($B2145,'Ad Week Dates'!$A:$E,3,FALSE)","v":{"$error":"#N/A"}},null,null,null,null,null,null,{"$error":"#N/A"}]
[null,null,{"$f":"VLOOKUP($B2146,'Ad Week Dates'!$A:$E,4,FALSE)","v":{"$error":"#N/A"}},{"$f":"VLOOKUP($B2146,'Ad Week Dates'!$A:$E,2,FALSE)","v":{"$error":"#N/A"}},{"$f":"VLOOKUP($B2146,'Ad Week Dates'!$A:$E,3,FALSE)","v":{"$error":"#N/A"}},null,null,null,null,null,null,{"$error":"#N/A"}]
[null,null,{"$f":"VLOOKUP($B2147,'Ad Week Dates'!$A:$E,4,FALSE)","v":{"$error":"#N/A"}},{"$f":"VLOOKUP($B2147,'Ad Week Dates'!$A:$E,2,FALSE)","v":{"$error":"#N/A"}},{"$f":"VLOOKUP($B2147,'Ad Week Dates'!$A:$E,3,FALSE)","v":{"$error":"#N/A"}},null,null,null,null,null,null,{"$error":"#N/A"}]
[null,null,{"$f":"VLOOKUP($B2148,'Ad Week Dates'!$A:$E,4,FALSE)","v":{"$error":"#N/A"}},{"$f":"VLOOKUP($B2148,'Ad Week Dates'!$A:$E,2,FALSE)","v":{"$error":"#N/A"}},{"$f":"VLOOKUP($B2148,'Ad Week Dates'!$A:$E,3,FALSE)","v":{"$error":"#N/A"}},null,null,null,null,null,null,{"$error":"#N/A"}]
[null,null,{"$f":"VLOOKUP($B2149,'Ad Week Dates'!$A:$E,4,FALSE)","v":{"$error":"#N/A"}},{"$f":"VLOOKUP($B2149,'Ad Week Dates'!$A:$E,2,FALSE)","v":{"$error":"#N/A"}},{"$f":"VLOOKUP($B2149,'Ad Week Dates'!$A:$E,3,FALSE)","v":{"$error":"#N/A"}},null,null,null,null,null,null,{"$error":"#N/A"}]
[null,null,{"$f":"VLOOKUP($B2150,'Ad Week Dates'!$A:$E,4,FALSE)","v":{"$error":"#N/A"}},{"$f":"VLOOKUP($B2150,'Ad Week Dates'!$A:$E,2,FALSE)","v":{"$error":"#N/A"}},{"$f":"VLOOKUP($B2150,'Ad Week Dates'!$A:$E,3,FALSE)","v":{"$error":"#N/A"}},null,null,null,null,null,null,{"$error":"#N/A"}]
[null,null,{"$f":"VLOOKUP($B2151,'Ad Week Dates'!$A:$E,4,FALSE)","v":{"$error":"#N/A"}},{"$f":"VLOOKUP($B2151,'Ad Week Dates'!$A:$E,2,FALSE)","v":{"$error":"#N/A"}},{"$f":"VLOOKUP($B2151,'Ad Week Dates'!$A:$E,3,FALSE)","v":{"$error":"#N/A"}},null,null,null,null,null,null,{"$error":"#N/A"}]
[null,null,{"$f":"VLOOKUP($B2152,'Ad Week Dates'!$A:$E,4,FALSE)","v":{"$error":"#N/A"}},{"$f":"VLOOKUP($B2152,'Ad Week Dates'!$A:$E,2,FALSE)","v":{"$error":"#N/A"}},{"$f":"VLOOKUP($B2152,'Ad Week Dates'!$A:$E,3,FALSE)","v":{"$error":"#N/A"}},null,null,null,null,null,null,{"$error":"#N/A"}]
[null,null,{"$f":"VLOOKUP($B2153,'Ad Week Dates'!$A:$E,4,FALSE)","v":{"$error":"#N/A"}},{"$f":"VLOOKUP($B2153,'Ad Week Dates'!$A:$E,2,FALSE)","v":{"$error":"#N/A"}},{"$f":"VLOOKUP($B2153,'Ad Week Dates'!$A:$E,3,FALSE)","v":{"$error":"#N/A"}},null,null,null,null,null,null,{"$error":"#N/A"}]
[null,null,{"$f":"VLOOKUP($B2154,'Ad Week Dates'!$A:$E,4,FALSE)","v":{"$error":"#N/A"}},{"$f":"VLOOKUP($B2154,'Ad Week Dates'!$A:$E,2,FALSE)","v":{"$error":"#N/A"}},{"$f":"VLOOKUP($B2154,'Ad Week Dates'!$A:$E,3,FALSE)","v":{"$error":"#N/A"}},null,null,null,null,null,null,{"$error":"#N/A"}]
[null,null,{"$f":"VLOOKUP($B2155,'Ad Week Dates'!$A:$E,4,FALSE)","v":{"$error":"#N/A"}},{"$f":"VLOOKUP($B2155,'Ad Week Dates'!$A:$E,2,FALSE)","v":{"$error":"#N/A"}},{"$f":"VLOOKUP($B2155,'Ad Week Dates'!$A:$E,3,FALSE)","v":{"$error":"#N/A"}},null,null,null,null,null,null,{"$error":"#N/A"}]
[null,null,{"$f":"VLOOKUP($B2156,'Ad Week Dates'!$A:$E,4,FALSE)","v":{"$error":"#N/A"}},{"$f":"VLOOKUP($B2156,'Ad Week Dates'!$A:$E,2,FALSE)","v":{"$error":"#N/A"}},{"$f":"VLOOKUP($B2156,'Ad Week Dates'!$A:$E,3,FALSE)","v":{"$error":"#N/A"}},null,null,null,null,null,null,{"$error":"#N/A"}]
[null,null,{"$f":"VLOOKUP($B2157,'Ad Week Dates'!$A:$E,4,FALSE)","v":{"$error":"#N/A"}},{"$f":"VLOOKUP($B2157,'Ad Week Dates'!$A:$E,2,FALSE)","v":{"$error":"#N/A"}},{"$f":"VLOOKUP($B2157,'Ad Week Dates'!$A:$E,3,FALSE)","v":{"$error":"#N/A"}},null,null,null,null,null,null,{"$error":"#N/A"}]
[null,null,{"$f":"VLOOKUP($B2158,'Ad Week Dates'!$A:$E,4,FALSE)","v":{"$error":"#N/A"}},{"$f":"VLOOKUP($B2158,'Ad Week Dates'!$A:$E,2,FALSE)","v":{"$error":"#N/A"}},{"$f":"VLOOKUP($B2158,'Ad Week Dates'!$A:$E,3,FALSE)","v":{"$error":"#N/A"}},null,null,null,null,null,null,{"$error":"#N/A"}]
[null,null,{"$f":"VLOOKUP($B2159,'Ad Week Dates'!$A:$E,4,FALSE)","v":{"$error":"#N/A"}},{"$f":"VLOOKUP($B2159,'Ad Week Dates'!$A:$E,2,FALSE)","v":{"$error":"#N/A"}},{"$f":"VLOOKUP($B2159,'Ad Week Dates'!$A:$E,3,FALSE)","v":{"$error":"#N/A"}},null,null,null,null,null,null,{"$error":"#N/A"}]
[null,null,{"$f":"VLOOKUP($B2160,'Ad Week Dates'!$A:$E,4,FALSE)","v":{"$error":"#N/A"}},{"$f":"VLOOKUP($B2160,'Ad Week Dates'!$A:$E,2,FALSE)","v":{"$error":"#N/A"}},{"$f":"VLOOKUP($B2160,'Ad Week Dates'!$A:$E,3,FALSE)","v":{"$error":"#N/A"}},null,null,null,null,null,null,{"$error":"#N/A"}]
[null,null,{"$f":"VLOOKUP($B2161,'Ad Week Dates'!$A:$E,4,FALSE)","v":{"$error":"#N/A"}},{"$f":"VLOOKUP($B2161,'Ad Week Dates'!$A:$E,2,FALSE)","v":{"$error":"#N/A"}},{"$f":"VLOOKUP($B2161,'Ad Week Dates'!$A:$E,3,FALSE)","v":{"$error":"#N/A"}},null,null,null,null,null,null,{"$error":"#N/A"}]
[null,null,{"$f":"VLOOKUP($B2162,'Ad Week Dates'!$A:$E,4,FALSE)","v":{"$error":"#N/A"}},{"$f":"VLOOKUP($B2162,'Ad Week Dates'!$A:$E,2,FALSE)","v":{"$error":"#N/A"}},{"$f":"VLOOKUP($B2162,'Ad Week Dates'!$A:$E,3,FALSE)","v":{"$error":"#N/A"}},null,null,null,null,null,null,{"$error":"#N/A"}]
[null,null,{"$f":"VLOOKUP($B2163,'Ad Week Dates'!$A:$E,4,FALSE)","v":{"$error":"#N/A"}},{"$f":"VLOOKUP($B2163,'Ad Week Dates'!$A:$E,2,FALSE)","v":{"$error":"#N/A"}},{"$f":"VLOOKUP($B2163,'Ad Week Dates'!$A:$E,3,FALSE)","v":{"$error":"#N/A"}},null,null,null,null,null,null,{"$error":"#N/A"}]
[null,null,{"$f":"VLOOKUP($B2164,'Ad Week Dates'!$A:$E,4,FALSE)","v":{"$error":"#N/A"}},{"$f":"VLOOKUP($B2164,'Ad Week Dates'!$A:$E,2,FALSE)","v":{"$error":"#N/A"}},{"$f":"VLOOKUP($B2164,'Ad Week Dates'!$A:$E,3,FALSE)","v":{"$error":"#N/A"}},null,null,null,null,null,null,{"$error":"#N/A"}]
[null,null,{"$f":"VLOOKUP($B2165,'Ad Week Dates'!$A:$E,4,FALSE)","v":{"$error":"#N/A"}},{"$f":"VLOOKUP($B2165,'Ad Week Dates'!$A:$E,2,FALSE)","v":{"$error":"#N/A"}},{"$f":"VLOOKUP($B2165,'Ad Week Dates'!$A:$E,3,FALSE)","v":{"$error":"#N/A"}},null,null,null,null,null,null,{"$error":"#N/A"}]
[null,null,{"$f":"VLOOKUP($B2166,'Ad Week Dates'!$A:$E,4,FALSE)","v":{"$error":"#N/A"}},{"$f":"VLOOKUP($B2166,'Ad Week Dates'!$A:$E,2,FALSE)","v":{"$error":"#N/A"}},{"$f":"VLOOKUP($B2166,'Ad Week Dates'!$A:$E,3,FALSE)","v":{"$error":"#N/A"}},null,null,null,null,null,null,{"$error":"#N/A"}]
[null,null,{"$f":"VLOOKUP($B2167,'Ad Week Dates'!$A:$E,4,FALSE)","v":{"$error":"#N/A"}},{"$f":"VLOOKUP($B2167,'Ad Week Dates'!$A:$E,2,FALSE)","v":{"$error":"#N/A"}},{"$f":"VLOOKUP($B2167,'Ad Week Dates'!$A:$E,3,FALSE)","v":{"$error":"#N/A"}},null,null,null,null,null,null,{"$error":"#N/A"}]
[null,null,{"$f":"VLOOKUP($B2168,'Ad Week Dates'!$A:$E,4,FALSE)","v":{"$error":"#N/A"}},{"$f":"VLOOKUP($B2168,'Ad Week Dates'!$A:$E,2,FALSE)","v":{"$error":"#N/A"}},{"$f":"VLOOKUP($B2168,'Ad Week Dates'!$A:$E,3,FALSE)","v":{"$error":"#N/A"}},null,null,null,null,null,null,{"$error":"#N/A"}]
[null,null,{"$f":"VLOOKUP($B2169,'Ad Week Dates'!$A:$E,4,FALSE)","v":{"$error":"#N/A"}},{"$f":"VLOOKUP($B2169,'Ad Week Dates'!$A:$E,2,FALSE)","v":{"$error":"#N/A"}},{"$f":"VLOOKUP($B2169,'Ad Week Dates'!$A:$E,3,FALSE)","v":{"$error":"#N/A"}},null,null,null,null,null,null,{"$error":"#N/A"}]
[null,null,{"$f":"VLOOKUP($B2170,'Ad Week Dates'!$A:$E,4,FALSE)","v":{"$error":"#N/A"}},{"$f":"VLOOKUP($B2170,'Ad Week Dates'!$A:$E,2,FALSE)","v":{"$error":"#N/A"}},{"$f":"VLOOKUP($B2170,'Ad Week Dates'!$A:$E,3,FALSE)","v":{"$error":"#N/A"}},null,null,null,null,null,null,{"$error":"#N/A"}]
[null,null,{"$f":"VLOOKUP($B2171,'Ad Week Dates'!$A:$E,4,FALSE)","v":{"$error":"#N/A"}},{"$f":"VLOOKUP($B2171,'Ad Week Dates'!$A:$E,2,FALSE)","v":{"$error":"#N/A"}},{"$f":"VLOOKUP($B2171,'Ad Week Dates'!$A:$E,3,FALSE)","v":{"$error":"#N/A"}},null,null,null,null,null,null,{"$error":"#N/A"}]
[null,null,{"$f":"VLOOKUP($B2172,'Ad Week Dates'!$A:$E,4,FALSE)","v":{"$error":"#N/A"}},{"$f":"VLOOKUP($B2172,'Ad Week Dates'!$A:$E,2,FALSE)","v":{"$error":"#N/A"}},{"$f":"VLOOKUP($B2172,'Ad Week Dates'!$A:$E,3,FALSE)","v":{"$error":"#N/A"}},null,null,null,null,null,null,{"$error":"#N/A"}]
[null,null,{"$f":"VLOOKUP($B2173,'Ad Week Dates'!$A:$E,4,FALSE)","v":{"$error":"#N/A"}},{"$f":"VLOOKUP($B2173,'Ad Week Dates'!$A:$E,2,FALSE)","v":{"$error":"#N/A"}},{"$f":"VLOOKUP($B2173,'Ad Week Dates'!$A:$E,3,FALSE)","v":{"$error":"#N/A"}},null,null,null,null,null,null,{"$error":"#N/A"}]
[null,null,{"$f":"VLOOKUP($B2174,'Ad Week Dates'!$A:$E,4,FALSE)","v":{"$error":"#N/A"}},{"$f":"VLOOKUP($B2174,'Ad Week Dates'!$A:$E,2,FALSE)","v":{"$error":"#N/A"}},{"$f":"VLOOKUP($B2174,'Ad Week Dates'!$A:$E,3,FALSE)","v":{"$error":"#N/A"}},null,null,null,null,null,null,{"$error":"#N/A"}]
[null,null,{"$f":"VLOOKUP($B2175,'Ad Week Dates'!$A:$E,4,FALSE)","v":{"$error":"#N/A"}},{"$f":"VLOOKUP($B2175,'Ad Week Dates'!$A:$E,2,FALSE)","v":{"$error":"#N/A"}},{"$f":"VLOOKUP($B2175,'Ad Week Dates'!$A:$E,3,FALSE)","v":{"$error":"#N/A"}},null,null,null,null,null,null,{"$error":"#N/A"}]
[null,null,{"$f":"VLOOKUP($B2176,'Ad Week Dates'!$A:$E,4,FALSE)","v":{"$error":"#N/A"}},{"$f":"VLOOKUP($B2176,'Ad Week Dates'!$A:$E,2,FALSE)","v":{"$error":"#N/A"}},{"$f":"VLOOKUP($B2176,'Ad Week Dates'!$A:$E,3,FALSE)","v":{"$error":"#N/A"}},null,null,null,null,null,null,{"$error":"#N/A"}]
[null,null,{"$f":"VLOOKUP($B2177,'Ad Week Dates'!$A:$E,4,FALSE)","v":{"$error":"#N/A"}},{"$f":"VLOOKUP($B2177,'Ad Week Dates'!$A:$E,2,FALSE)","v":{"$error":"#N/A"}},{"$f":"VLOOKUP($B2177,'Ad Week Dates'!$A:$E,3,FALSE)","v":{"$error":"#N/A"}},null,null,null,null,null,null,{"$error":"#N/A"}]
[null,null,{"$f":"VLOOKUP($B2178,'Ad Week Dates'!$A:$E,4,FALSE)","v":{"$error":"#N/A"}},{"$f":"VLOOKUP($B2178,'Ad Week Dates'!$A:$E,2,FALSE)","v":{"$error":"#N/A"}},{"$f":"VLOOKUP($B2178,'Ad Week Dates'!$A:$E,3,FALSE)","v":{"$error":"#N/A"}},null,null,null,null,null,null,{"$error":"#N/A"}]
[null,null,{"$f":"VLOOKUP($B2179,'Ad Week Dates'!$A:$E,4,FALSE)","v":{"$error":"#N/A"}},{"$f":"VLOOKUP($B2179,'Ad Week Dates'!$A:$E,2,FALSE)","v":{"$error":"#N/A"}},{"$f":"VLOOKUP($B2179,'Ad Week Dates'!$A:$E,3,FALSE)","v":{"$error":"#N/A"}},null,null,null,null,null,null,{"$error":"#N/A"}]
[null,null,{"$f":"VLOOKUP($B2180,'Ad Week Dates'!$A:$E,4,FALSE)","v":{"$error":"#N/A"}},{"$f":"VLOOKUP($B2180,'Ad Week Dates'!$A:$E,2,FALSE)","v":{"$error":"#N/A"}},{"$f":"VLOOKUP($B2180,'Ad Week Dates'!$A:$E,3,FALSE)","v":{"$error":"#N/A"}},null,null,null,null,null,null,{"$error":"#N/A"}]
[null,null,{"$f":"VLOOKUP($B2181,'Ad Week Dates'!$A:$E,4,FALSE)","v":{"$error":"#N/A"}},{"$f":"VLOOKUP($B2181,'Ad Week Dates'!$A:$E,2,FALSE)","v":{"$error":"#N/A"}},{"$f":"VLOOKUP($B2181,'Ad Week Dates'!$A:$E,3,FALSE)","v":{"$error":"#N/A"}},null,null,null,null,null,null,{"$error":"#N/A"}]
[null,null,{"$f":"VLOOKUP($B2182,'Ad Week Dates'!$A:$E,4,FALSE)","v":{"$error":"#N/A"}},{"$f":"VLOOKUP($B2182,'Ad Week Dates'!$A:$E,2,FALSE)","v":{"$error":"#N/A"}},{"$f":"VLOOKUP($B2182,'Ad Week Dates'!$A:$E,3,FALSE)","v":{"$error":"#N/A"}},null,null,null,null,null,null,{"$f":"IF(ISNUMBER(J2182), J2182 - K2182, VALUE(_xlfn.TEXTBEFORE(J2182, \"-\")) - VALUE(_xlfn.TEXTBEFORE(K2182, \"-\")))","v":{"$error":"#N/A"}}]
[null,null,{"$f":"VLOOKUP($B2183,'Ad Week Dates'!$A:$E,4,FALSE)","v":{"$error":"#N/A"}},{"$f":"VLOOKUP($B2183,'Ad Week Dates'!$A:$E,2,FALSE)","v":{"$error":"#N/A"}},{"$f":"VLOOKUP($B2183,'Ad Week Dates'!$A:$E,3,FALSE)","v":{"$error":"#N/A"}},null,null,null,null,null,null,{"$error":"#N/A"}]
[null,null,{"$f":"VLOOKUP($B2184,'Ad Week Dates'!$A:$E,4,FALSE)","v":{"$error":"#N/A"}},{"$f":"VLOOKUP($B2184,'Ad Week Dates'!$A:$E,2,FALSE)","v":{"$error":"#N/A"}},{"$f":"VLOOKUP($B2184,'Ad Week Dates'!$A:$E,3,FALSE)","v":{"$error":"#N/A"}},null,null,null,null,null,null,{"$error":"#N/A"}]
[null,null,{"$f":"VLOOKUP($B2185,'Ad Week Dates'!$A:$E,4,FALSE)","v":{"$error":"#N/A"}},{"$f":"VLOOKUP($B2185,'Ad Week Dates'!$A:$E,2,FALSE)","v":{"$error":"#N/A"}},{"$f":"VLOOKUP($B2185,'Ad Week Dates'!$A:$E,3,FALSE)","v":{"$error":"#N/A"}},null,null,null,null,null,null,{"$error":"#N/A"}]
[null,null,{"$f":"VLOOKUP($B2186,'Ad Week Dates'!$A:$E,4,FALSE)","v":{"$error":"#N/A"}},{"$f":"VLOOKUP($B2186,'Ad Week Dates'!$A:$E,2,FALSE)","v":{"$error":"#N/A"}},{"$f":"VLOOKUP($B2186,'Ad Week Dates'!$A:$E,3,FALSE)","v":{"$error":"#N/A"}},null,null,null,null,null,null,{"$error":"#N/A"}]
[null,null,{"$f":"VLOOKUP($B2187,'Ad Week Dates'!$A:$E,4,FALSE)","v":{"$error":"#N/A"}},{"$f":"VLOOKUP($B2187,'Ad Week Dates'!$A:$E,2,FALSE)","v":{"$error":"#N/A"}},{"$f":"VLOOKUP($B2187,'Ad Week Dates'!$A:$E,3,FALSE)","v":{"$error":"#N/A"}},null,null,null,null,null,null,{"$error":"#N/A"}]
[null,null,{"$f":"VLOOKUP($B2188,'Ad Week Dates'!$A:$E,4,FALSE)","v":{"$error":"#N/A"}},{"$f":"VLOOKUP($B2188,'Ad Week Dates'!$A:$E,2,FALSE)","v":{"$error":"#N/A"}},{"$f":"VLOOKUP($B2188,'Ad Week Dates'!$A:$E,3,FALSE)","v":{"$error":"#N/A"}},null,null,null,null,null,null,{"$error":"#N/A"}]
[null,null,{"$f":"VLOOKUP($B2189,'Ad Week Dates'!$A:$E,4,FALSE)","v":{"$error":"#N/A"}},{"$f":"VLOOKUP($B2189,'Ad Week Dates'!$A:$E,2,FALSE)","v":{"$error":"#N/A"}},{"$f":"VLOOKUP($B2189,'Ad Week Dates'!$A:$E,3,FALSE)","v":{"$error":"#N/A"}},null,null,null,null,null,null,{"$error":"#N/A"}]
[null,null,{"$f":"VLOOKUP($B2190,'Ad Week Dates'!$A:$E,4,FALSE)","v":{"$error":"#N/A"}},{"$f":"VLOOKUP($B2190,'Ad Week Dates'!$A:$E,2,FALSE)","v":{"$error":"#N/A"}},{"$f":"VLOOKUP($B2190,'Ad Week Dates'!$A:$E,3,FALSE)","v":{"$error":"#N/A"}},null,null,null,null,null,null,{"$error":"#N/A"}]
[null,null,{"$f":"VLOOKUP($B2191,'Ad Week Dates'!$A:$E,4,FALSE)","v":{"$error":"#N/A"}},{"$f":"VLOOKUP($B2191,'Ad Week Dates'!$A:$E,2,FALSE)","v":{"$error":"#N/A"}},{"$f":"VLOOKUP($B2191,'Ad Week Dates'!$A:$E,3,FALSE)","v":{"$error":"#N/A"}},null,null,null,null,null,null,{"$error":"#N/A"}]
[null,null,{"$f":"VLOOKUP($B2192,'Ad Week Dates'!$A:$E,4,FALSE)","v":{"$error":"#N/A"}},{"$f":"VLOOKUP($B2192,'Ad Week Dates'!$A:$E,2,FALSE)","v":{"$error":"#N/A"}},{"$f":"VLOOKUP($B2192,'Ad Week Dates'!$A:$E,3,FALSE)","v":{"$error":"#N/A"}},null,null,null,null,null,null,{"$error":"#N/A"}]
[null,null,{"$f":"VLOOKUP($B2193,'Ad Week Dates'!$A:$E,4,FALSE)","v":{"$error":"#N/A"}},{"$f":"VLOOKUP($B2193,'Ad Week Dates'!$A:$E,2,FALSE)","v":{"$error":"#N/A"}},{"$f":"VLOOKUP($B2193,'Ad Week Dates'!$A:$E,3,FALSE)","v":{"$error":"#N/A"}},null,null,null,null,null,null,{"$error":"#N/A"}]
[null,null,{"$f":"VLOOKUP($B2194,'Ad Week Dates'!$A:$E,4,FALSE)","v":{"$error":"#N/A"}},{"$f":"VLOOKUP($B2194,'Ad Week Dates'!$A:$E,2,FALSE)","v":{"$error":"#N/A"}},{"$f":"VLOOKUP($B2194,'Ad Week Dates'!$A:$E,3,FALSE)","v":{"$error":"#N/A"}},null,null,null,null,null,null,{"$error":"#N/A"}]
[null,null,{"$f":"VLOOKUP($B2195,'Ad Week Dates'!$A:$E,4,FALSE)","v":{"$error":"#N/A"}},{"$f":"VLOOKUP($B2195,'Ad Week Dates'!$A:$E,2,FALSE)","v":{"$error":"#N/A"}},{"$f":"VLOOKUP($B2195,'Ad Week Dates'!$A:$E,3,FALSE)","v":{"$error":"#N/A"}},null,null,null,null,null,null,{"$error":"#N/A"}]
[null,null,{"$f":"VLOOKUP($B2196,'Ad Week Dates'!$A:$E,4,FALSE)","v":{"$error":"#N/A"}},{"$f":"VLOOKUP($B2196,'Ad Week Dates'!$A:$E,2,FALSE)","v":{"$error":"#N/A"}},{"$f":"VLOOKUP($B2196,'Ad Week Dates'!$A:$E,3,FALSE)","v":{"$error":"#N/A"}},null,null,null,null,null,null,{"$error":"#N/A"}]
[null,null,{"$f":"VLOOKUP($B2197,'Ad Week Dates'!$A:$E,4,FALSE)","v":{"$error":"#N/A"}},{"$f":"VLOOKUP($B2197,'Ad Week Dates'!$A:$E,2,FALSE)","v":{"$error":"#N/A"}},{"$f":"VLOOKUP($B2197,'Ad Week Dates'!$A:$E,3,FALSE)","v":{"$error":"#N/A"}},null,null,null,null,null,null,{"$error":"#N/A"}]
[null,null,{"$f":"VLOOKUP($B2198,'Ad Week Dates'!$A:$E,4,FALSE)","v":{"$error":"#N/A"}},{"$f":"VLOOKUP($B2198,'Ad Week Dates'!$A:$E,2,FALSE)","v":{"$error":"#N/A"}},{"$f":"VLOOKUP($B2198,'Ad Week Dates'!$A:$E,3,FALSE)","v":{"$error":"#N/A"}},null,null,null,null,null,null,{"$error":"#N/A"}]
[null,null,{"$f":"VLOOKUP($B2199,'Ad Week Dates'!$A:$E,4,FALSE)","v":{"$error":"#N/A"}},{"$f":"VLOOKUP($B2199,'Ad Week Dates'!$A:$E,2,FALSE)","v":{"$error":"#N/A"}},{"$f":"VLOOKUP($B2199,'Ad Week Dates'!$A:$E,3,FALSE)","v":{"$error":"#N/A"}},null,null,null,null,null,null,{"$error":"#N/A"}]
[null,null,{"$f":"VLOOKUP($B2200,'Ad Week Dates'!$A:$E,4,FALSE)","v":{"$error":"#N/A"}},{"$f":"VLOOKUP($B2200,'Ad Week Dates'!$A:$E,2,FALSE)","v":{"$error":"#N/A"}},{"$f":"VLOOKUP($B2200,'Ad Week Dates'!$A:$E,3,FALSE)","v":{"$error":"#N/A"}},null,null,null,null,null,null,{"$error":"#N/A"}]
[null,null,{"$f":"VLOOKUP($B2201,'Ad Week Dates'!$A:$E,4,FALSE)","v":{"$error":"#N/A"}},{"$f":"VLOOKUP($B2201,'Ad Week Dates'!$A:$E,2,FALSE)","v":{"$error":"#N/A"}},{"$f":"VLOOKUP($B2201,'Ad Week Dates'!$A:$E,3,FALSE)","v":{"$error":"#N/A"}},null,null,null,null,null,null,{"$error":"#N/A"}]
[null,null,{"$f":"VLOOKUP($B2202,'Ad Week Dates'!$A:$E,4,FALSE)","v":{"$error":"#N/A"}},{"$f":"VLOOKUP($B2202,'Ad Week Dates'!$A:$E,2,FALSE)","v":{"$error":"#N/A"}},{"$f":"VLOOKUP($B2202,'Ad Week Dates'!$A:$E,3,FALSE)","v":{"$error":"#N/A"}},null,null,null,null,null,null,{"$error":"#N/A"}]
[null,null,{"$f":"VLOOKUP($B2203,'Ad Week Dates'!$A:$E,4,FALSE)","v":{"$error":"#N/A"}},{"$f":"VLOOKUP($B2203,'Ad Week Dates'!$A:$E,2,FALSE)","v":{"$error":"#N/A"}},{"$f":"VLOOKUP($B2203,'Ad Week Dates'!$A:$E,3,FALSE)","v":{"$error":"#N/A"}},null,null,null,null,null,null,{"$error":"#N/A"}]
[null,null,{"$f":"VLOOKUP($B2204,'Ad Week Dates'!$A:$E,4,FALSE)","v":{"$error":"#N/A"}},{"$f":"VLOOKUP($B2204,'Ad Week Dates'!$A:$E,2,FALSE)","v":{"$error":"#N/A"}},{"$f":"VLOOKUP($B2204,'Ad Week Dates'!$A:$E,3,FALSE)","v":{"$error":"#N/A"}},null,null,null,null,null,null,{"$error":"#N/A"}]
[null,null,{"$f":"VLOOKUP($B2205,'Ad Week Dates'!$A:$E,4,FALSE)","v":{"$error":"#N/A"}},{"$f":"VLOOKUP($B2205,'Ad Week Dates'!$A:$E,2,FALSE)","v":{"$error":"#N/A"}},{"$f":"VLOOKUP($B2205,'Ad Week Dates'!$A:$E,3,FALSE)","v":{"$error":"#N/A"}},null,null,null,null,null,null,{"$error":"#N/A"}]
[null,null,{"$f":"VLOOKUP($B2206,'Ad Week Dates'!$A:$E,4,FALSE)","v":{"$error":"#N/A"}},{"$f":"VLOOKUP($B2206,'Ad Week Dates'!$A:$E,2,FALSE)","v":{"$error":"#N/A"}},{"$f":"VLOOKUP($B2206,'Ad Week Dates'!$A:$E,3,FALSE)","v":{"$error":"#N/A"}},null,null,null,null,null,null,{"$error":"#N/A"}]
[null,null,{"$f":"VLOOKUP($B2207,'Ad Week Dates'!$A:$E,4,FALSE)","v":{"$error":"#N/A"}},{"$f":"VLOOKUP($B2207,'Ad Week Dates'!$A:$E,2,FALSE)","v":{"$error":"#N/A"}},{"$f":"VLOOKUP($B2207,'Ad Week Dates'!$A:$E,3,FALSE)","v":{"$error":"#N/A"}},null,null,null,null,null,null,{"$error":"#N/A"}]
[null,null,{"$f":"VLOOKUP($B2208,'Ad Week Dates'!$A:$E,4,FALSE)","v":{"$error":"#N/A"}},{"$f":"VLOOKUP($B2208,'Ad Week Dates'!$A:$E,2,FALSE)","v":{"$error":"#N/A"}},{"$f":"VLOOKUP($B2208,'Ad Week Dates'!$A:$E,3,FALSE)","v":{"$error":"#N/A"}},null,null,null,null,null,null,{"$error":"#N/A"}]
[null,null,{"$f":"VLOOKUP($B2209,'Ad Week Dates'!$A:$E,4,FALSE)","v":{"$error":"#N/A"}},{"$f":"VLOOKUP($B2209,'Ad Week Dates'!$A:$E,2,FALSE)","v":{"$error":"#N/A"}},{"$f":"VLOOKUP($B2209,'Ad Week Dates'!$A:$E,3,FALSE)","v":{"$error":"#N/A"}},null,null,null,null,null,null,{"$error":"#N/A"}]
[null,null,{"$f":"VLOOKUP($B2210,'Ad Week Dates'!$A:$E,4,FALSE)","v":{"$error":"#N/A"}},{"$f":"VLOOKUP($B2210,'Ad Week Dates'!$A:$E,2,FALSE)","v":{"$error":"#N/A"}},{"$f":"VLOOKUP($B2210,'Ad Week Dates'!$A:$E,3,FALSE)","v":{"$error":"#N/A"}},null,null,null,null,null,null,{"$error":"#N/A"}]
[null,null,{"$f":"VLOOKUP($B2211,'Ad Week Dates'!$A:$E,4,FALSE)","v":{"$error":"#N/A"}},{"$f":"VLOOKUP($B2211,'Ad Week Dates'!$A:$E,2,FALSE)","v":{"$error":"#N/A"}},{"$f":"VLOOKUP($B2211,'Ad Week Dates'!$A:$E,3,FALSE)","v":{"$error":"#N/A"}},null,null,null,null,null,null,{"$error":"#N/A"}]
[null,null,{"$f":"VLOOKUP($B2212,'Ad Week Dates'!$A:$E,4,FALSE)","v":{"$error":"#N/A"}},{"$f":"VLOOKUP($B2212,'Ad Week Dates'!$A:$E,2,FALSE)","v":{"$error":"#N/A"}},{"$f":"VLOOKUP($B2212,'Ad Week Dates'!$A:$E,3,FALSE)","v":{"$error":"#N/A"}},null,null,null,null,null,null,{"$error":"#N/A"}]
[null,null,{"$f":"VLOOKUP($B2213,'Ad Week Dates'!$A:$E,4,FALSE)","v":{"$error":"#N/A"}},{"$f":"VLOOKUP($B2213,'Ad Week Dates'!$A:$E,2,FALSE)","v":{"$error":"#N/A"}},{"$f":"VLOOKUP($B2213,'Ad Week Dates'!$A:$E,3,FALSE)","v":{"$error":"#N/A"}},null,null,null,null,null,null,{"$error":"#N/A"}]
[null,null,{"$f":"VLOOKUP($B2214,'Ad Week Dates'!$A:$E,4,FALSE)","v":{"$error":"#N/A"}},{"$f":"VLOOKUP($B2214,'Ad Week Dates'!$A:$E,2,FALSE)","v":{"$error":"#N/A"}},{"$f":"VLOOKUP($B2214,'Ad Week Dates'!$A:$E,3,FALSE)","v":{"$error":"#N/A"}},null,null,null,null,null,null,{"$error":"#N/A"}]
[null,null,{"$f":"VLOOKUP($B2215,'Ad Week Dates'!$A:$E,4,FALSE)","v":{"$error":"#N/A"}},{"$f":"VLOOKUP($B2215,'Ad Week Dates'!$A:$E,2,FALSE)","v":{"$error":"#N/A"}},{"$f":"VLOOKUP($B2215,'Ad Week Dates'!$A:$E,3,FALSE)","v":{"$error":"#N/A"}},null,null,null,null,null,null,{"$error":"#N/A"}]
[null,null,{"$f":"VLOOKUP($B2216,'Ad Week Dates'!$A:$E,4,FALSE)","v":{"$error":"#N/A"}},{"$f":"VLOOKUP($B2216,'Ad Week Dates'!$A:$E,2,FALSE)","v":{"$error":"#N/A"}},{"$f":"VLOOKUP($B2216,'Ad Week Dates'!$A:$E,3,FALSE)","v":{"$error":"#N/A"}},null,null,null,null,null,null,{"$error":"#N/A"}]
[null,null,{"$f":"VLOOKUP($B2217,'Ad Week Dates'!$A:$E,4,FALSE)","v":{"$error":"#N/A"}},{"$f":"VLOOKUP($B2217,'Ad Week Dates'!$A:$E,2,FALSE)","v":{"$error":"#N/A"}},{"$f":"VLOOKUP($B2217,'Ad Week Dates'!$A:$E,3,FALSE)","v":{"$error":"#N/A"}},null,null,null,null,null,null,{"$error":"#N/A"}]
[null,null,{"$f":"VLOOKUP($B2218,'Ad Week Dates'!$A:$E,4,FALSE)","v":{"$error":"#N/A"}},{"$f":"VLOOKUP($B2218,'Ad Week Dates'!$A:$E,2,FALSE)","v":{"$error":"#N/A"}},{"$f":"VLOOKUP($B2218,'Ad Week Dates'!$A:$E,3,FALSE)","v":{"$error":"#N/A"}},null,null,null,null,null,null,{"$error":"#N/A"}]
[null,null,{"$f":"VLOOKUP($B2219,'Ad Week Dates'!$A:$E,4,FALSE)","v":{"$error":"#N/A"}},{"$f":"VLOOKUP($B2219,'Ad Week Dates'!$A:$E,2,FALSE)","v":{"$error":"#N/A"}},{"$f":"VLOOKUP($B2219,'Ad Week Dates'!$A:$E,3,FALSE)","v":{"$error":"#N/A"}},null,null,null,null,null,null,{"$error":"#N/A"}]
[null,null,{"$f":"VLOOKUP($B2220,'Ad Week Dates'!$A:$E,4,FALSE)","v":{"$error":"#N/A"}},{"$f":"VLOOKUP($B2220,'Ad Week Dates'!$A:$E,2,FALSE)","v":{"$error":"#N/A"}},{"$f":"VLOOKUP($B2220,'Ad Week Dates'!$A:$E,3,FALSE)","v":{"$error":"#N/A"}},null,null,null,null,null,null,{"$error":"#N/A"}]
[null,null,{"$f":"VLOOKUP($B2221,'Ad Week Dates'!$A:$E,4,FALSE)","v":{"$error":"#N/A"}},{"$f":"VLOOKUP($B2221,'Ad Week Dates'!$A:$E,2,FALSE)","v":{"$error":"#N/A"}},{"$f":"VLOOKUP($B2221,'Ad Week Dates'!$A:$E,3,FALSE)","v":{"$error":"#N/A"}},null,null,null,null,null,null,{"$error":"#N/A"}]
[null,null,{"$f":"VLOOKUP($B2222,'Ad Week Dates'!$A:$E,4,FALSE)","v":{"$error":"#N/A"}},{"$f":"VLOOKUP($B2222,'Ad Week Dates'!$A:$E,2,FALSE)","v":{"$error":"#N/A"}},{"$f":"VLOOKUP($B2222,'Ad Week Dates'!$A:$E,3,FALSE)","v":{"$error":"#N/A"}},null,null,null,null,null,null,{"$error":"#N/A"}]
[null,null,{"$f":"VLOOKUP($B2223,'Ad Week Dates'!$A:$E,4,FALSE)","v":{"$error":"#N/A"}},{"$f":"VLOOKUP($B2223,'Ad Week Dates'!$A:$E,2,FALSE)","v":{"$error":"#N/A"}},{"$f":"VLOOKUP($B2223,'Ad Week Dates'!$A:$E,3,FALSE)","v":{"$error":"#N/A"}},null,null,null,null,null,null,{"$error":"#N/A"}]
[null,null,{"$f":"VLOOKUP($B2224,'Ad Week Dates'!$A:$E,4,FALSE)","v":{"$error":"#N/A"}},{"$f":"VLOOKUP($B2224,'Ad Week Dates'!$A:$E,2,FALSE)","v":{"$error":"#N/A"}},{"$f":"VLOOKUP($B2224,'Ad Week Dates'!$A:$E,3,FALSE)","v":{"$error":"#N/A"}},null,null,null,null,null,null,{"$error":"#N/A"}]
[null,null,{"$f":"VLOOKUP($B2225,'Ad Week Dates'!$A:$E,4,FALSE)","v":{"$error":"#N/A"}},{"$f":"VLOOKUP($B2225,'Ad Week Dates'!$A:$E,2,FALSE)","v":{"$error":"#N/A"}},{"$f":"VLOOKUP($B2225,'Ad Week Dates'!$A:$E,3,FALSE)","v":{"$error":"#N/A"}},null,null,null,null,null,null,{"$error":"#N/A"}]
[null,null,{"$f":"VLOOKUP($B2226,'Ad Week Dates'!$A:$E,4,FALSE)","v":{"$error":"#N/A"}},{"$f":"VLOOKUP($B2226,'Ad Week Dates'!$A:$E,2,FALSE)","v":{"$error":"#N/A"}},{"$f":"VLOOKUP($B2226,'Ad Week Dates'!$A:$E,3,FALSE)","v":{"$error":"#N/A"}},null,null,null,null,null,null,{"$error":"#N/A"}]
[null,null,{"$f":"VLOOKUP($B2227,'Ad Week Dates'!$A:$E,4,FALSE)","v":{"$error":"#N/A"}},{"$f":"VLOOKUP($B2227,'Ad Week Dates'!$A:$E,2,FALSE)","v":{"$error":"#N/A"}},{"$f":"VLOOKUP($B2227,'Ad Week Dates'!$A:$E,3,FALSE)","v":{"$error":"#N/A"}},null,null,null,null,null,null,{"$error":"#N/A"}]
[null,null,{"$f":"VLOOKUP($B2228,'Ad Week Dates'!$A:$E,4,FALSE)","v":{"$error":"#N/A"}},{"$f":"VLOOKUP($B2228,'Ad Week Dates'!$A:$E,2,FALSE)","v":{"$error":"#N/A"}},{"$f":"VLOOKUP($B2228,'Ad Week Dates'!$A:$E,3,FALSE)","v":{"$error":"#N/A"}},null,null,null,null,null,null,{"$error":"#N/A"}]
[null,null,{"$f":"VLOOKUP($B2229,'Ad Week Dates'!$A:$E,4,FALSE)","v":{"$error":"#N/A"}},{"$f":"VLOOKUP($B2229,'Ad Week Dates'!$A:$E,2,FALSE)","v":{"$error":"#N/A"}},{"$f":"VLOOKUP($B2229,'Ad Week Dates'!$A:$E,3,FALSE)","v":{"$error":"#N/A"}},null,null,null,null,null,null,{"$error":"#N/A"}]
[null,null,{"$f":"VLOOKUP($B2230,'Ad Week Dates'!$A:$E,4,FALSE)","v":{"$error":"#N/A"}},{"$f":"VLOOKUP($B2230,'Ad Week Dates'!$A:$E,2,FALSE)","v":{"$error":"#N/A"}},{"$f":"VLOOKUP($B2230,'Ad Week Dates'!$A:$E,3,FALSE)","v":{"$error":"#N/A"}},null,null,null,null,null,null,{"$error":"#N/A"}]
[null,null,{"$f":"VLOOKUP($B2231,'Ad Week Dates'!$A:$E,4,FALSE)","v":{"$error":"#N/A"}},{"$f":"VLOOKUP($B2231,'Ad Week Dates'!$A:$E,2,FALSE)","v":{"$error":"#N/A"}},{"$f":"VLOOKUP($B2231,'Ad Week Dates'!$A:$E,3,FALSE)","v":{"$error":"#N/A"}},null,null,null,null,null,null,{"$error":"#N/A"}]
[null,null,{"$f":"VLOOKUP($B2232,'Ad Week Dates'!$A:$E,4,FALSE)","v":{"$error":"#N/A"}},{"$f":"VLOOKUP($B2232,'Ad Week Dates'!$A:$E,2,FALSE)","v":{"$error":"#N/A"}},{"$f":"VLOOKUP($B2232,'Ad Week Dates'!$A:$E,3,FALSE)","v":{"$error":"#N/A"}},null,null,null,null,null,null,{"$error":"#N/A"}]
[null,null,{"$f":"VLOOKUP($B2233,'Ad Week Dates'!$A:$E,4,FALSE)","v":{"$error":"#N/A"}},{"$f":"VLOOKUP($B2233,'Ad Week Dates'!$A:$E,2,FALSE)","v":{"$error":"#N/A"}},{"$f":"VLOOKUP($B2233,'Ad Week Dates'!$A:$E,3,FALSE)","v":{"$error":"#N/A"}},null,null,null,null,null,null,{"$error":"#N/A"}]
[null,null,{"$f":"VLOOKUP($B2234,'Ad Week Dates'!$A:$E,4,FALSE)","v":{"$error":"#N/A"}},{"$f":"VLOOKUP($B2234,'Ad Week Dates'!$A:$E,2,FALSE)","v":{"$error":"#N/A"}},{"$f":"VLOOKUP($B2234,'Ad Week Dates'!$A:$E,3,FALSE)","v":{"$error":"#N/A"}},null,null,null,null,null,null,{"$error":"#N/A"}]
[null,null,{"$f":"VLOOKUP($B2235,'Ad Week Dates'!$A:$E,4,FALSE)","v":{"$error":"#N/A"}},{"$f":"VLOOKUP($B2235,'Ad Week Dates'!$A:$E,2,FALSE)","v":{"$error":"#N/A"}},{"$f":"VLOOKUP($B2235,'Ad Week Dates'!$A:$E,3,FALSE)","v":{"$error":"#N/A"}},null,null,null,null,null,null,{"$error":"#N/A"}]
[null,null,{"$f":"VLOOKUP($B2236,'Ad Week Dates'!$A:$E,4,FALSE)","v":{"$error":"#N/A"}},{"$f":"VLOOKUP($B2236,'Ad Week Dates'!$A:$E,2,FALSE)","v":{"$error":"#N/A"}},{"$f":"VLOOKUP($B2236,'Ad Week Dates'!$A:$E,3,FALSE)","v":{"$error":"#N/A"}},null,null,null,null,null,null,{"$error":"#N/A"}]
[null,null,{"$f":"VLOOKUP($B2237,'Ad Week Dates'!$A:$E,4,FALSE)","v":{"$error":"#N/A"}},{"$f":"VLOOKUP($B2237,'Ad Week Dates'!$A:$E,2,FALSE)","v":{"$error":"#N/A"}},{"$f":"VLOOKUP($B2237,'Ad Week Dates'!$A:$E,3,FALSE)","v":{"$error":"#N/A"}},null,null,null,null,null,null,{"$error":"#N/A"}]
[null,null,{"$f":"VLOOKUP($B2238,'Ad Week Dates'!$A:$E,4,FALSE)","v":{"$error":"#N/A"}},{"$f":"VLOOKUP($B2238,'Ad Week Dates'!$A:$E,2,FALSE)","v":{"$error":"#N/A"}},{"$f":"VLOOKUP($B2238,'Ad Week Dates'!$A:$E,3,FALSE)","v":{"$error":"#N/A"}},null,null,null,null,null,null,{"$error":"#N/A"}]
[null,null,{"$f":"VLOOKUP($B2239,'Ad Week Dates'!$A:$E,4,FALSE)","v":{"$error":"#N/A"}},{"$f":"VLOOKUP($B2239,'Ad Week Dates'!$A:$E,2,FALSE)","v":{"$error":"#N/A"}},{"$f":"VLOOKUP($B2239,'Ad Week Dates'!$A:$E,3,FALSE)","v":{"$error":"#N/A"}},null,null,null,null,null,null,{"$error":"#N/A"}]
[null,null,{"$f":"VLOOKUP($B2240,'Ad Week Dates'!$A:$E,4,FALSE)","v":{"$error":"#N/A"}},{"$f":"VLOOKUP($B2240,'Ad Week Dates'!$A:$E,2,FALSE)","v":{"$error":"#N/A"}},{"$f":"VLOOKUP($B2240,'Ad Week Dates'!$A:$E,3,FALSE)","v":{"$error":"#N/A"}},null,null,null,null,null,null,{"$error":"#N/A"}]
[null,null,{"$f":"VLOOKUP($B2241,'Ad Week Dates'!$A:$E,4,FALSE)","v":{"$error":"#N/A"}},{"$f":"VLOOKUP($B2241,'Ad Week Dates'!$A:$E,2,FALSE)","v":{"$error":"#N/A"}},{"$f":"VLOOKUP($B2241,'Ad Week Dates'!$A:$E,3,FALSE)","v":{"$error":"#N/A"}},null,null,null,null,null,null,{"$error":"#N/A"}]
[null,null,{"$f":"VLOOKUP($B2242,'Ad Week Dates'!$A:$E,4,FALSE)","v":{"$error":"#N/A"}},{"$f":"VLOOKUP($B2242,'Ad Week Dates'!$A:$E,2,FALSE)","v":{"$error":"#N/A"}},{"$f":"VLOOKUP($B2242,'Ad Week Dates'!$A:$E,3,FALSE)","v":{"$error":"#N/A"}},null,null,null,null,null,null,{"$error":"#N/A"}]
[null,null,{"$f":"VLOOKUP($B2243,'Ad Week Dates'!$A:$E,4,FALSE)","v":{"$error":"#N/A"}},{"$f":"VLOOKUP($B2243,'Ad Week Dates'!$A:$E,2,FALSE)","v":{"$error":"#N/A"}},{"$f":"VLOOKUP($B2243,'Ad Week Dates'!$A:$E,3,FALSE)","v":{"$error":"#N/A"}},null,null,null,null,null,null,{"$error":"#N/A"}]
[null,null,{"$f":"VLOOKUP($B2244,'Ad Week Dates'!$A:$E,4,FALSE)","v":{"$error":"#N/A"}},{"$f":"VLOOKUP($B2244,'Ad Week Dates'!$A:$E,2,FALSE)","v":{"$error":"#N/A"}},{"$f":"VLOOKUP($B2244,'Ad Week Dates'!$A:$E,3,FALSE)","v":{"$error":"#N/A"}},null,null,null,null,null,null,{"$error":"#N/A"}]
[null,null,{"$f":"VLOOKUP($B2245,'Ad Week Dates'!$A:$E,4,FALSE)","v":{"$error":"#N/A"}},{"$f":"VLOOKUP($B2245,'Ad Week Dates'!$A:$E,2,FALSE)","v":{"$error":"#N/A"}},{"$f":"VLOOKUP($B2245,'Ad Week Dates'!$A:$E,3,FALSE)","v":{"$error":"#N/A"}},null,null,null,null,null,null,{"$error":"#N/A"}]
[null,null,{"$f":"VLOOKUP($B2246,'Ad Week Dates'!$A:$E,4,FALSE)","v":{"$error":"#N/A"}},{"$f":"VLOOKUP($B2246,'Ad Week Dates'!$A:$E,2,FALSE)","v":{"$error":"#N/A"}},{"$f":"VLOOKUP($B2246,'Ad Week Dates'!$A:$E,3,FALSE)","v":{"$error":"#N/A"}},null,null,null,null,null,null,{"$f":"IF(ISNUMBER(J2246), J2246 - K2246, VALUE(_xlfn.TEXTBEFORE(J2246, \"-\")) - VALUE(_xlfn.TEXTBEFORE(K2246, \"-\")))","v":{"$error":"#N/A"}}]
[null,null,{"$f":"VLOOKUP($B2247,'Ad Week Dates'!$A:$E,4,FALSE)","v":{"$error":"#N/A"}},{"$f":"VLOOKUP($B2247,'Ad Week Dates'!$A:$E,2,FALSE)","v":{"$error":"#N/A"}},{"$f":"VLOOKUP($B2247,'Ad Week Dates'!$A:$E,3,FALSE)","v":{"$error":"#N/A"}},null,null,null,null,null,null,{"$error":"#N/A"}]
[null,null,{"$f":"VLOOKUP($B2248,'Ad Week Dates'!$A:$E,4,FALSE)","v":{"$error":"#N/A"}},{"$f":"VLOOKUP($B2248,'Ad Week Dates'!$A:$E,2,FALSE)","v":{"$error":"#N/A"}},{"$f":"VLOOKUP($B2248,'Ad Week Dates'!$A:$E,3,FALSE)","v":{"$error":"#N/A"}},null,null,null,null,null,null,{"$error":"#N/A"}]
[null,null,{"$f":"VLOOKUP($B2249,'Ad Week Dates'!$A:$E,4,FALSE)","v":{"$error":"#N/A"}},{"$f":"VLOOKUP($B2249,'Ad Week Dates'!$A:$E,2,FALSE)","v":{"$error":"#N/A"}},{"$f":"VLOOKUP($B2249,'Ad Week Dates'!$A:$E,3,FALSE)","v":{"$error":"#N/A"}},null,null,null,null,null,null,{"$error":"#N/A"}]
[null,null,{"$f":"VLOOKUP($B2250,'Ad Week Dates'!$A:$E,4,FALSE)","v":{"$error":"#N/A"}},{"$f":"VLOOKUP($B2250,'Ad Week Dates'!$A:$E,2,FALSE)","v":{"$error":"#N/A"}},{"$f":"VLOOKUP($B2250,'Ad Week Dates'!$A:$E,3,FALSE)","v":{"$error":"#N/A"}},null,null,null,null,null,null,{"$error":"#N/A"}]
[null,null,{"$f":"VLOOKUP($B2251,'Ad Week Dates'!$A:$E,4,FALSE)","v":{"$error":"#N/A"}},{"$f":"VLOOKUP($B2251,'Ad Week Dates'!$A:$E,2,FALSE)","v":{"$error":"#N/A"}},{"$f":"VLOOKUP($B2251,'Ad Week Dates'!$A:$E,3,FALSE)","v":{"$error":"#N/A"}},null,null,null,null,null,null,{"$error":"#N/A"}]
[null,null,{"$f":"VLOOKUP($B2252,'Ad Week Dates'!$A:$E,4,FALSE)","v":{"$error":"#N/A"}},{"$f":"VLOOKUP($B2252,'Ad Week Dates'!$A:$E,2,FALSE)","v":{"$error":"#N/A"}},{"$f":"VLOOKUP($B2252,'Ad Week Dates'!$A:$E,3,FALSE)","v":{"$error":"#N/A"}},null,null,null,null,null,null,{"$error":"#N/A"}]
[null,null,{"$f":"VLOOKUP($B2253,'Ad Week Dates'!$A:$E,4,FALSE)","v":{"$error":"#N/A"}},{"$f":"VLOOKUP($B2253,'Ad Week Dates'!$A:$E,2,FALSE)","v":{"$error":"#N/A"}},{"$f":"VLOOKUP($B2253,'Ad Week Dates'!$A:$E,3,FALSE)","v":{"$error":"#N/A"}},null,null,null,null,null,null,{"$error":"#N/A"}]
[null,null,{"$f":"VLOOKUP($B2254,'Ad Week Dates'!$A:$E,4,FALSE)","v":{"$error":"#N/A"}},{"$f":"VLOOKUP($B2254,'Ad Week Dates'!$A:$E,2,FALSE)","v":{"$error":"#N/A"}},{"$f":"VLOOKUP($B2254,'Ad Week Dates'!$A:$E,3,FALSE)","v":{"$error":"#N/A"}},null,null,null,null,null,null,{"$error":"#N/A"}]
[null,null,{"$f":"VLOOKUP($B2255,'Ad Week Dates'!$A:$E,4,FALSE)","v":{"$error":"#N/A"}},{"$f":"VLOOKUP($B2255,'Ad Week Dates'!$A:$E,2,FALSE)","v":{"$error":"#N/A"}},{"$f":"VLOOKUP($B2255,'Ad Week Dates'!$A:$E,3,FALSE)","v":{"$error":"#N/A"}},null,null,null,null,null,null,{"$error":"#N/A"}]
[null,null,{"$f":"VLOOKUP($B2256,'Ad Week Dates'!$A:$E,4,FALSE)","v":{"$error":"#N/A"}},{"$f":"VLOOKUP($B2256,'Ad Week Dates'!$A:$E,2,FALSE)","v":{"$error":"#N/A"}},{"$f":"VLOOKUP($B2256,'Ad Week Dates'!$A:$E,3,FALSE)","v":{"$error":"#N/A"}},null,null,null,null,null,null,{"$error":"#N/A"}]
[null,null,{"$f":"VLOOKUP($B2257,'Ad Week Dates'!$A:$E,4,FALSE)","v":{"$error":"#N/A"}},{"$f":"VLOOKUP($B2257,'Ad Week Dates'!$A:$E,2,FALSE)","v":{"$error":"#N/A"}},{"$f":"VLOOKUP($B2257,'Ad Week Dates'!$A:$E,3,FALSE)","v":{"$error":"#N/A"}},null,null,null,null,null,null,{"$error":"#N/A"}]
[null,null,{"$f":"VLOOKUP($B2258,'Ad Week Dates'!$A:$E,4,FALSE)","v":{"$error":"#N/A"}},{"$f":"VLOOKUP($B2258,'Ad Week Dates'!$A:$E,2,FALSE)","v":{"$error":"#N/A"}},{"$f":"VLOOKUP($B2258,'Ad Week Dates'!$A:$E,3,FALSE)","v":{"$error":"#N/A"}},null,null,null,null,null,null,{"$error":"#N/A"}]
[null,null,{"$f":"VLOOKUP($B2259,'Ad Week Dates'!$A:$E,4,FALSE)","v":{"$error":"#N/A"}},{"$f":"VLOOKUP($B2259,'Ad Week Dates'!$A:$E,2,FALSE)","v":{"$error":"#N/A"}},{"$f":"VLOOKUP($B2259,'Ad Week Dates'!$A:$E,3,FALSE)","v":{"$error":"#N/A"}},null,null,null,null,null,null,{"$error":"#N/A"}]
[null,null,{"$f":"VLOOKUP($B2260,'Ad Week Dates'!$A:$E,4,FALSE)","v":{"$error":"#N/A"}},{"$f":"VLOOKUP($B2260,'Ad Week Dates'!$A:$E,2,FALSE)","v":{"$error":"#N/A"}},{"$f":"VLOOKUP($B2260,'Ad Week Dates'!$A:$E,3,FALSE)","v":{"$error":"#N/A"}},null,null,null,null,null,null,{"$error":"#N/A"}]
[null,null,{"$f":"VLOOKUP($B2261,'Ad Week Dates'!$A:$E,4,FALSE)","v":{"$error":"#N/A"}},{"$f":"VLOOKUP($B2261,'Ad Week Dates'!$A:$E,2,FALSE)","v":{"$error":"#N/A"}},{"$f":"VLOOKUP($B2261,'Ad Week Dates'!$A:$E,3,FALSE)","v":{"$error":"#N/A"}},null,null,null,null,null,null,{"$error":"#N/A"}]
[null,null,{"$f":"VLOOKUP($B2262,'Ad Week Dates'!$A:$E,4,FALSE)","v":{"$error":"#N/A"}},{"$f":"VLOOKUP($B2262,'Ad Week Dates'!$A:$E,2,FALSE)","v":{"$error":"#N/A"}},{"$f":"VLOOKUP($B2262,'Ad Week Dates'!$A:$E,3,FALSE)","v":{"$error":"#N/A"}},null,null,null,null,null,null,{"$error":"#N/A"}]
[null,null,{"$f":"VLOOKUP($B2263,'Ad Week Dates'!$A:$E,4,FALSE)","v":{"$error":"#N/A"}},{"$f":"VLOOKUP($B2263,'Ad Week Dates'!$A:$E,2,FALSE)","v":{"$error":"#N/A"}},{"$f":"VLOOKUP($B2263,'Ad Week Dates'!$A:$E,3,FALSE)","v":{"$error":"#N/A"}},null,null,null,null,null,null,{"$error":"#N/A"}]
[null,null,{"$f":"VLOOKUP($B2264,'Ad Week Dates'!$A:$E,4,FALSE)","v":{"$error":"#N/A"}},{"$f":"VLOOKUP($B2264,'Ad Week Dates'!$A:$E,2,FALSE)","v":{"$error":"#N/A"}},{"$f":"VLOOKUP($B2264,'Ad Week Dates'!$A:$E,3,FALSE)","v":{"$error":"#N/A"}},null,null,null,null,null,null,{"$error":"#N/A"}]
[null,null,{"$f":"VLOOKUP($B2265,'Ad Week Dates'!$A:$E,4,FALSE)","v":{"$error":"#N/A"}},{"$f":"VLOOKUP($B2265,'Ad Week Dates'!$A:$E,2,FALSE)","v":{"$error":"#N/A"}},{"$f":"VLOOKUP($B2265,'Ad Week Dates'!$A:$E,3,FALSE)","v":{"$error":"#N/A"}},null,null,null,null,null,null,{"$error":"#N/A"}]
[null,null,{"$f":"VLOOKUP($B2266,'Ad Week Dates'!$A:$E,4,FALSE)","v":{"$error":"#N/A"}},{"$f":"VLOOKUP($B2266,'Ad Week Dates'!$A:$E,2,FALSE)","v":{"$error":"#N/A"}},{"$f":"VLOOKUP($B2266,'Ad Week Dates'!$A:$E,3,FALSE)","v":{"$error":"#N/A"}},null,null,null,null,null,null,{"$error":"#N/A"}]
[null,null,{"$f":"VLOOKUP($B2267,'Ad Week Dates'!$A:$E,4,FALSE)","v":{"$error":"#N/A"}},{"$f":"VLOOKUP($B2267,'Ad Week Dates'!$A:$E,2,FALSE)","v":{"$error":"#N/A"}},{"$f":"VLOOKUP($B2267,'Ad Week Dates'!$A:$E,3,FALSE)","v":{"$error":"#N/A"}},null,null,null,null,null,null,{"$error":"#N/A"}]
[null,null,{"$f":"VLOOKUP($B2268,'Ad Week Dates'!$A:$E,4,FALSE)","v":{"$error":"#N/A"}},{"$f":"VLOOKUP($B2268,'Ad Week Dates'!$A:$E,2,FALSE)","v":{"$error":"#N/A"}},{"$f":"VLOOKUP($B2268,'Ad Week Dates'!$A:$E,3,FALSE)","v":{"$error":"#N/A"}},null,null,null,null,null,null,{"$error":"#N/A"}]
[null,null,{"$f":"VLOOKUP($B2269,'Ad Week Dates'!$A:$E,4,FALSE)","v":{"$error":"#N/A"}},{"$f":"VLOOKUP($B2269,'Ad Week Dates'!$A:$E,2,FALSE)","v":{"$error":"#N/A"}},{"$f":"VLOOKUP($B2269,'Ad Week Dates'!$A:$E,3,FALSE)","v":{"$error":"#N/A"}},null,null,null,null,null,null,{"$error":"#N/A"}]
[null,null,{"$f":"VLOOKUP($B2270,'Ad Week Dates'!$A:$E,4,FALSE)","v":{"$error":"#N/A"}},{"$f":"VLOOKUP($B2270,'Ad Week Dates'!$A:$E,2,FALSE)","v":{"$error":"#N/A"}},{"$f":"VLOOKUP($B2270,'Ad Week Dates'!$A:$E,3,FALSE)","v":{"$error":"#N/A"}},null,null,null,null,null,null,{"$error":"#N/A"}]
[null,null,{"$f":"VLOOKUP($B2271,'Ad Week Dates'!$A:$E,4,FALSE)","v":{"$error":"#N/A"}},{"$f":"VLOOKUP($B2271,'Ad Week Dates'!$A:$E,2,FALSE)","v":{"$error":"#N/A"}},{"$f":"VLOOKUP($B2271,'Ad Week Dates'!$A:$E,3,FALSE)","v":{"$error":"#N/A"}},null,null,null,null,null,null,{"$error":"#N/A"}]
[null,null,{"$f":"VLOOKUP($B2272,'Ad Week Dates'!$A:$E,4,FALSE)","v":{"$error":"#N/A"}},{"$f":"VLOOKUP($B2272,'Ad Week Dates'!$A:$E,2,FALSE)","v":{"$error":"#N/A"}},{"$f":"VLOOKUP($B2272,'Ad Week Dates'!$A:$E,3,FALSE)","v":{"$error":"#N/A"}},null,null,null,null,null,null,{"$error":"#N/A"}]
[null,null,{"$f":"VLOOKUP($B2273,'Ad Week Dates'!$A:$E,4,FALSE)","v":{"$error":"#N/A"}},{"$f":"VLOOKUP($B2273,'Ad Week Dates'!$A:$E,2,FALSE)","v":{"$error":"#N/A"}},{"$f":"VLOOKUP($B2273,'Ad Week Dates'!$A:$E,3,FALSE)","v":{"$error":"#N/A"}},null,null,null,null,null,null,{"$error":"#N/A"}]
[null,null,{"$f":"VLOOKUP($B2274,'Ad Week Dates'!$A:$E,4,FALSE)","v":{"$error":"#N/A"}},{"$f":"VLOOKUP($B2274,'Ad Week Dates'!$A:$E,2,FALSE)","v":{"$error":"#N/A"}},{"$f":"VLOOKUP($B2274,'Ad Week Dates'!$A:$E,3,FALSE)","v":{"$error":"#N/A"}},null,null,null,null,null,null,{"$error":"#N/A"}]
[null,null,{"$f":"VLOOKUP($B2275,'Ad Week Dates'!$A:$E,4,FALSE)","v":{"$error":"#N/A"}},{"$f":"VLOOKUP($B2275,'Ad Week Dates'!$A:$E,2,FALSE)","v":{"$error":"#N/A"}},{"$f":"VLOOKUP($B2275,'Ad Week Dates'!$A:$E,3,FALSE)","v":{"$error":"#N/A"}},null,null,null,null,null,null,{"$error":"#N/A"}]
[null,null,{"$f":"VLOOKUP($B2276,'Ad Week Dates'!$A:$E,4,FALSE)","v":{"$error":"#N/A"}},{"$f":"VLOOKUP($B2276,'Ad Week Dates'!$A:$E,2,FALSE)","v":{"$error":"#N/A"}},{"$f":"VLOOKUP($B2276,'Ad Week Dates'!$A:$E,3,FALSE)","v":{"$error":"#N/A"}},null,null,null,null,null,null,{"$error":"#N/A"}]
[null,null,{"$f":"VLOOKUP($B2277,'Ad Week Dates'!$A:$E,4,FALSE)","v":{"$error":"#N/A"}},{"$f":"VLOOKUP($B2277,'Ad Week Dates'!$A:$E,2,FALSE)","v":{"$error":"#N/A"}},{"$f":"VLOOKUP($B2277,'Ad Week Dates'!$A:$E,3,FALSE)","v":{"$error":"#N/A"}},null,null,null,null,null,null,{"$error":"#N/A"}]
[null,null,{"$f":"VLOOKUP($B2278,'Ad Week Dates'!$A:$E,4,FALSE)","v":{"$error":"#N/A"}},{"$f":"VLOOKUP($B2278,'Ad Week Dates'!$A:$E,2,FALSE)","v":{"$error":"#N/A"}},{"$f":"VLOOKUP($B2278,'Ad Week Dates'!$A:$E,3,FALSE)","v":{"$error":"#N/A"}},null,null,null,null,null,null,{"$error":"#N/A"}]
[null,null,{"$f":"VLOOKUP($B2279,'Ad Week Dates'!$A:$E,4,FALSE)","v":{"$error":"#N/A"}},{"$f":"VLOOKUP($B2279,'Ad Week Dates'!$A:$E,2,FALSE)","v":{"$error":"#N/A"}},{"$f":"VLOOKUP($B2279,'Ad Week Dates'!$A:$E,3,FALSE)","v":{"$error":"#N/A"}},null,null,null,null,null,null,{"$error":"#N/A"}]
[null,null,{"$f":"VLOOKUP($B2280,'Ad Week Dates'!$A:$E,4,FALSE)","v":{"$error":"#N/A"}},{"$f":"VLOOKUP($B2280,'Ad Week Dates'!$A:$E,2,FALSE)","v":{"$error":"#N/A"}},{"$f":"VLOOKUP($B2280,'Ad Week Dates'!$A:$E,3,FALSE)","v":{"$error":"#N/A"}},null,null,null,null,null,null,{"$error":"#N/A"}]
[null,null,{"$f":"VLOOKUP($B2281,'Ad Week Dates'!$A:$E,4,FALSE)","v":{"$error":"#N/A"}},{"$f":"VLOOKUP($B2281,'Ad Week Dates'!$A:$E,2,FALSE)","v":{"$error":"#N/A"}},{"$f":"VLOOKUP($B2281,'Ad Week Dates'!$A:$E,3,FALSE)","v":{"$error":"#N/A"}},null,null,null,null,null,null,{"$error":"#N/A"}]
[null,null,{"$f":"VLOOKUP($B2282,'Ad Week Dates'!$A:$E,4,FALSE)","v":{"$error":"#N/A"}},{"$f":"VLOOKUP($B2282,'Ad Week Dates'!$A:$E,2,FALSE)","v":{"$error":"#N/A"}},{"$f":"VLOOKUP($B2282,'Ad Week Dates'!$A:$E,3,FALSE)","v":{"$error":"#N/A"}},null,null,null,null,null,null,{"$error":"#N/A"}]
[null,null,{"$f":"VLOOKUP($B2283,'Ad Week Dates'!$A:$E,4,FALSE)","v":{"$error":"#N/A"}},{"$f":"VLOOKUP($B2283,'Ad Week Dates'!$A:$E,2,FALSE)","v":{"$error":"#N/A"}},{"$f":"VLOOKUP($B2283,'Ad Week Dates'!$A:$E,3,FALSE)","v":{"$error":"#N/A"}},null,null,null,null,null,null,{"$error":"#N/A"}]
[null,null,{"$f":"VLOOKUP($B2284,'Ad Week Dates'!$A:$E,4,FALSE)","v":{"$error":"#N/A"}},{"$f":"VLOOKUP($B2284,'Ad Week Dates'!$A:$E,2,FALSE)","v":{"$error":"#N/A"}},{"$f":"VLOOKUP($B2284,'Ad Week Dates'!$A:$E,3,FALSE)","v":{"$error":"#N/A"}},null,null,null,null,null,null,{"$error":"#N/A"}]
[null,null,{"$f":"VLOOKUP($B2285,'Ad Week Dates'!$A:$E,4,FALSE)","v":{"$error":"#N/A"}},{"$f":"VLOOKUP($B2285,'Ad Week Dates'!$A:$E,2,FALSE)","v":{"$error":"#N/A"}},{"$f":"VLOOKUP($B2285,'Ad Week Dates'!$A:$E,3,FALSE)","v":{"$error":"#N/A"}},null,null,null,null,null,null,{"$error":"#N/A"}]
[null,null,{"$f":"VLOOKUP($B2286,'Ad Week Dates'!$A:$E,4,FALSE)","v":{"$error":"#N/A"}},{"$f":"VLOOKUP($B2286,'Ad Week Dates'!$A:$E,2,FALSE)","v":{"$error":"#N/A"}},{"$f":"VLOOKUP($B2286,'Ad Week Dates'!$A:$E,3,FALSE)","v":{"$error":"#N/A"}},null,null,null,null,null,null,{"$error":"#N/A"}]
[null,null,{"$f":"VLOOKUP($B2287,'Ad Week Dates'!$A:$E,4,FALSE)","v":{"$error":"#N/A"}},{"$f":"VLOOKUP($B2287,'Ad Week Dates'!$A:$E,2,FALSE)","v":{"$error":"#N/A"}},{"$f":"VLOOKUP($B2287,'Ad Week Dates'!$A:$E,3,FALSE)","v":{"$error":"#N/A"}},null,null,null,null,null,null,{"$error":"#N/A"}]
[null,null,{"$f":"VLOOKUP($B2288,'Ad Week Dates'!$A:$E,4,FALSE)","v":{"$error":"#N/A"}},{"$f":"VLOOKUP($B2288,'Ad Week Dates'!$A:$E,2,FALSE)","v":{"$error":"#N/A"}},{"$f":"VLOOKUP($B2288,'Ad Week Dates'!$A:$E,3,FALSE)","v":{"$error":"#N/A"}},null,null,null,null,null,null,{"$error":"#N/A"}]
[null,null,{"$f":"VLOOKUP($B2289,'Ad Week Dates'!$A:$E,4,FALSE)","v":{"$error":"#N/A"}},{"$f":"VLOOKUP($B2289,'Ad Week Dates'!$A:$E,2,FALSE)","v":{"$error":"#N/A"}},{"$f":"VLOOKUP($B2289,'Ad Week Dates'!$A:$E,3,FALSE)","v":{"$error":"#N/A"}},null,null,null,null,null,null,{"$error":"#N/A"}]
[null,null,{"$f":"VLOOKUP($B2290,'Ad Week Dates'!$A:$E,4,FALSE)","v":{"$error":"#N/A"}},{"$f":"VLOOKUP($B2290,'Ad Week Dates'!$A:$E,2,FALSE)","v":{"$error":"#N/A"}},{"$f":"VLOOKUP($B2290,'Ad Week Dates'!$A:$E,3,FALSE)","v":{"$error":"#N/A"}},null,null,null,null,null,null,{"$error":"#N/A"}]
[null,null,{"$f":"VLOOKUP($B2291,'Ad Week Dates'!$A:$E,4,FALSE)","v":{"$error":"#N/A"}},{"$f":"VLOOKUP($B2291,'Ad Week Dates'!$A:$E,2,FALSE)","v":{"$error":"#N/A"}},{"$f":"VLOOKUP($B2291,'Ad Week Dates'!$A:$E,3,FALSE)","v":{"$error":"#N/A"}},null,null,null,null,null,null,{"$error":"#N/A"}]
[null,null,{"$f":"VLOOKUP($B2292,'Ad Week Dates'!$A:$E,4,FALSE)","v":{"$error":"#N/A"}},{"$f":"VLOOKUP($B2292,'Ad Week Dates'!$A:$E,2,FALSE)","v":{"$error":"#N/A"}},{"$f":"VLOOKUP($B2292,'Ad Week Dates'!$A:$E,3,FALSE)","v":{"$error":"#N/A"}},null,null,null,null,null,null,{"$error":"#N/A"}]
[null,null,{"$f":"VLOOKUP($B2293,'Ad Week Dates'!$A:$E,4,FALSE)","v":{"$error":"#N/A"}},{"$f":"VLOOKUP($B2293,'Ad Week Dates'!$A:$E,2,FALSE)","v":{"$error":"#N/A"}},{"$f":"VLOOKUP($B2293,'Ad Week Dates'!$A:$E,3,FALSE)","v":{"$error":"#N/A"}},null,null,null,null,null,null,{"$error":"#N/A"}]
[null,null,{"$f":"VLOOKUP($B2294,'Ad Week Dates'!$A:$E,4,FALSE)","v":{"$error":"#N/A"}},{"$f":"VLOOKUP($B2294,'Ad Week Dates'!$A:$E,2,FALSE)","v":{"$error":"#N/A"}},{"$f":"VLOOKUP($B2294,'Ad Week Dates'!$A:$E,3,FALSE)","v":{"$error":"#N/A"}},null,null,null,null,null,null,{"$error":"#N/A"}]
[null,null,{"$f":"VLOOKUP($B2295,'Ad Week Dates'!$A:$E,4,FALSE)","v":{"$error":"#N/A"}},{"$f":"VLOOKUP($B2295,'Ad Week Dates'!$A:$E,2,FALSE)","v":{"$error":"#N/A"}},{"$f":"VLOOKUP($B2295,'Ad Week Dates'!$A:$E,3,FALSE)","v":{"$error":"#N/A"}},null,null,null,null,null,null,{"$error":"#N/A"}]
[null,null,{"$f":"VLOOKUP($B2296,'Ad Week Dates'!$A:$E,4,FALSE)","v":{"$error":"#N/A"}},{"$f":"VLOOKUP($B2296,'Ad Week Dates'!$A:$E,2,FALSE)","v":{"$error":"#N/A"}},{"$f":"VLOOKUP($B2296,'Ad Week Dates'!$A:$E,3,FALSE)","v":{"$error":"#N/A"}},null,null,null,null,null,null,{"$error":"#N/A"}]
[null,null,{"$f":"VLOOKUP($B2297,'Ad Week Dates'!$A:$E,4,FALSE)","v":{"$error":"#N/A"}},{"$f":"VLOOKUP($B2297,'Ad Week Dates'!$A:$E,2,FALSE)","v":{"$error":"#N/A"}},{"$f":"VLOOKUP($B2297,'Ad Week Dates'!$A:$E,3,FALSE)","v":{"$error":"#N/A"}},null,null,null,null,null,null,{"$error":"#N/A"}]
[null,null,{"$f":"VLOOKUP($B2298,'Ad Week Dates'!$A:$E,4,FALSE)","v":{"$error":"#N/A"}},{"$f":"VLOOKUP($B2298,'Ad Week Dates'!$A:$E,2,FALSE)","v":{"$error":"#N/A"}},{"$f":"VLOOKUP($B2298,'Ad Week Dates'!$A:$E,3,FALSE)","v":{"$error":"#N/A"}},null,null,null,null,null,null,{"$error":"#N/A"}]
[null,null,{"$f":"VLOOKUP($B2299,'Ad Week Dates'!$A:$E,4,FALSE)","v":{"$error":"#N/A"}},{"$f":"VLOOKUP($B2299,'Ad Week Dates'!$A:$E,2,FALSE)","v":{"$error":"#N/A"}},{"$f":"VLOOKUP($B2299,'Ad Week Dates'!$A:$E,3,FALSE)","v":{"$error":"#N/A"}},null,null,null,null,null,null,{"$error":"#N/A"}]
[null,null,{"$f":"VLOOKUP($B2300,'Ad Week Dates'!$A:$E,4,FALSE)","v":{"$error":"#N/A"}},{"$f":"VLOOKUP($B2300,'Ad Week Dates'!$A:$E,2,FALSE)","v":{"$error":"#N/A"}},{"$f":"VLOOKUP($B2300,'Ad Week Dates'!$A:$E,3,FALSE)","v":{"$error":"#N/A"}},null,null,null,null,null,null,{"$error":"#N/A"}]
[null,null,{"$f":"VLOOKUP($B2301,'Ad Week Dates'!$A:$E,4,FALSE)","v":{"$error":"#N/A"}},{"$f":"VLOOKUP($B2301,'Ad Week Dates'!$A:$E,2,FALSE)","v":{"$error":"#N/A"}},{"$f":"VLOOKUP($B2301,'Ad Week Dates'!$A:$E,3,FALSE)","v":{"$error":"#N/A"}},null,null,null,null,null,null,{"$error":"#N/A"}]
[null,null,{"$f":"VLOOKUP($B2302,'Ad Week Dates'!$A:$E,4,FALSE)","v":{"$error":"#N/A"}},{"$f":"VLOOKUP($B2302,'Ad Week Dates'!$A:$E,2,FALSE)","v":{"$error":"#N/A"}},{"$f":"VLOOKUP($B2302,'Ad Week Dates'!$A:$E,3,FALSE)","v":{"$error":"#N/A"}},null,null,null,null,null,null,{"$error":"#N/A"}]
[null,null,{"$f":"VLOOKUP($B2303,'Ad Week Dates'!$A:$E,4,FALSE)","v":{"$error":"#N/A"}},{"$f":"VLOOKUP($B2303,'Ad Week Dates'!$A:$E,2,FALSE)","v":{"$error":"#N/A"}},{"$f":"VLOOKUP($B2303,'Ad Week Dates'!$A:$E,3,FALSE)","v":{"$error":"#N/A"}},null,null,null,null,null,null,{"$error":"#N/A"}]
[null,null,{"$f":"VLOOKUP($B2304,'Ad Week Dates'!$A:$E,4,FALSE)","v":{"$error":"#N/A"}},{"$f":"VLOOKUP($B2304,'Ad Week Dates'!$A:$E,2,FALSE)","v":{"$error":"#N/A"}},{"$f":"VLOOKUP($B2304,'Ad Week Dates'!$A:$E,3,FALSE)","v":{"$error":"#N/A"}},null,null,null,null,null,null,{"$error":"#N/A"}]
[null,null,{"$f":"VLOOKUP($B2305,'Ad Week Dates'!$A:$E,4,FALSE)","v":{"$error":"#N/A"}},{"$f":"VLOOKUP($B2305,'Ad Week Dates'!$A:$E,2,FALSE)","v":{"$error":"#N/A"}},{"$f":"VLOOKUP($B2305,'Ad Week Dates'!$A:$E,3,FALSE)","v":{"$error":"#N/A"}},null,null,null,null,null,null,{"$error":"#N/A"}]
[null,null,{"$f":"VLOOKUP($B2306,'Ad Week Dates'!$A:$E,4,FALSE)","v":{"$error":"#N/A"}},{"$f":"VLOOKUP($B2306,'Ad Week Dates'!$A:$E,2,FALSE)","v":{"$error":"#N/A"}},{"$f":"VLOOKUP($B2306,'Ad Week Dates'!$A:$E,3,FALSE)","v":{"$error":"#N/A"}},null,null,null,null,null,null,{"$error":"#N/A"}]
[null,null,{"$f":"VLOOKUP($B2307,'Ad Week Dates'!$A:$E,4,FALSE)","v":{"$error":"#N/A"}},{"$f":"VLOOKUP($B2307,'Ad Week Dates'!$A:$E,2,FALSE)","v":{"$error":"#N/A"}},{"$f":"VLOOKUP($B2307,'Ad Week Dates'!$A:$E,3,FALSE)","v":{"$error":"#N/A"}},null,null,null,null,null,null,{"$error":"#N/A"}]
[null,null,{"$f":"VLOOKUP($B2308,'Ad Week Dates'!$A:$E,4,FALSE)","v":{"$error":"#N/A"}},{"$f":"VLOOKUP($B2308,'Ad Week Dates'!$A:$E,2,FALSE)","v":{"$error":"#N/A"}},{"$f":"VLOOKUP($B2308,'Ad Week Dates'!$A:$E,3,FALSE)","v":{"$error":"#N/A"}},null,null,null,null,null,null,{"$error":"#N/A"}]
[null,null,{"$f":"VLOOKUP($B2309,'Ad Week Dates'!$A:$E,4,FALSE)","v":{"$error":"#N/A"}},{"$f":"VLOOKUP($B2309,'Ad Week Dates'!$A:$E,2,FALSE)","v":{"$error":"#N/A"}},{"$f":"VLOOKUP($B2309,'Ad Week Dates'!$A:$E,3,FALSE)","v":{"$error":"#N/A"}},null,null,null,null,null,null,{"$error":"#N/A"}]
[null,null,{"$f":"VLOOKUP($B2310,'Ad Week Dates'!$A:$E,4,FALSE)","v":{"$error":"#N/A"}},{"$f":"VLOOKUP($B2310,'Ad Week Dates'!$A:$E,2,FALSE)","v":{"$error":"#N/A"}},{"$f":"VLOOKUP($B2310,'Ad Week Dates'!$A:$E,3,FALSE)","v":{"$error":"#N/A"}},null,null,null,null,null,null,{"$f":"IF(ISNUMBER(J2310), J2310 - K2310, VALUE(_xlfn.TEXTBEFORE(J2310, \"-\")) - VALUE(_xlfn.TEXTBEFORE(K2310, \"-\")))","v":{"$error":"#N/A"}}]
[null,null,{"$f":"VLOOKUP($B2311,'Ad Week Dates'!$A:$E,4,FALSE)","v":{"$error":"#N/A"}},{"$f":"VLOOKUP($B2311,'Ad Week Dates'!$A:$E,2,FALSE)","v":{"$error":"#N/A"}},{"$f":"VLOOKUP($B2311,'Ad Week Dates'!$A:$E,3,FALSE)","v":{"$error":"#N/A"}},null,null,null,null,null,null,{"$error":"#N/A"}]
[null,null,{"$f":"VLOOKUP($B2312,'Ad Week Dates'!$A:$E,4,FALSE)","v":{"$error":"#N/A"}},{"$f":"VLOOKUP($B2312,'Ad Week Dates'!$A:$E,2,FALSE)","v":{"$error":"#N/A"}},{"$f":"VLOOKUP($B2312,'Ad Week Dates'!$A:$E,3,FALSE)","v":{"$error":"#N/A"}},null,null,null,null,null,null,{"$error":"#N/A"}]
[null,null,{"$f":"VLOOKUP($B2313,'Ad Week Dates'!$A:$E,4,FALSE)","v":{"$error":"#N/A"}},{"$f":"VLOOKUP($B2313,'Ad Week Dates'!$A:$E,2,FALSE)","v":{"$error":"#N/A"}},{"$f":"VLOOKUP($B2313,'Ad Week Dates'!$A:$E,3,FALSE)","v":{"$error":"#N/A"}},null,null,null,null,null,null,{"$error":"#N/A"}]
[null,null,{"$f":"VLOOKUP($B2314,'Ad Week Dates'!$A:$E,4,FALSE)","v":{"$error":"#N/A"}},{"$f":"VLOOKUP($B2314,'Ad Week Dates'!$A:$E,2,FALSE)","v":{"$error":"#N/A"}},{"$f":"VLOOKUP($B2314,'Ad Week Dates'!$A:$E,3,FALSE)","v":{"$error":"#N/A"}},null,null,null,null,null,null,{"$error":"#N/A"}]
[null,null,{"$f":"VLOOKUP($B2315,'Ad Week Dates'!$A:$E,4,FALSE)","v":{"$error":"#N/A"}},{"$f":"VLOOKUP($B2315,'Ad Week Dates'!$A:$E,2,FALSE)","v":{"$error":"#N/A"}},{"$f":"VLOOKUP($B2315,'Ad Week Dates'!$A:$E,3,FALSE)","v":{"$error":"#N/A"}},null,null,null,null,null,null,{"$error":"#N/A"}]
[null,null,{"$f":"VLOOKUP($B2316,'Ad Week Dates'!$A:$E,4,FALSE)","v":{"$error":"#N/A"}},{"$f":"VLOOKUP($B2316,'Ad Week Dates'!$A:$E,2,FALSE)","v":{"$error":"#N/A"}},{"$f":"VLOOKUP($B2316,'Ad Week Dates'!$A:$E,3,FALSE)","v":{"$error":"#N/A"}},null,null,null,null,null,null,{"$error":"#N/A"}]
[null,null,{"$f":"VLOOKUP($B2317,'Ad Week Dates'!$A:$E,4,FALSE)","v":{"$error":"#N/A"}},{"$f":"VLOOKUP($B2317,'Ad Week Dates'!$A:$E,2,FALSE)","v":{"$error":"#N/A"}},{"$f":"VLOOKUP($B2317,'Ad Week Dates'!$A:$E,3,FALSE)","v":{"$error":"#N/A"}},null,null,null,null,null,null,{"$error":"#N/A"}]
[null,null,{"$f":"VLOOKUP($B2318,'Ad Week Dates'!$A:$E,4,FALSE)","v":{"$error":"#N/A"}},{"$f":"VLOOKUP($B2318,'Ad Week Dates'!$A:$E,2,FALSE)","v":{"$error":"#N/A"}},{"$f":"VLOOKUP($B2318,'Ad Week Dates'!$A:$E,3,FALSE)","v":{"$error":"#N/A"}},null,null,null,null,null,null,{"$error":"#N/A"}]
[null,null,{"$f":"VLOOKUP($B2319,'Ad Week Dates'!$A:$E,4,FALSE)","v":{"$error":"#N/A"}},{"$f":"VLOOKUP($B2319,'Ad Week Dates'!$A:$E,2,FALSE)","v":{"$error":"#N/A"}},{"$f":"VLOOKUP($B2319,'Ad Week Dates'!$A:$E,3,FALSE)","v":{"$error":"#N/A"}},null,null,null,null,null,null,{"$error":"#N/A"}]
[null,null,{"$f":"VLOOKUP($B2320,'Ad Week Dates'!$A:$E,4,FALSE)","v":{"$error":"#N/A"}},{"$f":"VLOOKUP($B2320,'Ad Week Dates'!$A:$E,2,FALSE)","v":{"$error":"#N/A"}},{"$f":"VLOOKUP($B2320,'Ad Week Dates'!$A:$E,3,FALSE)","v":{"$error":"#N/A"}},null,null,null,null,null,null,{"$error":"#N/A"}]
[null,null,{"$f":"VLOOKUP($B2321,'Ad Week Dates'!$A:$E,4,FALSE)","v":{"$error":"#N/A"}},{"$f":"VLOOKUP($B2321,'Ad Week Dates'!$A:$E,2,FALSE)","v":{"$error":"#N/A"}},{"$f":"VLOOKUP($B2321,'Ad Week Dates'!$A:$E,3,FALSE)","v":{"$error":"#N/A"}},null,null,null,null,null,null,{"$error":"#N/A"}]
[null,null,{"$f":"VLOOKUP($B2322,'Ad Week Dates'!$A:$E,4,FALSE)","v":{"$error":"#N/A"}},{"$f":"VLOOKUP($B2322,'Ad Week Dates'!$A:$E,2,FALSE)","v":{"$error":"#N/A"}},{"$f":"VLOOKUP($B2322,'Ad Week Dates'!$A:$E,3,FALSE)","v":{"$error":"#N/A"}},null,null,null,null,null,null,{"$error":"#N/A"}]
[null,null,{"$f":"VLOOKUP($B2323,'Ad Week Dates'!$A:$E,4,FALSE)","v":{"$error":"#N/A"}},{"$f":"VLOOKUP($B2323,'Ad Week Dates'!$A:$E,2,FALSE)","v":{"$error":"#N/A"}},{"$f":"VLOOKUP($B2323,'Ad Week Dates'!$A:$E,3,FALSE)","v":{"$error":"#N/A"}},null,null,null,null,null,null,{"$error":"#N/A"}]
[null,null,{"$f":"VLOOKUP($B2324,'Ad Week Dates'!$A:$E,4,FALSE)","v":{"$error":"#N/A"}},{"$f":"VLOOKUP($B2324,'Ad Week Dates'!$A:$E,2,FALSE)","v":{"$error":"#N/A"}},{"$f":"VLOOKUP($B2324,'Ad Week Dates'!$A:$E,3,FALSE)","v":{"$error":"#N/A"}},null,null,null,null,null,null,{"$error":"#N/A"}]
[null,null,{"$f":"VLOOKUP($B2325,'Ad Week Dates'!$A:$E,4,FALSE)","v":{"$error":"#N/A"}},{"$f":"VLOOKUP($B2325,'Ad Week Dates'!$A:$E,2,FALSE)","v":{"$error":"#N/A"}},{"$f":"VLOOKUP($B2325,'Ad Week Dates'!$A:$E,3,FALSE)","v":{"$error":"#N/A"}},null,null,null,null,null,null,{"$error":"#N/A"}]
[null,null,{"$f":"VLOOKUP($B2326,'Ad Week Dates'!$A:$E,4,FALSE)","v":{"$error":"#N/A"}},{"$f":"VLOOKUP($B2326,'Ad Week Dates'!$A:$E,2,FALSE)","v":{"$error":"#N/A"}},{"$f":"VLOOKUP($B2326,'Ad Week Dates'!$A:$E,3,FALSE)","v":{"$error":"#N/A"}},null,null,null,null,null,null,{"$error":"#N/A"}]
[null,null,{"$f":"VLOOKUP($B2327,'Ad Week Dates'!$A:$E,4,FALSE)","v":{"$error":"#N/A"}},{"$f":"VLOOKUP($B2327,'Ad Week Dates'!$A:$E,2,FALSE)","v":{"$error":"#N/A"}},{"$f":"VLOOKUP($B2327,'Ad Week Dates'!$A:$E,3,FALSE)","v":{"$error":"#N/A"}},null,null,null,null,null,null,{"$error":"#N/A"}]
[null,null,{"$f":"VLOOKUP($B2328,'Ad Week Dates'!$A:$E,4,FALSE)","v":{"$error":"#N/A"}},{"$f":"VLOOKUP($B2328,'Ad Week Dates'!$A:$E,2,FALSE)","v":{"$error":"#N/A"}},{"$f":"VLOOKUP($B2328,'Ad Week Dates'!$A:$E,3,FALSE)","v":{"$error":"#N/A"}},null,null,null,null,null,null,{"$error":"#N/A"}]
[null,null,{"$f":"VLOOKUP($B2329,'Ad Week Dates'!$A:$E,4,FALSE)","v":{"$error":"#N/A"}},{"$f":"VLOOKUP($B2329,'Ad Week Dates'!$A:$E,2,FALSE)","v":{"$error":"#N/A"}},{"$f":"VLOOKUP($B2329,'Ad Week Dates'!$A:$E,3,FALSE)","v":{"$error":"#N/A"}},null,null,null,null,null,null,{"$error":"#N/A"}]
[null,null,{"$f":"VLOOKUP($B2330,'Ad Week Dates'!$A:$E,4,FALSE)","v":{"$error":"#N/A"}},{"$f":"VLOOKUP($B2330,'Ad Week Dates'!$A:$E,2,FALSE)","v":{"$error":"#N/A"}},{"$f":"VLOOKUP($B2330,'Ad Week Dates'!$A:$E,3,FALSE)","v":{"$error":"#N/A"}},null,null,null,null,null,null,{"$error":"#N/A"}]
[null,null,{"$f":"VLOOKUP($B2331,'Ad Week Dates'!$A:$E,4,FALSE)","v":{"$error":"#N/A"}},{"$f":"VLOOKUP($B2331,'Ad Week Dates'!$A:$E,2,FALSE)","v":{"$error":"#N/A"}},{"$f":"VLOOKUP($B2331,'Ad Week Dates'!$A:$E,3,FALSE)","v":{"$error":"#N/A"}},null,null,null,null,null,null,{"$error":"#N/A"}]
[null,null,{"$f":"VLOOKUP($B2332,'Ad Week Dates'!$A:$E,4,FALSE)","v":{"$error":"#N/A"}},{"$f":"VLOOKUP($B2332,'Ad Week Dates'!$A:$E,2,FALSE)","v":{"$error":"#N/A"}},{"$f":"VLOOKUP($B2332,'Ad Week Dates'!$A:$E,3,FALSE)","v":{"$error":"#N/A"}},null,null,null,null,null,null,{"$error":"#N/A"}]
[null,null,{"$f":"VLOOKUP($B2333,'Ad Week Dates'!$A:$E,4,FALSE)","v":{"$error":"#N/A"}},{"$f":"VLOOKUP($B2333,'Ad Week Dates'!$A:$E,2,FALSE)","v":{"$error":"#N/A"}},{"$f":"VLOOKUP($B2333,'Ad Week Dates'!$A:$E,3,FALSE)","v":{"$error":"#N/A"}},null,null,null,null,null,null,{"$error":"#N/A"}]
[null,null,{"$f":"VLOOKUP($B2334,'Ad Week Dates'!$A:$E,4,FALSE)","v":{"$error":"#N/A"}},{"$f":"VLOOKUP($B2334,'Ad Week Dates'!$A:$E,2,FALSE)","v":{"$error":"#N/A"}},{"$f":"VLOOKUP($B2334,'Ad Week Dates'!$A:$E,3,FALSE)","v":{"$error":"#N/A"}},null,null,null,null,null,null,{"$error":"#N/A"}]
[null,null,{"$f":"VLOOKUP($B2335,'Ad Week Dates'!$A:$E,4,FALSE)","v":{"$error":"#N/A"}},{"$f":"VLOOKUP($B2335,'Ad Week Dates'!$A:$E,2,FALSE)","v":{"$error":"#N/A"}},{"$f":"VLOOKUP($B2335,'Ad Week Dates'!$A:$E,3,FALSE)","v":{"$error":"#N/A"}},null,null,null,null,null,null,{"$error":"#N/A"}]
[null,null,{"$f":"VLOOKUP($B2336,'Ad Week Dates'!$A:$E,4,FALSE)","v":{"$error":"#N/A"}},{"$f":"VLOOKUP($B2336,'Ad Week Dates'!$A:$E,2,FALSE)","v":{"$error":"#N/A"}},{"$f":"VLOOKUP($B2336,'Ad Week Dates'!$A:$E,3,FALSE)","v":{"$error":"#N/A"}},null,null,null,null,null,null,{"$error":"#N/A"}]
[null,null,{"$f":"VLOOKUP($B2337,'Ad Week Dates'!$A:$E,4,FALSE)","v":{"$error":"#N/A"}},{"$f":"VLOOKUP($B2337,'Ad Week Dates'!$A:$E,2,FALSE)","v":{"$error":"#N/A"}},{"$f":"VLOOKUP($B2337,'Ad Week Dates'!$A:$E,3,FALSE)","v":{"$error":"#N/A"}},null,null,null,null,null,null,{"$error":"#N/A"}]
[null,null,{"$f":"VLOOKUP($B2338,'Ad Week Dates'!$A:$E,4,FALSE)","v":{"$error":"#N/A"}},{"$f":"VLOOKUP($B2338,'Ad Week Dates'!$A:$E,2,FALSE)","v":{"$error":"#N/A"}},{"$f":"VLOOKUP($B2338,'Ad Week Dates'!$A:$E,3,FALSE)","v":{"$error":"#N/A"}},null,null,null,null,null,null,{"$error":"#N/A"}]
[null,null,{"$f":"VLOOKUP($B2339,'Ad Week Dates'!$A:$E,4,FALSE)","v":{"$error":"#N/A"}},{"$f":"VLOOKUP($B2339,'Ad Week Dates'!$A:$E,2,FALSE)","v":{"$error":"#N/A"}},{"$f":"VLOOKUP($B2339,'Ad Week Dates'!$A:$E,3,FALSE)","v":{"$error":"#N/A"}},null,null,null,null,null,null,{"$error":"#N/A"}]
[null,null,{"$f":"VLOOKUP($B2340,'Ad Week Dates'!$A:$E,4,FALSE)","v":{"$error":"#N/A"}},{"$f":"VLOOKUP($B2340,'Ad Week Dates'!$A:$E,2,FALSE)","v":{"$error":"#N/A"}},{"$f":"VLOOKUP($B2340,'Ad Week Dates'!$A:$E,3,FALSE)","v":{"$error":"#N/A"}},null,null,null,null,null,null,{"$error":"#N/A"}]
[null,null,{"$f":"VLOOKUP($B2341,'Ad Week Dates'!$A:$E,4,FALSE)","v":{"$error":"#N/A"}},{"$f":"VLOOKUP($B2341,'Ad Week Dates'!$A:$E,2,FALSE)","v":{"$error":"#N/A"}},{"$f":"VLOOKUP($B2341,'Ad Week Dates'!$A:$E,3,FALSE)","v":{"$error":"#N/A"}},null,null,null,null,null,null,{"$error":"#N/A"}]
[null,null,{"$f":"VLOOKUP($B2342,'Ad Week Dates'!$A:$E,4,FALSE)","v":{"$error":"#N/A"}},{"$f":"VLOOKUP($B2342,'Ad Week Dates'!$A:$E,2,FALSE)","v":{"$error":"#N/A"}},{"$f":"VLOOKUP($B2342,'Ad Week Dates'!$A:$E,3,FALSE)","v":{"$error":"#N/A"}},null,null,null,null,null,null,{"$error":"#N/A"}]
[null,null,{"$f":"VLOOKUP($B2343,'Ad Week Dates'!$A:$E,4,FALSE)","v":{"$error":"#N/A"}},{"$f":"VLOOKUP($B2343,'Ad Week Dates'!$A:$E,2,FALSE)","v":{"$error":"#N/A"}},{"$f":"VLOOKUP($B2343,'Ad Week Dates'!$A:$E,3,FALSE)","v":{"$error":"#N/A"}},null,null,null,null,null,null,{"$error":"#N/A"}]
[null,null,{"$f":"VLOOKUP($B2344,'Ad Week Dates'!$A:$E,4,FALSE)","v":{"$error":"#N/A"}},{"$f":"VLOOKUP($B2344,'Ad Week Dates'!$A:$E,2,FALSE)","v":{"$error":"#N/A"}},{"$f":"VLOOKUP($B2344,'Ad Week Dates'!$A:$E,3,FALSE)","v":{"$error":"#N/A"}},null,null,null,null,null,null,{"$error":"#N/A"}]
[null,null,{"$f":"VLOOKUP($B2345,'Ad Week Dates'!$A:$E,4,FALSE)","v":{"$error":"#N/A"}},{"$f":"VLOOKUP($B2345,'Ad Week Dates'!$A:$E,2,FALSE)","v":{"$error":"#N/A"}},{"$f":"VLOOKUP($B2345,'Ad Week Dates'!$A:$E,3,FALSE)","v":{"$error":"#N/A"}},null,null,null,null,null,null,{"$error":"#N/A"}]
[null,null,{"$f":"VLOOKUP($B2346,'Ad Week Dates'!$A:$E,4,FALSE)","v":{"$error":"#N/A"}},{"$f":"VLOOKUP($B2346,'Ad Week Dates'!$A:$E,2,FALSE)","v":{"$error":"#N/A"}},{"$f":"VLOOKUP($B2346,'Ad Week Dates'!$A:$E,3,FALSE)","v":{"$error":"#N/A"}},null,null,null,null,null,null,{"$error":"#N/A"}]
[null,null,{"$f":"VLOOKUP($B2347,'Ad Week Dates'!$A:$E,4,FALSE)","v":{"$error":"#N/A"}},{"$f":"VLOOKUP($B2347,'Ad Week Dates'!$A:$E,2,FALSE)","v":{"$error":"#N/A"}},{"$f":"VLOOKUP($B2347,'Ad Week Dates'!$A:$E,3,FALSE)","v":{"$error":"#N/A"}},null,null,null,null,null,null,{"$error":"#N/A"}]
[null,null,{"$f":"VLOOKUP($B2348,'Ad Week Dates'!$A:$E,4,FALSE)","v":{"$error":"#N/A"}},{"$f":"VLOOKUP($B2348,'Ad Week Dates'!$A:$E,2,FALSE)","v":{"$error":"#N/A"}},{"$f":"VLOOKUP($B2348,'Ad Week Dates'!$A:$E,3,FALSE)","v":{"$error":"#N/A"}},null,null,null,null,null,null,{"$error":"#N/A"}]
[null,null,{"$f":"VLOOKUP($B2349,'Ad Week Dates'!$A:$E,4,FALSE)","v":{"$error":"#N/A"}},{"$f":"VLOOKUP($B2349,'Ad Week Dates'!$A:$E,2,FALSE)","v":{"$error":"#N/A"}},{"$f":"VLOOKUP($B2349,'Ad Week Dates'!$A:$E,3,FALSE)","v":{"$error":"#N/A"}},null,null,null,null,null,null,{"$error":"#N/A"}]
[null,null,{"$f":"VLOOKUP($B2350,'Ad Week Dates'!$A:$E,4,FALSE)","v":{"$error":"#N/A"}},{"$f":"VLOOKUP($B2350,'Ad Week Dates'!$A:$E,2,FALSE)","v":{"$error":"#N/A"}},{"$f":"VLOOKUP($B2350,'Ad Week Dates'!$A:$E,3,FALSE)","v":{"$error":"#N/A"}},null,null,null,null,null,null,{"$error":"#N/A"}]
[null,null,{"$f":"VLOOKUP($B2351,'Ad Week Dates'!$A:$E,4,FALSE)","v":{"$error":"#N/A"}},{"$f":"VLOOKUP($B2351,'Ad Week Dates'!$A:$E,2,FALSE)","v":{"$error":"#N/A"}},{"$f":"VLOOKUP($B2351,'Ad Week Dates'!$A:$E,3,FALSE)","v":{"$error":"#N/A"}},null,null,null,null,null,null,{"$error":"#N/A"}]
[null,null,{"$f":"VLOOKUP($B2352,'Ad Week Dates'!$A:$E,4,FALSE)","v":{"$error":"#N/A"}},{"$f":"VLOOKUP($B2352,'Ad Week Dates'!$A:$E,2,FALSE)","v":{"$error":"#N/A"}},{"$f":"VLOOKUP($B2352,'Ad Week Dates'!$A:$E,3,FALSE)","v":{"$error":"#N/A"}},null,null,null,null,null,null,{"$error":"#N/A"}]
[null,null,{"$f":"VLOOKUP($B2353,'Ad Week Dates'!$A:$E,4,FALSE)","v":{"$error":"#N/A"}},{"$f":"VLOOKUP($B2353,'Ad Week Dates'!$A:$E,2,FALSE)","v":{"$error":"#N/A"}},{"$f":"VLOOKUP($B2353,'Ad Week Dates'!$A:$E,3,FALSE)","v":{"$error":"#N/A"}},null,null,null,null,null,null,{"$error":"#N/A"}]
[null,null,{"$f":"VLOOKUP($B2354,'Ad Week Dates'!$A:$E,4,FALSE)","v":{"$error":"#N/A"}},{"$f":"VLOOKUP($B2354,'Ad Week Dates'!$A:$E,2,FALSE)","v":{"$error":"#N/A"}},{"$f":"VLOOKUP($B2354,'Ad Week Dates'!$A:$E,3,FALSE)","v":{"$error":"#N/A"}},null,null,null,null,null,null,{"$error":"#N/A"}]
[null,null,{"$f":"VLOOKUP($B2355,'Ad Week Dates'!$A:$E,4,FALSE)","v":{"$error":"#N/A"}},{"$f":"VLOOKUP($B2355,'Ad Week Dates'!$A:$E,2,FALSE)","v":{"$error":"#N/A"}},{"$f":"VLOOKUP($B2355,'Ad Week Dates'!$A:$E,3,FALSE)","v":{"$error":"#N/A"}},null,null,null,null,null,null,{"$error":"#N/A"}]
[null,null,{"$f":"VLOOKUP($B2356,'Ad Week Dates'!$A:$E,4,FALSE)","v":{"$error":"#N/A"}},{"$f":"VLOOKUP($B2356,'Ad Week Dates'!$A:$E,2,FALSE)","v":{"$error":"#N/A"}},{"$f":"VLOOKUP($B2356,'Ad Week Dates'!$A:$E,3,FALSE)","v":{"$error":"#N/A"}},null,null,null,null,null,null,{"$error":"#N/A"}]
[null,null,{"$f":"VLOOKUP($B2357,'Ad Week Dates'!$A:$E,4,FALSE)","v":{"$error":"#N/A"}},{"$f":"VLOOKUP($B2357,'Ad Week Dates'!$A:$E,2,FALSE)","v":{"$error":"#N/A"}},{"$f":"VLOOKUP($B2357,'Ad Week Dates'!$A:$E,3,FALSE)","v":{"$error":"#N/A"}},null,null,null,null,null,null,{"$error":"#N/A"}]
[null,null,{"$f":"VLOOKUP($B2358,'Ad Week Dates'!$A:$E,4,FALSE)","v":{"$error":"#N/A"}},{"$f":"VLOOKUP($B2358,'Ad Week Dates'!$A:$E,2,FALSE)","v":{"$error":"#N/A"}},{"$f":"VLOOKUP($B2358,'Ad Week Dates'!$A:$E,3,FALSE)","v":{"$error":"#N/A"}},null,null,null,null,null,null,{"$error":"#N/A"}]
[null,null,{"$f":"VLOOKUP($B2359,'Ad Week Dates'!$A:$E,4,FALSE)","v":{"$error":"#N/A"}},{"$f":"VLOOKUP($B2359,'Ad Week Dates'!$A:$E,2,FALSE)","v":{"$error":"#N/A"}},{"$f":"VLOOKUP($B2359,'Ad Week Dates'!$A:$E,3,FALSE)","v":{"$error":"#N/A"}},null,null,null,null,null,null,{"$error":"#N/A"}]
[null,null,{"$f":"VLOOKUP($B2360,'Ad Week Dates'!$A:$E,4,FALSE)","v":{"$error":"#N/A"}},{"$f":"VLOOKUP($B2360,'Ad Week Dates'!$A:$E,2,FALSE)","v":{"$error":"#N/A"}},{"$f":"VLOOKUP($B2360,'Ad Week Dates'!$A:$E,3,FALSE)","v":{"$error":"#N/A"}},null,null,null,null,null,null,{"$error":"#N/A"}]
[null,null,{"$f":"VLOOKUP($B2361,'Ad Week Dates'!$A:$E,4,FALSE)","v":{"$error":"#N/A"}},{"$f":"VLOOKUP($B2361,'Ad Week Dates'!$A:$E,2,FALSE)","v":{"$error":"#N/A"}},{"$f":"VLOOKUP($B2361,'Ad Week Dates'!$A:$E,3,FALSE)","v":{"$error":"#N/A"}},null,null,null,null,null,null,{"$error":"#N/A"}]
[null,null,{"$f":"VLOOKUP($B2362,'Ad Week Dates'!$A:$E,4,FALSE)","v":{"$error":"#N/A"}},{"$f":"VLOOKUP($B2362,'Ad Week Dates'!$A:$E,2,FALSE)","v":{"$error":"#N/A"}},{"$f":"VLOOKUP($B2362,'Ad Week Dates'!$A:$E,3,FALSE)","v":{"$error":"#N/A"}},null,null,null,null,null,null,{"$error":"#N/A"}]
[null,null,{"$f":"VLOOKUP($B2363,'Ad Week Dates'!$A:$E,4,FALSE)","v":{"$error":"#N/A"}},{"$f":"VLOOKUP($B2363,'Ad Week Dates'!$A:$E,2,FALSE)","v":{"$error":"#N/A"}},{"$f":"VLOOKUP($B2363,'Ad Week Dates'!$A:$E,3,FALSE)","v":{"$error":"#N/A"}},null,null,null,null,null,null,{"$error":"#N/A"}]
[null,null,{"$f":"VLOOKUP($B2364,'Ad Week Dates'!$A:$E,4,FALSE)","v":{"$error":"#N/A"}},{"$f":"VLOOKUP($B2364,'Ad Week Dates'!$A:$E,2,FALSE)","v":{"$error":"#N/A"}},{"$f":"VLOOKUP($B2364,'Ad Week Dates'!$A:$E,3,FALSE)","v":{"$error":"#N/A"}},null,null,null,null,null,null,{"$error":"#N/A"}]
[null,null,{"$f":"VLOOKUP($B2365,'Ad Week Dates'!$A:$E,4,FALSE)","v":{"$error":"#N/A"}},{"$f":"VLOOKUP($B2365,'Ad Week Dates'!$A:$E,2,FALSE)","v":{"$error":"#N/A"}},{"$f":"VLOOKUP($B2365,'Ad Week Dates'!$A:$E,3,FALSE)","v":{"$error":"#N/A"}},null,null,null,null,null,null,{"$error":"#N/A"}]
[null,null,{"$f":"VLOOKUP($B2366,'Ad Week Dates'!$A:$E,4,FALSE)","v":{"$error":"#N/A"}},{"$f":"VLOOKUP($B2366,'Ad Week Dates'!$A:$E,2,FALSE)","v":{"$error":"#N/A"}},{"$f":"VLOOKUP($B2366,'Ad Week Dates'!$A:$E,3,FALSE)","v":{"$error":"#N/A"}},null,null,null,null,null,null,{"$error":"#N/A"}]
[null,null,{"$f":"VLOOKUP($B2367,'Ad Week Dates'!$A:$E,4,FALSE)","v":{"$error":"#N/A"}},{"$f":"VLOOKUP($B2367,'Ad Week Dates'!$A:$E,2,FALSE)","v":{"$error":"#N/A"}},{"$f":"VLOOKUP($B2367,'Ad Week Dates'!$A:$E,3,FALSE)","v":{"$error":"#N/A"}},null,null,null,null,null,null,{"$error":"#N/A"}]
[null,null,{"$f":"VLOOKUP($B2368,'Ad Week Dates'!$A:$E,4,FALSE)","v":{"$error":"#N/A"}},{"$f":"VLOOKUP($B2368,'Ad Week Dates'!$A:$E,2,FALSE)","v":{"$error":"#N/A"}},{"$f":"VLOOKUP($B2368,'Ad Week Dates'!$A:$E,3,FALSE)","v":{"$error":"#N/A"}},null,null,null,null,null,null,{"$error":"#N/A"}]
[null,null,{"$f":"VLOOKUP($B2369,'Ad Week Dates'!$A:$E,4,FALSE)","v":{"$error":"#N/A"}},{"$f":"VLOOKUP($B2369,'Ad Week Dates'!$A:$E,2,FALSE)","v":{"$error":"#N/A"}},{"$f":"VLOOKUP($B2369,'Ad Week Dates'!$A:$E,3,FALSE)","v":{"$error":"#N/A"}},null,null,null,null,null,null,{"$error":"#N/A"}]
[null,null,{"$f":"VLOOKUP($B2370,'Ad Week Dates'!$A:$E,4,FALSE)","v":{"$error":"#N/A"}},{"$f":"VLOOKUP($B2370,'Ad Week Dates'!$A:$E,2,FALSE)","v":{"$error":"#N/A"}},{"$f":"VLOOKUP($B2370,'Ad Week Dates'!$A:$E,3,FALSE)","v":{"$error":"#N/A"}},null,null,null,null,null,null,{"$error":"#N/A"}]
[null,null,{"$f":"VLOOKUP($B2371,'Ad Week Dates'!$A:$E,4,FALSE)","v":{"$error":"#N/A"}},{"$f":"VLOOKUP($B2371,'Ad Week Dates'!$A:$E,2,FALSE)","v":{"$error":"#N/A"}},{"$f":"VLOOKUP($B2371,'Ad Week Dates'!$A:$E,3,FALSE)","v":{"$error":"#N/A"}},null,null,null,null,null,null,{"$error":"#N/A"}]
[null,null,{"$f":"VLOOKUP($B2372,'Ad Week Dates'!$A:$E,4,FALSE)","v":{"$error":"#N/A"}},{"$f":"VLOOKUP($B2372,'Ad Week Dates'!$A:$E,2,FALSE)","v":{"$error":"#N/A"}},{"$f":"VLOOKUP($B2372,'Ad Week Dates'!$A:$E,3,FALSE)","v":{"$error":"#N/A"}},null,null,null,null,null,null,{"$error":"#N/A"}]
[null,null,{"$f":"VLOOKUP($B2373,'Ad Week Dates'!$A:$E,4,FALSE)","v":{"$error":"#N/A"}},{"$f":"VLOOKUP($B2373,'Ad Week Dates'!$A:$E,2,FALSE)","v":{"$error":"#N/A"}},{"$f":"VLOOKUP($B2373,'Ad Week Dates'!$A:$E,3,FALSE)","v":{"$error":"#N/A"}},null,null,null,null,null,null,{"$error":"#N/A"}]
[null,null,{"$f":"VLOOKUP($B2374,'Ad Week Dates'!$A:$E,4,FALSE)","v":{"$error":"#N/A"}},{"$f":"VLOOKUP($B2374,'Ad Week Dates'!$A:$E,2,FALSE)","v":{"$error":"#N/A"}},{"$f":"VLOOKUP($B2374,'Ad Week Dates'!$A:$E,3,FALSE)","v":{"$error":"#N/A"}},null,null,null,null,null,null,{"$f":"IF(ISNUMBER(J2374), J2374 - K2374, VALUE(_xlfn.TEXTBEFORE(J2374, \"-\")) - VALUE(_xlfn.TEXTBEFORE(K2374, \"-\")))","v":{"$error":"#N/A"}}]
[null,null,{"$f":"VLOOKUP($B2375,'Ad Week Dates'!$A:$E,4,FALSE)","v":{"$error":"#N/A"}},{"$f":"VLOOKUP($B2375,'Ad Week Dates'!$A:$E,2,FALSE)","v":{"$error":"#N/A"}},{"$f":"VLOOKUP($B2375,'Ad Week Dates'!$A:$E,3,FALSE)","v":{"$error":"#N/A"}},null,null,null,null,null,null,{"$error":"#N/A"}]
[null,null,{"$f":"VLOOKUP($B2376,'Ad Week Dates'!$A:$E,4,FALSE)","v":{"$error":"#N/A"}},{"$f":"VLOOKUP($B2376,'Ad Week Dates'!$A:$E,2,FALSE)","v":{"$error":"#N/A"}},{"$f":"VLOOKUP($B2376,'Ad Week Dates'!$A:$E,3,FALSE)","v":{"$error":"#N/A"}},null,null,null,null,null,null,{"$error":"#N/A"}]
[null,null,{"$f":"VLOOKUP($B2377,'Ad Week Dates'!$A:$E,4,FALSE)","v":{"$error":"#N/A"}},{"$f":"VLOOKUP($B2377,'Ad Week Dates'!$A:$E,2,FALSE)","v":{"$error":"#N/A"}},{"$f":"VLOOKUP($B2377,'Ad Week Dates'!$A:$E,3,FALSE)","v":{"$error":"#N/A"}},null,null,null,null,null,null,{"$error":"#N/A"}]
[null,null,{"$f":"VLOOKUP($B2378,'Ad Week Dates'!$A:$E,4,FALSE)","v":{"$error":"#N/A"}},{"$f":"VLOOKUP($B2378,'Ad Week Dates'!$A:$E,2,FALSE)","v":{"$error":"#N/A"}},{"$f":"VLOOKUP($B2378,'Ad Week Dates'!$A:$E,3,FALSE)","v":{"$error":"#N/A"}},null,null,null,null,null,null,{"$error":"#N/A"}]
[null,null,{"$f":"VLOOKUP($B2379,'Ad Week Dates'!$A:$E,4,FALSE)","v":{"$error":"#N/A"}},{"$f":"VLOOKUP($B2379,'Ad Week Dates'!$A:$E,2,FALSE)","v":{"$error":"#N/A"}},{"$f":"VLOOKUP($B2379,'Ad Week Dates'!$A:$E,3,FALSE)","v":{"$error":"#N/A"}},null,null,null,null,null,null,{"$error":"#N/A"}]
[null,null,{"$f":"VLOOKUP($B2380,'Ad Week Dates'!$A:$E,4,FALSE)","v":{"$error":"#N/A"}},{"$f":"VLOOKUP($B2380,'Ad Week Dates'!$A:$E,2,FALSE)","v":{"$error":"#N/A"}},{"$f":"VLOOKUP($B2380,'Ad Week Dates'!$A:$E,3,FALSE)","v":{"$error":"#N/A"}},null,null,null,null,null,null,{"$error":"#N/A"}]
[null,null,{"$f":"VLOOKUP($B2381,'Ad Week Dates'!$A:$E,4,FALSE)","v":{"$error":"#N/A"}},{"$f":"VLOOKUP($B2381,'Ad Week Dates'!$A:$E,2,FALSE)","v":{"$error":"#N/A"}},{"$f":"VLOOKUP($B2381,'Ad Week Dates'!$A:$E,3,FALSE)","v":{"$error":"#N/A"}},null,null,null,null,null,null,{"$error":"#N/A"}]
[null,null,{"$f":"VLOOKUP($B2382,'Ad Week Dates'!$A:$E,4,FALSE)","v":{"$error":"#N/A"}},{"$f":"VLOOKUP($B2382,'Ad Week Dates'!$A:$E,2,FALSE)","v":{"$error":"#N/A"}},{"$f":"VLOOKUP($B2382,'Ad Week Dates'!$A:$E,3,FALSE)","v":{"$error":"#N/A"}},null,null,null,null,null,null,{"$error":"#N/A"}]
[null,null,{"$f":"VLOOKUP($B2383,'Ad Week Dates'!$A:$E,4,FALSE)","v":{"$error":"#N/A"}},{"$f":"VLOOKUP($B2383,'Ad Week Dates'!$A:$E,2,FALSE)","v":{"$error":"#N/A"}},{"$f":"VLOOKUP($B2383,'Ad Week Dates'!$A:$E,3,FALSE)","v":{"$error":"#N/A"}},null,null,null,null,null,null,{"$error":"#N/A"}]
[null,null,{"$f":"VLOOKUP($B2384,'Ad Week Dates'!$A:$E,4,FALSE)","v":{"$error":"#N/A"}},{"$f":"VLOOKUP($B2384,'Ad Week Dates'!$A:$E,2,FALSE)","v":{"$error":"#N/A"}},{"$f":"VLOOKUP($B2384,'Ad Week Dates'!$A:$E,3,FALSE)","v":{"$error":"#N/A"}},null,null,null,null,null,null,{"$error":"#N/A"}]
[null,null,{"$f":"VLOOKUP($B2385,'Ad Week Dates'!$A:$E,4,FALSE)","v":{"$error":"#N/A"}},{"$f":"VLOOKUP($B2385,'Ad Week Dates'!$A:$E,2,FALSE)","v":{"$error":"#N/A"}},{"$f":"VLOOKUP($B2385,'Ad Week Dates'!$A:$E,3,FALSE)","v":{"$error":"#N/A"}},null,null,null,null,null,null,{"$error":"#N/A"}]
[null,null,{"$f":"VLOOKUP($B2386,'Ad Week Dates'!$A:$E,4,FALSE)","v":{"$error":"#N/A"}},{"$f":"VLOOKUP($B2386,'Ad Week Dates'!$A:$E,2,FALSE)","v":{"$error":"#N/A"}},{"$f":"VLOOKUP($B2386,'Ad Week Dates'!$A:$E,3,FALSE)","v":{"$error":"#N/A"}},null,null,null,null,null,null,{"$error":"#N/A"}]
[null,null,{"$f":"VLOOKUP($B2387,'Ad Week Dates'!$A:$E,4,FALSE)","v":{"$error":"#N/A"}},{"$f":"VLOOKUP($B2387,'Ad Week Dates'!$A:$E,2,FALSE)","v":{"$error":"#N/A"}},{"$f":"VLOOKUP($B2387,'Ad Week Dates'!$A:$E,3,FALSE)","v":{"$error":"#N/A"}},null,null,null,null,null,null,{"$error":"#N/A"}]
[null,null,{"$f":"VLOOKUP($B2388,'Ad Week Dates'!$A:$E,4,FALSE)","v":{"$error":"#N/A"}},{"$f":"VLOOKUP($B2388,'Ad Week Dates'!$A:$E,2,FALSE)","v":{"$error":"#N/A"}},{"$f":"VLOOKUP($B2388,'Ad Week Dates'!$A:$E,3,FALSE)","v":{"$error":"#N/A"}},null,null,null,null,null,null,{"$error":"#N/A"}]
[null,null,{"$f":"VLOOKUP($B2389,'Ad Week Dates'!$A:$E,4,FALSE)","v":{"$error":"#N/A"}},{"$f":"VLOOKUP($B2389,'Ad Week Dates'!$A:$E,2,FALSE)","v":{"$error":"#N/A"}},{"$f":"VLOOKUP($B2389,'Ad Week Dates'!$A:$E,3,FALSE)","v":{"$error":"#N/A"}},null,null,null,null,null,null,{"$error":"#N/A"}]
[null,null,{"$f":"VLOOKUP($B2390,'Ad Week Dates'!$A:$E,4,FALSE)","v":{"$error":"#N/A"}},{"$f":"VLOOKUP($B2390,'Ad Week Dates'!$A:$E,2,FALSE)","v":{"$error":"#N/A"}},{"$f":"VLOOKUP($B2390,'Ad Week Dates'!$A:$E,3,FALSE)","v":{"$error":"#N/A"}},null,null,null,null,null,null,{"$error":"#N/A"}]
[null,null,{"$f":"VLOOKUP($B2391,'Ad Week Dates'!$A:$E,4,FALSE)","v":{"$error":"#N/A"}},{"$f":"VLOOKUP($B2391,'Ad Week Dates'!$A:$E,2,FALSE)","v":{"$error":"#N/A"}},{"$f":"VLOOKUP($B2391,'Ad Week Dates'!$A:$E,3,FALSE)","v":{"$error":"#N/A"}},null,null,null,null,null,null,{"$error":"#N/A"}]
[null,null,{"$f":"VLOOKUP($B2392,'Ad Week Dates'!$A:$E,4,FALSE)","v":{"$error":"#N/A"}},{"$f":"VLOOKUP($B2392,'Ad Week Dates'!$A:$E,2,FALSE)","v":{"$error":"#N/A"}},{"$f":"VLOOKUP($B2392,'Ad Week Dates'!$A:$E,3,FALSE)","v":{"$error":"#N/A"}},null,null,null,null,null,null,{"$error":"#N/A"}]
[null,null,{"$f":"VLOOKUP($B2393,'Ad Week Dates'!$A:$E,4,FALSE)","v":{"$error":"#N/A"}},{"$f":"VLOOKUP($B2393,'Ad Week Dates'!$A:$E,2,FALSE)","v":{"$error":"#N/A"}},{"$f":"VLOOKUP($B2393,'Ad Week Dates'!$A:$E,3,FALSE)","v":{"$error":"#N/A"}},null,null,null,null,null,null,{"$error":"#N/A"}]
[null,null,{"$f":"VLOOKUP($B2394,'Ad Week Dates'!$A:$E,4,FALSE)","v":{"$error":"#N/A"}},{"$f":"VLOOKUP($B2394,'Ad Week Dates'!$A:$E,2,FALSE)","v":{"$error":"#N/A"}},{"$f":"VLOOKUP($B2394,'Ad Week Dates'!$A:$E,3,FALSE)","v":{"$error":"#N/A"}},null,null,null,null,null,null,{"$error":"#N/A"}]
[null,null,{"$f":"VLOOKUP($B2395,'Ad Week Dates'!$A:$E,4,FALSE)","v":{"$error":"#N/A"}},{"$f":"VLOOKUP($B2395,'Ad Week Dates'!$A:$E,2,FALSE)","v":{"$error":"#N/A"}},{"$f":"VLOOKUP($B2395,'Ad Week Dates'!$A:$E,3,FALSE)","v":{"$error":"#N/A"}},null,null,null,null,null,null,{"$error":"#N/A"}]
[null,null,{"$f":"VLOOKUP($B2396,'Ad Week Dates'!$A:$E,4,FALSE)","v":{"$error":"#N/A"}},{"$f":"VLOOKUP($B2396,'Ad Week Dates'!$A:$E,2,FALSE)","v":{"$error":"#N/A"}},{"$f":"VLOOKUP($B2396,'Ad Week Dates'!$A:$E,3,FALSE)","v":{"$error":"#N/A"}},null,null,null,null,null,null,{"$error":"#N/A"}]
[null,null,{"$f":"VLOOKUP($B2397,'Ad Week Dates'!$A:$E,4,FALSE)","v":{"$error":"#N/A"}},{"$f":"VLOOKUP($B2397,'Ad Week Dates'!$A:$E,2,FALSE)","v":{"$error":"#N/A"}},{"$f":"VLOOKUP($B2397,'Ad Week Dates'!$A:$E,3,FALSE)","v":{"$error":"#N/A"}},null,null,null,null,null,null,{"$error":"#N/A"}]
[null,null,{"$f":"VLOOKUP($B2398,'Ad Week Dates'!$A:$E,4,FALSE)","v":{"$error":"#N/A"}},{"$f":"VLOOKUP($B2398,'Ad Week Dates'!$A:$E,2,FALSE)","v":{"$error":"#N/A"}},{"$f":"VLOOKUP($B2398,'Ad Week Dates'!$A:$E,3,FALSE)","v":{"$error":"#N/A"}},null,null,null,null,null,null,{"$error":"#N/A"}]
[null,null,{"$f":"VLOOKUP($B2399,'Ad Week Dates'!$A:$E,4,FALSE)","v":{"$error":"#N/A"}},{"$f":"VLOOKUP($B2399,'Ad Week Dates'!$A:$E,2,FALSE)","v":{"$error":"#N/A"}},{"$f":"VLOOKUP($B2399,'Ad Week Dates'!$A:$E,3,FALSE)","v":{"$error":"#N/A"}},null,null,null,null,null,null,{"$error":"#N/A"}]
[null,null,{"$f":"VLOOKUP($B2400,'Ad Week Dates'!$A:$E,4,FALSE)","v":{"$error":"#N/A"}},{"$f":"VLOOKUP($B2400,'Ad Week Dates'!$A:$E,2,FALSE)","v":{"$error":"#N/A"}},{"$f":"VLOOKUP($B2400,'Ad Week Dates'!$A:$E,3,FALSE)","v":{"$error":"#N/A"}},null,null,null,null,null,null,{"$error":"#N/A"}]
[null,null,{"$f":"VLOOKUP($B2401,'Ad Week Dates'!$A:$E,4,FALSE)","v":{"$error":"#N/A"}},{"$f":"VLOOKUP($B2401,'Ad Week Dates'!$A:$E,2,FALSE)","v":{"$error":"#N/A"}},{"$f":"VLOOKUP($B2401,'Ad Week Dates'!$A:$E,3,FALSE)","v":{"$error":"#N/A"}},null,null,null,null,null,null,{"$error":"#N/A"}]
[null,null,{"$f":"VLOOKUP($B2402,'Ad Week Dates'!$A:$E,4,FALSE)","v":{"$error":"#N/A"}},{"$f":"VLOOKUP($B2402,'Ad Week Dates'!$A:$E,2,FALSE)","v":{"$error":"#N/A"}},{"$f":"VLOOKUP($B2402,'Ad Week Dates'!$A:$E,3,FALSE)","v":{"$error":"#N/A"}},null,null,null,null,null,null,{"$error":"#N/A"}]
[null,null,{"$f":"VLOOKUP($B2403,'Ad Week Dates'!$A:$E,4,FALSE)","v":{"$error":"#N/A"}},{"$f":"VLOOKUP($B2403,'Ad Week Dates'!$A:$E,2,FALSE)","v":{"$error":"#N/A"}},{"$f":"VLOOKUP($B2403,'Ad Week Dates'!$A:$E,3,FALSE)","v":{"$error":"#N/A"}},null,null,null,null,null,null,{"$error":"#N/A"}]
[null,null,{"$f":"VLOOKUP($B2404,'Ad Week Dates'!$A:$E,4,FALSE)","v":{"$error":"#N/A"}},{"$f":"VLOOKUP($B2404,'Ad Week Dates'!$A:$E,2,FALSE)","v":{"$error":"#N/A"}},{"$f":"VLOOKUP($B2404,'Ad Week Dates'!$A:$E,3,FALSE)","v":{"$error":"#N/A"}},null,null,null,null,null,null,{"$error":"#N/A"}]
[null,null,{"$f":"VLOOKUP($B2405,'Ad Week Dates'!$A:$E,4,FALSE)","v":{"$error":"#N/A"}},{"$f":"VLOOKUP($B2405,'Ad Week Dates'!$A:$E,2,FALSE)","v":{"$error":"#N/A"}},{"$f":"VLOOKUP($B2405,'Ad Week Dates'!$A:$E,3,FALSE)","v":{"$error":"#N/A"}},null,null,null,null,null,null,{"$error":"#N/A"}]
[null,null,{"$f":"VLOOKUP($B2406,'Ad Week Dates'!$A:$E,4,FALSE)","v":{"$error":"#N/A"}},{"$f":"VLOOKUP($B2406,'Ad Week Dates'!$A:$E,2,FALSE)","v":{"$error":"#N/A"}},{"$f":"VLOOKUP($B2406,'Ad Week Dates'!$A:$E,3,FALSE)","v":{"$error":"#N/A"}},null,null,null,null,null,null,{"$error":"#N/A"}]
[null,null,{"$f":"VLOOKUP($B2407,'Ad Week Dates'!$A:$E,4,FALSE)","v":{"$error":"#N/A"}},{"$f":"VLOOKUP($B2407,'Ad Week Dates'!$A:$E,2,FALSE)","v":{"$error":"#N/A"}},{"$f":"VLOOKUP($B2407,'Ad Week Dates'!$A:$E,3,FALSE)","v":{"$error":"#N/A"}},null,null,null,null,null,null,{"$error":"#N/A"}]
[null,null,{"$f":"VLOOKUP($B2408,'Ad Week Dates'!$A:$E,4,FALSE)","v":{"$error":"#N/A"}},{"$f":"VLOOKUP($B2408,'Ad Week Dates'!$A:$E,2,FALSE)","v":{"$error":"#N/A"}},{"$f":"VLOOKUP($B2408,'Ad Week Dates'!$A:$E,3,FALSE)","v":{"$error":"#N/A"}},null,null,null,null,null,null,{"$error":"#N/A"}]
[null,null,{"$f":"VLOOKUP($B2409,'Ad Week Dates'!$A:$E,4,FALSE)","v":{"$error":"#N/A"}},{"$f":"VLOOKUP($B2409,'Ad Week Dates'!$A:$E,2,FALSE)","v":{"$error":"#N/A"}},{"$f":"VLOOKUP($B2409,'Ad Week Dates'!$A:$E,3,FALSE)","v":{"$error":"#N/A"}},null,null,null,null,null,null,{"$error":"#N/A"}]
[null,null,{"$f":"VLOOKUP($B2410,'Ad Week Dates'!$A:$E,4,FALSE)","v":{"$error":"#N/A"}},{"$f":"VLOOKUP($B2410,'Ad Week Dates'!$A:$E,2,FALSE)","v":{"$error":"#N/A"}},{"$f":"VLOOKUP($B2410,'Ad Week Dates'!$A:$E,3,FALSE)","v":{"$error":"#N/A"}},null,null,null,null,null,null,{"$error":"#N/A"}]
[null,null,{"$f":"VLOOKUP($B2411,'Ad Week Dates'!$A:$E,4,FALSE)","v":{"$error":"#N/A"}},{"$f":"VLOOKUP($B2411,'Ad Week Dates'!$A:$E,2,FALSE)","v":{"$error":"#N/A"}},{"$f":"VLOOKUP($B2411,'Ad Week Dates'!$A:$E,3,FALSE)","v":{"$error":"#N/A"}},null,null,null,null,null,null,{"$error":"#N/A"}]
[null,null,{"$f":"VLOOKUP($B2412,'Ad Week Dates'!$A:$E,4,FALSE)","v":{"$error":"#N/A"}},{"$f":"VLOOKUP($B2412,'Ad Week Dates'!$A:$E,2,FALSE)","v":{"$error":"#N/A"}},{"$f":"VLOOKUP($B2412,'Ad Week Dates'!$A:$E,3,FALSE)","v":{"$error":"#N/A"}},null,null,null,null,null,null,{"$error":"#N/A"}]
[null,null,{"$f":"VLOOKUP($B2413,'Ad Week Dates'!$A:$E,4,FALSE)","v":{"$error":"#N/A"}},{"$f":"VLOOKUP($B2413,'Ad Week Dates'!$A:$E,2,FALSE)","v":{"$error":"#N/A"}},{"$f":"VLOOKUP($B2413,'Ad Week Dates'!$A:$E,3,FALSE)","v":{"$error":"#N/A"}},null,null,null,null,null,null,{"$error":"#N/A"}]
[null,null,{"$f":"VLOOKUP($B2414,'Ad Week Dates'!$A:$E,4,FALSE)","v":{"$error":"#N/A"}},{"$f":"VLOOKUP($B2414,'Ad Week Dates'!$A:$E,2,FALSE)","v":{"$error":"#N/A"}},{"$f":"VLOOKUP($B2414,'Ad Week Dates'!$A:$E,3,FALSE)","v":{"$error":"#N/A"}},null,null,null,null,null,null,{"$error":"#N/A"}]
[null,null,{"$f":"VLOOKUP($B2415,'Ad Week Dates'!$A:$E,4,FALSE)","v":{"$error":"#N/A"}},{"$f":"VLOOKUP($B2415,'Ad Week Dates'!$A:$E,2,FALSE)","v":{"$error":"#N/A"}},{"$f":"VLOOKUP($B2415,'Ad Week Dates'!$A:$E,3,FALSE)","v":{"$error":"#N/A"}},null,null,null,null,null,null,{"$error":"#N/A"}]
[null,null,{"$f":"VLOOKUP($B2416,'Ad Week Dates'!$A:$E,4,FALSE)","v":{"$error":"#N/A"}},{"$f":"VLOOKUP($B2416,'Ad Week Dates'!$A:$E,2,FALSE)","v":{"$error":"#N/A"}},{"$f":"VLOOKUP($B2416,'Ad Week Dates'!$A:$E,3,FALSE)","v":{"$error":"#N/A"}},null,null,null,null,null,null,{"$error":"#N/A"}]
[null,null,{"$f":"VLOOKUP($B2417,'Ad Week Dates'!$A:$E,4,FALSE)","v":{"$error":"#N/A"}},{"$f":"VLOOKUP($B2417,'Ad Week Dates'!$A:$E,2,FALSE)","v":{"$error":"#N/A"}},{"$f":"VLOOKUP($B2417,'Ad Week Dates'!$A:$E,3,FALSE)","v":{"$error":"#N/A"}},null,null,null,null,null,null,{"$error":"#N/A"}]
[null,null,{"$f":"VLOOKUP($B2418,'Ad Week Dates'!$A:$E,4,FALSE)","v":{"$error":"#N/A"}},{"$f":"VLOOKUP($B2418,'Ad Week Dates'!$A:$E,2,FALSE)","v":{"$error":"#N/A"}},{"$f":"VLOOKUP($B2418,'Ad Week Dates'!$A:$E,3,FALSE)","v":{"$error":"#N/A"}},null,null,null,null,null,null,{"$error":"#N/A"}]
[null,null,{"$f":"VLOOKUP($B2419,'Ad Week Dates'!$A:$E,4,FALSE)","v":{"$error":"#N/A"}},{"$f":"VLOOKUP($B2419,'Ad Week Dates'!$A:$E,2,FALSE)","v":{"$error":"#N/A"}},{"$f":"VLOOKUP($B2419,'Ad Week Dates'!$A:$E,3,FALSE)","v":{"$error":"#N/A"}},null,null,null,null,null,null,{"$error":"#N/A"}]
[null,null,{"$f":"VLOOKUP($B2420,'Ad Week Dates'!$A:$E,4,FALSE)","v":{"$error":"#N/A"}},{"$f":"VLOOKUP($B2420,'Ad Week Dates'!$A:$E,2,FALSE)","v":{"$error":"#N/A"}},{"$f":"VLOOKUP($B2420,'Ad Week Dates'!$A:$E,3,FALSE)","v":{"$error":"#N/A"}},null,null,null,null,null,null,{"$error":"#N/A"}]
[null,null,{"$f":"VLOOKUP($B2421,'Ad Week Dates'!$A:$E,4,FALSE)","v":{"$error":"#N/A"}},{"$f":"VLOOKUP($B2421,'Ad Week Dates'!$A:$E,2,FALSE)","v":{"$error":"#N/A"}},{"$f":"VLOOKUP($B2421,'Ad Week Dates'!$A:$E,3,FALSE)","v":{"$error":"#N/A"}},null,null,null,null,null,null,{"$error":"#N/A"}]
[null,null,{"$f":"VLOOKUP($B2422,'Ad Week Dates'!$A:$E,4,FALSE)","v":{"$error":"#N/A"}},{"$f":"VLOOKUP($B2422,'Ad Week Dates'!$A:$E,2,FALSE)","v":{"$error":"#N/A"}},{"$f":"VLOOKUP($B2422,'Ad Week Dates'!$A:$E,3,FALSE)","v":{"$error":"#N/A"}},null,null,null,null,null,null,{"$error":"#N/A"}]
[null,null,{"$f":"VLOOKUP($B2423,'Ad Week Dates'!$A:$E,4,FALSE)","v":{"$error":"#N/A"}},{"$f":"VLOOKUP($B2423,'Ad Week Dates'!$A:$E,2,FALSE)","v":{"$error":"#N/A"}},{"$f":"VLOOKUP($B2423,'Ad Week Dates'!$A:$E,3,FALSE)","v":{"$error":"#N/A"}},null,null,null,null,null,null,{"$error":"#N/A"}]
[null,null,{"$f":"VLOOKUP($B2424,'Ad Week Dates'!$A:$E,4,FALSE)","v":{"$error":"#N/A"}},{"$f":"VLOOKUP($B2424,'Ad Week Dates'!$A:$E,2,FALSE)","v":{"$error":"#N/A"}},{"$f":"VLOOKUP($B2424,'Ad Week Dates'!$A:$E,3,FALSE)","v":{"$error":"#N/A"}},null,null,null,null,null,null,{"$error":"#N/A"}]
[null,null,{"$f":"VLOOKUP($B2425,'Ad Week Dates'!$A:$E,4,FALSE)","v":{"$error":"#N/A"}},{"$f":"VLOOKUP($B2425,'Ad Week Dates'!$A:$E,2,FALSE)","v":{"$error":"#N/A"}},{"$f":"VLOOKUP($B2425,'Ad Week Dates'!$A:$E,3,FALSE)","v":{"$error":"#N/A"}},null,null,null,null,null,null,{"$error":"#N/A"}]
[null,null,{"$f":"VLOOKUP($B2426,'Ad Week Dates'!$A:$E,4,FALSE)","v":{"$error":"#N/A"}},{"$f":"VLOOKUP($B2426,'Ad Week Dates'!$A:$E,2,FALSE)","v":{"$error":"#N/A"}},{"$f":"VLOOKUP($B2426,'Ad Week Dates'!$A:$E,3,FALSE)","v":{"$error":"#N/A"}},null,null,null,null,null,null,{"$error":"#N/A"}]
[null,null,{"$f":"VLOOKUP($B2427,'Ad Week Dates'!$A:$E,4,FALSE)","v":{"$error":"#N/A"}},{"$f":"VLOOKUP($B2427,'Ad Week Dates'!$A:$E,2,FALSE)","v":{"$error":"#N/A"}},{"$f":"VLOOKUP($B2427,'Ad Week Dates'!$A:$E,3,FALSE)","v":{"$error":"#N/A"}},null,null,null,null,null,null,{"$error":"#N/A"}]
[null,null,{"$f":"VLOOKUP($B2428,'Ad Week Dates'!$A:$E,4,FALSE)","v":{"$error":"#N/A"}},{"$f":"VLOOKUP($B2428,'Ad Week Dates'!$A:$E,2,FALSE)","v":{"$error":"#N/A"}},{"$f":"VLOOKUP($B2428,'Ad Week Dates'!$A:$E,3,FALSE)","v":{"$error":"#N/A"}},null,null,null,null,null,null,{"$error":"#N/A"}]
[null,null,{"$f":"VLOOKUP($B2429,'Ad Week Dates'!$A:$E,4,FALSE)","v":{"$error":"#N/A"}},{"$f":"VLOOKUP($B2429,'Ad Week Dates'!$A:$E,2,FALSE)","v":{"$error":"#N/A"}},{"$f":"VLOOKUP($B2429,'Ad Week Dates'!$A:$E,3,FALSE)","v":{"$error":"#N/A"}},null,null,null,null,null,null,{"$error":"#N/A"}]
[null,null,{"$f":"VLOOKUP($B2430,'Ad Week Dates'!$A:$E,4,FALSE)","v":{"$error":"#N/A"}},{"$f":"VLOOKUP($B2430,'Ad Week Dates'!$A:$E,2,FALSE)","v":{"$error":"#N/A"}},{"$f":"VLOOKUP($B2430,'Ad Week Dates'!$A:$E,3,FALSE)","v":{"$error":"#N/A"}},null,null,null,null,null,null,{"$error":"#N/A"}]
[null,null,{"$f":"VLOOKUP($B2431,'Ad Week Dates'!$A:$E,4,FALSE)","v":{"$error":"#N/A"}},{"$f":"VLOOKUP($B2431,'Ad Week Dates'!$A:$E,2,FALSE)","v":{"$error":"#N/A"}},{"$f":"VLOOKUP($B2431,'Ad Week Dates'!$A:$E,3,FALSE)","v":{"$error":"#N/A"}},null,null,null,null,null,null,{"$error":"#N/A"}]
[null,null,{"$f":"VLOOKUP($B2432,'Ad Week Dates'!$A:$E,4,FALSE)","v":{"$error":"#N/A"}},{"$f":"VLOOKUP($B2432,'Ad Week Dates'!$A:$E,2,FALSE)","v":{"$error":"#N/A"}},{"$f":"VLOOKUP($B2432,'Ad Week Dates'!$A:$E,3,FALSE)","v":{"$error":"#N/A"}},null,null,null,null,null,null,{"$error":"#N/A"}]
[null,null,{"$f":"VLOOKUP($B2433,'Ad Week Dates'!$A:$E,4,FALSE)","v":{"$error":"#N/A"}},{"$f":"VLOOKUP($B2433,'Ad Week Dates'!$A:$E,2,FALSE)","v":{"$error":"#N/A"}},{"$f":"VLOOKUP($B2433,'Ad Week Dates'!$A:$E,3,FALSE)","v":{"$error":"#N/A"}},null,null,null,null,null,null,{"$error":"#N/A"}]
[null,null,{"$f":"VLOOKUP($B2434,'Ad Week Dates'!$A:$E,4,FALSE)","v":{"$error":"#N/A"}},{"$f":"VLOOKUP($B2434,'Ad Week Dates'!$A:$E,2,FALSE)","v":{"$error":"#N/A"}},{"$f":"VLOOKUP($B2434,'Ad Week Dates'!$A:$E,3,FALSE)","v":{"$error":"#N/A"}},null,null,null,null,null,null,{"$error":"#N/A"}]
[null,null,{"$f":"VLOOKUP($B2435,'Ad Week Dates'!$A:$E,4,FALSE)","v":{"$error":"#N/A"}},{"$f":"VLOOKUP($B2435,'Ad Week Dates'!$A:$E,2,FALSE)","v":{"$error":"#N/A"}},{"$f":"VLOOKUP($B2435,'Ad Week Dates'!$A:$E,3,FALSE)","v":{"$error":"#N/A"}},null,null,null,null,null,null,{"$error":"#N/A"}]
[null,null,{"$f":"VLOOKUP($B2436,'Ad Week Dates'!$A:$E,4,FALSE)","v":{"$error":"#N/A"}},{"$f":"VLOOKUP($B2436,'Ad Week Dates'!$A:$E,2,FALSE)","v":{"$error":"#N/A"}},{"$f":"VLOOKUP($B2436,'Ad Week Dates'!$A:$E,3,FALSE)","v":{"$error":"#N/A"}},null,null,null,null,null,null,{"$error":"#N/A"}]
[null,null,{"$f":"VLOOKUP($B2437,'Ad Week Dates'!$A:$E,4,FALSE)","v":{"$error":"#N/A"}},{"$f":"VLOOKUP($B2437,'Ad Week Dates'!$A:$E,2,FALSE)","v":{"$error":"#N/A"}},{"$f":"VLOOKUP($B2437,'Ad Week Dates'!$A:$E,3,FALSE)","v":{"$error":"#N/A"}},null,null,null,null,null,null,{"$error":"#N/A"}]
[null,null,{"$f":"VLOOKUP($B2438,'Ad Week Dates'!$A:$E,4,FALSE)","v":{"$error":"#N/A"}},{"$f":"VLOOKUP($B2438,'Ad Week Dates'!$A:$E,2,FALSE)","v":{"$error":"#N/A"}},{"$f":"VLOOKUP($B2438,'Ad Week Dates'!$A:$E,3,FALSE)","v":{"$error":"#N/A"}},null,null,null,null,null,null,{"$f":"IF(ISNUMBER(J2438), J2438 - K2438, VALUE(_xlfn.TEXTBEFORE(J2438, \"-\")) - VALUE(_xlfn.TEXTBEFORE(K2438, \"-\")))","v":{"$error":"#N/A"}}]
[null,null,{"$f":"VLOOKUP($B2439,'Ad Week Dates'!$A:$E,4,FALSE)","v":{"$error":"#N/A"}},{"$f":"VLOOKUP($B2439,'Ad Week Dates'!$A:$E,2,FALSE)","v":{"$error":"#N/A"}},{"$f":"VLOOKUP($B2439,'Ad Week Dates'!$A:$E,3,FALSE)","v":{"$error":"#N/A"}},null,null,null,null,null,null,{"$error":"#N/A"}]
[null,null,{"$f":"VLOOKUP($B2440,'Ad Week Dates'!$A:$E,4,FALSE)","v":{"$error":"#N/A"}},{"$f":"VLOOKUP($B2440,'Ad Week Dates'!$A:$E,2,FALSE)","v":{"$error":"#N/A"}},{"$f":"VLOOKUP($B2440,'Ad Week Dates'!$A:$E,3,FALSE)","v":{"$error":"#N/A"}},null,null,null,null,null,null,{"$error":"#N/A"}]
[null,null,{"$f":"VLOOKUP($B2441,'Ad Week Dates'!$A:$E,4,FALSE)","v":{"$error":"#N/A"}},{"$f":"VLOOKUP($B2441,'Ad Week Dates'!$A:$E,2,FALSE)","v":{"$error":"#N/A"}},{"$f":"VLOOKUP($B2441,'Ad Week Dates'!$A:$E,3,FALSE)","v":{"$error":"#N/A"}},null,null,null,null,null,null,{"$error":"#N/A"}]
[null,null,{"$f":"VLOOKUP($B2442,'Ad Week Dates'!$A:$E,4,FALSE)","v":{"$error":"#N/A"}},{"$f":"VLOOKUP($B2442,'Ad Week Dates'!$A:$E,2,FALSE)","v":{"$error":"#N/A"}},{"$f":"VLOOKUP($B2442,'Ad Week Dates'!$A:$E,3,FALSE)","v":{"$error":"#N/A"}},null,null,null,null,null,null,{"$error":"#N/A"}]
[null,null,{"$f":"VLOOKUP($B2443,'Ad Week Dates'!$A:$E,4,FALSE)","v":{"$error":"#N/A"}},{"$f":"VLOOKUP($B2443,'Ad Week Dates'!$A:$E,2,FALSE)","v":{"$error":"#N/A"}},{"$f":"VLOOKUP($B2443,'Ad Week Dates'!$A:$E,3,FALSE)","v":{"$error":"#N/A"}},null,null,null,null,null,null,{"$error":"#N/A"}]
[null,null,{"$f":"VLOOKUP($B2444,'Ad Week Dates'!$A:$E,4,FALSE)","v":{"$error":"#N/A"}},{"$f":"VLOOKUP($B2444,'Ad Week Dates'!$A:$E,2,FALSE)","v":{"$error":"#N/A"}},{"$f":"VLOOKUP($B2444,'Ad Week Dates'!$A:$E,3,FALSE)","v":{"$error":"#N/A"}},null,null,null,null,null,null,{"$error":"#N/A"}]
[null,null,{"$f":"VLOOKUP($B2445,'Ad Week Dates'!$A:$E,4,FALSE)","v":{"$error":"#N/A"}},{"$f":"VLOOKUP($B2445,'Ad Week Dates'!$A:$E,2,FALSE)","v":{"$error":"#N/A"}},{"$f":"VLOOKUP($B2445,'Ad Week Dates'!$A:$E,3,FALSE)","v":{"$error":"#N/A"}},null,null,null,null,null,null,{"$error":"#N/A"}]
[null,null,{"$f":"VLOOKUP($B2446,'Ad Week Dates'!$A:$E,4,FALSE)","v":{"$error":"#N/A"}},{"$f":"VLOOKUP($B2446,'Ad Week Dates'!$A:$E,2,FALSE)","v":{"$error":"#N/A"}},{"$f":"VLOOKUP($B2446,'Ad Week Dates'!$A:$E,3,FALSE)","v":{"$error":"#N/A"}},null,null,null,null,null,null,{"$error":"#N/A"}]
[null,null,{"$f":"VLOOKUP($B2447,'Ad Week Dates'!$A:$E,4,FALSE)","v":{"$error":"#N/A"}},{"$f":"VLOOKUP($B2447,'Ad Week Dates'!$A:$E,2,FALSE)","v":{"$error":"#N/A"}},{"$f":"VLOOKUP($B2447,'Ad Week Dates'!$A:$E,3,FALSE)","v":{"$error":"#N/A"}},null,null,null,null,null,null,{"$error":"#N/A"}]
[null,null,{"$f":"VLOOKUP($B2448,'Ad Week Dates'!$A:$E,4,FALSE)","v":{"$error":"#N/A"}},{"$f":"VLOOKUP($B2448,'Ad Week Dates'!$A:$E,2,FALSE)","v":{"$error":"#N/A"}},{"$f":"VLOOKUP($B2448,'Ad Week Dates'!$A:$E,3,FALSE)","v":{"$error":"#N/A"}},null,null,null,null,null,null,{"$error":"#N/A"}]
[null,null,{"$f":"VLOOKUP($B2449,'Ad Week Dates'!$A:$E,4,FALSE)","v":{"$error":"#N/A"}},{"$f":"VLOOKUP($B2449,'Ad Week Dates'!$A:$E,2,FALSE)","v":{"$error":"#N/A"}},{"$f":"VLOOKUP($B2449,'Ad Week Dates'!$A:$E,3,FALSE)","v":{"$error":"#N/A"}},null,null,null,null,null,null,{"$error":"#N/A"}]
[null,null,{"$f":"VLOOKUP($B2450,'Ad Week Dates'!$A:$E,4,FALSE)","v":{"$error":"#N/A"}},{"$f":"VLOOKUP($B2450,'Ad Week Dates'!$A:$E,2,FALSE)","v":{"$error":"#N/A"}},{"$f":"VLOOKUP($B2450,'Ad Week Dates'!$A:$E,3,FALSE)","v":{"$error":"#N/A"}},null,null,null,null,null,null,{"$error":"#N/A"}]
[null,null,{"$f":"VLOOKUP($B2451,'Ad Week Dates'!$A:$E,4,FALSE)","v":{"$error":"#N/A"}},{"$f":"VLOOKUP($B2451,'Ad Week Dates'!$A:$E,2,FALSE)","v":{"$error":"#N/A"}},{"$f":"VLOOKUP($B2451,'Ad Week Dates'!$A:$E,3,FALSE)","v":{"$error":"#N/A"}},null,null,null,null,null,null,{"$error":"#N/A"}]
[null,null,{"$f":"VLOOKUP($B2452,'Ad Week Dates'!$A:$E,4,FALSE)","v":{"$error":"#N/A"}},{"$f":"VLOOKUP($B2452,'Ad Week Dates'!$A:$E,2,FALSE)","v":{"$error":"#N/A"}},{"$f":"VLOOKUP($B2452,'Ad Week Dates'!$A:$E,3,FALSE)","v":{"$error":"#N/A"}},null,null,null,null,null,null,{"$error":"#N/A"}]
[null,null,{"$f":"VLOOKUP($B2453,'Ad Week Dates'!$A:$E,4,FALSE)","v":{"$error":"#N/A"}},{"$f":"VLOOKUP($B2453,'Ad Week Dates'!$A:$E,2,FALSE)","v":{"$error":"#N/A"}},{"$f":"VLOOKUP($B2453,'Ad Week Dates'!$A:$E,3,FALSE)","v":{"$error":"#N/A"}},null,null,null,null,null,null,{"$error":"#N/A"}]
[null,null,{"$f":"VLOOKUP($B2454,'Ad Week Dates'!$A:$E,4,FALSE)","v":{"$error":"#N/A"}},{"$f":"VLOOKUP($B2454,'Ad Week Dates'!$A:$E,2,FALSE)","v":{"$error":"#N/A"}},{"$f":"VLOOKUP($B2454,'Ad Week Dates'!$A:$E,3,FALSE)","v":{"$error":"#N/A"}},null,null,null,null,null,null,{"$error":"#N/A"}]
[null,null,{"$f":"VLOOKUP($B2455,'Ad Week Dates'!$A:$E,4,FALSE)","v":{"$error":"#N/A"}},{"$f":"VLOOKUP($B2455,'Ad Week Dates'!$A:$E,2,FALSE)","v":{"$error":"#N/A"}},{"$f":"VLOOKUP($B2455,'Ad Week Dates'!$A:$E,3,FALSE)","v":{"$error":"#N/A"}},null,null,null,null,null,null,{"$error":"#N/A"}]
[null,null,{"$f":"VLOOKUP($B2456,'Ad Week Dates'!$A:$E,4,FALSE)","v":{"$error":"#N/A"}},{"$f":"VLOOKUP($B2456,'Ad Week Dates'!$A:$E,2,FALSE)","v":{"$error":"#N/A"}},{"$f":"VLOOKUP($B2456,'Ad Week Dates'!$A:$E,3,FALSE)","v":{"$error":"#N/A"}},null,null,null,null,null,null,{"$error":"#N/A"}]
[null,null,{"$f":"VLOOKUP($B2457,'Ad Week Dates'!$A:$E,4,FALSE)","v":{"$error":"#N/A"}},{"$f":"VLOOKUP($B2457,'Ad Week Dates'!$A:$E,2,FALSE)","v":{"$error":"#N/A"}},{"$f":"VLOOKUP($B2457,'Ad Week Dates'!$A:$E,3,FALSE)","v":{"$error":"#N/A"}},null,null,null,null,null,null,{"$error":"#N/A"}]
[null,null,{"$f":"VLOOKUP($B2458,'Ad Week Dates'!$A:$E,4,FALSE)","v":{"$error":"#N/A"}},{"$f":"VLOOKUP($B2458,'Ad Week Dates'!$A:$E,2,FALSE)","v":{"$error":"#N/A"}},{"$f":"VLOOKUP($B2458,'Ad Week Dates'!$A:$E,3,FALSE)","v":{"$error":"#N/A"}},null,null,null,null,null,null,{"$error":"#N/A"}]
[null,null,{"$f":"VLOOKUP($B2459,'Ad Week Dates'!$A:$E,4,FALSE)","v":{"$error":"#N/A"}},{"$f":"VLOOKUP($B2459,'Ad Week Dates'!$A:$E,2,FALSE)","v":{"$error":"#N/A"}},{"$f":"VLOOKUP($B2459,'Ad Week Dates'!$A:$E,3,FALSE)","v":{"$error":"#N/A"}},null,null,null,null,null,null,{"$error":"#N/A"}]
[null,null,{"$f":"VLOOKUP($B2460,'Ad Week Dates'!$A:$E,4,FALSE)","v":{"$error":"#N/A"}},{"$f":"VLOOKUP($B2460,'Ad Week Dates'!$A:$E,2,FALSE)","v":{"$error":"#N/A"}},{"$f":"VLOOKUP($B2460,'Ad Week Dates'!$A:$E,3,FALSE)","v":{"$error":"#N/A"}},null,null,null,null,null,null,{"$error":"#N/A"}]
[null,null,{"$f":"VLOOKUP($B2461,'Ad Week Dates'!$A:$E,4,FALSE)","v":{"$error":"#N/A"}},{"$f":"VLOOKUP($B2461,'Ad Week Dates'!$A:$E,2,FALSE)","v":{"$error":"#N/A"}},{"$f":"VLOOKUP($B2461,'Ad Week Dates'!$A:$E,3,FALSE)","v":{"$error":"#N/A"}},null,null,null,null,null,null,{"$error":"#N/A"}]
[null,null,{"$f":"VLOOKUP($B2462,'Ad Week Dates'!$A:$E,4,FALSE)","v":{"$error":"#N/A"}},{"$f":"VLOOKUP($B2462,'Ad Week Dates'!$A:$E,2,FALSE)","v":{"$error":"#N/A"}},{"$f":"VLOOKUP($B2462,'Ad Week Dates'!$A:$E,3,FALSE)","v":{"$error":"#N/A"}},null,null,null,null,null,null,{"$error":"#N/A"}]
[null,null,{"$f":"VLOOKUP($B2463,'Ad Week Dates'!$A:$E,4,FALSE)","v":{"$error":"#N/A"}},{"$f":"VLOOKUP($B2463,'Ad Week Dates'!$A:$E,2,FALSE)","v":{"$error":"#N/A"}},{"$f":"VLOOKUP($B2463,'Ad Week Dates'!$A:$E,3,FALSE)","v":{"$error":"#N/A"}},null,null,null,null,null,null,{"$error":"#N/A"}]
[null,null,{"$f":"VLOOKUP($B2464,'Ad Week Dates'!$A:$E,4,FALSE)","v":{"$error":"#N/A"}},{"$f":"VLOOKUP($B2464,'Ad Week Dates'!$A:$E,2,FALSE)","v":{"$error":"#N/A"}},{"$f":"VLOOKUP($B2464,'Ad Week Dates'!$A:$E,3,FALSE)","v":{"$error":"#N/A"}},null,null,null,null,null,null,{"$error":"#N/A"}]
[null,null,{"$f":"VLOOKUP($B2465,'Ad Week Dates'!$A:$E,4,FALSE)","v":{"$error":"#N/A"}},{"$f":"VLOOKUP($B2465,'Ad Week Dates'!$A:$E,2,FALSE)","v":{"$error":"#N/A"}},{"$f":"VLOOKUP($B2465,'Ad Week Dates'!$A:$E,3,FALSE)","v":{"$error":"#N/A"}},null,null,null,null,null,null,{"$error":"#N/A"}]
[null,null,{"$f":"VLOOKUP($B2466,'Ad Week Dates'!$A:$E,4,FALSE)","v":{"$error":"#N/A"}},{"$f":"VLOOKUP($B2466,'Ad Week Dates'!$A:$E,2,FALSE)","v":{"$error":"#N/A"}},{"$f":"VLOOKUP($B2466,'Ad Week Dates'!$A:$E,3,FALSE)","v":{"$error":"#N/A"}},null,null,null,null,null,null,{"$error":"#N/A"}]
[null,null,{"$f":"VLOOKUP($B2467,'Ad Week Dates'!$A:$E,4,FALSE)","v":{"$error":"#N/A"}},{"$f":"VLOOKUP($B2467,'Ad Week Dates'!$A:$E,2,FALSE)","v":{"$error":"#N/A"}},{"$f":"VLOOKUP($B2467,'Ad Week Dates'!$A:$E,3,FALSE)","v":{"$error":"#N/A"}},null,null,null,null,null,null,{"$error":"#N/A"}]
[null,null,{"$f":"VLOOKUP($B2468,'Ad Week Dates'!$A:$E,4,FALSE)","v":{"$error":"#N/A"}},{"$f":"VLOOKUP($B2468,'Ad Week Dates'!$A:$E,2,FALSE)","v":{"$error":"#N/A"}},{"$f":"VLOOKUP($B2468,'Ad Week Dates'!$A:$E,3,FALSE)","v":{"$error":"#N/A"}},null,null,null,null,null,null,{"$error":"#N/A"}]
[null,null,{"$f":"VLOOKUP($B2469,'Ad Week Dates'!$A:$E,4,FALSE)","v":{"$error":"#N/A"}},{"$f":"VLOOKUP($B2469,'Ad Week Dates'!$A:$E,2,FALSE)","v":{"$error":"#N/A"}},{"$f":"VLOOKUP($B2469,'Ad Week Dates'!$A:$E,3,FALSE)","v":{"$error":"#N/A"}},null,null,null,null,null,null,{"$error":"#N/A"}]
[null,null,{"$f":"VLOOKUP($B2470,'Ad Week Dates'!$A:$E,4,FALSE)","v":{"$error":"#N/A"}},{"$f":"VLOOKUP($B2470,'Ad Week Dates'!$A:$E,2,FALSE)","v":{"$error":"#N/A"}},{"$f":"VLOOKUP($B2470,'Ad Week Dates'!$A:$E,3,FALSE)","v":{"$error":"#N/A"}},null,null,null,null,null,null,{"$error":"#N/A"}]
[null,null,{"$f":"VLOOKUP($B2471,'Ad Week Dates'!$A:$E,4,FALSE)","v":{"$error":"#N/A"}},{"$f":"VLOOKUP($B2471,'Ad Week Dates'!$A:$E,2,FALSE)","v":{"$error":"#N/A"}},{"$f":"VLOOKUP($B2471,'Ad Week Dates'!$A:$E,3,FALSE)","v":{"$error":"#N/A"}},null,null,null,null,null,null,{"$error":"#N/A"}]
[null,null,{"$f":"VLOOKUP($B2472,'Ad Week Dates'!$A:$E,4,FALSE)","v":{"$error":"#N/A"}},{"$f":"VLOOKUP($B2472,'Ad Week Dates'!$A:$E,2,FALSE)","v":{"$error":"#N/A"}},{"$f":"VLOOKUP($B2472,'Ad Week Dates'!$A:$E,3,FALSE)","v":{"$error":"#N/A"}},null,null,null,null,null,null,{"$error":"#N/A"}]
[null,null,{"$f":"VLOOKUP($B2473,'Ad Week Dates'!$A:$E,4,FALSE)","v":{"$error":"#N/A"}},{"$f":"VLOOKUP($B2473,'Ad Week Dates'!$A:$E,2,FALSE)","v":{"$error":"#N/A"}},{"$f":"VLOOKUP($B2473,'Ad Week Dates'!$A:$E,3,FALSE)","v":{"$error":"#N/A"}},null,null,null,null,null,null,{"$error":"#N/A"}]
[null,null,{"$f":"VLOOKUP($B2474,'Ad Week Dates'!$A:$E,4,FALSE)","v":{"$error":"#N/A"}},{"$f":"VLOOKUP($B2474,'Ad Week Dates'!$A:$E,2,FALSE)","v":{"$error":"#N/A"}},{"$f":"VLOOKUP($B2474,'Ad Week Dates'!$A:$E,3,FALSE)","v":{"$error":"#N/A"}},null,null,null,null,null,null,{"$error":"#N/A"}]
[null,null,{"$f":"VLOOKUP($B2475,'Ad Week Dates'!$A:$E,4,FALSE)","v":{"$error":"#N/A"}},{"$f":"VLOOKUP($B2475,'Ad Week Dates'!$A:$E,2,FALSE)","v":{"$error":"#N/A"}},{"$f":"VLOOKUP($B2475,'Ad Week Dates'!$A:$E,3,FALSE)","v":{"$error":"#N/A"}},null,null,null,null,null,null,{"$error":"#N/A"}]
[null,null,{"$f":"VLOOKUP($B2476,'Ad Week Dates'!$A:$E,4,FALSE)","v":{"$error":"#N/A"}},{"$f":"VLOOKUP($B2476,'Ad Week Dates'!$A:$E,2,FALSE)","v":{"$error":"#N/A"}},{"$f":"VLOOKUP($B2476,'Ad Week Dates'!$A:$E,3,FALSE)","v":{"$error":"#N/A"}},null,null,null,null,null,null,{"$error":"#N/A"}]
[null,null,{"$f":"VLOOKUP($B2477,'Ad Week Dates'!$A:$E,4,FALSE)","v":{"$error":"#N/A"}},{"$f":"VLOOKUP($B2477,'Ad Week Dates'!$A:$E,2,FALSE)","v":{"$error":"#N/A"}},{"$f":"VLOOKUP($B2477,'Ad Week Dates'!$A:$E,3,FALSE)","v":{"$error":"#N/A"}},null,null,null,null,null,null,{"$error":"#N/A"}]
[null,null,{"$f":"VLOOKUP($B2478,'Ad Week Dates'!$A:$E,4,FALSE)","v":{"$error":"#N/A"}},{"$f":"VLOOKUP($B2478,'Ad Week Dates'!$A:$E,2,FALSE)","v":{"$error":"#N/A"}},{"$f":"VLOOKUP($B2478,'Ad Week Dates'!$A:$E,3,FALSE)","v":{"$error":"#N/A"}},null,null,null,null,null,null,{"$error":"#N/A"}]
[null,null,{"$f":"VLOOKUP($B2479,'Ad Week Dates'!$A:$E,4,FALSE)","v":{"$error":"#N/A"}},{"$f":"VLOOKUP($B2479,'Ad Week Dates'!$A:$E,2,FALSE)","v":{"$error":"#N/A"}},{"$f":"VLOOKUP($B2479,'Ad Week Dates'!$A:$E,3,FALSE)","v":{"$error":"#N/A"}},null,null,null,null,null,null,{"$error":"#N/A"}]
[null,null,{"$f":"VLOOKUP($B2480,'Ad Week Dates'!$A:$E,4,FALSE)","v":{"$error":"#N/A"}},{"$f":"VLOOKUP($B2480,'Ad Week Dates'!$A:$E,2,FALSE)","v":{"$error":"#N/A"}},{"$f":"VLOOKUP($B2480,'Ad Week Dates'!$A:$E,3,FALSE)","v":{"$error":"#N/A"}},null,null,null,null,null,null,{"$error":"#N/A"}]
[null,null,{"$f":"VLOOKUP($B2481,'Ad Week Dates'!$A:$E,4,FALSE)","v":{"$error":"#N/A"}},{"$f":"VLOOKUP($B2481,'Ad Week Dates'!$A:$E,2,FALSE)","v":{"$error":"#N/A"}},{"$f":"VLOOKUP($B2481,'Ad Week Dates'!$A:$E,3,FALSE)","v":{"$error":"#N/A"}},null,null,null,null,null,null,{"$error":"#N/A"}]
[null,null,{"$f":"VLOOKUP($B2482,'Ad Week Dates'!$A:$E,4,FALSE)","v":{"$error":"#N/A"}},{"$f":"VLOOKUP($B2482,'Ad Week Dates'!$A:$E,2,FALSE)","v":{"$error":"#N/A"}},{"$f":"VLOOKUP($B2482,'Ad Week Dates'!$A:$E,3,FALSE)","v":{"$error":"#N/A"}},null,null,null,null,null,null,{"$error":"#N/A"}]
[null,null,{"$f":"VLOOKUP($B2483,'Ad Week Dates'!$A:$E,4,FALSE)","v":{"$error":"#N/A"}},{"$f":"VLOOKUP($B2483,'Ad Week Dates'!$A:$E,2,FALSE)","v":{"$error":"#N/A"}},{"$f":"VLOOKUP($B2483,'Ad Week Dates'!$A:$E,3,FALSE)","v":{"$error":"#N/A"}},null,null,null,null,null,null,{"$error":"#N/A"}]
[null,null,{"$f":"VLOOKUP($B2484,'Ad Week Dates'!$A:$E,4,FALSE)","v":{"$error":"#N/A"}},{"$f":"VLOOKUP($B2484,'Ad Week Dates'!$A:$E,2,FALSE)","v":{"$error":"#N/A"}},{"$f":"VLOOKUP($B2484,'Ad Week Dates'!$A:$E,3,FALSE)","v":{"$error":"#N/A"}},null,null,null,null,null,null,{"$error":"#N/A"}]
[null,null,{"$f":"VLOOKUP($B2485,'Ad Week Dates'!$A:$E,4,FALSE)","v":{"$error":"#N/A"}},{"$f":"VLOOKUP($B2485,'Ad Week Dates'!$A:$E,2,FALSE)","v":{"$error":"#N/A"}},{"$f":"VLOOKUP($B2485,'Ad Week Dates'!$A:$E,3,FALSE)","v":{"$error":"#N/A"}},null,null,null,null,null,null,{"$error":"#N/A"}]
[null,null,{"$f":"VLOOKUP($B2486,'Ad Week Dates'!$A:$E,4,FALSE)","v":{"$error":"#N/A"}},{"$f":"VLOOKUP($B2486,'Ad Week Dates'!$A:$E,2,FALSE)","v":{"$error":"#N/A"}},{"$f":"VLOOKUP($B2486,'Ad Week Dates'!$A:$E,3,FALSE)","v":{"$error":"#N/A"}},null,null,null,null,null,null,{"$error":"#N/A"}]
[null,null,{"$f":"VLOOKUP($B2487,'Ad Week Dates'!$A:$E,4,FALSE)","v":{"$error":"#N/A"}},{"$f":"VLOOKUP($B2487,'Ad Week Dates'!$A:$E,2,FALSE)","v":{"$error":"#N/A"}},{"$f":"VLOOKUP($B2487,'Ad Week Dates'!$A:$E,3,FALSE)","v":{"$error":"#N/A"}},null,null,null,null,null,null,{"$error":"#N/A"}]
[null,null,{"$f":"VLOOKUP($B2488,'Ad Week Dates'!$A:$E,4,FALSE)","v":{"$error":"#N/A"}},{"$f":"VLOOKUP($B2488,'Ad Week Dates'!$A:$E,2,FALSE)","v":{"$error":"#N/A"}},{"$f":"VLOOKUP($B2488,'Ad Week Dates'!$A:$E,3,FALSE)","v":{"$error":"#N/A"}},null,null,null,null,null,null,{"$error":"#N/A"}]
[null,null,{"$f":"VLOOKUP($B2489,'Ad Week Dates'!$A:$E,4,FALSE)","v":{"$error":"#N/A"}},{"$f":"VLOOKUP($B2489,'Ad Week Dates'!$A:$E,2,FALSE)","v":{"$error":"#N/A"}},{"$f":"VLOOKUP($B2489,'Ad Week Dates'!$A:$E,3,FALSE)","v":{"$error":"#N/A"}},null,null,null,null,null,null,{"$error":"#N/A"}]
[null,null,{"$f":"VLOOKUP($B2490,'Ad Week Dates'!$A:$E,4,FALSE)","v":{"$error":"#N/A"}},{"$f":"VLOOKUP($B2490,'Ad Week Dates'!$A:$E,2,FALSE)","v":{"$error":"#N/A"}},{"$f":"VLOOKUP($B2490,'Ad Week Dates'!$A:$E,3,FALSE)","v":{"$error":"#N/A"}},null,null,null,null,null,null,{"$error":"#N/A"}]
[null,null,{"$f":"VLOOKUP($B2491,'Ad Week Dates'!$A:$E,4,FALSE)","v":{"$error":"#N/A"}},{"$f":"VLOOKUP($B2491,'Ad Week Dates'!$A:$E,2,FALSE)","v":{"$error":"#N/A"}},{"$f":"VLOOKUP($B2491,'Ad Week Dates'!$A:$E,3,FALSE)","v":{"$error":"#N/A"}},null,null,null,null,null,null,{"$error":"#N/A"}]
[null,null,{"$f":"VLOOKUP($B2492,'Ad Week Dates'!$A:$E,4,FALSE)","v":{"$error":"#N/A"}},{"$f":"VLOOKUP($B2492,'Ad Week Dates'!$A:$E,2,FALSE)","v":{"$error":"#N/A"}},{"$f":"VLOOKUP($B2492,'Ad Week Dates'!$A:$E,3,FALSE)","v":{"$error":"#N/A"}},null,null,null,null,null,null,{"$error":"#N/A"}]
[null,null,{"$f":"VLOOKUP($B2493,'Ad Week Dates'!$A:$E,4,FALSE)","v":{"$error":"#N/A"}},{"$f":"VLOOKUP($B2493,'Ad Week Dates'!$A:$E,2,FALSE)","v":{"$error":"#N/A"}},{"$f":"VLOOKUP($B2493,'Ad Week Dates'!$A:$E,3,FALSE)","v":{"$error":"#N/A"}},null,null,null,null,null,null,{"$error":"#N/A"}]
[null,null,{"$f":"VLOOKUP($B2494,'Ad Week Dates'!$A:$E,4,FALSE)","v":{"$error":"#N/A"}},{"$f":"VLOOKUP($B2494,'Ad Week Dates'!$A:$E,2,FALSE)","v":{"$error":"#N/A"}},{"$f":"VLOOKUP($B2494,'Ad Week Dates'!$A:$E,3,FALSE)","v":{"$error":"#N/A"}},null,null,null,null,null,null,{"$error":"#N/A"}]
[null,null,{"$f":"VLOOKUP($B2495,'Ad Week Dates'!$A:$E,4,FALSE)","v":{"$error":"#N/A"}},{"$f":"VLOOKUP($B2495,'Ad Week Dates'!$A:$E,2,FALSE)","v":{"$error":"#N/A"}},{"$f":"VLOOKUP($B2495,'Ad Week Dates'!$A:$E,3,FALSE)","v":{"$error":"#N/A"}},null,null,null,null,null,null,{"$error":"#N/A"}]
[null,null,{"$f":"VLOOKUP($B2496,'Ad Week Dates'!$A:$E,4,FALSE)","v":{"$error":"#N/A"}},{"$f":"VLOOKUP($B2496,'Ad Week Dates'!$A:$E,2,FALSE)","v":{"$error":"#N/A"}},{"$f":"VLOOKUP($B2496,'Ad Week Dates'!$A:$E,3,FALSE)","v":{"$error":"#N/A"}},null,null,null,null,null,null,{"$error":"#N/A"}]
[null,null,{"$f":"VLOOKUP($B2497,'Ad Week Dates'!$A:$E,4,FALSE)","v":{"$error":"#N/A"}},{"$f":"VLOOKUP($B2497,'Ad Week Dates'!$A:$E,2,FALSE)","v":{"$error":"#N/A"}},{"$f":"VLOOKUP($B2497,'Ad Week Dates'!$A:$E,3,FALSE)","v":{"$error":"#N/A"}},null,null,null,null,null,null,{"$error":"#N/A"}]
[null,null,{"$f":"VLOOKUP($B2498,'Ad Week Dates'!$A:$E,4,FALSE)","v":{"$error":"#N/A"}},{"$f":"VLOOKUP($B2498,'Ad Week Dates'!$A:$E,2,FALSE)","v":{"$error":"#N/A"}},{"$f":"VLOOKUP($B2498,'Ad Week Dates'!$A:$E,3,FALSE)","v":{"$error":"#N/A"}},null,null,null,null,null,null,{"$error":"#N/A"}]
[null,null,{"$f":"VLOOKUP($B2499,'Ad Week Dates'!$A:$E,4,FALSE)","v":{"$error":"#N/A"}},{"$f":"VLOOKUP($B2499,'Ad Week Dates'!$A:$E,2,FALSE)","v":{"$error":"#N/A"}},{"$f":"VLOOKUP($B2499,'Ad Week Dates'!$A:$E,3,FALSE)","v":{"$error":"#N/A"}},null,null,null,null,null,null,{"$error":"#N/A"}]
[null,null,{"$f":"VLOOKUP($B2500,'Ad Week Dates'!$A:$E,4,FALSE)","v":{"$error":"#N/A"}},{"$f":"VLOOKUP($B2500,'Ad Week Dates'!$A:$E,2,FALSE)","v":{"$error":"#N/A"}},{"$f":"VLOOKUP($B2500,'Ad Week Dates'!$A:$E,3,FALSE)","v":{"$error":"#N/A"}},null,null,null,null,null,null,{"$error":"#N/A"}]
[null,null,{"$f":"VLOOKUP($B2501,'Ad Week Dates'!$A:$E,4,FALSE)","v":{"$error":"#N/A"}},{"$f":"VLOOKUP($B2501,'Ad Week Dates'!$A:$E,2,FALSE)","v":{"$error":"#N/A"}},{"$f":"VLOOKUP($B2501,'Ad Week Dates'!$A:$E,3,FALSE)","v":{"$error":"#N/A"}},null,null,null,null,null,null,{"$error":"#N/A"}]
[null,null,{"$f":"VLOOKUP($B2502,'Ad Week Dates'!$A:$E,4,FALSE)","v":{"$error":"#N/A"}},{"$f":"VLOOKUP($B2502,'Ad Week Dates'!$A:$E,2,FALSE)","v":{"$error":"#N/A"}},{"$f":"VLOOKUP($B2502,'Ad Week Dates'!$A:$E,3,FALSE)","v":{"$error":"#N/A"}},null,null,null,null,null,null,{"$f":"IF(ISNUMBER(J2502), J2502 - K2502, VALUE(_xlfn.TEXTBEFORE(J2502, \"-\")) - VALUE(_xlfn.TEXTBEFORE(K2502, \"-\")))","v":{"$error":"#N/A"}}]
[null,null,{"$f":"VLOOKUP($B2503,'Ad Week Dates'!$A:$E,4,FALSE)","v":{"$error":"#N/A"}},{"$f":"VLOOKUP($B2503,'Ad Week Dates'!$A:$E,2,FALSE)","v":{"$error":"#N/A"}},{"$f":"VLOOKUP($B2503,'Ad Week Dates'!$A:$E,3,FALSE)","v":{"$error":"#N/A"}},null,null,null,null,null,null,{"$error":"#N/A"}]
[null,null,{"$f":"VLOOKUP($B2504,'Ad Week Dates'!$A:$E,4,FALSE)","v":{"$error":"#N/A"}},{"$f":"VLOOKUP($B2504,'Ad Week Dates'!$A:$E,2,FALSE)","v":{"$error":"#N/A"}},{"$f":"VLOOKUP($B2504,'Ad Week Dates'!$A:$E,3,FALSE)","v":{"$error":"#N/A"}},null,null,null,null,null,null,{"$error":"#N/A"}]
[null,null,{"$f":"VLOOKUP($B2505,'Ad Week Dates'!$A:$E,4,FALSE)","v":{"$error":"#N/A"}},{"$f":"VLOOKUP($B2505,'Ad Week Dates'!$A:$E,2,FALSE)","v":{"$error":"#N/A"}},{"$f":"VLOOKUP($B2505,'Ad Week Dates'!$A:$E,3,FALSE)","v":{"$error":"#N/A"}},null,null,null,null,null,null,{"$error":"#N/A"}]
[null,null,{"$f":"VLOOKUP($B2506,'Ad Week Dates'!$A:$E,4,FALSE)","v":{"$error":"#N/A"}},{"$f":"VLOOKUP($B2506,'Ad Week Dates'!$A:$E,2,FALSE)","v":{"$error":"#N/A"}},{"$f":"VLOOKUP($B2506,'Ad Week Dates'!$A:$E,3,FALSE)","v":{"$error":"#N/A"}},null,null,null,null,null,null,{"$error":"#N/A"}]
[null,null,{"$f":"VLOOKUP($B2507,'Ad Week Dates'!$A:$E,4,FALSE)","v":{"$error":"#N/A"}},{"$f":"VLOOKUP($B2507,'Ad Week Dates'!$A:$E,2,FALSE)","v":{"$error":"#N/A"}},{"$f":"VLOOKUP($B2507,'Ad Week Dates'!$A:$E,3,FALSE)","v":{"$error":"#N/A"}},null,null,null,null,null,null,{"$error":"#N/A"}]
[null,null,{"$f":"VLOOKUP($B2508,'Ad Week Dates'!$A:$E,4,FALSE)","v":{"$error":"#N/A"}},{"$f":"VLOOKUP($B2508,'Ad Week Dates'!$A:$E,2,FALSE)","v":{"$error":"#N/A"}},{"$f":"VLOOKUP($B2508,'Ad Week Dates'!$A:$E,3,FALSE)","v":{"$error":"#N/A"}},null,null,null,null,null,null,{"$error":"#N/A"}]
[null,null,{"$f":"VLOOKUP($B2509,'Ad Week Dates'!$A:$E,4,FALSE)","v":{"$error":"#N/A"}},{"$f":"VLOOKUP($B2509,'Ad Week Dates'!$A:$E,2,FALSE)","v":{"$error":"#N/A"}},{"$f":"VLOOKUP($B2509,'Ad Week Dates'!$A:$E,3,FALSE)","v":{"$error":"#N/A"}},null,null,null,null,null,null,{"$error":"#N/A"}]
[null,null,{"$f":"VLOOKUP($B2510,'Ad Week Dates'!$A:$E,4,FALSE)","v":{"$error":"#N/A"}},{"$f":"VLOOKUP($B2510,'Ad Week Dates'!$A:$E,2,FALSE)","v":{"$error":"#N/A"}},{"$f":"VLOOKUP($B2510,'Ad Week Dates'!$A:$E,3,FALSE)","v":{"$error":"#N/A"}},null,null,null,null,null,null,{"$error":"#N/A"}]
[null,null,{"$f":"VLOOKUP($B2511,'Ad Week Dates'!$A:$E,4,FALSE)","v":{"$error":"#N/A"}},{"$f":"VLOOKUP($B2511,'Ad Week Dates'!$A:$E,2,FALSE)","v":{"$error":"#N/A"}},{"$f":"VLOOKUP($B2511,'Ad Week Dates'!$A:$E,3,FALSE)","v":{"$error":"#N/A"}},null,null,null,null,null,null,{"$error":"#N/A"}]
[null,null,{"$f":"VLOOKUP($B2512,'Ad Week Dates'!$A:$E,4,FALSE)","v":{"$error":"#N/A"}},{"$f":"VLOOKUP($B2512,'Ad Week Dates'!$A:$E,2,FALSE)","v":{"$error":"#N/A"}},{"$f":"VLOOKUP($B2512,'Ad Week Dates'!$A:$E,3,FALSE)","v":{"$error":"#N/A"}},null,null,null,null,null,null,{"$error":"#N/A"}]
[null,null,{"$f":"VLOOKUP($B2513,'Ad Week Dates'!$A:$E,4,FALSE)","v":{"$error":"#N/A"}},{"$f":"VLOOKUP($B2513,'Ad Week Dates'!$A:$E,2,FALSE)","v":{"$error":"#N/A"}},{"$f":"VLOOKUP($B2513,'Ad Week Dates'!$A:$E,3,FALSE)","v":{"$error":"#N/A"}},null,null,null,null,null,null,{"$error":"#N/A"}]
[null,null,{"$f":"VLOOKUP($B2514,'Ad Week Dates'!$A:$E,4,FALSE)","v":{"$error":"#N/A"}},{"$f":"VLOOKUP($B2514,'Ad Week Dates'!$A:$E,2,FALSE)","v":{"$error":"#N/A"}},{"$f":"VLOOKUP($B2514,'Ad Week Dates'!$A:$E,3,FALSE)","v":{"$error":"#N/A"}},null,null,null,null,null,null,{"$error":"#N/A"}]
[null,null,{"$f":"VLOOKUP($B2515,'Ad Week Dates'!$A:$E,4,FALSE)","v":{"$error":"#N/A"}},{"$f":"VLOOKUP($B2515,'Ad Week Dates'!$A:$E,2,FALSE)","v":{"$error":"#N/A"}},{"$f":"VLOOKUP($B2515,'Ad Week Dates'!$A:$E,3,FALSE)","v":{"$error":"#N/A"}},null,null,null,null,null,null,{"$error":"#N/A"}]
[null,null,{"$f":"VLOOKUP($B2516,'Ad Week Dates'!$A:$E,4,FALSE)","v":{"$error":"#N/A"}},{"$f":"VLOOKUP($B2516,'Ad Week Dates'!$A:$E,2,FALSE)","v":{"$error":"#N/A"}},{"$f":"VLOOKUP($B2516,'Ad Week Dates'!$A:$E,3,FALSE)","v":{"$error":"#N/A"}},null,null,null,null,null,null,{"$error":"#N/A"}]
[null,null,{"$f":"VLOOKUP($B2517,'Ad Week Dates'!$A:$E,4,FALSE)","v":{"$error":"#N/A"}},{"$f":"VLOOKUP($B2517,'Ad Week Dates'!$A:$E,2,FALSE)","v":{"$error":"#N/A"}},{"$f":"VLOOKUP($B2517,'Ad Week Dates'!$A:$E,3,FALSE)","v":{"$error":"#N/A"}},null,null,null,null,null,null,{"$error":"#N/A"}]
[null,null,{"$f":"VLOOKUP($B2518,'Ad Week Dates'!$A:$E,4,FALSE)","v":{"$error":"#N/A"}},{"$f":"VLOOKUP($B2518,'Ad Week Dates'!$A:$E,2,FALSE)","v":{"$error":"#N/A"}},{"$f":"VLOOKUP($B2518,'Ad Week Dates'!$A:$E,3,FALSE)","v":{"$error":"#N/A"}},null,null,null,null,null,null,{"$error":"#N/A"}]
[null,null,{"$f":"VLOOKUP($B2519,'Ad Week Dates'!$A:$E,4,FALSE)","v":{"$error":"#N/A"}},{"$f":"VLOOKUP($B2519,'Ad Week Dates'!$A:$E,2,FALSE)","v":{"$error":"#N/A"}},{"$f":"VLOOKUP($B2519,'Ad Week Dates'!$A:$E,3,FALSE)","v":{"$error":"#N/A"}},null,null,null,null,null,null,{"$error":"#N/A"}]
[null,null,{"$f":"VLOOKUP($B2520,'Ad Week Dates'!$A:$E,4,FALSE)","v":{"$error":"#N/A"}},{"$f":"VLOOKUP($B2520,'Ad Week Dates'!$A:$E,2,FALSE)","v":{"$error":"#N/A"}},{"$f":"VLOOKUP($B2520,'Ad Week Dates'!$A:$E,3,FALSE)","v":{"$error":"#N/A"}},null,null,null,null,null,null,{"$error":"#N/A"}]
[null,null,{"$f":"VLOOKUP($B2521,'Ad Week Dates'!$A:$E,4,FALSE)","v":{"$error":"#N/A"}},{"$f":"VLOOKUP($B2521,'Ad Week Dates'!$A:$E,2,FALSE)","v":{"$error":"#N/A"}},{"$f":"VLOOKUP($B2521,'Ad Week Dates'!$A:$E,3,FALSE)","v":{"$error":"#N/A"}},null,null,null,null,null,null,{"$error":"#N/A"}]
[null,null,{"$f":"VLOOKUP($B2522,'Ad Week Dates'!$A:$E,4,FALSE)","v":{"$error":"#N/A"}},{"$f":"VLOOKUP($B2522,'Ad Week Dates'!$A:$E,2,FALSE)","v":{"$error":"#N/A"}},{"$f":"VLOOKUP($B2522,'Ad Week Dates'!$A:$E,3,FALSE)","v":{"$error":"#N/A"}},null,null,null,null,null,null,{"$error":"#N/A"}]
[null,null,{"$f":"VLOOKUP($B2523,'Ad Week Dates'!$A:$E,4,FALSE)","v":{"$error":"#N/A"}},{"$f":"VLOOKUP($B2523,'Ad Week Dates'!$A:$E,2,FALSE)","v":{"$error":"#N/A"}},{"$f":"VLOOKUP($B2523,'Ad Week Dates'!$A:$E,3,FALSE)","v":{"$error":"#N/A"}},null,null,null,null,null,null,{"$error":"#N/A"}]
[null,null,{"$f":"VLOOKUP($B2524,'Ad Week Dates'!$A:$E,4,FALSE)","v":{"$error":"#N/A"}},{"$f":"VLOOKUP($B2524,'Ad Week Dates'!$A:$E,2,FALSE)","v":{"$error":"#N/A"}},{"$f":"VLOOKUP($B2524,'Ad Week Dates'!$A:$E,3,FALSE)","v":{"$error":"#N/A"}},null,null,null,null,null,null,{"$error":"#N/A"}]
[null,null,{"$f":"VLOOKUP($B2525,'Ad Week Dates'!$A:$E,4,FALSE)","v":{"$error":"#N/A"}},{"$f":"VLOOKUP($B2525,'Ad Week Dates'!$A:$E,2,FALSE)","v":{"$error":"#N/A"}},{"$f":"VLOOKUP($B2525,'Ad Week Dates'!$A:$E,3,FALSE)","v":{"$error":"#N/A"}},null,null,null,null,null,null,{"$error":"#N/A"}]
[null,null,{"$f":"VLOOKUP($B2526,'Ad Week Dates'!$A:$E,4,FALSE)","v":{"$error":"#N/A"}},{"$f":"VLOOKUP($B2526,'Ad Week Dates'!$A:$E,2,FALSE)","v":{"$error":"#N/A"}},{"$f":"VLOOKUP($B2526,'Ad Week Dates'!$A:$E,3,FALSE)","v":{"$error":"#N/A"}},null,null,null,null,null,null,{"$error":"#N/A"}]
[null,null,{"$f":"VLOOKUP($B2527,'Ad Week Dates'!$A:$E,4,FALSE)","v":{"$error":"#N/A"}},{"$f":"VLOOKUP($B2527,'Ad Week Dates'!$A:$E,2,FALSE)","v":{"$error":"#N/A"}},{"$f":"VLOOKUP($B2527,'Ad Week Dates'!$A:$E,3,FALSE)","v":{"$error":"#N/A"}},null,null,null,null,null,null,{"$error":"#N/A"}]
[null,null,{"$f":"VLOOKUP($B2528,'Ad Week Dates'!$A:$E,4,FALSE)","v":{"$error":"#N/A"}},{"$f":"VLOOKUP($B2528,'Ad Week Dates'!$A:$E,2,FALSE)","v":{"$error":"#N/A"}},{"$f":"VLOOKUP($B2528,'Ad Week Dates'!$A:$E,3,FALSE)","v":{"$error":"#N/A"}},null,null,null,null,null,null,{"$error":"#N/A"}]
[null,null,{"$f":"VLOOKUP($B2529,'Ad Week Dates'!$A:$E,4,FALSE)","v":{"$error":"#N/A"}},{"$f":"VLOOKUP($B2529,'Ad Week Dates'!$A:$E,2,FALSE)","v":{"$error":"#N/A"}},{"$f":"VLOOKUP($B2529,'Ad Week Dates'!$A:$E,3,FALSE)","v":{"$error":"#N/A"}},null,null,null,null,null,null,{"$error":"#N/A"}]
[null,null,{"$f":"VLOOKUP($B2530,'Ad Week Dates'!$A:$E,4,FALSE)","v":{"$error":"#N/A"}},{"$f":"VLOOKUP($B2530,'Ad Week Dates'!$A:$E,2,FALSE)","v":{"$error":"#N/A"}},{"$f":"VLOOKUP($B2530,'Ad Week Dates'!$A:$E,3,FALSE)","v":{"$error":"#N/A"}},null,null,null,null,null,null,{"$error":"#N/A"}]
[null,null,{"$f":"VLOOKUP($B2531,'Ad Week Dates'!$A:$E,4,FALSE)","v":{"$error":"#N/A"}},{"$f":"VLOOKUP($B2531,'Ad Week Dates'!$A:$E,2,FALSE)","v":{"$error":"#N/A"}},{"$f":"VLOOKUP($B2531,'Ad Week Dates'!$A:$E,3,FALSE)","v":{"$error":"#N/A"}},null,null,null,null,null,null,{"$error":"#N/A"}]
[null,null,{"$f":"VLOOKUP($B2532,'Ad Week Dates'!$A:$E,4,FALSE)","v":{"$error":"#N/A"}},{"$f":"VLOOKUP($B2532,'Ad Week Dates'!$A:$E,2,FALSE)","v":{"$error":"#N/A"}},{"$f":"VLOOKUP($B2532,'Ad Week Dates'!$A:$E,3,FALSE)","v":{"$error":"#N/A"}},null,null,null,null,null,null,{"$error":"#N/A"}]
[null,null,{"$f":"VLOOKUP($B2533,'Ad Week Dates'!$A:$E,4,FALSE)","v":{"$error":"#N/A"}},{"$f":"VLOOKUP($B2533,'Ad Week Dates'!$A:$E,2,FALSE)","v":{"$error":"#N/A"}},{"$f":"VLOOKUP($B2533,'Ad Week Dates'!$A:$E,3,FALSE)","v":{"$error":"#N/A"}},null,null,null,null,null,null,{"$error":"#N/A"}]
[null,null,{"$f":"VLOOKUP($B2534,'Ad Week Dates'!$A:$E,4,FALSE)","v":{"$error":"#N/A"}},{"$f":"VLOOKUP($B2534,'Ad Week Dates'!$A:$E,2,FALSE)","v":{"$error":"#N/A"}},{"$f":"VLOOKUP($B2534,'Ad Week Dates'!$A:$E,3,FALSE)","v":{"$error":"#N/A"}},null,null,null,null,null,null,{"$error":"#N/A"}]
[null,null,{"$f":"VLOOKUP($B2535,'Ad Week Dates'!$A:$E,4,FALSE)","v":{"$error":"#N/A"}},{"$f":"VLOOKUP($B2535,'Ad Week Dates'!$A:$E,2,FALSE)","v":{"$error":"#N/A"}},{"$f":"VLOOKUP($B2535,'Ad Week Dates'!$A:$E,3,FALSE)","v":{"$error":"#N/A"}},null,null,null,null,null,null,{"$error":"#N/A"}]
[null,null,{"$f":"VLOOKUP($B2536,'Ad Week Dates'!$A:$E,4,FALSE)","v":{"$error":"#N/A"}},{"$f":"VLOOKUP($B2536,'Ad Week Dates'!$A:$E,2,FALSE)","v":{"$error":"#N/A"}},{"$f":"VLOOKUP($B2536,'Ad Week Dates'!$A:$E,3,FALSE)","v":{"$error":"#N/A"}},null,null,null,null,null,null,{"$error":"#N/A"}]
[null,null,{"$f":"VLOOKUP($B2537,'Ad Week Dates'!$A:$E,4,FALSE)","v":{"$error":"#N/A"}},{"$f":"VLOOKUP($B2537,'Ad Week Dates'!$A:$E,2,FALSE)","v":{"$error":"#N/A"}},{"$f":"VLOOKUP($B2537,'Ad Week Dates'!$A:$E,3,FALSE)","v":{"$error":"#N/A"}},null,null,null,null,null,null,{"$error":"#N/A"}]
[null,null,{"$f":"VLOOKUP($B2538,'Ad Week Dates'!$A:$E,4,FALSE)","v":{"$error":"#N/A"}},{"$f":"VLOOKUP($B2538,'Ad Week Dates'!$A:$E,2,FALSE)","v":{"$error":"#N/A"}},{"$f":"VLOOKUP($B2538,'Ad Week Dates'!$A:$E,3,FALSE)","v":{"$error":"#N/A"}},null,null,null,null,null,null,{"$error":"#N/A"}]
[null,null,{"$f":"VLOOKUP($B2539,'Ad Week Dates'!$A:$E,4,FALSE)","v":{"$error":"#N/A"}},{"$f":"VLOOKUP($B2539,'Ad Week Dates'!$A:$E,2,FALSE)","v":{"$error":"#N/A"}},{"$f":"VLOOKUP($B2539,'Ad Week Dates'!$A:$E,3,FALSE)","v":{"$error":"#N/A"}},null,null,null,null,null,null,{"$error":"#N/A"}]
[null,null,{"$f":"VLOOKUP($B2540,'Ad Week Dates'!$A:$E,4,FALSE)","v":{"$error":"#N/A"}},{"$f":"VLOOKUP($B2540,'Ad Week Dates'!$A:$E,2,FALSE)","v":{"$error":"#N/A"}},{"$f":"VLOOKUP($B2540,'Ad Week Dates'!$A:$E,3,FALSE)","v":{"$error":"#N/A"}},null,null,null,null,null,null,{"$error":"#N/A"}]
[null,null,{"$f":"VLOOKUP($B2541,'Ad Week Dates'!$A:$E,4,FALSE)","v":{"$error":"#N/A"}},{"$f":"VLOOKUP($B2541,'Ad Week Dates'!$A:$E,2,FALSE)","v":{"$error":"#N/A"}},{"$f":"VLOOKUP($B2541,'Ad Week Dates'!$A:$E,3,FALSE)","v":{"$error":"#N/A"}},null,null,null,null,null,null,{"$error":"#N/A"}]
[null,null,{"$f":"VLOOKUP($B2542,'Ad Week Dates'!$A:$E,4,FALSE)","v":{"$error":"#N/A"}},{"$f":"VLOOKUP($B2542,'Ad Week Dates'!$A:$E,2,FALSE)","v":{"$error":"#N/A"}},{"$f":"VLOOKUP($B2542,'Ad Week Dates'!$A:$E,3,FALSE)","v":{"$error":"#N/A"}},null,null,null,null,null,null,{"$error":"#N/A"}]
[null,null,{"$f":"VLOOKUP($B2543,'Ad Week Dates'!$A:$E,4,FALSE)","v":{"$error":"#N/A"}},{"$f":"VLOOKUP($B2543,'Ad Week Dates'!$A:$E,2,FALSE)","v":{"$error":"#N/A"}},{"$f":"VLOOKUP($B2543,'Ad Week Dates'!$A:$E,3,FALSE)","v":{"$error":"#N/A"}},null,null,null,null,null,null,{"$error":"#N/A"}]
[null,null,{"$f":"VLOOKUP($B2544,'Ad Week Dates'!$A:$E,4,FALSE)","v":{"$error":"#N/A"}},{"$f":"VLOOKUP($B2544,'Ad Week Dates'!$A:$E,2,FALSE)","v":{"$error":"#N/A"}},{"$f":"VLOOKUP($B2544,'Ad Week Dates'!$A:$E,3,FALSE)","v":{"$error":"#N/A"}},null,null,null,null,null,null,{"$error":"#N/A"}]
[null,null,{"$f":"VLOOKUP($B2545,'Ad Week Dates'!$A:$E,4,FALSE)","v":{"$error":"#N/A"}},{"$f":"VLOOKUP($B2545,'Ad Week Dates'!$A:$E,2,FALSE)","v":{"$error":"#N/A"}},{"$f":"VLOOKUP($B2545,'Ad Week Dates'!$A:$E,3,FALSE)","v":{"$error":"#N/A"}},null,null,null,null,null,null,{"$error":"#N/A"}]
[null,null,{"$f":"VLOOKUP($B2546,'Ad Week Dates'!$A:$E,4,FALSE)","v":{"$error":"#N/A"}},{"$f":"VLOOKUP($B2546,'Ad Week Dates'!$A:$E,2,FALSE)","v":{"$error":"#N/A"}},{"$f":"VLOOKUP($B2546,'Ad Week Dates'!$A:$E,3,FALSE)","v":{"$error":"#N/A"}},null,null,null,null,null,null,{"$error":"#N/A"}]
[null,null,{"$f":"VLOOKUP($B2547,'Ad Week Dates'!$A:$E,4,FALSE)","v":{"$error":"#N/A"}},{"$f":"VLOOKUP($B2547,'Ad Week Dates'!$A:$E,2,FALSE)","v":{"$error":"#N/A"}},{"$f":"VLOOKUP($B2547,'Ad Week Dates'!$A:$E,3,FALSE)","v":{"$error":"#N/A"}},null,null,null,null,null,null,{"$error":"#N/A"}]
[null,null,{"$f":"VLOOKUP($B2548,'Ad Week Dates'!$A:$E,4,FALSE)","v":{"$error":"#N/A"}},{"$f":"VLOOKUP($B2548,'Ad Week Dates'!$A:$E,2,FALSE)","v":{"$error":"#N/A"}},{"$f":"VLOOKUP($B2548,'Ad Week Dates'!$A:$E,3,FALSE)","v":{"$error":"#N/A"}},null,null,null,null,null,null,{"$error":"#N/A"}]
[null,null,{"$f":"VLOOKUP($B2549,'Ad Week Dates'!$A:$E,4,FALSE)","v":{"$error":"#N/A"}},{"$f":"VLOOKUP($B2549,'Ad Week Dates'!$A:$E,2,FALSE)","v":{"$error":"#N/A"}},{"$f":"VLOOKUP($B2549,'Ad Week Dates'!$A:$E,3,FALSE)","v":{"$error":"#N/A"}},null,null,null,null,null,null,{"$error":"#N/A"}]
[null,null,{"$f":"VLOOKUP($B2550,'Ad Week Dates'!$A:$E,4,FALSE)","v":{"$error":"#N/A"}},{"$f":"VLOOKUP($B2550,'Ad Week Dates'!$A:$E,2,FALSE)","v":{"$error":"#N/A"}},{"$f":"VLOOKUP($B2550,'Ad Week Dates'!$A:$E,3,FALSE)","v":{"$error":"#N/A"}},null,null,null,null,null,null,{"$error":"#N/A"}]
[null,null,{"$f":"VLOOKUP($B2551,'Ad Week Dates'!$A:$E,4,FALSE)","v":{"$error":"#N/A"}},{"$f":"VLOOKUP($B2551,'Ad Week Dates'!$A:$E,2,FALSE)","v":{"$error":"#N/A"}},{"$f":"VLOOKUP($B2551,'Ad Week Dates'!$A:$E,3,FALSE)","v":{"$error":"#N/A"}},null,null,null,null,null,null,{"$error":"#N/A"}]
[null,null,{"$f":"VLOOKUP($B2552,'Ad Week Dates'!$A:$E,4,FALSE)","v":{"$error":"#N/A"}},{"$f":"VLOOKUP($B2552,'Ad Week Dates'!$A:$E,2,FALSE)","v":{"$error":"#N/A"}},{"$f":"VLOOKUP($B2552,'Ad Week Dates'!$A:$E,3,FALSE)","v":{"$error":"#N/A"}},null,null,null,null,null,null,{"$error":"#N/A"}]
[null,null,{"$f":"VLOOKUP($B2553,'Ad Week Dates'!$A:$E,4,FALSE)","v":{"$error":"#N/A"}},{"$f":"VLOOKUP($B2553,'Ad Week Dates'!$A:$E,2,FALSE)","v":{"$error":"#N/A"}},{"$f":"VLOOKUP($B2553,'Ad Week Dates'!$A:$E,3,FALSE)","v":{"$error":"#N/A"}},null,null,null,null,null,null,{"$error":"#N/A"}]
[null,null,{"$f":"VLOOKUP($B2554,'Ad Week Dates'!$A:$E,4,FALSE)","v":{"$error":"#N/A"}},{"$f":"VLOOKUP($B2554,'Ad Week Dates'!$A:$E,2,FALSE)","v":{"$error":"#N/A"}},{"$f":"VLOOKUP($B2554,'Ad Week Dates'!$A:$E,3,FALSE)","v":{"$error":"#N/A"}},null,null,null,null,null,null,{"$error":"#N/A"}]
[null,null,{"$f":"VLOOKUP($B2555,'Ad Week Dates'!$A:$E,4,FALSE)","v":{"$error":"#N/A"}},{"$f":"VLOOKUP($B2555,'Ad Week Dates'!$A:$E,2,FALSE)","v":{"$error":"#N/A"}},{"$f":"VLOOKUP($B2555,'Ad Week Dates'!$A:$E,3,FALSE)","v":{"$error":"#N/A"}},null,null,null,null,null,null,{"$error":"#N/A"}]
[null,null,{"$f":"VLOOKUP($B2556,'Ad Week Dates'!$A:$E,4,FALSE)","v":{"$error":"#N/A"}},{"$f":"VLOOKUP($B2556,'Ad Week Dates'!$A:$E,2,FALSE)","v":{"$error":"#N/A"}},{"$f":"VLOOKUP($B2556,'Ad Week Dates'!$A:$E,3,FALSE)","v":{"$error":"#N/A"}},null,null,null,null,null,null,{"$error":"#N/A"}]
[null,null,{"$f":"VLOOKUP($B2557,'Ad Week Dates'!$A:$E,4,FALSE)","v":{"$error":"#N/A"}},{"$f":"VLOOKUP($B2557,'Ad Week Dates'!$A:$E,2,FALSE)","v":{"$error":"#N/A"}},{"$f":"VLOOKUP($B2557,'Ad Week Dates'!$A:$E,3,FALSE)","v":{"$error":"#N/A"}},null,null,null,null,null,null,{"$error":"#N/A"}]
[null,null,{"$f":"VLOOKUP($B2558,'Ad Week Dates'!$A:$E,4,FALSE)","v":{"$error":"#N/A"}},{"$f":"VLOOKUP($B2558,'Ad Week Dates'!$A:$E,2,FALSE)","v":{"$error":"#N/A"}},{"$f":"VLOOKUP($B2558,'Ad Week Dates'!$A:$E,3,FALSE)","v":{"$error":"#N/A"}},null,null,null,null,null,null,{"$error":"#N/A"}]
[null,null,{"$f":"VLOOKUP($B2559,'Ad Week Dates'!$A:$E,4,FALSE)","v":{"$error":"#N/A"}},{"$f":"VLOOKUP($B2559,'Ad Week Dates'!$A:$E,2,FALSE)","v":{"$error":"#N/A"}},{"$f":"VLOOKUP($B2559,'Ad Week Dates'!$A:$E,3,FALSE)","v":{"$error":"#N/A"}},null,null,null,null,null,null,{"$error":"#N/A"}]
[null,null,{"$f":"VLOOKUP($B2560,'Ad Week Dates'!$A:$E,4,FALSE)","v":{"$error":"#N/A"}},{"$f":"VLOOKUP($B2560,'Ad Week Dates'!$A:$E,2,FALSE)","v":{"$error":"#N/A"}},{"$f":"VLOOKUP($B2560,'Ad Week Dates'!$A:$E,3,FALSE)","v":{"$error":"#N/A"}},null,null,null,null,null,null,{"$error":"#N/A"}]
[null,null,{"$f":"VLOOKUP($B2561,'Ad Week Dates'!$A:$E,4,FALSE)","v":{"$error":"#N/A"}},{"$f":"VLOOKUP($B2561,'Ad Week Dates'!$A:$E,2,FALSE)","v":{"$error":"#N/A"}},{"$f":"VLOOKUP($B2561,'Ad Week Dates'!$A:$E,3,FALSE)","v":{"$error":"#N/A"}},null,null,null,null,null,null,{"$error":"#N/A"}]
[null,null,{"$f":"VLOOKUP($B2562,'Ad Week Dates'!$A:$E,4,FALSE)","v":{"$error":"#N/A"}},{"$f":"VLOOKUP($B2562,'Ad Week Dates'!$A:$E,2,FALSE)","v":{"$error":"#N/A"}},{"$f":"VLOOKUP($B2562,'Ad Week Dates'!$A:$E,3,FALSE)","v":{"$error":"#N/A"}},null,null,null,null,null,null,{"$error":"#N/A"}]
[null,null,{"$f":"VLOOKUP($B2563,'Ad Week Dates'!$A:$E,4,FALSE)","v":{"$error":"#N/A"}},{"$f":"VLOOKUP($B2563,'Ad Week Dates'!$A:$E,2,FALSE)","v":{"$error":"#N/A"}},{"$f":"VLOOKUP($B2563,'Ad Week Dates'!$A:$E,3,FALSE)","v":{"$error":"#N/A"}},null,null,null,null,null,null,{"$error":"#N/A"}]
[null,null,{"$f":"VLOOKUP($B2564,'Ad Week Dates'!$A:$E,4,FALSE)","v":{"$error":"#N/A"}},{"$f":"VLOOKUP($B2564,'Ad Week Dates'!$A:$E,2,FALSE)","v":{"$error":"#N/A"}},{"$f":"VLOOKUP($B2564,'Ad Week Dates'!$A:$E,3,FALSE)","v":{"$error":"#N/A"}},null,null,null,null,null,null,{"$error":"#N/A"}]
[null,null,{"$f":"VLOOKUP($B2565,'Ad Week Dates'!$A:$E,4,FALSE)","v":{"$error":"#N/A"}},{"$f":"VLOOKUP($B2565,'Ad Week Dates'!$A:$E,2,FALSE)","v":{"$error":"#N/A"}},{"$f":"VLOOKUP($B2565,'Ad Week Dates'!$A:$E,3,FALSE)","v":{"$error":"#N/A"}},null,null,null,null,null,null,{"$error":"#N/A"}]
[null,null,{"$f":"VLOOKUP($B2566,'Ad Week Dates'!$A:$E,4,FALSE)","v":{"$error":"#N/A"}},{"$f":"VLOOKUP($B2566,'Ad Week Dates'!$A:$E,2,FALSE)","v":{"$error":"#N/A"}},{"$f":"VLOOKUP($B2566,'Ad Week Dates'!$A:$E,3,FALSE)","v":{"$error":"#N/A"}},null,null,null,null,null,null,{"$f":"IF(ISNUMBER(J2566), J2566 - K2566, VALUE(_xlfn.TEXTBEFORE(J2566, \"-\")) - VALUE(_xlfn.TEXTBEFORE(K2566, \"-\")))","v":{"$error":"#N/A"}}]
[null,null,{"$f":"VLOOKUP($B2567,'Ad Week Dates'!$A:$E,4,FALSE)","v":{"$error":"#N/A"}},{"$f":"VLOOKUP($B2567,'Ad Week Dates'!$A:$E,2,FALSE)","v":{"$error":"#N/A"}},{"$f":"VLOOKUP($B2567,'Ad Week Dates'!$A:$E,3,FALSE)","v":{"$error":"#N/A"}},null,null,null,null,null,null,{"$error":"#N/A"}]
[null,null,{"$f":"VLOOKUP($B2568,'Ad Week Dates'!$A:$E,4,FALSE)","v":{"$error":"#N/A"}},{"$f":"VLOOKUP($B2568,'Ad Week Dates'!$A:$E,2,FALSE)","v":{"$error":"#N/A"}},{"$f":"VLOOKUP($B2568,'Ad Week Dates'!$A:$E,3,FALSE)","v":{"$error":"#N/A"}},null,null,null,null,null,null,{"$error":"#N/A"}]
[null,null,{"$f":"VLOOKUP($B2569,'Ad Week Dates'!$A:$E,4,FALSE)","v":{"$error":"#N/A"}},{"$f":"VLOOKUP($B2569,'Ad Week Dates'!$A:$E,2,FALSE)","v":{"$error":"#N/A"}},{"$f":"VLOOKUP($B2569,'Ad Week Dates'!$A:$E,3,FALSE)","v":{"$error":"#N/A"}},null,null,null,null,null,null,{"$error":"#N/A"}]
[null,null,{"$f":"VLOOKUP($B2570,'Ad Week Dates'!$A:$E,4,FALSE)","v":{"$error":"#N/A"}},{"$f":"VLOOKUP($B2570,'Ad Week Dates'!$A:$E,2,FALSE)","v":{"$error":"#N/A"}},{"$f":"VLOOKUP($B2570,'Ad Week Dates'!$A:$E,3,FALSE)","v":{"$error":"#N/A"}},null,null,null,null,null,null,{"$error":"#N/A"}]
[null,null,{"$f":"VLOOKUP($B2571,'Ad Week Dates'!$A:$E,4,FALSE)","v":{"$error":"#N/A"}},{"$f":"VLOOKUP($B2571,'Ad Week Dates'!$A:$E,2,FALSE)","v":{"$error":"#N/A"}},{"$f":"VLOOKUP($B2571,'Ad Week Dates'!$A:$E,3,FALSE)","v":{"$error":"#N/A"}},null,null,null,null,null,null,{"$error":"#N/A"}]
[null,null,{"$f":"VLOOKUP($B2572,'Ad Week Dates'!$A:$E,4,FALSE)","v":{"$error":"#N/A"}},{"$f":"VLOOKUP($B2572,'Ad Week Dates'!$A:$E,2,FALSE)","v":{"$error":"#N/A"}},{"$f":"VLOOKUP($B2572,'Ad Week Dates'!$A:$E,3,FALSE)","v":{"$error":"#N/A"}},null,null,null,null,null,null,{"$error":"#N/A"}]
[null,null,{"$f":"VLOOKUP($B2573,'Ad Week Dates'!$A:$E,4,FALSE)","v":{"$error":"#N/A"}},{"$f":"VLOOKUP($B2573,'Ad Week Dates'!$A:$E,2,FALSE)","v":{"$error":"#N/A"}},{"$f":"VLOOKUP($B2573,'Ad Week Dates'!$A:$E,3,FALSE)","v":{"$error":"#N/A"}},null,null,null,null,null,null,{"$error":"#N/A"}]
[null,null,{"$f":"VLOOKUP($B2574,'Ad Week Dates'!$A:$E,4,FALSE)","v":{"$error":"#N/A"}},{"$f":"VLOOKUP($B2574,'Ad Week Dates'!$A:$E,2,FALSE)","v":{"$error":"#N/A"}},{"$f":"VLOOKUP($B2574,'Ad Week Dates'!$A:$E,3,FALSE)","v":{"$error":"#N/A"}},null,null,null,null,null,null,{"$error":"#N/A"}]
[null,null,{"$f":"VLOOKUP($B2575,'Ad Week Dates'!$A:$E,4,FALSE)","v":{"$error":"#N/A"}},{"$f":"VLOOKUP($B2575,'Ad Week Dates'!$A:$E,2,FALSE)","v":{"$error":"#N/A"}},{"$f":"VLOOKUP($B2575,'Ad Week Dates'!$A:$E,3,FALSE)","v":{"$error":"#N/A"}},null,null,null,null,null,null,{"$error":"#N/A"}]
[null,null,{"$f":"VLOOKUP($B2576,'Ad Week Dates'!$A:$E,4,FALSE)","v":{"$error":"#N/A"}},{"$f":"VLOOKUP($B2576,'Ad Week Dates'!$A:$E,2,FALSE)","v":{"$error":"#N/A"}},{"$f":"VLOOKUP($B2576,'Ad Week Dates'!$A:$E,3,FALSE)","v":{"$error":"#N/A"}},null,null,null,null,null,null,{"$error":"#N/A"}]
[null,null,{"$f":"VLOOKUP($B2577,'Ad Week Dates'!$A:$E,4,FALSE)","v":{"$error":"#N/A"}},{"$f":"VLOOKUP($B2577,'Ad Week Dates'!$A:$E,2,FALSE)","v":{"$error":"#N/A"}},{"$f":"VLOOKUP($B2577,'Ad Week Dates'!$A:$E,3,FALSE)","v":{"$error":"#N/A"}},null,null,null,null,null,null,{"$error":"#N/A"}]
[null,null,{"$f":"VLOOKUP($B2578,'Ad Week Dates'!$A:$E,4,FALSE)","v":{"$error":"#N/A"}},{"$f":"VLOOKUP($B2578,'Ad Week Dates'!$A:$E,2,FALSE)","v":{"$error":"#N/A"}},{"$f":"VLOOKUP($B2578,'Ad Week Dates'!$A:$E,3,FALSE)","v":{"$error":"#N/A"}},null,null,null,null,null,null,{"$error":"#N/A"}]
[null,null,{"$f":"VLOOKUP($B2579,'Ad Week Dates'!$A:$E,4,FALSE)","v":{"$error":"#N/A"}},{"$f":"VLOOKUP($B2579,'Ad Week Dates'!$A:$E,2,FALSE)","v":{"$error":"#N/A"}},{"$f":"VLOOKUP($B2579,'Ad Week Dates'!$A:$E,3,FALSE)","v":{"$error":"#N/A"}},null,null,null,null,null,null,{"$error":"#N/A"}]
[null,null,{"$f":"VLOOKUP($B2580,'Ad Week Dates'!$A:$E,4,FALSE)","v":{"$error":"#N/A"}},{"$f":"VLOOKUP($B2580,'Ad Week Dates'!$A:$E,2,FALSE)","v":{"$error":"#N/A"}},{"$f":"VLOOKUP($B2580,'Ad Week Dates'!$A:$E,3,FALSE)","v":{"$error":"#N/A"}},null,null,null,null,null,null,{"$error":"#N/A"}]
[null,null,{"$f":"VLOOKUP($B2581,'Ad Week Dates'!$A:$E,4,FALSE)","v":{"$error":"#N/A"}},{"$f":"VLOOKUP($B2581,'Ad Week Dates'!$A:$E,2,FALSE)","v":{"$error":"#N/A"}},{"$f":"VLOOKUP($B2581,'Ad Week Dates'!$A:$E,3,FALSE)","v":{"$error":"#N/A"}},null,null,null,null,null,null,{"$error":"#N/A"}]
[null,null,{"$f":"VLOOKUP($B2582,'Ad Week Dates'!$A:$E,4,FALSE)","v":{"$error":"#N/A"}},{"$f":"VLOOKUP($B2582,'Ad Week Dates'!$A:$E,2,FALSE)","v":{"$error":"#N/A"}},{"$f":"VLOOKUP($B2582,'Ad Week Dates'!$A:$E,3,FALSE)","v":{"$error":"#N/A"}},null,null,null,null,null,null,{"$error":"#N/A"}]
[null,null,{"$f":"VLOOKUP($B2583,'Ad Week Dates'!$A:$E,4,FALSE)","v":{"$error":"#N/A"}},{"$f":"VLOOKUP($B2583,'Ad Week Dates'!$A:$E,2,FALSE)","v":{"$error":"#N/A"}},{"$f":"VLOOKUP($B2583,'Ad Week Dates'!$A:$E,3,FALSE)","v":{"$error":"#N/A"}},null,null,null,null,null,null,{"$error":"#N/A"}]
[null,null,{"$f":"VLOOKUP($B2584,'Ad Week Dates'!$A:$E,4,FALSE)","v":{"$error":"#N/A"}},{"$f":"VLOOKUP($B2584,'Ad Week Dates'!$A:$E,2,FALSE)","v":{"$error":"#N/A"}},{"$f":"VLOOKUP($B2584,'Ad Week Dates'!$A:$E,3,FALSE)","v":{"$error":"#N/A"}},null,null,null,null,null,null,{"$error":"#N/A"}]
[null,null,{"$f":"VLOOKUP($B2585,'Ad Week Dates'!$A:$E,4,FALSE)","v":{"$error":"#N/A"}},{"$f":"VLOOKUP($B2585,'Ad Week Dates'!$A:$E,2,FALSE)","v":{"$error":"#N/A"}},{"$f":"VLOOKUP($B2585,'Ad Week Dates'!$A:$E,3,FALSE)","v":{"$error":"#N/A"}},null,null,null,null,null,null,{"$error":"#N/A"}]
[null,null,{"$f":"VLOOKUP($B2586,'Ad Week Dates'!$A:$E,4,FALSE)","v":{"$error":"#N/A"}},{"$f":"VLOOKUP($B2586,'Ad Week Dates'!$A:$E,2,FALSE)","v":{"$error":"#N/A"}},{"$f":"VLOOKUP($B2586,'Ad Week Dates'!$A:$E,3,FALSE)","v":{"$error":"#N/A"}},null,null,null,null,null,null,{"$error":"#N/A"}]
[null,null,{"$f":"VLOOKUP($B2587,'Ad Week Dates'!$A:$E,4,FALSE)","v":{"$error":"#N/A"}},{"$f":"VLOOKUP($B2587,'Ad Week Dates'!$A:$E,2,FALSE)","v":{"$error":"#N/A"}},{"$f":"VLOOKUP($B2587,'Ad Week Dates'!$A:$E,3,FALSE)","v":{"$error":"#N/A"}},null,null,null,null,null,null,{"$error":"#N/A"}]
[null,null,{"$f":"VLOOKUP($B2588,'Ad Week Dates'!$A:$E,4,FALSE)","v":{"$error":"#N/A"}},{"$f":"VLOOKUP($B2588,'Ad Week Dates'!$A:$E,2,FALSE)","v":{"$error":"#N/A"}},{"$f":"VLOOKUP($B2588,'Ad Week Dates'!$A:$E,3,FALSE)","v":{"$error":"#N/A"}},null,null,null,null,null,null,{"$error":"#N/A"}]
[null,null,{"$f":"VLOOKUP($B2589,'Ad Week Dates'!$A:$E,4,FALSE)","v":{"$error":"#N/A"}},{"$f":"VLOOKUP($B2589,'Ad Week Dates'!$A:$E,2,FALSE)","v":{"$error":"#N/A"}},{"$f":"VLOOKUP($B2589,'Ad Week Dates'!$A:$E,3,FALSE)","v":{"$error":"#N/A"}},null,null,null,null,null,null,{"$error":"#N/A"}]
[null,null,{"$f":"VLOOKUP($B2590,'Ad Week Dates'!$A:$E,4,FALSE)","v":{"$error":"#N/A"}},{"$f":"VLOOKUP($B2590,'Ad Week Dates'!$A:$E,2,FALSE)","v":{"$error":"#N/A"}},{"$f":"VLOOKUP($B2590,'Ad Week Dates'!$A:$E,3,FALSE)","v":{"$error":"#N/A"}},null,null,null,null,null,null,{"$error":"#N/A"}]
[null,null,{"$f":"VLOOKUP($B2591,'Ad Week Dates'!$A:$E,4,FALSE)","v":{"$error":"#N/A"}},{"$f":"VLOOKUP($B2591,'Ad Week Dates'!$A:$E,2,FALSE)","v":{"$error":"#N/A"}},{"$f":"VLOOKUP($B2591,'Ad Week Dates'!$A:$E,3,FALSE)","v":{"$error":"#N/A"}},null,null,null,null,null,null,{"$error":"#N/A"}]
[null,null,{"$f":"VLOOKUP($B2592,'Ad Week Dates'!$A:$E,4,FALSE)","v":{"$error":"#N/A"}},{"$f":"VLOOKUP($B2592,'Ad Week Dates'!$A:$E,2,FALSE)","v":{"$error":"#N/A"}},{"$f":"VLOOKUP($B2592,'Ad Week Dates'!$A:$E,3,FALSE)","v":{"$error":"#N/A"}},null,null,null,null,null,null,{"$error":"#N/A"}]
[null,null,{"$f":"VLOOKUP($B2593,'Ad Week Dates'!$A:$E,4,FALSE)","v":{"$error":"#N/A"}},{"$f":"VLOOKUP($B2593,'Ad Week Dates'!$A:$E,2,FALSE)","v":{"$error":"#N/A"}},{"$f":"VLOOKUP($B2593,'Ad Week Dates'!$A:$E,3,FALSE)","v":{"$error":"#N/A"}},null,null,null,null,null,null,{"$error":"#N/A"}]
[null,null,{"$f":"VLOOKUP($B2594,'Ad Week Dates'!$A:$E,4,FALSE)","v":{"$error":"#N/A"}},{"$f":"VLOOKUP($B2594,'Ad Week Dates'!$A:$E,2,FALSE)","v":{"$error":"#N/A"}},{"$f":"VLOOKUP($B2594,'Ad Week Dates'!$A:$E,3,FALSE)","v":{"$error":"#N/A"}},null,null,null,null,null,null,{"$error":"#N/A"}]
[null,null,{"$f":"VLOOKUP($B2595,'Ad Week Dates'!$A:$E,4,FALSE)","v":{"$error":"#N/A"}},{"$f":"VLOOKUP($B2595,'Ad Week Dates'!$A:$E,2,FALSE)","v":{"$error":"#N/A"}},{"$f":"VLOOKUP($B2595,'Ad Week Dates'!$A:$E,3,FALSE)","v":{"$error":"#N/A"}},null,null,null,null,null,null,{"$error":"#N/A"}]
[null,null,{"$f":"VLOOKUP($B2596,'Ad Week Dates'!$A:$E,4,FALSE)","v":{"$error":"#N/A"}},{"$f":"VLOOKUP($B2596,'Ad Week Dates'!$A:$E,2,FALSE)","v":{"$error":"#N/A"}},{"$f":"VLOOKUP($B2596,'Ad Week Dates'!$A:$E,3,FALSE)","v":{"$error":"#N/A"}},null,null,null,null,null,null,{"$error":"#N/A"}]
[null,null,{"$f":"VLOOKUP($B2597,'Ad Week Dates'!$A:$E,4,FALSE)","v":{"$error":"#N/A"}},{"$f":"VLOOKUP($B2597,'Ad Week Dates'!$A:$E,2,FALSE)","v":{"$error":"#N/A"}},{"$f":"VLOOKUP($B2597,'Ad Week Dates'!$A:$E,3,FALSE)","v":{"$error":"#N/A"}},null,null,null,null,null,null,{"$error":"#N/A"}]
[null,null,{"$f":"VLOOKUP($B2598,'Ad Week Dates'!$A:$E,4,FALSE)","v":{"$error":"#N/A"}},{"$f":"VLOOKUP($B2598,'Ad Week Dates'!$A:$E,2,FALSE)","v":{"$error":"#N/A"}},{"$f":"VLOOKUP($B2598,'Ad Week Dates'!$A:$E,3,FALSE)","v":{"$error":"#N/A"}},null,null,null,null,null,null,{"$error":"#N/A"}]
[null,null,{"$f":"VLOOKUP($B2599,'Ad Week Dates'!$A:$E,4,FALSE)","v":{"$error":"#N/A"}},{"$f":"VLOOKUP($B2599,'Ad Week Dates'!$A:$E,2,FALSE)","v":{"$error":"#N/A"}},{"$f":"VLOOKUP($B2599,'Ad Week Dates'!$A:$E,3,FALSE)","v":{"$error":"#N/A"}},null,null,null,null,null,null,{"$error":"#N/A"}]
[null,null,{"$f":"VLOOKUP($B2600,'Ad Week Dates'!$A:$E,4,FALSE)","v":{"$error":"#N/A"}},{"$f":"VLOOKUP($B2600,'Ad Week Dates'!$A:$E,2,FALSE)","v":{"$error":"#N/A"}},{"$f":"VLOOKUP($B2600,'Ad Week Dates'!$A:$E,3,FALSE)","v":{"$error":"#N/A"}},null,null,null,null,null,null,{"$error":"#N/A"}]
[null,null,{"$f":"VLOOKUP($B2601,'Ad Week Dates'!$A:$E,4,FALSE)","v":{"$error":"#N/A"}},{"$f":"VLOOKUP($B2601,'Ad Week Dates'!$A:$E,2,FALSE)","v":{"$error":"#N/A"}},{"$f":"VLOOKUP($B2601,'Ad Week Dates'!$A:$E,3,FALSE)","v":{"$error":"#N/A"}},null,null,null,null,null,null,{"$error":"#N/A"}]
[null,null,{"$f":"VLOOKUP($B2602,'Ad Week Dates'!$A:$E,4,FALSE)","v":{"$error":"#N/A"}},{"$f":"VLOOKUP($B2602,'Ad Week Dates'!$A:$E,2,FALSE)","v":{"$error":"#N/A"}},{"$f":"VLOOKUP($B2602,'Ad Week Dates'!$A:$E,3,FALSE)","v":{"$error":"#N/A"}},null,null,null,null,null,null,{"$error":"#N/A"}]
[null,null,{"$f":"VLOOKUP($B2603,'Ad Week Dates'!$A:$E,4,FALSE)","v":{"$error":"#N/A"}},{"$f":"VLOOKUP($B2603,'Ad Week Dates'!$A:$E,2,FALSE)","v":{"$error":"#N/A"}},{"$f":"VLOOKUP($B2603,'Ad Week Dates'!$A:$E,3,FALSE)","v":{"$error":"#N/A"}},null,null,null,null,null,null,{"$error":"#N/A"}]
[null,null,{"$f":"VLOOKUP($B2604,'Ad Week Dates'!$A:$E,4,FALSE)","v":{"$error":"#N/A"}},{"$f":"VLOOKUP($B2604,'Ad Week Dates'!$A:$E,2,FALSE)","v":{"$error":"#N/A"}},{"$f":"VLOOKUP($B2604,'Ad Week Dates'!$A:$E,3,FALSE)","v":{"$error":"#N/A"}},null,null,null,null,null,null,{"$error":"#N/A"}]
[null,null,{"$f":"VLOOKUP($B2605,'Ad Week Dates'!$A:$E,4,FALSE)","v":{"$error":"#N/A"}},{"$f":"VLOOKUP($B2605,'Ad Week Dates'!$A:$E,2,FALSE)","v":{"$error":"#N/A"}},{"$f":"VLOOKUP($B2605,'Ad Week Dates'!$A:$E,3,FALSE)","v":{"$error":"#N/A"}},null,null,null,null,null,null,{"$error":"#N/A"}]
[null,null,{"$f":"VLOOKUP($B2606,'Ad Week Dates'!$A:$E,4,FALSE)","v":{"$error":"#N/A"}},{"$f":"VLOOKUP($B2606,'Ad Week Dates'!$A:$E,2,FALSE)","v":{"$error":"#N/A"}},{"$f":"VLOOKUP($B2606,'Ad Week Dates'!$A:$E,3,FALSE)","v":{"$error":"#N/A"}},null,null,null,null,null,null,{"$error":"#N/A"}]
[null,null,{"$f":"VLOOKUP($B2607,'Ad Week Dates'!$A:$E,4,FALSE)","v":{"$error":"#N/A"}},{"$f":"VLOOKUP($B2607,'Ad Week Dates'!$A:$E,2,FALSE)","v":{"$error":"#N/A"}},{"$f":"VLOOKUP($B2607,'Ad Week Dates'!$A:$E,3,FALSE)","v":{"$error":"#N/A"}},null,null,null,null,null,null,{"$error":"#N/A"}]
[null,null,{"$f":"VLOOKUP($B2608,'Ad Week Dates'!$A:$E,4,FALSE)","v":{"$error":"#N/A"}},{"$f":"VLOOKUP($B2608,'Ad Week Dates'!$A:$E,2,FALSE)","v":{"$error":"#N/A"}},{"$f":"VLOOKUP($B2608,'Ad Week Dates'!$A:$E,3,FALSE)","v":{"$error":"#N/A"}},null,null,null,null,null,null,{"$error":"#N/A"}]
[null,null,{"$f":"VLOOKUP($B2609,'Ad Week Dates'!$A:$E,4,FALSE)","v":{"$error":"#N/A"}},{"$f":"VLOOKUP($B2609,'Ad Week Dates'!$A:$E,2,FALSE)","v":{"$error":"#N/A"}},{"$f":"VLOOKUP($B2609,'Ad Week Dates'!$A:$E,3,FALSE)","v":{"$error":"#N/A"}},null,null,null,null,null,null,{"$error":"#N/A"}]
[null,null,{"$f":"VLOOKUP($B2610,'Ad Week Dates'!$A:$E,4,FALSE)","v":{"$error":"#N/A"}},{"$f":"VLOOKUP($B2610,'Ad Week Dates'!$A:$E,2,FALSE)","v":{"$error":"#N/A"}},{"$f":"VLOOKUP($B2610,'Ad Week Dates'!$A:$E,3,FALSE)","v":{"$error":"#N/A"}},null,null,null,null,null,null,{"$error":"#N/A"}]
[null,null,{"$f":"VLOOKUP($B2611,'Ad Week Dates'!$A:$E,4,FALSE)","v":{"$error":"#N/A"}},{"$f":"VLOOKUP($B2611,'Ad Week Dates'!$A:$E,2,FALSE)","v":{"$error":"#N/A"}},{"$f":"VLOOKUP($B2611,'Ad Week Dates'!$A:$E,3,FALSE)","v":{"$error":"#N/A"}},null,null,null,null,null,null,{"$error":"#N/A"}]
[null,null,{"$f":"VLOOKUP($B2612,'Ad Week Dates'!$A:$E,4,FALSE)","v":{"$error":"#N/A"}},{"$f":"VLOOKUP($B2612,'Ad Week Dates'!$A:$E,2,FALSE)","v":{"$error":"#N/A"}},{"$f":"VLOOKUP($B2612,'Ad Week Dates'!$A:$E,3,FALSE)","v":{"$error":"#N/A"}},null,null,null,null,null,null,{"$error":"#N/A"}]
[null,null,{"$f":"VLOOKUP($B2613,'Ad Week Dates'!$A:$E,4,FALSE)","v":{"$error":"#N/A"}},{"$f":"VLOOKUP($B2613,'Ad Week Dates'!$A:$E,2,FALSE)","v":{"$error":"#N/A"}},{"$f":"VLOOKUP($B2613,'Ad Week Dates'!$A:$E,3,FALSE)","v":{"$error":"#N/A"}},null,null,null,null,null,null,{"$error":"#N/A"}]
[null,null,{"$f":"VLOOKUP($B2614,'Ad Week Dates'!$A:$E,4,FALSE)","v":{"$error":"#N/A"}},{"$f":"VLOOKUP($B2614,'Ad Week Dates'!$A:$E,2,FALSE)","v":{"$error":"#N/A"}},{"$f":"VLOOKUP($B2614,'Ad Week Dates'!$A:$E,3,FALSE)","v":{"$error":"#N/A"}},null,null,null,null,null,null,{"$error":"#N/A"}]
[null,null,{"$f":"VLOOKUP($B2615,'Ad Week Dates'!$A:$E,4,FALSE)","v":{"$error":"#N/A"}},{"$f":"VLOOKUP($B2615,'Ad Week Dates'!$A:$E,2,FALSE)","v":{"$error":"#N/A"}},{"$f":"VLOOKUP($B2615,'Ad Week Dates'!$A:$E,3,FALSE)","v":{"$error":"#N/A"}},null,null,null,null,null,null,{"$error":"#N/A"}]
[null,null,{"$f":"VLOOKUP($B2616,'Ad Week Dates'!$A:$E,4,FALSE)","v":{"$error":"#N/A"}},{"$f":"VLOOKUP($B2616,'Ad Week Dates'!$A:$E,2,FALSE)","v":{"$error":"#N/A"}},{"$f":"VLOOKUP($B2616,'Ad Week Dates'!$A:$E,3,FALSE)","v":{"$error":"#N/A"}},null,null,null,null,null,null,{"$error":"#N/A"}]
[null,null,{"$f":"VLOOKUP($B2617,'Ad Week Dates'!$A:$E,4,FALSE)","v":{"$error":"#N/A"}},{"$f":"VLOOKUP($B2617,'Ad Week Dates'!$A:$E,2,FALSE)","v":{"$error":"#N/A"}},{"$f":"VLOOKUP($B2617,'Ad Week Dates'!$A:$E,3,FALSE)","v":{"$error":"#N/A"}},null,null,null,null,null,null,{"$error":"#N/A"}]
[null,null,{"$f":"VLOOKUP($B2618,'Ad Week Dates'!$A:$E,4,FALSE)","v":{"$error":"#N/A"}},{"$f":"VLOOKUP($B2618,'Ad Week Dates'!$A:$E,2,FALSE)","v":{"$error":"#N/A"}},{"$f":"VLOOKUP($B2618,'Ad Week Dates'!$A:$E,3,FALSE)","v":{"$error":"#N/A"}},null,null,null,null,null,null,{"$error":"#N/A"}]
[null,null,{"$f":"VLOOKUP($B2619,'Ad Week Dates'!$A:$E,4,FALSE)","v":{"$error":"#N/A"}},{"$f":"VLOOKUP($B2619,'Ad Week Dates'!$A:$E,2,FALSE)","v":{"$error":"#N/A"}},{"$f":"VLOOKUP($B2619,'Ad Week Dates'!$A:$E,3,FALSE)","v":{"$error":"#N/A"}},null,null,null,null,null,null,{"$error":"#N/A"}]
[null,null,{"$f":"VLOOKUP($B2620,'Ad Week Dates'!$A:$E,4,FALSE)","v":{"$error":"#N/A"}},{"$f":"VLOOKUP($B2620,'Ad Week Dates'!$A:$E,2,FALSE)","v":{"$error":"#N/A"}},{"$f":"VLOOKUP($B2620,'Ad Week Dates'!$A:$E,3,FALSE)","v":{"$error":"#N/A"}},null,null,null,null,null,null,{"$error":"#N/A"}]
[null,null,{"$f":"VLOOKUP($B2621,'Ad Week Dates'!$A:$E,4,FALSE)","v":{"$error":"#N/A"}},{"$f":"VLOOKUP($B2621,'Ad Week Dates'!$A:$E,2,FALSE)","v":{"$error":"#N/A"}},{"$f":"VLOOKUP($B2621,'Ad Week Dates'!$A:$E,3,FALSE)","v":{"$error":"#N/A"}},null,null,null,null,null,null,{"$error":"#N/A"}]
[null,null,{"$f":"VLOOKUP($B2622,'Ad Week Dates'!$A:$E,4,FALSE)","v":{"$error":"#N/A"}},{"$f":"VLOOKUP($B2622,'Ad Week Dates'!$A:$E,2,FALSE)","v":{"$error":"#N/A"}},{"$f":"VLOOKUP($B2622,'Ad Week Dates'!$A:$E,3,FALSE)","v":{"$error":"#N/A"}},null,null,null,null,null,null,{"$error":"#N/A"}]
[null,null,{"$f":"VLOOKUP($B2623,'Ad Week Dates'!$A:$E,4,FALSE)","v":{"$error":"#N/A"}},{"$f":"VLOOKUP($B2623,'Ad Week Dates'!$A:$E,2,FALSE)","v":{"$error":"#N/A"}},{"$f":"VLOOKUP($B2623,'Ad Week Dates'!$A:$E,3,FALSE)","v":{"$error":"#N/A"}},null,null,null,null,null,null,{"$error":"#N/A"}]
[null,null,{"$f":"VLOOKUP($B2624,'Ad Week Dates'!$A:$E,4,FALSE)","v":{"$error":"#N/A"}},{"$f":"VLOOKUP($B2624,'Ad Week Dates'!$A:$E,2,FALSE)","v":{"$error":"#N/A"}},{"$f":"VLOOKUP($B2624,'Ad Week Dates'!$A:$E,3,FALSE)","v":{"$error":"#N/A"}},null,null,null,null,null,null,{"$error":"#N/A"}]
[null,null,{"$f":"VLOOKUP($B2625,'Ad Week Dates'!$A:$E,4,FALSE)","v":{"$error":"#N/A"}},{"$f":"VLOOKUP($B2625,'Ad Week Dates'!$A:$E,2,FALSE)","v":{"$error":"#N/A"}},{"$f":"VLOOKUP($B2625,'Ad Week Dates'!$A:$E,3,FALSE)","v":{"$error":"#N/A"}},null,null,null,null,null,null,{"$error":"#N/A"}]
[null,null,{"$f":"VLOOKUP($B2626,'Ad Week Dates'!$A:$E,4,FALSE)","v":{"$error":"#N/A"}},{"$f":"VLOOKUP($B2626,'Ad Week Dates'!$A:$E,2,FALSE)","v":{"$error":"#N/A"}},{"$f":"VLOOKUP($B2626,'Ad Week Dates'!$A:$E,3,FALSE)","v":{"$error":"#N/A"}},null,null,null,null,null,null,{"$error":"#N/A"}]
[null,null,{"$f":"VLOOKUP($B2627,'Ad Week Dates'!$A:$E,4,FALSE)","v":{"$error":"#N/A"}},{"$f":"VLOOKUP($B2627,'Ad Week Dates'!$A:$E,2,FALSE)","v":{"$error":"#N/A"}},{"$f":"VLOOKUP($B2627,'Ad Week Dates'!$A:$E,3,FALSE)","v":{"$error":"#N/A"}},null,null,null,null,null,null,{"$error":"#N/A"}]
[null,null,{"$f":"VLOOKUP($B2628,'Ad Week Dates'!$A:$E,4,FALSE)","v":{"$error":"#N/A"}},{"$f":"VLOOKUP($B2628,'Ad Week Dates'!$A:$E,2,FALSE)","v":{"$error":"#N/A"}},{"$f":"VLOOKUP($B2628,'Ad Week Dates'!$A:$E,3,FALSE)","v":{"$error":"#N/A"}},null,null,null,null,null,null,{"$error":"#N/A"}]
[null,null,{"$f":"VLOOKUP($B2629,'Ad Week Dates'!$A:$E,4,FALSE)","v":{"$error":"#N/A"}},{"$f":"VLOOKUP($B2629,'Ad Week Dates'!$A:$E,2,FALSE)","v":{"$error":"#N/A"}},{"$f":"VLOOKUP($B2629,'Ad Week Dates'!$A:$E,3,FALSE)","v":{"$error":"#N/A"}},null,null,null,null,null,null,{"$error":"#N/A"}]
[null,null,{"$f":"VLOOKUP($B2630,'Ad Week Dates'!$A:$E,4,FALSE)","v":{"$error":"#N/A"}},{"$f":"VLOOKUP($B2630,'Ad Week Dates'!$A:$E,2,FALSE)","v":{"$error":"#N/A"}},{"$f":"VLOOKUP($B2630,'Ad Week Dates'!$A:$E,3,FALSE)","v":{"$error":"#N/A"}},null,null,null,null,null,null,{"$f":"IF(ISNUMBER(J2630), J2630 - K2630, VALUE(_xlfn.TEXTBEFORE(J2630, \"-\")) - VALUE(_xlfn.TEXTBEFORE(K2630, \"-\")))","v":{"$error":"#N/A"}}]
[null,null,{"$f":"VLOOKUP($B2631,'Ad Week Dates'!$A:$E,4,FALSE)","v":{"$error":"#N/A"}},{"$f":"VLOOKUP($B2631,'Ad Week Dates'!$A:$E,2,FALSE)","v":{"$error":"#N/A"}},{"$f":"VLOOKUP($B2631,'Ad Week Dates'!$A:$E,3,FALSE)","v":{"$error":"#N/A"}},null,null,null,null,null,null,{"$error":"#N/A"}]
[null,null,{"$f":"VLOOKUP($B2632,'Ad Week Dates'!$A:$E,4,FALSE)","v":{"$error":"#N/A"}},{"$f":"VLOOKUP($B2632,'Ad Week Dates'!$A:$E,2,FALSE)","v":{"$error":"#N/A"}},{"$f":"VLOOKUP($B2632,'Ad Week Dates'!$A:$E,3,FALSE)","v":{"$error":"#N/A"}},null,null,null,null,null,null,{"$error":"#N/A"}]
[null,null,{"$f":"VLOOKUP($B2633,'Ad Week Dates'!$A:$E,4,FALSE)","v":{"$error":"#N/A"}},{"$f":"VLOOKUP($B2633,'Ad Week Dates'!$A:$E,2,FALSE)","v":{"$error":"#N/A"}},{"$f":"VLOOKUP($B2633,'Ad Week Dates'!$A:$E,3,FALSE)","v":{"$error":"#N/A"}},null,null,null,null,null,null,{"$error":"#N/A"}]
[null,null,{"$f":"VLOOKUP($B2634,'Ad Week Dates'!$A:$E,4,FALSE)","v":{"$error":"#N/A"}},{"$f":"VLOOKUP($B2634,'Ad Week Dates'!$A:$E,2,FALSE)","v":{"$error":"#N/A"}},{"$f":"VLOOKUP($B2634,'Ad Week Dates'!$A:$E,3,FALSE)","v":{"$error":"#N/A"}},null,null,null,null,null,null,{"$error":"#N/A"}]
[null,null,{"$f":"VLOOKUP($B2635,'Ad Week Dates'!$A:$E,4,FALSE)","v":{"$error":"#N/A"}},{"$f":"VLOOKUP($B2635,'Ad Week Dates'!$A:$E,2,FALSE)","v":{"$error":"#N/A"}},{"$f":"VLOOKUP($B2635,'Ad Week Dates'!$A:$E,3,FALSE)","v":{"$error":"#N/A"}},null,null,null,null,null,null,{"$error":"#N/A"}]
[null,null,{"$f":"VLOOKUP($B2636,'Ad Week Dates'!$A:$E,4,FALSE)","v":{"$error":"#N/A"}},{"$f":"VLOOKUP($B2636,'Ad Week Dates'!$A:$E,2,FALSE)","v":{"$error":"#N/A"}},{"$f":"VLOOKUP($B2636,'Ad Week Dates'!$A:$E,3,FALSE)","v":{"$error":"#N/A"}},null,null,null,null,null,null,{"$error":"#N/A"}]
[null,null,{"$f":"VLOOKUP($B2637,'Ad Week Dates'!$A:$E,4,FALSE)","v":{"$error":"#N/A"}},{"$f":"VLOOKUP($B2637,'Ad Week Dates'!$A:$E,2,FALSE)","v":{"$error":"#N/A"}},{"$f":"VLOOKUP($B2637,'Ad Week Dates'!$A:$E,3,FALSE)","v":{"$error":"#N/A"}},null,null,null,null,null,null,{"$error":"#N/A"}]
[null,null,{"$f":"VLOOKUP($B2638,'Ad Week Dates'!$A:$E,4,FALSE)","v":{"$error":"#N/A"}},{"$f":"VLOOKUP($B2638,'Ad Week Dates'!$A:$E,2,FALSE)","v":{"$error":"#N/A"}},{"$f":"VLOOKUP($B2638,'Ad Week Dates'!$A:$E,3,FALSE)","v":{"$error":"#N/A"}},null,null,null,null,null,null,{"$error":"#N/A"}]
[null,null,{"$f":"VLOOKUP($B2639,'Ad Week Dates'!$A:$E,4,FALSE)","v":{"$error":"#N/A"}},{"$f":"VLOOKUP($B2639,'Ad Week Dates'!$A:$E,2,FALSE)","v":{"$error":"#N/A"}},{"$f":"VLOOKUP($B2639,'Ad Week Dates'!$A:$E,3,FALSE)","v":{"$error":"#N/A"}},null,null,null,null,null,null,{"$error":"#N/A"}]
[null,null,{"$f":"VLOOKUP($B2640,'Ad Week Dates'!$A:$E,4,FALSE)","v":{"$error":"#N/A"}},{"$f":"VLOOKUP($B2640,'Ad Week Dates'!$A:$E,2,FALSE)","v":{"$error":"#N/A"}},{"$f":"VLOOKUP($B2640,'Ad Week Dates'!$A:$E,3,FALSE)","v":{"$error":"#N/A"}},null,null,null,null,null,null,{"$error":"#N/A"}]
[null,null,{"$f":"VLOOKUP($B2641,'Ad Week Dates'!$A:$E,4,FALSE)","v":{"$error":"#N/A"}},{"$f":"VLOOKUP($B2641,'Ad Week Dates'!$A:$E,2,FALSE)","v":{"$error":"#N/A"}},{"$f":"VLOOKUP($B2641,'Ad Week Dates'!$A:$E,3,FALSE)","v":{"$error":"#N/A"}},null,null,null,null,null,null,{"$error":"#N/A"}]
[null,null,{"$f":"VLOOKUP($B2642,'Ad Week Dates'!$A:$E,4,FALSE)","v":{"$error":"#N/A"}},{"$f":"VLOOKUP($B2642,'Ad Week Dates'!$A:$E,2,FALSE)","v":{"$error":"#N/A"}},{"$f":"VLOOKUP($B2642,'Ad Week Dates'!$A:$E,3,FALSE)","v":{"$error":"#N/A"}},null,null,null,null,null,null,{"$error":"#N/A"}]
[null,null,{"$f":"VLOOKUP($B2643,'Ad Week Dates'!$A:$E,4,FALSE)","v":{"$error":"#N/A"}},{"$f":"VLOOKUP($B2643,'Ad Week Dates'!$A:$E,2,FALSE)","v":{"$error":"#N/A"}},{"$f":"VLOOKUP($B2643,'Ad Week Dates'!$A:$E,3,FALSE)","v":{"$error":"#N/A"}},null,null,null,null,null,null,{"$error":"#N/A"}]
[null,null,{"$f":"VLOOKUP($B2644,'Ad Week Dates'!$A:$E,4,FALSE)","v":{"$error":"#N/A"}},{"$f":"VLOOKUP($B2644,'Ad Week Dates'!$A:$E,2,FALSE)","v":{"$error":"#N/A"}},{"$f":"VLOOKUP($B2644,'Ad Week Dates'!$A:$E,3,FALSE)","v":{"$error":"#N/A"}},null,null,null,null,null,null,{"$error":"#N/A"}]
[null,null,{"$f":"VLOOKUP($B2645,'Ad Week Dates'!$A:$E,4,FALSE)","v":{"$error":"#N/A"}},{"$f":"VLOOKUP($B2645,'Ad Week Dates'!$A:$E,2,FALSE)","v":{"$error":"#N/A"}},{"$f":"VLOOKUP($B2645,'Ad Week Dates'!$A:$E,3,FALSE)","v":{"$error":"#N/A"}},null,null,null,null,null,null,{"$error":"#N/A"}]
[null,null,{"$f":"VLOOKUP($B2646,'Ad Week Dates'!$A:$E,4,FALSE)","v":{"$error":"#N/A"}},{"$f":"VLOOKUP($B2646,'Ad Week Dates'!$A:$E,2,FALSE)","v":{"$error":"#N/A"}},{"$f":"VLOOKUP($B2646,'Ad Week Dates'!$A:$E,3,FALSE)","v":{"$error":"#N/A"}},null,null,null,null,null,null,{"$error":"#N/A"}]
[null,null,{"$f":"VLOOKUP($B2647,'Ad Week Dates'!$A:$E,4,FALSE)","v":{"$error":"#N/A"}},{"$f":"VLOOKUP($B2647,'Ad Week Dates'!$A:$E,2,FALSE)","v":{"$error":"#N/A"}},{"$f":"VLOOKUP($B2647,'Ad Week Dates'!$A:$E,3,FALSE)","v":{"$error":"#N/A"}},null,null,null,null,null,null,{"$error":"#N/A"}]
[null,null,{"$f":"VLOOKUP($B2648,'Ad Week Dates'!$A:$E,4,FALSE)","v":{"$error":"#N/A"}},{"$f":"VLOOKUP($B2648,'Ad Week Dates'!$A:$E,2,FALSE)","v":{"$error":"#N/A"}},{"$f":"VLOOKUP($B2648,'Ad Week Dates'!$A:$E,3,FALSE)","v":{"$error":"#N/A"}},null,null,null,null,null,null,{"$error":"#N/A"}]
[null,null,{"$f":"VLOOKUP($B2649,'Ad Week Dates'!$A:$E,4,FALSE)","v":{"$error":"#N/A"}},{"$f":"VLOOKUP($B2649,'Ad Week Dates'!$A:$E,2,FALSE)","v":{"$error":"#N/A"}},{"$f":"VLOOKUP($B2649,'Ad Week Dates'!$A:$E,3,FALSE)","v":{"$error":"#N/A"}},null,null,null,null,null,null,{"$error":"#N/A"}]
[null,null,{"$f":"VLOOKUP($B2650,'Ad Week Dates'!$A:$E,4,FALSE)","v":{"$error":"#N/A"}},{"$f":"VLOOKUP($B2650,'Ad Week Dates'!$A:$E,2,FALSE)","v":{"$error":"#N/A"}},{"$f":"VLOOKUP($B2650,'Ad Week Dates'!$A:$E,3,FALSE)","v":{"$error":"#N/A"}},null,null,null,null,null,null,{"$error":"#N/A"}]
[null,null,{"$f":"VLOOKUP($B2651,'Ad Week Dates'!$A:$E,4,FALSE)","v":{"$error":"#N/A"}},{"$f":"VLOOKUP($B2651,'Ad Week Dates'!$A:$E,2,FALSE)","v":{"$error":"#N/A"}},{"$f":"VLOOKUP($B2651,'Ad Week Dates'!$A:$E,3,FALSE)","v":{"$error":"#N/A"}},null,null,null,null,null,null,{"$error":"#N/A"}]
[null,null,{"$f":"VLOOKUP($B2652,'Ad Week Dates'!$A:$E,4,FALSE)","v":{"$error":"#N/A"}},{"$f":"VLOOKUP($B2652,'Ad Week Dates'!$A:$E,2,FALSE)","v":{"$error":"#N/A"}},{"$f":"VLOOKUP($B2652,'Ad Week Dates'!$A:$E,3,FALSE)","v":{"$error":"#N/A"}},null,null,null,null,null,null,{"$error":"#N/A"}]
[null,null,{"$f":"VLOOKUP($B2653,'Ad Week Dates'!$A:$E,4,FALSE)","v":{"$error":"#N/A"}},{"$f":"VLOOKUP($B2653,'Ad Week Dates'!$A:$E,2,FALSE)","v":{"$error":"#N/A"}},{"$f":"VLOOKUP($B2653,'Ad Week Dates'!$A:$E,3,FALSE)","v":{"$error":"#N/A"}},null,null,null,null,null,null,{"$error":"#N/A"}]
[null,null,{"$f":"VLOOKUP($B2654,'Ad Week Dates'!$A:$E,4,FALSE)","v":{"$error":"#N/A"}},{"$f":"VLOOKUP($B2654,'Ad Week Dates'!$A:$E,2,FALSE)","v":{"$error":"#N/A"}},{"$f":"VLOOKUP($B2654,'Ad Week Dates'!$A:$E,3,FALSE)","v":{"$error":"#N/A"}},null,null,null,null,null,null,{"$error":"#N/A"}]
[null,null,{"$f":"VLOOKUP($B2655,'Ad Week Dates'!$A:$E,4,FALSE)","v":{"$error":"#N/A"}},{"$f":"VLOOKUP($B2655,'Ad Week Dates'!$A:$E,2,FALSE)","v":{"$error":"#N/A"}},{"$f":"VLOOKUP($B2655,'Ad Week Dates'!$A:$E,3,FALSE)","v":{"$error":"#N/A"}},null,null,null,null,null,null,{"$error":"#N/A"}]
[null,null,{"$f":"VLOOKUP($B2656,'Ad Week Dates'!$A:$E,4,FALSE)","v":{"$error":"#N/A"}},{"$f":"VLOOKUP($B2656,'Ad Week Dates'!$A:$E,2,FALSE)","v":{"$error":"#N/A"}},{"$f":"VLOOKUP($B2656,'Ad Week Dates'!$A:$E,3,FALSE)","v":{"$error":"#N/A"}},null,null,null,null,null,null,{"$error":"#N/A"}]
[null,null,{"$f":"VLOOKUP($B2657,'Ad Week Dates'!$A:$E,4,FALSE)","v":{"$error":"#N/A"}},{"$f":"VLOOKUP($B2657,'Ad Week Dates'!$A:$E,2,FALSE)","v":{"$error":"#N/A"}},{"$f":"VLOOKUP($B2657,'Ad Week Dates'!$A:$E,3,FALSE)","v":{"$error":"#N/A"}},null,null,null,null,null,null,{"$error":"#N/A"}]
[null,null,{"$f":"VLOOKUP($B2658,'Ad Week Dates'!$A:$E,4,FALSE)","v":{"$error":"#N/A"}},{"$f":"VLOOKUP($B2658,'Ad Week Dates'!$A:$E,2,FALSE)","v":{"$error":"#N/A"}},{"$f":"VLOOKUP($B2658,'Ad Week Dates'!$A:$E,3,FALSE)","v":{"$error":"#N/A"}},null,null,null,null,null,null,{"$error":"#N/A"}]
[null,null,{"$f":"VLOOKUP($B2659,'Ad Week Dates'!$A:$E,4,FALSE)","v":{"$error":"#N/A"}},{"$f":"VLOOKUP($B2659,'Ad Week Dates'!$A:$E,2,FALSE)","v":{"$error":"#N/A"}},{"$f":"VLOOKUP($B2659,'Ad Week Dates'!$A:$E,3,FALSE)","v":{"$error":"#N/A"}},null,null,null,null,null,null,{"$error":"#N/A"}]
[null,null,{"$f":"VLOOKUP($B2660,'Ad Week Dates'!$A:$E,4,FALSE)","v":{"$error":"#N/A"}},{"$f":"VLOOKUP($B2660,'Ad Week Dates'!$A:$E,2,FALSE)","v":{"$error":"#N/A"}},{"$f":"VLOOKUP($B2660,'Ad Week Dates'!$A:$E,3,FALSE)","v":{"$error":"#N/A"}},null,null,null,null,null,null,{"$error":"#N/A"}]
[null,null,{"$f":"VLOOKUP($B2661,'Ad Week Dates'!$A:$E,4,FALSE)","v":{"$error":"#N/A"}},{"$f":"VLOOKUP($B2661,'Ad Week Dates'!$A:$E,2,FALSE)","v":{"$error":"#N/A"}},{"$f":"VLOOKUP($B2661,'Ad Week Dates'!$A:$E,3,FALSE)","v":{"$error":"#N/A"}},null,null,null,null,null,null,{"$error":"#N/A"}]
[null,null,{"$f":"VLOOKUP($B2662,'Ad Week Dates'!$A:$E,4,FALSE)","v":{"$error":"#N/A"}},{"$f":"VLOOKUP($B2662,'Ad Week Dates'!$A:$E,2,FALSE)","v":{"$error":"#N/A"}},{"$f":"VLOOKUP($B2662,'Ad Week Dates'!$A:$E,3,FALSE)","v":{"$error":"#N/A"}},null,null,null,null,null,null,{"$error":"#N/A"}]
[null,null,{"$f":"VLOOKUP($B2663,'Ad Week Dates'!$A:$E,4,FALSE)","v":{"$error":"#N/A"}},{"$f":"VLOOKUP($B2663,'Ad Week Dates'!$A:$E,2,FALSE)","v":{"$error":"#N/A"}},{"$f":"VLOOKUP($B2663,'Ad Week Dates'!$A:$E,3,FALSE)","v":{"$error":"#N/A"}},null,null,null,null,null,null,{"$error":"#N/A"}]
[null,null,{"$f":"VLOOKUP($B2664,'Ad Week Dates'!$A:$E,4,FALSE)","v":{"$error":"#N/A"}},{"$f":"VLOOKUP($B2664,'Ad Week Dates'!$A:$E,2,FALSE)","v":{"$error":"#N/A"}},{"$f":"VLOOKUP($B2664,'Ad Week Dates'!$A:$E,3,FALSE)","v":{"$error":"#N/A"}},null,null,null,null,null,null,{"$error":"#N/A"}]
[null,null,{"$f":"VLOOKUP($B2665,'Ad Week Dates'!$A:$E,4,FALSE)","v":{"$error":"#N/A"}},{"$f":"VLOOKUP($B2665,'Ad Week Dates'!$A:$E,2,FALSE)","v":{"$error":"#N/A"}},{"$f":"VLOOKUP($B2665,'Ad Week Dates'!$A:$E,3,FALSE)","v":{"$error":"#N/A"}},null,null,null,null,null,null,{"$error":"#N/A"}]
[null,null,{"$f":"VLOOKUP($B2666,'Ad Week Dates'!$A:$E,4,FALSE)","v":{"$error":"#N/A"}},{"$f":"VLOOKUP($B2666,'Ad Week Dates'!$A:$E,2,FALSE)","v":{"$error":"#N/A"}},{"$f":"VLOOKUP($B2666,'Ad Week Dates'!$A:$E,3,FALSE)","v":{"$error":"#N/A"}},null,null,null,null,null,null,{"$error":"#N/A"}]
[null,null,{"$f":"VLOOKUP($B2667,'Ad Week Dates'!$A:$E,4,FALSE)","v":{"$error":"#N/A"}},{"$f":"VLOOKUP($B2667,'Ad Week Dates'!$A:$E,2,FALSE)","v":{"$error":"#N/A"}},{"$f":"VLOOKUP($B2667,'Ad Week Dates'!$A:$E,3,FALSE)","v":{"$error":"#N/A"}},null,null,null,null,null,null,{"$error":"#N/A"}]
[null,null,{"$f":"VLOOKUP($B2668,'Ad Week Dates'!$A:$E,4,FALSE)","v":{"$error":"#N/A"}},{"$f":"VLOOKUP($B2668,'Ad Week Dates'!$A:$E,2,FALSE)","v":{"$error":"#N/A"}},{"$f":"VLOOKUP($B2668,'Ad Week Dates'!$A:$E,3,FALSE)","v":{"$error":"#N/A"}},null,null,null,null,null,null,{"$error":"#N/A"}]
[null,null,{"$f":"VLOOKUP($B2669,'Ad Week Dates'!$A:$E,4,FALSE)","v":{"$error":"#N/A"}},{"$f":"VLOOKUP($B2669,'Ad Week Dates'!$A:$E,2,FALSE)","v":{"$error":"#N/A"}},{"$f":"VLOOKUP($B2669,'Ad Week Dates'!$A:$E,3,FALSE)","v":{"$error":"#N/A"}},null,null,null,null,null,null,{"$error":"#N/A"}]
[null,null,{"$f":"VLOOKUP($B2670,'Ad Week Dates'!$A:$E,4,FALSE)","v":{"$error":"#N/A"}},{"$f":"VLOOKUP($B2670,'Ad Week Dates'!$A:$E,2,FALSE)","v":{"$error":"#N/A"}},{"$f":"VLOOKUP($B2670,'Ad Week Dates'!$A:$E,3,FALSE)","v":{"$error":"#N/A"}},null,null,null,null,null,null,{"$error":"#N/A"}]
[null,null,{"$f":"VLOOKUP($B2671,'Ad Week Dates'!$A:$E,4,FALSE)","v":{"$error":"#N/A"}},{"$f":"VLOOKUP($B2671,'Ad Week Dates'!$A:$E,2,FALSE)","v":{"$error":"#N/A"}},{"$f":"VLOOKUP($B2671,'Ad Week Dates'!$A:$E,3,FALSE)","v":{"$error":"#N/A"}},null,null,null,null,null,null,{"$error":"#N/A"}]
[null,null,{"$f":"VLOOKUP($B2672,'Ad Week Dates'!$A:$E,4,FALSE)","v":{"$error":"#N/A"}},{"$f":"VLOOKUP($B2672,'Ad Week Dates'!$A:$E,2,FALSE)","v":{"$error":"#N/A"}},{"$f":"VLOOKUP($B2672,'Ad Week Dates'!$A:$E,3,FALSE)","v":{"$error":"#N/A"}},null,null,null,null,null,null,{"$error":"#N/A"}]
[null,null,{"$f":"VLOOKUP($B2673,'Ad Week Dates'!$A:$E,4,FALSE)","v":{"$error":"#N/A"}},{"$f":"VLOOKUP($B2673,'Ad Week Dates'!$A:$E,2,FALSE)","v":{"$error":"#N/A"}},{"$f":"VLOOKUP($B2673,'Ad Week Dates'!$A:$E,3,FALSE)","v":{"$error":"#N/A"}},null,null,null,null,null,null,{"$error":"#N/A"}]
[null,null,{"$f":"VLOOKUP($B2674,'Ad Week Dates'!$A:$E,4,FALSE)","v":{"$error":"#N/A"}},{"$f":"VLOOKUP($B2674,'Ad Week Dates'!$A:$E,2,FALSE)","v":{"$error":"#N/A"}},{"$f":"VLOOKUP($B2674,'Ad Week Dates'!$A:$E,3,FALSE)","v":{"$error":"#N/A"}},null,null,null,null,null,null,{"$error":"#N/A"}]
[null,null,{"$f":"VLOOKUP($B2675,'Ad Week Dates'!$A:$E,4,FALSE)","v":{"$error":"#N/A"}},{"$f":"VLOOKUP($B2675,'Ad Week Dates'!$A:$E,2,FALSE)","v":{"$error":"#N/A"}},{"$f":"VLOOKUP($B2675,'Ad Week Dates'!$A:$E,3,FALSE)","v":{"$error":"#N/A"}},null,null,null,null,null,null,{"$error":"#N/A"}]
[null,null,{"$f":"VLOOKUP($B2676,'Ad Week Dates'!$A:$E,4,FALSE)","v":{"$error":"#N/A"}},{"$f":"VLOOKUP($B2676,'Ad Week Dates'!$A:$E,2,FALSE)","v":{"$error":"#N/A"}},{"$f":"VLOOKUP($B2676,'Ad Week Dates'!$A:$E,3,FALSE)","v":{"$error":"#N/A"}},null,null,null,null,null,null,{"$error":"#N/A"}]
[null,null,{"$f":"VLOOKUP($B2677,'Ad Week Dates'!$A:$E,4,FALSE)","v":{"$error":"#N/A"}},{"$f":"VLOOKUP($B2677,'Ad Week Dates'!$A:$E,2,FALSE)","v":{"$error":"#N/A"}},{"$f":"VLOOKUP($B2677,'Ad Week Dates'!$A:$E,3,FALSE)","v":{"$error":"#N/A"}},null,null,null,null,null,null,{"$error":"#N/A"}]
[null,null,{"$f":"VLOOKUP($B2678,'Ad Week Dates'!$A:$E,4,FALSE)","v":{"$error":"#N/A"}},{"$f":"VLOOKUP($B2678,'Ad Week Dates'!$A:$E,2,FALSE)","v":{"$error":"#N/A"}},{"$f":"VLOOKUP($B2678,'Ad Week Dates'!$A:$E,3,FALSE)","v":{"$error":"#N/A"}},null,null,null,null,null,null,{"$error":"#N/A"}]
[null,null,{"$f":"VLOOKUP($B2679,'Ad Week Dates'!$A:$E,4,FALSE)","v":{"$error":"#N/A"}},{"$f":"VLOOKUP($B2679,'Ad Week Dates'!$A:$E,2,FALSE)","v":{"$error":"#N/A"}},{"$f":"VLOOKUP($B2679,'Ad Week Dates'!$A:$E,3,FALSE)","v":{"$error":"#N/A"}},null,null,null,null,null,null,{"$error":"#N/A"}]
[null,null,{"$f":"VLOOKUP($B2680,'Ad Week Dates'!$A:$E,4,FALSE)","v":{"$error":"#N/A"}},{"$f":"VLOOKUP($B2680,'Ad Week Dates'!$A:$E,2,FALSE)","v":{"$error":"#N/A"}},{"$f":"VLOOKUP($B2680,'Ad Week Dates'!$A:$E,3,FALSE)","v":{"$error":"#N/A"}},null,null,null,null,null,null,{"$error":"#N/A"}]
[null,null,{"$f":"VLOOKUP($B2681,'Ad Week Dates'!$A:$E,4,FALSE)","v":{"$error":"#N/A"}},{"$f":"VLOOKUP($B2681,'Ad Week Dates'!$A:$E,2,FALSE)","v":{"$error":"#N/A"}},{"$f":"VLOOKUP($B2681,'Ad Week Dates'!$A:$E,3,FALSE)","v":{"$error":"#N/A"}},null,null,null,null,null,null,{"$error":"#N/A"}]
[null,null,{"$f":"VLOOKUP($B2682,'Ad Week Dates'!$A:$E,4,FALSE)","v":{"$error":"#N/A"}},{"$f":"VLOOKUP($B2682,'Ad Week Dates'!$A:$E,2,FALSE)","v":{"$error":"#N/A"}},{"$f":"VLOOKUP($B2682,'Ad Week Dates'!$A:$E,3,FALSE)","v":{"$error":"#N/A"}},null,null,null,null,null,null,{"$error":"#N/A"}]
[null,null,{"$f":"VLOOKUP($B2683,'Ad Week Dates'!$A:$E,4,FALSE)","v":{"$error":"#N/A"}},{"$f":"VLOOKUP($B2683,'Ad Week Dates'!$A:$E,2,FALSE)","v":{"$error":"#N/A"}},{"$f":"VLOOKUP($B2683,'Ad Week Dates'!$A:$E,3,FALSE)","v":{"$error":"#N/A"}},null,null,null,null,null,null,{"$error":"#N/A"}]
[null,null,{"$f":"VLOOKUP($B2684,'Ad Week Dates'!$A:$E,4,FALSE)","v":{"$error":"#N/A"}},{"$f":"VLOOKUP($B2684,'Ad Week Dates'!$A:$E,2,FALSE)","v":{"$error":"#N/A"}},{"$f":"VLOOKUP($B2684,'Ad Week Dates'!$A:$E,3,FALSE)","v":{"$error":"#N/A"}},null,null,null,null,null,null,{"$error":"#N/A"}]
[null,null,{"$f":"VLOOKUP($B2685,'Ad Week Dates'!$A:$E,4,FALSE)","v":{"$error":"#N/A"}},{"$f":"VLOOKUP($B2685,'Ad Week Dates'!$A:$E,2,FALSE)","v":{"$error":"#N/A"}},{"$f":"VLOOKUP($B2685,'Ad Week Dates'!$A:$E,3,FALSE)","v":{"$error":"#N/A"}},null,null,null,null,null,null,{"$error":"#N/A"}]
[null,null,{"$f":"VLOOKUP($B2686,'Ad Week Dates'!$A:$E,4,FALSE)","v":{"$error":"#N/A"}},{"$f":"VLOOKUP($B2686,'Ad Week Dates'!$A:$E,2,FALSE)","v":{"$error":"#N/A"}},{"$f":"VLOOKUP($B2686,'Ad Week Dates'!$A:$E,3,FALSE)","v":{"$error":"#N/A"}},null,null,null,null,null,null,{"$error":"#N/A"}]
[null,null,{"$f":"VLOOKUP($B2687,'Ad Week Dates'!$A:$E,4,FALSE)","v":{"$error":"#N/A"}},{"$f":"VLOOKUP($B2687,'Ad Week Dates'!$A:$E,2,FALSE)","v":{"$error":"#N/A"}},{"$f":"VLOOKUP($B2687,'Ad Week Dates'!$A:$E,3,FALSE)","v":{"$error":"#N/A"}},null,null,null,null,null,null,{"$error":"#N/A"}]
[null,null,{"$f":"VLOOKUP($B2688,'Ad Week Dates'!$A:$E,4,FALSE)","v":{"$error":"#N/A"}},{"$f":"VLOOKUP($B2688,'Ad Week Dates'!$A:$E,2,FALSE)","v":{"$error":"#N/A"}},{"$f":"VLOOKUP($B2688,'Ad Week Dates'!$A:$E,3,FALSE)","v":{"$error":"#N/A"}},null,null,null,null,null,null,{"$error":"#N/A"}]
[null,null,{"$f":"VLOOKUP($B2689,'Ad Week Dates'!$A:$E,4,FALSE)","v":{"$error":"#N/A"}},{"$f":"VLOOKUP($B2689,'Ad Week Dates'!$A:$E,2,FALSE)","v":{"$error":"#N/A"}},{"$f":"VLOOKUP($B2689,'Ad Week Dates'!$A:$E,3,FALSE)","v":{"$error":"#N/A"}},null,null,null,null,null,null,{"$error":"#N/A"}]
[null,null,{"$f":"VLOOKUP($B2690,'Ad Week Dates'!$A:$E,4,FALSE)","v":{"$error":"#N/A"}},{"$f":"VLOOKUP($B2690,'Ad Week Dates'!$A:$E,2,FALSE)","v":{"$error":"#N/A"}},{"$f":"VLOOKUP($B2690,'Ad Week Dates'!$A:$E,3,FALSE)","v":{"$error":"#N/A"}},null,null,null,null,null,null,{"$error":"#N/A"}]
[null,null,{"$f":"VLOOKUP($B2691,'Ad Week Dates'!$A:$E,4,FALSE)","v":{"$error":"#N/A"}},{"$f":"VLOOKUP($B2691,'Ad Week Dates'!$A:$E,2,FALSE)","v":{"$error":"#N/A"}},{"$f":"VLOOKUP($B2691,'Ad Week Dates'!$A:$E,3,FALSE)","v":{"$error":"#N/A"}},null,null,null,null,null,null,{"$error":"#N/A"}]
[null,null,{"$f":"VLOOKUP($B2692,'Ad Week Dates'!$A:$E,4,FALSE)","v":{"$error":"#N/A"}},{"$f":"VLOOKUP($B2692,'Ad Week Dates'!$A:$E,2,FALSE)","v":{"$error":"#N/A"}},{"$f":"VLOOKUP($B2692,'Ad Week Dates'!$A:$E,3,FALSE)","v":{"$error":"#N/A"}},null,null,null,null,null,null,{"$error":"#N/A"}]
[null,null,{"$f":"VLOOKUP($B2693,'Ad Week Dates'!$A:$E,4,FALSE)","v":{"$error":"#N/A"}},{"$f":"VLOOKUP($B2693,'Ad Week Dates'!$A:$E,2,FALSE)","v":{"$error":"#N/A"}},{"$f":"VLOOKUP($B2693,'Ad Week Dates'!$A:$E,3,FALSE)","v":{"$error":"#N/A"}},null,null,null,null,null,null,{"$error":"#N/A"}]
[null,null,{"$f":"VLOOKUP($B2694,'Ad Week Dates'!$A:$E,4,FALSE)","v":{"$error":"#N/A"}},{"$f":"VLOOKUP($B2694,'Ad Week Dates'!$A:$E,2,FALSE)","v":{"$error":"#N/A"}},{"$f":"VLOOKUP($B2694,'Ad Week Dates'!$A:$E,3,FALSE)","v":{"$error":"#N/A"}},null,null,null,null,null,null,{"$f":"IF(ISNUMBER(J2694), J2694 - K2694, VALUE(_xlfn.TEXTBEFORE(J2694, \"-\")) - VALUE(_xlfn.TEXTBEFORE(K2694, \"-\")))","v":{"$error":"#N/A"}}]
[null,null,{"$f":"VLOOKUP($B2695,'Ad Week Dates'!$A:$E,4,FALSE)","v":{"$error":"#N/A"}},{"$f":"VLOOKUP($B2695,'Ad Week Dates'!$A:$E,2,FALSE)","v":{"$error":"#N/A"}},{"$f":"VLOOKUP($B2695,'Ad Week Dates'!$A:$E,3,FALSE)","v":{"$error":"#N/A"}},null,null,null,null,null,null,{"$error":"#N/A"}]
[null,null,{"$f":"VLOOKUP($B2696,'Ad Week Dates'!$A:$E,4,FALSE)","v":{"$error":"#N/A"}},{"$f":"VLOOKUP($B2696,'Ad Week Dates'!$A:$E,2,FALSE)","v":{"$error":"#N/A"}},{"$f":"VLOOKUP($B2696,'Ad Week Dates'!$A:$E,3,FALSE)","v":{"$error":"#N/A"}},null,null,null,null,null,null,{"$error":"#N/A"}]
[null,null,{"$f":"VLOOKUP($B2697,'Ad Week Dates'!$A:$E,4,FALSE)","v":{"$error":"#N/A"}},{"$f":"VLOOKUP($B2697,'Ad Week Dates'!$A:$E,2,FALSE)","v":{"$error":"#N/A"}},{"$f":"VLOOKUP($B2697,'Ad Week Dates'!$A:$E,3,FALSE)","v":{"$error":"#N/A"}},null,null,null,null,null,null,{"$error":"#N/A"}]
[null,null,{"$f":"VLOOKUP($B2698,'Ad Week Dates'!$A:$E,4,FALSE)","v":{"$error":"#N/A"}},{"$f":"VLOOKUP($B2698,'Ad Week Dates'!$A:$E,2,FALSE)","v":{"$error":"#N/A"}},{"$f":"VLOOKUP($B2698,'Ad Week Dates'!$A:$E,3,FALSE)","v":{"$error":"#N/A"}},null,null,null,null,null,null,{"$error":"#N/A"}]
[null,null,{"$f":"VLOOKUP($B2699,'Ad Week Dates'!$A:$E,4,FALSE)","v":{"$error":"#N/A"}},{"$f":"VLOOKUP($B2699,'Ad Week Dates'!$A:$E,2,FALSE)","v":{"$error":"#N/A"}},{"$f":"VLOOKUP($B2699,'Ad Week Dates'!$A:$E,3,FALSE)","v":{"$error":"#N/A"}},null,null,null,null,null,null,{"$error":"#N/A"}]
[null,null,{"$f":"VLOOKUP($B2700,'Ad Week Dates'!$A:$E,4,FALSE)","v":{"$error":"#N/A"}},{"$f":"VLOOKUP($B2700,'Ad Week Dates'!$A:$E,2,FALSE)","v":{"$error":"#N/A"}},{"$f":"VLOOKUP($B2700,'Ad Week Dates'!$A:$E,3,FALSE)","v":{"$error":"#N/A"}},null,null,null,null,null,null,{"$error":"#N/A"}]
[null,null,{"$f":"VLOOKUP($B2701,'Ad Week Dates'!$A:$E,4,FALSE)","v":{"$error":"#N/A"}},{"$f":"VLOOKUP($B2701,'Ad Week Dates'!$A:$E,2,FALSE)","v":{"$error":"#N/A"}},{"$f":"VLOOKUP($B2701,'Ad Week Dates'!$A:$E,3,FALSE)","v":{"$error":"#N/A"}},null,null,null,null,null,null,{"$error":"#N/A"}]
[null,null,{"$f":"VLOOKUP($B2702,'Ad Week Dates'!$A:$E,4,FALSE)","v":{"$error":"#N/A"}},{"$f":"VLOOKUP($B2702,'Ad Week Dates'!$A:$E,2,FALSE)","v":{"$error":"#N/A"}},{"$f":"VLOOKUP($B2702,'Ad Week Dates'!$A:$E,3,FALSE)","v":{"$error":"#N/A"}},null,null,null,null,null,null,{"$error":"#N/A"}]
[null,null,{"$f":"VLOOKUP($B2703,'Ad Week Dates'!$A:$E,4,FALSE)","v":{"$error":"#N/A"}},{"$f":"VLOOKUP($B2703,'Ad Week Dates'!$A:$E,2,FALSE)","v":{"$error":"#N/A"}},{"$f":"VLOOKUP($B2703,'Ad Week Dates'!$A:$E,3,FALSE)","v":{"$error":"#N/A"}},null,null,null,null,null,null,{"$error":"#N/A"}]
[null,null,{"$f":"VLOOKUP($B2704,'Ad Week Dates'!$A:$E,4,FALSE)","v":{"$error":"#N/A"}},{"$f":"VLOOKUP($B2704,'Ad Week Dates'!$A:$E,2,FALSE)","v":{"$error":"#N/A"}},{"$f":"VLOOKUP($B2704,'Ad Week Dates'!$A:$E,3,FALSE)","v":{"$error":"#N/A"}},null,null,null,null,null,null,{"$error":"#N/A"}]
[null,null,{"$f":"VLOOKUP($B2705,'Ad Week Dates'!$A:$E,4,FALSE)","v":{"$error":"#N/A"}},{"$f":"VLOOKUP($B2705,'Ad Week Dates'!$A:$E,2,FALSE)","v":{"$error":"#N/A"}},{"$f":"VLOOKUP($B2705,'Ad Week Dates'!$A:$E,3,FALSE)","v":{"$error":"#N/A"}},null,null,null,null,null,null,{"$error":"#N/A"}]
[null,null,{"$f":"VLOOKUP($B2706,'Ad Week Dates'!$A:$E,4,FALSE)","v":{"$error":"#N/A"}},{"$f":"VLOOKUP($B2706,'Ad Week Dates'!$A:$E,2,FALSE)","v":{"$error":"#N/A"}},{"$f":"VLOOKUP($B2706,'Ad Week Dates'!$A:$E,3,FALSE)","v":{"$error":"#N/A"}},null,null,null,null,null,null,{"$error":"#N/A"}]
[null,null,{"$f":"VLOOKUP($B2707,'Ad Week Dates'!$A:$E,4,FALSE)","v":{"$error":"#N/A"}},{"$f":"VLOOKUP($B2707,'Ad Week Dates'!$A:$E,2,FALSE)","v":{"$error":"#N/A"}},{"$f":"VLOOKUP($B2707,'Ad Week Dates'!$A:$E,3,FALSE)","v":{"$error":"#N/A"}},null,null,null,null,null,null,{"$error":"#N/A"}]
[null,null,{"$f":"VLOOKUP($B2708,'Ad Week Dates'!$A:$E,4,FALSE)","v":{"$error":"#N/A"}},{"$f":"VLOOKUP($B2708,'Ad Week Dates'!$A:$E,2,FALSE)","v":{"$error":"#N/A"}},{"$f":"VLOOKUP($B2708,'Ad Week Dates'!$A:$E,3,FALSE)","v":{"$error":"#N/A"}},null,null,null,null,null,null,{"$error":"#N/A"}]
[null,null,{"$f":"VLOOKUP($B2709,'Ad Week Dates'!$A:$E,4,FALSE)","v":{"$error":"#N/A"}},{"$f":"VLOOKUP($B2709,'Ad Week Dates'!$A:$E,2,FALSE)","v":{"$error":"#N/A"}},{"$f":"VLOOKUP($B2709,'Ad Week Dates'!$A:$E,3,FALSE)","v":{"$error":"#N/A"}},null,null,null,null,null,null,{"$error":"#N/A"}]
[null,null,{"$f":"VLOOKUP($B2710,'Ad Week Dates'!$A:$E,4,FALSE)","v":{"$error":"#N/A"}},{"$f":"VLOOKUP($B2710,'Ad Week Dates'!$A:$E,2,FALSE)","v":{"$error":"#N/A"}},{"$f":"VLOOKUP($B2710,'Ad Week Dates'!$A:$E,3,FALSE)","v":{"$error":"#N/A"}},null,null,null,null,null,null,{"$error":"#N/A"}]
[null,null,{"$f":"VLOOKUP($B2711,'Ad Week Dates'!$A:$E,4,FALSE)","v":{"$error":"#N/A"}},{"$f":"VLOOKUP($B2711,'Ad Week Dates'!$A:$E,2,FALSE)","v":{"$error":"#N/A"}},{"$f":"VLOOKUP($B2711,'Ad Week Dates'!$A:$E,3,FALSE)","v":{"$error":"#N/A"}},null,null,null,null,null,null,{"$error":"#N/A"}]
[null,null,{"$f":"VLOOKUP($B2712,'Ad Week Dates'!$A:$E,4,FALSE)","v":{"$error":"#N/A"}},{"$f":"VLOOKUP($B2712,'Ad Week Dates'!$A:$E,2,FALSE)","v":{"$error":"#N/A"}},{"$f":"VLOOKUP($B2712,'Ad Week Dates'!$A:$E,3,FALSE)","v":{"$error":"#N/A"}},null,null,null,null,null,null,{"$error":"#N/A"}]
[null,null,{"$f":"VLOOKUP($B2713,'Ad Week Dates'!$A:$E,4,FALSE)","v":{"$error":"#N/A"}},{"$f":"VLOOKUP($B2713,'Ad Week Dates'!$A:$E,2,FALSE)","v":{"$error":"#N/A"}},{"$f":"VLOOKUP($B2713,'Ad Week Dates'!$A:$E,3,FALSE)","v":{"$error":"#N/A"}},null,null,null,null,null,null,{"$error":"#N/A"}]
[null,null,{"$f":"VLOOKUP($B2714,'Ad Week Dates'!$A:$E,4,FALSE)","v":{"$error":"#N/A"}},{"$f":"VLOOKUP($B2714,'Ad Week Dates'!$A:$E,2,FALSE)","v":{"$error":"#N/A"}},{"$f":"VLOOKUP($B2714,'Ad Week Dates'!$A:$E,3,FALSE)","v":{"$error":"#N/A"}},null,null,null,null,null,null,{"$error":"#N/A"}]
[null,null,{"$f":"VLOOKUP($B2715,'Ad Week Dates'!$A:$E,4,FALSE)","v":{"$error":"#N/A"}},{"$f":"VLOOKUP($B2715,'Ad Week Dates'!$A:$E,2,FALSE)","v":{"$error":"#N/A"}},{"$f":"VLOOKUP($B2715,'Ad Week Dates'!$A:$E,3,FALSE)","v":{"$error":"#N/A"}},null,null,null,null,null,null,{"$error":"#N/A"}]
[null,null,{"$f":"VLOOKUP($B2716,'Ad Week Dates'!$A:$E,4,FALSE)","v":{"$error":"#N/A"}},{"$f":"VLOOKUP($B2716,'Ad Week Dates'!$A:$E,2,FALSE)","v":{"$error":"#N/A"}},{"$f":"VLOOKUP($B2716,'Ad Week Dates'!$A:$E,3,FALSE)","v":{"$error":"#N/A"}},null,null,null,null,null,null,{"$error":"#N/A"}]
[null,null,{"$f":"VLOOKUP($B2717,'Ad Week Dates'!$A:$E,4,FALSE)","v":{"$error":"#N/A"}},{"$f":"VLOOKUP($B2717,'Ad Week Dates'!$A:$E,2,FALSE)","v":{"$error":"#N/A"}},{"$f":"VLOOKUP($B2717,'Ad Week Dates'!$A:$E,3,FALSE)","v":{"$error":"#N/A"}},null,null,null,null,null,null,{"$error":"#N/A"}]
[null,null,{"$f":"VLOOKUP($B2718,'Ad Week Dates'!$A:$E,4,FALSE)","v":{"$error":"#N/A"}},{"$f":"VLOOKUP($B2718,'Ad Week Dates'!$A:$E,2,FALSE)","v":{"$error":"#N/A"}},{"$f":"VLOOKUP($B2718,'Ad Week Dates'!$A:$E,3,FALSE)","v":{"$error":"#N/A"}},null,null,null,null,null,null,{"$error":"#N/A"}]
[null,null,{"$f":"VLOOKUP($B2719,'Ad Week Dates'!$A:$E,4,FALSE)","v":{"$error":"#N/A"}},{"$f":"VLOOKUP($B2719,'Ad Week Dates'!$A:$E,2,FALSE)","v":{"$error":"#N/A"}},{"$f":"VLOOKUP($B2719,'Ad Week Dates'!$A:$E,3,FALSE)","v":{"$error":"#N/A"}},null,null,null,null,null,null,{"$error":"#N/A"}]
[null,null,{"$f":"VLOOKUP($B2720,'Ad Week Dates'!$A:$E,4,FALSE)","v":{"$error":"#N/A"}},{"$f":"VLOOKUP($B2720,'Ad Week Dates'!$A:$E,2,FALSE)","v":{"$error":"#N/A"}},{"$f":"VLOOKUP($B2720,'Ad Week Dates'!$A:$E,3,FALSE)","v":{"$error":"#N/A"}},null,null,null,null,null,null,{"$error":"#N/A"}]
[null,null,{"$f":"VLOOKUP($B2721,'Ad Week Dates'!$A:$E,4,FALSE)","v":{"$error":"#N/A"}},{"$f":"VLOOKUP($B2721,'Ad Week Dates'!$A:$E,2,FALSE)","v":{"$error":"#N/A"}},{"$f":"VLOOKUP($B2721,'Ad Week Dates'!$A:$E,3,FALSE)","v":{"$error":"#N/A"}},null,null,null,null,null,null,{"$error":"#N/A"}]
[null,null,{"$f":"VLOOKUP($B2722,'Ad Week Dates'!$A:$E,4,FALSE)","v":{"$error":"#N/A"}},{"$f":"VLOOKUP($B2722,'Ad Week Dates'!$A:$E,2,FALSE)","v":{"$error":"#N/A"}},{"$f":"VLOOKUP($B2722,'Ad Week Dates'!$A:$E,3,FALSE)","v":{"$error":"#N/A"}},null,null,null,null,null,null,{"$error":"#N/A"}]
[null,null,{"$f":"VLOOKUP($B2723,'Ad Week Dates'!$A:$E,4,FALSE)","v":{"$error":"#N/A"}},{"$f":"VLOOKUP($B2723,'Ad Week Dates'!$A:$E,2,FALSE)","v":{"$error":"#N/A"}},{"$f":"VLOOKUP($B2723,'Ad Week Dates'!$A:$E,3,FALSE)","v":{"$error":"#N/A"}},null,null,null,null,null,null,{"$error":"#N/A"}]
[null,null,{"$f":"VLOOKUP($B2724,'Ad Week Dates'!$A:$E,4,FALSE)","v":{"$error":"#N/A"}},{"$f":"VLOOKUP($B2724,'Ad Week Dates'!$A:$E,2,FALSE)","v":{"$error":"#N/A"}},{"$f":"VLOOKUP($B2724,'Ad Week Dates'!$A:$E,3,FALSE)","v":{"$error":"#N/A"}},null,null,null,null,null,null,{"$error":"#N/A"}]
[null,null,{"$f":"VLOOKUP($B2725,'Ad Week Dates'!$A:$E,4,FALSE)","v":{"$error":"#N/A"}},{"$f":"VLOOKUP($B2725,'Ad Week Dates'!$A:$E,2,FALSE)","v":{"$error":"#N/A"}},{"$f":"VLOOKUP($B2725,'Ad Week Dates'!$A:$E,3,FALSE)","v":{"$error":"#N/A"}},null,null,null,null,null,null,{"$error":"#N/A"}]
[null,null,{"$f":"VLOOKUP($B2726,'Ad Week Dates'!$A:$E,4,FALSE)","v":{"$error":"#N/A"}},{"$f":"VLOOKUP($B2726,'Ad Week Dates'!$A:$E,2,FALSE)","v":{"$error":"#N/A"}},{"$f":"VLOOKUP($B2726,'Ad Week Dates'!$A:$E,3,FALSE)","v":{"$error":"#N/A"}},null,null,null,null,null,null,{"$error":"#N/A"}]
[null,null,{"$f":"VLOOKUP($B2727,'Ad Week Dates'!$A:$E,4,FALSE)","v":{"$error":"#N/A"}},{"$f":"VLOOKUP($B2727,'Ad Week Dates'!$A:$E,2,FALSE)","v":{"$error":"#N/A"}},{"$f":"VLOOKUP($B2727,'Ad Week Dates'!$A:$E,3,FALSE)","v":{"$error":"#N/A"}},null,null,null,null,null,null,{"$error":"#N/A"}]
[null,null,{"$f":"VLOOKUP($B2728,'Ad Week Dates'!$A:$E,4,FALSE)","v":{"$error":"#N/A"}},{"$f":"VLOOKUP($B2728,'Ad Week Dates'!$A:$E,2,FALSE)","v":{"$error":"#N/A"}},{"$f":"VLOOKUP($B2728,'Ad Week Dates'!$A:$E,3,FALSE)","v":{"$error":"#N/A"}},null,null,null,null,null,null,{"$error":"#N/A"}]
[null,null,{"$f":"VLOOKUP($B2729,'Ad Week Dates'!$A:$E,4,FALSE)","v":{"$error":"#N/A"}},{"$f":"VLOOKUP($B2729,'Ad Week Dates'!$A:$E,2,FALSE)","v":{"$error":"#N/A"}},{"$f":"VLOOKUP($B2729,'Ad Week Dates'!$A:$E,3,FALSE)","v":{"$error":"#N/A"}},null,null,null,null,null,null,{"$error":"#N/A"}]
[null,null,{"$f":"VLOOKUP($B2730,'Ad Week Dates'!$A:$E,4,FALSE)","v":{"$error":"#N/A"}},{"$f":"VLOOKUP($B2730,'Ad Week Dates'!$A:$E,2,FALSE)","v":{"$error":"#N/A"}},{"$f":"VLOOKUP($B2730,'Ad Week Dates'!$A:$E,3,FALSE)","v":{"$error":"#N/A"}},null,null,null,null,null,null,{"$error":"#N/A"}]
[null,null,{"$f":"VLOOKUP($B2731,'Ad Week Dates'!$A:$E,4,FALSE)","v":{"$error":"#N/A"}},{"$f":"VLOOKUP($B2731,'Ad Week Dates'!$A:$E,2,FALSE)","v":{"$error":"#N/A"}},{"$f":"VLOOKUP($B2731,'Ad Week Dates'!$A:$E,3,FALSE)","v":{"$error":"#N/A"}},null,null,null,null,null,null,{"$error":"#N/A"}]
[null,null,{"$f":"VLOOKUP($B2732,'Ad Week Dates'!$A:$E,4,FALSE)","v":{"$error":"#N/A"}},{"$f":"VLOOKUP($B2732,'Ad Week Dates'!$A:$E,2,FALSE)","v":{"$error":"#N/A"}},{"$f":"VLOOKUP($B2732,'Ad Week Dates'!$A:$E,3,FALSE)","v":{"$error":"#N/A"}},null,null,null,null,null,null,{"$error":"#N/A"}]
[null,null,{"$f":"VLOOKUP($B2733,'Ad Week Dates'!$A:$E,4,FALSE)","v":{"$error":"#N/A"}},{"$f":"VLOOKUP($B2733,'Ad Week Dates'!$A:$E,2,FALSE)","v":{"$error":"#N/A"}},{"$f":"VLOOKUP($B2733,'Ad Week Dates'!$A:$E,3,FALSE)","v":{"$error":"#N/A"}},null,null,null,null,null,null,{"$error":"#N/A"}]
[null,null,{"$f":"VLOOKUP($B2734,'Ad Week Dates'!$A:$E,4,FALSE)","v":{"$error":"#N/A"}},{"$f":"VLOOKUP($B2734,'Ad Week Dates'!$A:$E,2,FALSE)","v":{"$error":"#N/A"}},{"$f":"VLOOKUP($B2734,'Ad Week Dates'!$A:$E,3,FALSE)","v":{"$error":"#N/A"}},null,null,null,null,null,null,{"$error":"#N/A"}]
[null,null,{"$f":"VLOOKUP($B2735,'Ad Week Dates'!$A:$E,4,FALSE)","v":{"$error":"#N/A"}},{"$f":"VLOOKUP($B2735,'Ad Week Dates'!$A:$E,2,FALSE)","v":{"$error":"#N/A"}},{"$f":"VLOOKUP($B2735,'Ad Week Dates'!$A:$E,3,FALSE)","v":{"$error":"#N/A"}},null,null,null,null,null,null,{"$error":"#N/A"}]
[null,null,{"$f":"VLOOKUP($B2736,'Ad Week Dates'!$A:$E,4,FALSE)","v":{"$error":"#N/A"}},{"$f":"VLOOKUP($B2736,'Ad Week Dates'!$A:$E,2,FALSE)","v":{"$error":"#N/A"}},{"$f":"VLOOKUP($B2736,'Ad Week Dates'!$A:$E,3,FALSE)","v":{"$error":"#N/A"}},null,null,null,null,null,null,{"$error":"#N/A"}]
[null,null,{"$f":"VLOOKUP($B2737,'Ad Week Dates'!$A:$E,4,FALSE)","v":{"$error":"#N/A"}},{"$f":"VLOOKUP($B2737,'Ad Week Dates'!$A:$E,2,FALSE)","v":{"$error":"#N/A"}},{"$f":"VLOOKUP($B2737,'Ad Week Dates'!$A:$E,3,FALSE)","v":{"$error":"#N/A"}},null,null,null,null,null,null,{"$error":"#N/A"}]
[null,null,{"$f":"VLOOKUP($B2738,'Ad Week Dates'!$A:$E,4,FALSE)","v":{"$error":"#N/A"}},{"$f":"VLOOKUP($B2738,'Ad Week Dates'!$A:$E,2,FALSE)","v":{"$error":"#N/A"}},{"$f":"VLOOKUP($B2738,'Ad Week Dates'!$A:$E,3,FALSE)","v":{"$error":"#N/A"}},null,null,null,null,null,null,{"$error":"#N/A"}]
[null,null,{"$f":"VLOOKUP($B2739,'Ad Week Dates'!$A:$E,4,FALSE)","v":{"$error":"#N/A"}},{"$f":"VLOOKUP($B2739,'Ad Week Dates'!$A:$E,2,FALSE)","v":{"$error":"#N/A"}},{"$f":"VLOOKUP($B2739,'Ad Week Dates'!$A:$E,3,FALSE)","v":{"$error":"#N/A"}},null,null,null,null,null,null,{"$error":"#N/A"}]
[null,null,{"$f":"VLOOKUP($B2740,'Ad Week Dates'!$A:$E,4,FALSE)","v":{"$error":"#N/A"}},{"$f":"VLOOKUP($B2740,'Ad Week Dates'!$A:$E,2,FALSE)","v":{"$error":"#N/A"}},{"$f":"VLOOKUP($B2740,'Ad Week Dates'!$A:$E,3,FALSE)","v":{"$error":"#N/A"}},null,null,null,null,null,null,{"$error":"#N/A"}]
[null,null,{"$f":"VLOOKUP($B2741,'Ad Week Dates'!$A:$E,4,FALSE)","v":{"$error":"#N/A"}},{"$f":"VLOOKUP($B2741,'Ad Week Dates'!$A:$E,2,FALSE)","v":{"$error":"#N/A"}},{"$f":"VLOOKUP($B2741,'Ad Week Dates'!$A:$E,3,FALSE)","v":{"$error":"#N/A"}},null,null,null,null,null,null,{"$error":"#N/A"}]
[null,null,{"$f":"VLOOKUP($B2742,'Ad Week Dates'!$A:$E,4,FALSE)","v":{"$error":"#N/A"}},{"$f":"VLOOKUP($B2742,'Ad Week Dates'!$A:$E,2,FALSE)","v":{"$error":"#N/A"}},{"$f":"VLOOKUP($B2742,'Ad Week Dates'!$A:$E,3,FALSE)","v":{"$error":"#N/A"}},null,null,null,null,null,null,{"$error":"#N/A"}]
[null,null,{"$f":"VLOOKUP($B2743,'Ad Week Dates'!$A:$E,4,FALSE)","v":{"$error":"#N/A"}},{"$f":"VLOOKUP($B2743,'Ad Week Dates'!$A:$E,2,FALSE)","v":{"$error":"#N/A"}},{"$f":"VLOOKUP($B2743,'Ad Week Dates'!$A:$E,3,FALSE)","v":{"$error":"#N/A"}},null,null,null,null,null,null,{"$error":"#N/A"}]
[null,null,{"$f":"VLOOKUP($B2744,'Ad Week Dates'!$A:$E,4,FALSE)","v":{"$error":"#N/A"}},{"$f":"VLOOKUP($B2744,'Ad Week Dates'!$A:$E,2,FALSE)","v":{"$error":"#N/A"}},{"$f":"VLOOKUP($B2744,'Ad Week Dates'!$A:$E,3,FALSE)","v":{"$error":"#N/A"}},null,null,null,null,null,null,{"$error":"#N/A"}]
[null,null,{"$f":"VLOOKUP($B2745,'Ad Week Dates'!$A:$E,4,FALSE)","v":{"$error":"#N/A"}},{"$f":"VLOOKUP($B2745,'Ad Week Dates'!$A:$E,2,FALSE)","v":{"$error":"#N/A"}},{"$f":"VLOOKUP($B2745,'Ad Week Dates'!$A:$E,3,FALSE)","v":{"$error":"#N/A"}},null,null,null,null,null,null,{"$error":"#N/A"}]
[null,null,{"$f":"VLOOKUP($B2746,'Ad Week Dates'!$A:$E,4,FALSE)","v":{"$error":"#N/A"}},{"$f":"VLOOKUP($B2746,'Ad Week Dates'!$A:$E,2,FALSE)","v":{"$error":"#N/A"}},{"$f":"VLOOKUP($B2746,'Ad Week Dates'!$A:$E,3,FALSE)","v":{"$error":"#N/A"}},null,null,null,null,null,null,{"$error":"#N/A"}]
[null,null,{"$f":"VLOOKUP($B2747,'Ad Week Dates'!$A:$E,4,FALSE)","v":{"$error":"#N/A"}},{"$f":"VLOOKUP($B2747,'Ad Week Dates'!$A:$E,2,FALSE)","v":{"$error":"#N/A"}},{"$f":"VLOOKUP($B2747,'Ad Week Dates'!$A:$E,3,FALSE)","v":{"$error":"#N/A"}},null,null,null,null,null,null,{"$error":"#N/A"}]
[null,null,{"$f":"VLOOKUP($B2748,'Ad Week Dates'!$A:$E,4,FALSE)","v":{"$error":"#N/A"}},{"$f":"VLOOKUP($B2748,'Ad Week Dates'!$A:$E,2,FALSE)","v":{"$error":"#N/A"}},{"$f":"VLOOKUP($B2748,'Ad Week Dates'!$A:$E,3,FALSE)","v":{"$error":"#N/A"}},null,null,null,null,null,null,{"$error":"#N/A"}]
[null,null,{"$f":"VLOOKUP($B2749,'Ad Week Dates'!$A:$E,4,FALSE)","v":{"$error":"#N/A"}},{"$f":"VLOOKUP($B2749,'Ad Week Dates'!$A:$E,2,FALSE)","v":{"$error":"#N/A"}},{"$f":"VLOOKUP($B2749,'Ad Week Dates'!$A:$E,3,FALSE)","v":{"$error":"#N/A"}},null,null,null,null,null,null,{"$error":"#N/A"}]
[null,null,{"$f":"VLOOKUP($B2750,'Ad Week Dates'!$A:$E,4,FALSE)","v":{"$error":"#N/A"}},{"$f":"VLOOKUP($B2750,'Ad Week Dates'!$A:$E,2,FALSE)","v":{"$error":"#N/A"}},{"$f":"VLOOKUP($B2750,'Ad Week Dates'!$A:$E,3,FALSE)","v":{"$error":"#N/A"}},null,null,null,null,null,null,{"$error":"#N/A"}]
[null,null,{"$f":"VLOOKUP($B2751,'Ad Week Dates'!$A:$E,4,FALSE)","v":{"$error":"#N/A"}},{"$f":"VLOOKUP($B2751,'Ad Week Dates'!$A:$E,2,FALSE)","v":{"$error":"#N/A"}},{"$f":"VLOOKUP($B2751,'Ad Week Dates'!$A:$E,3,FALSE)","v":{"$error":"#N/A"}},null,null,null,null,null,null,{"$error":"#N/A"}]
[null,null,{"$f":"VLOOKUP($B2752,'Ad Week Dates'!$A:$E,4,FALSE)","v":{"$error":"#N/A"}},{"$f":"VLOOKUP($B2752,'Ad Week Dates'!$A:$E,2,FALSE)","v":{"$error":"#N/A"}},{"$f":"VLOOKUP($B2752,'Ad Week Dates'!$A:$E,3,FALSE)","v":{"$error":"#N/A"}},null,null,null,null,null,null,{"$error":"#N/A"}]
[null,null,{"$f":"VLOOKUP($B2753,'Ad Week Dates'!$A:$E,4,FALSE)","v":{"$error":"#N/A"}},{"$f":"VLOOKUP($B2753,'Ad Week Dates'!$A:$E,2,FALSE)","v":{"$error":"#N/A"}},{"$f":"VLOOKUP($B2753,'Ad Week Dates'!$A:$E,3,FALSE)","v":{"$error":"#N/A"}},null,null,null,null,null,null,{"$error":"#N/A"}]
[null,null,{"$f":"VLOOKUP($B2754,'Ad Week Dates'!$A:$E,4,FALSE)","v":{"$error":"#N/A"}},{"$f":"VLOOKUP($B2754,'Ad Week Dates'!$A:$E,2,FALSE)","v":{"$error":"#N/A"}},{"$f":"VLOOKUP($B2754,'Ad Week Dates'!$A:$E,3,FALSE)","v":{"$error":"#N/A"}},null,null,null,null,null,null,{"$error":"#N/A"}]
[null,null,{"$f":"VLOOKUP($B2755,'Ad Week Dates'!$A:$E,4,FALSE)","v":{"$error":"#N/A"}},{"$f":"VLOOKUP($B2755,'Ad Week Dates'!$A:$E,2,FALSE)","v":{"$error":"#N/A"}},{"$f":"VLOOKUP($B2755,'Ad Week Dates'!$A:$E,3,FALSE)","v":{"$error":"#N/A"}},null,null,null,null,null,null,{"$error":"#N/A"}]
[null,null,{"$f":"VLOOKUP($B2756,'Ad Week Dates'!$A:$E,4,FALSE)","v":{"$error":"#N/A"}},{"$f":"VLOOKUP($B2756,'Ad Week Dates'!$A:$E,2,FALSE)","v":{"$error":"#N/A"}},{"$f":"VLOOKUP($B2756,'Ad Week Dates'!$A:$E,3,FALSE)","v":{"$error":"#N/A"}},null,null,null,null,null,null,{"$error":"#N/A"}]
[null,null,{"$f":"VLOOKUP($B2757,'Ad Week Dates'!$A:$E,4,FALSE)","v":{"$error":"#N/A"}},{"$f":"VLOOKUP($B2757,'Ad Week Dates'!$A:$E,2,FALSE)","v":{"$error":"#N/A"}},{"$f":"VLOOKUP($B2757,'Ad Week Dates'!$A:$E,3,FALSE)","v":{"$error":"#N/A"}},null,null,null,null,null,null,{"$error":"#N/A"}]
[null,null,{"$f":"VLOOKUP($B2758,'Ad Week Dates'!$A:$E,4,FALSE)","v":{"$error":"#N/A"}},{"$f":"VLOOKUP($B2758,'Ad Week Dates'!$A:$E,2,FALSE)","v":{"$error":"#N/A"}},{"$f":"VLOOKUP($B2758,'Ad Week Dates'!$A:$E,3,FALSE)","v":{"$error":"#N/A"}},null,null,null,null,null,null,{"$f":"IF(ISNUMBER(J2758), J2758 - K2758, VALUE(_xlfn.TEXTBEFORE(J2758, \"-\")) - VALUE(_xlfn.TEXTBEFORE(K2758, \"-\")))","v":{"$error":"#N/A"}}]
[null,null,{"$f":"VLOOKUP($B2759,'Ad Week Dates'!$A:$E,4,FALSE)","v":{"$error":"#N/A"}},{"$f":"VLOOKUP($B2759,'Ad Week Dates'!$A:$E,2,FALSE)","v":{"$error":"#N/A"}},{"$f":"VLOOKUP($B2759,'Ad Week Dates'!$A:$E,3,FALSE)","v":{"$error":"#N/A"}},null,null,null,null,null,null,{"$error":"#N/A"}]
[null,null,{"$f":"VLOOKUP($B2760,'Ad Week Dates'!$A:$E,4,FALSE)","v":{"$error":"#N/A"}},{"$f":"VLOOKUP($B2760,'Ad Week Dates'!$A:$E,2,FALSE)","v":{"$error":"#N/A"}},{"$f":"VLOOKUP($B2760,'Ad Week Dates'!$A:$E,3,FALSE)","v":{"$error":"#N/A"}},null,null,null,null,null,null,{"$error":"#N/A"}]
[null,null,{"$f":"VLOOKUP($B2761,'Ad Week Dates'!$A:$E,4,FALSE)","v":{"$error":"#N/A"}},{"$f":"VLOOKUP($B2761,'Ad Week Dates'!$A:$E,2,FALSE)","v":{"$error":"#N/A"}},{"$f":"VLOOKUP($B2761,'Ad Week Dates'!$A:$E,3,FALSE)","v":{"$error":"#N/A"}},null,null,null,null,null,null,{"$error":"#N/A"}]
[null,null,{"$f":"VLOOKUP($B2762,'Ad Week Dates'!$A:$E,4,FALSE)","v":{"$error":"#N/A"}},{"$f":"VLOOKUP($B2762,'Ad Week Dates'!$A:$E,2,FALSE)","v":{"$error":"#N/A"}},{"$f":"VLOOKUP($B2762,'Ad Week Dates'!$A:$E,3,FALSE)","v":{"$error":"#N/A"}},null,null,null,null,null,null,{"$error":"#N/A"}]
[null,null,{"$f":"VLOOKUP($B2763,'Ad Week Dates'!$A:$E,4,FALSE)","v":{"$error":"#N/A"}},{"$f":"VLOOKUP($B2763,'Ad Week Dates'!$A:$E,2,FALSE)","v":{"$error":"#N/A"}},{"$f":"VLOOKUP($B2763,'Ad Week Dates'!$A:$E,3,FALSE)","v":{"$error":"#N/A"}},null,null,null,null,null,null,{"$error":"#N/A"}]
[null,null,{"$f":"VLOOKUP($B2764,'Ad Week Dates'!$A:$E,4,FALSE)","v":{"$error":"#N/A"}},{"$f":"VLOOKUP($B2764,'Ad Week Dates'!$A:$E,2,FALSE)","v":{"$error":"#N/A"}},{"$f":"VLOOKUP($B2764,'Ad Week Dates'!$A:$E,3,FALSE)","v":{"$error":"#N/A"}},null,null,null,null,null,null,{"$error":"#N/A"}]
[null,null,{"$f":"VLOOKUP($B2765,'Ad Week Dates'!$A:$E,4,FALSE)","v":{"$error":"#N/A"}},{"$f":"VLOOKUP($B2765,'Ad Week Dates'!$A:$E,2,FALSE)","v":{"$error":"#N/A"}},{"$f":"VLOOKUP($B2765,'Ad Week Dates'!$A:$E,3,FALSE)","v":{"$error":"#N/A"}},null,null,null,null,null,null,{"$error":"#N/A"}]
[null,null,{"$f":"VLOOKUP($B2766,'Ad Week Dates'!$A:$E,4,FALSE)","v":{"$error":"#N/A"}},{"$f":"VLOOKUP($B2766,'Ad Week Dates'!$A:$E,2,FALSE)","v":{"$error":"#N/A"}},{"$f":"VLOOKUP($B2766,'Ad Week Dates'!$A:$E,3,FALSE)","v":{"$error":"#N/A"}},null,null,null,null,null,null,{"$error":"#N/A"}]
[null,null,{"$f":"VLOOKUP($B2767,'Ad Week Dates'!$A:$E,4,FALSE)","v":{"$error":"#N/A"}},{"$f":"VLOOKUP($B2767,'Ad Week Dates'!$A:$E,2,FALSE)","v":{"$error":"#N/A"}},{"$f":"VLOOKUP($B2767,'Ad Week Dates'!$A:$E,3,FALSE)","v":{"$error":"#N/A"}},null,null,null,null,null,null,{"$error":"#N/A"}]
[null,null,{"$f":"VLOOKUP($B2768,'Ad Week Dates'!$A:$E,4,FALSE)","v":{"$error":"#N/A"}},{"$f":"VLOOKUP($B2768,'Ad Week Dates'!$A:$E,2,FALSE)","v":{"$error":"#N/A"}},{"$f":"VLOOKUP($B2768,'Ad Week Dates'!$A:$E,3,FALSE)","v":{"$error":"#N/A"}},null,null,null,null,null,null,{"$error":"#N/A"}]
[null,null,{"$f":"VLOOKUP($B2769,'Ad Week Dates'!$A:$E,4,FALSE)","v":{"$error":"#N/A"}},{"$f":"VLOOKUP($B2769,'Ad Week Dates'!$A:$E,2,FALSE)","v":{"$error":"#N/A"}},{"$f":"VLOOKUP($B2769,'Ad Week Dates'!$A:$E,3,FALSE)","v":{"$error":"#N/A"}},null,null,null,null,null,null,{"$error":"#N/A"}]
[null,null,{"$f":"VLOOKUP($B2770,'Ad Week Dates'!$A:$E,4,FALSE)","v":{"$error":"#N/A"}},{"$f":"VLOOKUP($B2770,'Ad Week Dates'!$A:$E,2,FALSE)","v":{"$error":"#N/A"}},{"$f":"VLOOKUP($B2770,'Ad Week Dates'!$A:$E,3,FALSE)","v":{"$error":"#N/A"}},null,null,null,null,null,null,{"$error":"#N/A"}]
[null,null,{"$f":"VLOOKUP($B2771,'Ad Week Dates'!$A:$E,4,FALSE)","v":{"$error":"#N/A"}},{"$f":"VLOOKUP($B2771,'Ad Week Dates'!$A:$E,2,FALSE)","v":{"$error":"#N/A"}},{"$f":"VLOOKUP($B2771,'Ad Week Dates'!$A:$E,3,FALSE)","v":{"$error":"#N/A"}},null,null,null,null,null,null,{"$error":"#N/A"}]
[null,null,{"$f":"VLOOKUP($B2772,'Ad Week Dates'!$A:$E,4,FALSE)","v":{"$error":"#N/A"}},{"$f":"VLOOKUP($B2772,'Ad Week Dates'!$A:$E,2,FALSE)","v":{"$error":"#N/A"}},{"$f":"VLOOKUP($B2772,'Ad Week Dates'!$A:$E,3,FALSE)","v":{"$error":"#N/A"}},null,null,null,null,null,null,{"$error":"#N/A"}]
[null,null,{"$f":"VLOOKUP($B2773,'Ad Week Dates'!$A:$E,4,FALSE)","v":{"$error":"#N/A"}},{"$f":"VLOOKUP($B2773,'Ad Week Dates'!$A:$E,2,FALSE)","v":{"$error":"#N/A"}},{"$f":"VLOOKUP($B2773,'Ad Week Dates'!$A:$E,3,FALSE)","v":{"$error":"#N/A"}},null,null,null,null,null,null,{"$error":"#N/A"}]
[null,null,{"$f":"VLOOKUP($B2774,'Ad Week Dates'!$A:$E,4,FALSE)","v":{"$error":"#N/A"}},{"$f":"VLOOKUP($B2774,'Ad Week Dates'!$A:$E,2,FALSE)","v":{"$error":"#N/A"}},{"$f":"VLOOKUP($B2774,'Ad Week Dates'!$A:$E,3,FALSE)","v":{"$error":"#N/A"}},null,null,null,null,null,null,{"$error":"#N/A"}]
[null,null,{"$f":"VLOOKUP($B2775,'Ad Week Dates'!$A:$E,4,FALSE)","v":{"$error":"#N/A"}},{"$f":"VLOOKUP($B2775,'Ad Week Dates'!$A:$E,2,FALSE)","v":{"$error":"#N/A"}},{"$f":"VLOOKUP($B2775,'Ad Week Dates'!$A:$E,3,FALSE)","v":{"$error":"#N/A"}},null,null,null,null,null,null,{"$error":"#N/A"}]
[null,null,{"$f":"VLOOKUP($B2776,'Ad Week Dates'!$A:$E,4,FALSE)","v":{"$error":"#N/A"}},{"$f":"VLOOKUP($B2776,'Ad Week Dates'!$A:$E,2,FALSE)","v":{"$error":"#N/A"}},{"$f":"VLOOKUP($B2776,'Ad Week Dates'!$A:$E,3,FALSE)","v":{"$error":"#N/A"}},null,null,null,null,null,null,{"$error":"#N/A"}]
[null,null,{"$f":"VLOOKUP($B2777,'Ad Week Dates'!$A:$E,4,FALSE)","v":{"$error":"#N/A"}},{"$f":"VLOOKUP($B2777,'Ad Week Dates'!$A:$E,2,FALSE)","v":{"$error":"#N/A"}},{"$f":"VLOOKUP($B2777,'Ad Week Dates'!$A:$E,3,FALSE)","v":{"$error":"#N/A"}},null,null,null,null,null,null,{"$error":"#N/A"}]
[null,null,{"$f":"VLOOKUP($B2778,'Ad Week Dates'!$A:$E,4,FALSE)","v":{"$error":"#N/A"}},{"$f":"VLOOKUP($B2778,'Ad Week Dates'!$A:$E,2,FALSE)","v":{"$error":"#N/A"}},{"$f":"VLOOKUP($B2778,'Ad Week Dates'!$A:$E,3,FALSE)","v":{"$error":"#N/A"}},null,null,null,null,null,null,{"$error":"#N/A"}]
[null,null,{"$f":"VLOOKUP($B2779,'Ad Week Dates'!$A:$E,4,FALSE)","v":{"$error":"#N/A"}},{"$f":"VLOOKUP($B2779,'Ad Week Dates'!$A:$E,2,FALSE)","v":{"$error":"#N/A"}},{"$f":"VLOOKUP($B2779,'Ad Week Dates'!$A:$E,3,FALSE)","v":{"$error":"#N/A"}},null,null,null,null,null,null,{"$error":"#N/A"}]
[null,null,{"$f":"VLOOKUP($B2780,'Ad Week Dates'!$A:$E,4,FALSE)","v":{"$error":"#N/A"}},{"$f":"VLOOKUP($B2780,'Ad Week Dates'!$A:$E,2,FALSE)","v":{"$error":"#N/A"}},{"$f":"VLOOKUP($B2780,'Ad Week Dates'!$A:$E,3,FALSE)","v":{"$error":"#N/A"}},null,null,null,null,null,null,{"$error":"#N/A"}]
[null,null,{"$f":"VLOOKUP($B2781,'Ad Week Dates'!$A:$E,4,FALSE)","v":{"$error":"#N/A"}},{"$f":"VLOOKUP($B2781,'Ad Week Dates'!$A:$E,2,FALSE)","v":{"$error":"#N/A"}},{"$f":"VLOOKUP($B2781,'Ad Week Dates'!$A:$E,3,FALSE)","v":{"$error":"#N/A"}},null,null,null,null,null,null,{"$error":"#N/A"}]
[null,null,{"$f":"VLOOKUP($B2782,'Ad Week Dates'!$A:$E,4,FALSE)","v":{"$error":"#N/A"}},{"$f":"VLOOKUP($B2782,'Ad Week Dates'!$A:$E,2,FALSE)","v":{"$error":"#N/A"}},{"$f":"VLOOKUP($B2782,'Ad Week Dates'!$A:$E,3,FALSE)","v":{"$error":"#N/A"}},null,null,null,null,null,null,{"$error":"#N/A"}]
[null,null,{"$f":"VLOOKUP($B2783,'Ad Week Dates'!$A:$E,4,FALSE)","v":{"$error":"#N/A"}},{"$f":"VLOOKUP($B2783,'Ad Week Dates'!$A:$E,2,FALSE)","v":{"$error":"#N/A"}},{"$f":"VLOOKUP($B2783,'Ad Week Dates'!$A:$E,3,FALSE)","v":{"$error":"#N/A"}},null,null,null,null,null,null,{"$error":"#N/A"}]
[null,null,{"$f":"VLOOKUP($B2784,'Ad Week Dates'!$A:$E,4,FALSE)","v":{"$error":"#N/A"}},{"$f":"VLOOKUP($B2784,'Ad Week Dates'!$A:$E,2,FALSE)","v":{"$error":"#N/A"}},{"$f":"VLOOKUP($B2784,'Ad Week Dates'!$A:$E,3,FALSE)","v":{"$error":"#N/A"}},null,null,null,null,null,null,{"$error":"#N/A"}]
[null,null,{"$f":"VLOOKUP($B2785,'Ad Week Dates'!$A:$E,4,FALSE)","v":{"$error":"#N/A"}},{"$f":"VLOOKUP($B2785,'Ad Week Dates'!$A:$E,2,FALSE)","v":{"$error":"#N/A"}},{"$f":"VLOOKUP($B2785,'Ad Week Dates'!$A:$E,3,FALSE)","v":{"$error":"#N/A"}},null,null,null,null,null,null,{"$error":"#N/A"}]
[null,null,{"$f":"VLOOKUP($B2786,'Ad Week Dates'!$A:$E,4,FALSE)","v":{"$error":"#N/A"}},{"$f":"VLOOKUP($B2786,'Ad Week Dates'!$A:$E,2,FALSE)","v":{"$error":"#N/A"}},{"$f":"VLOOKUP($B2786,'Ad Week Dates'!$A:$E,3,FALSE)","v":{"$error":"#N/A"}},null,null,null,null,null,null,{"$error":"#N/A"}]
[null,null,{"$f":"VLOOKUP($B2787,'Ad Week Dates'!$A:$E,4,FALSE)","v":{"$error":"#N/A"}},{"$f":"VLOOKUP($B2787,'Ad Week Dates'!$A:$E,2,FALSE)","v":{"$error":"#N/A"}},{"$f":"VLOOKUP($B2787,'Ad Week Dates'!$A:$E,3,FALSE)","v":{"$error":"#N/A"}},null,null,null,null,null,null,{"$error":"#N/A"}]
[null,null,{"$f":"VLOOKUP($B2788,'Ad Week Dates'!$A:$E,4,FALSE)","v":{"$error":"#N/A"}},{"$f":"VLOOKUP($B2788,'Ad Week Dates'!$A:$E,2,FALSE)","v":{"$error":"#N/A"}},{"$f":"VLOOKUP($B2788,'Ad Week Dates'!$A:$E,3,FALSE)","v":{"$error":"#N/A"}},null,null,null,null,null,null,{"$error":"#N/A"}]
[null,null,{"$f":"VLOOKUP($B2789,'Ad Week Dates'!$A:$E,4,FALSE)","v":{"$error":"#N/A"}},{"$f":"VLOOKUP($B2789,'Ad Week Dates'!$A:$E,2,FALSE)","v":{"$error":"#N/A"}},{"$f":"VLOOKUP($B2789,'Ad Week Dates'!$A:$E,3,FALSE)","v":{"$error":"#N/A"}},null,null,null,null,null,null,{"$error":"#N/A"}]
[null,null,{"$f":"VLOOKUP($B2790,'Ad Week Dates'!$A:$E,4,FALSE)","v":{"$error":"#N/A"}},{"$f":"VLOOKUP($B2790,'Ad Week Dates'!$A:$E,2,FALSE)","v":{"$error":"#N/A"}},{"$f":"VLOOKUP($B2790,'Ad Week Dates'!$A:$E,3,FALSE)","v":{"$error":"#N/A"}},null,null,null,null,null,null,{"$error":"#N/A"}]
[null,null,{"$f":"VLOOKUP($B2791,'Ad Week Dates'!$A:$E,4,FALSE)","v":{"$error":"#N/A"}},{"$f":"VLOOKUP($B2791,'Ad Week Dates'!$A:$E,2,FALSE)","v":{"$error":"#N/A"}},{"$f":"VLOOKUP($B2791,'Ad Week Dates'!$A:$E,3,FALSE)","v":{"$error":"#N/A"}},null,null,null,null,null,null,{"$error":"#N/A"}]
[null,null,{"$f":"VLOOKUP($B2792,'Ad Week Dates'!$A:$E,4,FALSE)","v":{"$error":"#N/A"}},{"$f":"VLOOKUP($B2792,'Ad Week Dates'!$A:$E,2,FALSE)","v":{"$error":"#N/A"}},{"$f":"VLOOKUP($B2792,'Ad Week Dates'!$A:$E,3,FALSE)","v":{"$error":"#N/A"}},null,null,null,null,null,null,{"$error":"#N/A"}]
[null,null,{"$f":"VLOOKUP($B2793,'Ad Week Dates'!$A:$E,4,FALSE)","v":{"$error":"#N/A"}},{"$f":"VLOOKUP($B2793,'Ad Week Dates'!$A:$E,2,FALSE)","v":{"$error":"#N/A"}},{"$f":"VLOOKUP($B2793,'Ad Week Dates'!$A:$E,3,FALSE)","v":{"$error":"#N/A"}},null,null,null,null,null,null,{"$error":"#N/A"}]
[null,null,{"$f":"VLOOKUP($B2794,'Ad Week Dates'!$A:$E,4,FALSE)","v":{"$error":"#N/A"}},{"$f":"VLOOKUP($B2794,'Ad Week Dates'!$A:$E,2,FALSE)","v":{"$error":"#N/A"}},{"$f":"VLOOKUP($B2794,'Ad Week Dates'!$A:$E,3,FALSE)","v":{"$error":"#N/A"}},null,null,null,null,null,null,{"$error":"#N/A"}]
[null,null,{"$f":"VLOOKUP($B2795,'Ad Week Dates'!$A:$E,4,FALSE)","v":{"$error":"#N/A"}},{"$f":"VLOOKUP($B2795,'Ad Week Dates'!$A:$E,2,FALSE)","v":{"$error":"#N/A"}},{"$f":"VLOOKUP($B2795,'Ad Week Dates'!$A:$E,3,FALSE)","v":{"$error":"#N/A"}},null,null,null,null,null,null,{"$error":"#N/A"}]
[null,null,{"$f":"VLOOKUP($B2796,'Ad Week Dates'!$A:$E,4,FALSE)","v":{"$error":"#N/A"}},{"$f":"VLOOKUP($B2796,'Ad Week Dates'!$A:$E,2,FALSE)","v":{"$error":"#N/A"}},{"$f":"VLOOKUP($B2796,'Ad Week Dates'!$A:$E,3,FALSE)","v":{"$error":"#N/A"}},null,null,null,null,null,null,{"$error":"#N/A"}]
[null,null,{"$f":"VLOOKUP($B2797,'Ad Week Dates'!$A:$E,4,FALSE)","v":{"$error":"#N/A"}},{"$f":"VLOOKUP($B2797,'Ad Week Dates'!$A:$E,2,FALSE)","v":{"$error":"#N/A"}},{"$f":"VLOOKUP($B2797,'Ad Week Dates'!$A:$E,3,FALSE)","v":{"$error":"#N/A"}},null,null,null,null,null,null,{"$error":"#N/A"}]
[null,null,{"$f":"VLOOKUP($B2798,'Ad Week Dates'!$A:$E,4,FALSE)","v":{"$error":"#N/A"}},{"$f":"VLOOKUP($B2798,'Ad Week Dates'!$A:$E,2,FALSE)","v":{"$error":"#N/A"}},{"$f":"VLOOKUP($B2798,'Ad Week Dates'!$A:$E,3,FALSE)","v":{"$error":"#N/A"}},null,null,null,null,null,null,{"$error":"#N/A"}]
[null,null,{"$f":"VLOOKUP($B2799,'Ad Week Dates'!$A:$E,4,FALSE)","v":{"$error":"#N/A"}},{"$f":"VLOOKUP($B2799,'Ad Week Dates'!$A:$E,2,FALSE)","v":{"$error":"#N/A"}},{"$f":"VLOOKUP($B2799,'Ad Week Dates'!$A:$E,3,FALSE)","v":{"$error":"#N/A"}},null,null,null,null,null,null,{"$error":"#N/A"}]
[null,null,{"$f":"VLOOKUP($B2800,'Ad Week Dates'!$A:$E,4,FALSE)","v":{"$error":"#N/A"}},{"$f":"VLOOKUP($B2800,'Ad Week Dates'!$A:$E,2,FALSE)","v":{"$error":"#N/A"}},{"$f":"VLOOKUP($B2800,'Ad Week Dates'!$A:$E,3,FALSE)","v":{"$error":"#N/A"}},null,null,null,null,null,null,{"$error":"#N/A"}]
[null,null,{"$f":"VLOOKUP($B2801,'Ad Week Dates'!$A:$E,4,FALSE)","v":{"$error":"#N/A"}},{"$f":"VLOOKUP($B2801,'Ad Week Dates'!$A:$E,2,FALSE)","v":{"$error":"#N/A"}},{"$f":"VLOOKUP($B2801,'Ad Week Dates'!$A:$E,3,FALSE)","v":{"$error":"#N/A"}},null,null,null,null,null,null,{"$error":"#N/A"}]
[null,null,{"$f":"VLOOKUP($B2802,'Ad Week Dates'!$A:$E,4,FALSE)","v":{"$error":"#N/A"}},{"$f":"VLOOKUP($B2802,'Ad Week Dates'!$A:$E,2,FALSE)","v":{"$error":"#N/A"}},{"$f":"VLOOKUP($B2802,'Ad Week Dates'!$A:$E,3,FALSE)","v":{"$error":"#N/A"}},null,null,null,null,null,null,{"$error":"#N/A"}]
[null,null,{"$f":"VLOOKUP($B2803,'Ad Week Dates'!$A:$E,4,FALSE)","v":{"$error":"#N/A"}},{"$f":"VLOOKUP($B2803,'Ad Week Dates'!$A:$E,2,FALSE)","v":{"$error":"#N/A"}},{"$f":"VLOOKUP($B2803,'Ad Week Dates'!$A:$E,3,FALSE)","v":{"$error":"#N/A"}},null,null,null,null,null,null,{"$error":"#N/A"}]
[null,null,{"$f":"VLOOKUP($B2804,'Ad Week Dates'!$A:$E,4,FALSE)","v":{"$error":"#N/A"}},{"$f":"VLOOKUP($B2804,'Ad Week Dates'!$A:$E,2,FALSE)","v":{"$error":"#N/A"}},{"$f":"VLOOKUP($B2804,'Ad Week Dates'!$A:$E,3,FALSE)","v":{"$error":"#N/A"}},null,null,null,null,null,null,{"$error":"#N/A"}]
[null,null,{"$f":"VLOOKUP($B2805,'Ad Week Dates'!$A:$E,4,FALSE)","v":{"$error":"#N/A"}},{"$f":"VLOOKUP($B2805,'Ad Week Dates'!$A:$E,2,FALSE)","v":{"$error":"#N/A"}},{"$f":"VLOOKUP($B2805,'Ad Week Dates'!$A:$E,3,FALSE)","v":{"$error":"#N/A"}},null,null,null,null,null,null,{"$error":"#N/A"}]
[null,null,{"$f":"VLOOKUP($B2806,'Ad Week Dates'!$A:$E,4,FALSE)","v":{"$error":"#N/A"}},{"$f":"VLOOKUP($B2806,'Ad Week Dates'!$A:$E,2,FALSE)","v":{"$error":"#N/A"}},{"$f":"VLOOKUP($B2806,'Ad Week Dates'!$A:$E,3,FALSE)","v":{"$error":"#N/A"}},null,null,null,null,null,null,{"$error":"#N/A"}]
[null,null,{"$f":"VLOOKUP($B2807,'Ad Week Dates'!$A:$E,4,FALSE)","v":{"$error":"#N/A"}},{"$f":"VLOOKUP($B2807,'Ad Week Dates'!$A:$E,2,FALSE)","v":{"$error":"#N/A"}},{"$f":"VLOOKUP($B2807,'Ad Week Dates'!$A:$E,3,FALSE)","v":{"$error":"#N/A"}},null,null,null,null,null,null,{"$error":"#N/A"}]
[null,null,{"$f":"VLOOKUP($B2808,'Ad Week Dates'!$A:$E,4,FALSE)","v":{"$error":"#N/A"}},{"$f":"VLOOKUP($B2808,'Ad Week Dates'!$A:$E,2,FALSE)","v":{"$error":"#N/A"}},{"$f":"VLOOKUP($B2808,'Ad Week Dates'!$A:$E,3,FALSE)","v":{"$error":"#N/A"}},null,null,null,null,null,null,{"$error":"#N/A"}]
[null,null,{"$f":"VLOOKUP($B2809,'Ad Week Dates'!$A:$E,4,FALSE)","v":{"$error":"#N/A"}},{"$f":"VLOOKUP($B2809,'Ad Week Dates'!$A:$E,2,FALSE)","v":{"$error":"#N/A"}},{"$f":"VLOOKUP($B2809,'Ad Week Dates'!$A:$E,3,FALSE)","v":{"$error":"#N/A"}},null,null,null,null,null,null,{"$error":"#N/A"}]
[null,null,{"$f":"VLOOKUP($B2810,'Ad Week Dates'!$A:$E,4,FALSE)","v":{"$error":"#N/A"}},{"$f":"VLOOKUP($B2810,'Ad Week Dates'!$A:$E,2,FALSE)","v":{"$error":"#N/A"}},{"$f":"VLOOKUP($B2810,'Ad Week Dates'!$A:$E,3,FALSE)","v":{"$error":"#N/A"}},null,null,null,null,null,null,{"$error":"#N/A"}]
[null,null,{"$f":"VLOOKUP($B2811,'Ad Week Dates'!$A:$E,4,FALSE)","v":{"$error":"#N/A"}},{"$f":"VLOOKUP($B2811,'Ad Week Dates'!$A:$E,2,FALSE)","v":{"$error":"#N/A"}},{"$f":"VLOOKUP($B2811,'Ad Week Dates'!$A:$E,3,FALSE)","v":{"$error":"#N/A"}},null,null,null,null,null,null,{"$error":"#N/A"}]
[null,null,{"$f":"VLOOKUP($B2812,'Ad Week Dates'!$A:$E,4,FALSE)","v":{"$error":"#N/A"}},{"$f":"VLOOKUP($B2812,'Ad Week Dates'!$A:$E,2,FALSE)","v":{"$error":"#N/A"}},{"$f":"VLOOKUP($B2812,'Ad Week Dates'!$A:$E,3,FALSE)","v":{"$error":"#N/A"}},null,null,null,null,null,null,{"$error":"#N/A"}]
[null,null,{"$f":"VLOOKUP($B2813,'Ad Week Dates'!$A:$E,4,FALSE)","v":{"$error":"#N/A"}},{"$f":"VLOOKUP($B2813,'Ad Week Dates'!$A:$E,2,FALSE)","v":{"$error":"#N/A"}},{"$f":"VLOOKUP($B2813,'Ad Week Dates'!$A:$E,3,FALSE)","v":{"$error":"#N/A"}},null,null,null,null,null,null,{"$error":"#N/A"}]
[null,null,{"$f":"VLOOKUP($B2814,'Ad Week Dates'!$A:$E,4,FALSE)","v":{"$error":"#N/A"}},{"$f":"VLOOKUP($B2814,'Ad Week Dates'!$A:$E,2,FALSE)","v":{"$error":"#N/A"}},{"$f":"VLOOKUP($B2814,'Ad Week Dates'!$A:$E,3,FALSE)","v":{"$error":"#N/A"}},null,null,null,null,null,null,{"$error":"#N/A"}]
[null,null,{"$f":"VLOOKUP($B2815,'Ad Week Dates'!$A:$E,4,FALSE)","v":{"$error":"#N/A"}},{"$f":"VLOOKUP($B2815,'Ad Week Dates'!$A:$E,2,FALSE)","v":{"$error":"#N/A"}},{"$f":"VLOOKUP($B2815,'Ad Week Dates'!$A:$E,3,FALSE)","v":{"$error":"#N/A"}},null,null,null,null,null,null,{"$error":"#N/A"}]
[null,null,{"$f":"VLOOKUP($B2816,'Ad Week Dates'!$A:$E,4,FALSE)","v":{"$error":"#N/A"}},{"$f":"VLOOKUP($B2816,'Ad Week Dates'!$A:$E,2,FALSE)","v":{"$error":"#N/A"}},{"$f":"VLOOKUP($B2816,'Ad Week Dates'!$A:$E,3,FALSE)","v":{"$error":"#N/A"}},null,null,null,null,null,null,{"$error":"#N/A"}]
[null,null,{"$f":"VLOOKUP($B2817,'Ad Week Dates'!$A:$E,4,FALSE)","v":{"$error":"#N/A"}},{"$f":"VLOOKUP($B2817,'Ad Week Dates'!$A:$E,2,FALSE)","v":{"$error":"#N/A"}},{"$f":"VLOOKUP($B2817,'Ad Week Dates'!$A:$E,3,FALSE)","v":{"$error":"#N/A"}},null,null,null,null,null,null,{"$error":"#N/A"}]
[null,null,{"$f":"VLOOKUP($B2818,'Ad Week Dates'!$A:$E,4,FALSE)","v":{"$error":"#N/A"}},{"$f":"VLOOKUP($B2818,'Ad Week Dates'!$A:$E,2,FALSE)","v":{"$error":"#N/A"}},{"$f":"VLOOKUP($B2818,'Ad Week Dates'!$A:$E,3,FALSE)","v":{"$error":"#N/A"}},null,null,null,null,null,null,{"$error":"#N/A"}]
[null,null,{"$f":"VLOOKUP($B2819,'Ad Week Dates'!$A:$E,4,FALSE)","v":{"$error":"#N/A"}},{"$f":"VLOOKUP($B2819,'Ad Week Dates'!$A:$E,2,FALSE)","v":{"$error":"#N/A"}},{"$f":"VLOOKUP($B2819,'Ad Week Dates'!$A:$E,3,FALSE)","v":{"$error":"#N/A"}},null,null,null,null,null,null,{"$error":"#N/A"}]
[null,null,{"$f":"VLOOKUP($B2820,'Ad Week Dates'!$A:$E,4,FALSE)","v":{"$error":"#N/A"}},{"$f":"VLOOKUP($B2820,'Ad Week Dates'!$A:$E,2,FALSE)","v":{"$error":"#N/A"}},{"$f":"VLOOKUP($B2820,'Ad Week Dates'!$A:$E,3,FALSE)","v":{"$error":"#N/A"}},null,null,null,null,null,null,{"$error":"#N/A"}]
[null,null,{"$f":"VLOOKUP($B2821,'Ad Week Dates'!$A:$E,4,FALSE)","v":{"$error":"#N/A"}},{"$f":"VLOOKUP($B2821,'Ad Week Dates'!$A:$E,2,FALSE)","v":{"$error":"#N/A"}},{"$f":"VLOOKUP($B2821,'Ad Week Dates'!$A:$E,3,FALSE)","v":{"$error":"#N/A"}},null,null,null,null,null,null,{"$error":"#N/A"}]
[null,null,{"$f":"VLOOKUP($B2822,'Ad Week Dates'!$A:$E,4,FALSE)","v":{"$error":"#N/A"}},{"$f":"VLOOKUP($B2822,'Ad Week Dates'!$A:$E,2,FALSE)","v":{"$error":"#N/A"}},{"$f":"VLOOKUP($B2822,'Ad Week Dates'!$A:$E,3,FALSE)","v":{"$error":"#N/A"}},null,null,null,null,null,null,{"$f":"IF(ISNUMBER(J2822), J2822 - K2822, VALUE(_xlfn.TEXTBEFORE(J2822, \"-\")) - VALUE(_xlfn.TEXTBEFORE(K2822, \"-\")))","v":{"$error":"#N/A"}}]
[null,null,{"$f":"VLOOKUP($B2823,'Ad Week Dates'!$A:$E,4,FALSE)","v":{"$error":"#N/A"}},{"$f":"VLOOKUP($B2823,'Ad Week Dates'!$A:$E,2,FALSE)","v":{"$error":"#N/A"}},{"$f":"VLOOKUP($B2823,'Ad Week Dates'!$A:$E,3,FALSE)","v":{"$error":"#N/A"}},null,null,null,null,null,null,{"$error":"#N/A"}]
[null,null,{"$f":"VLOOKUP($B2824,'Ad Week Dates'!$A:$E,4,FALSE)","v":{"$error":"#N/A"}},{"$f":"VLOOKUP($B2824,'Ad Week Dates'!$A:$E,2,FALSE)","v":{"$error":"#N/A"}},{"$f":"VLOOKUP($B2824,'Ad Week Dates'!$A:$E,3,FALSE)","v":{"$error":"#N/A"}},null,null,null,null,null,null,{"$error":"#N/A"}]
[null,null,{"$f":"VLOOKUP($B2825,'Ad Week Dates'!$A:$E,4,FALSE)","v":{"$error":"#N/A"}},{"$f":"VLOOKUP($B2825,'Ad Week Dates'!$A:$E,2,FALSE)","v":{"$error":"#N/A"}},{"$f":"VLOOKUP($B2825,'Ad Week Dates'!$A:$E,3,FALSE)","v":{"$error":"#N/A"}},null,null,null,null,null,null,{"$error":"#N/A"}]
[null,null,{"$f":"VLOOKUP($B2826,'Ad Week Dates'!$A:$E,4,FALSE)","v":{"$error":"#N/A"}},{"$f":"VLOOKUP($B2826,'Ad Week Dates'!$A:$E,2,FALSE)","v":{"$error":"#N/A"}},{"$f":"VLOOKUP($B2826,'Ad Week Dates'!$A:$E,3,FALSE)","v":{"$error":"#N/A"}},null,null,null,null,null,null,{"$error":"#N/A"}]
[null,null,{"$f":"VLOOKUP($B2827,'Ad Week Dates'!$A:$E,4,FALSE)","v":{"$error":"#N/A"}},{"$f":"VLOOKUP($B2827,'Ad Week Dates'!$A:$E,2,FALSE)","v":{"$error":"#N/A"}},{"$f":"VLOOKUP($B2827,'Ad Week Dates'!$A:$E,3,FALSE)","v":{"$error":"#N/A"}},null,null,null,null,null,null,{"$error":"#N/A"}]
[null,null,{"$f":"VLOOKUP($B2828,'Ad Week Dates'!$A:$E,4,FALSE)","v":{"$error":"#N/A"}},{"$f":"VLOOKUP($B2828,'Ad Week Dates'!$A:$E,2,FALSE)","v":{"$error":"#N/A"}},{"$f":"VLOOKUP($B2828,'Ad Week Dates'!$A:$E,3,FALSE)","v":{"$error":"#N/A"}},null,null,null,null,null,null,{"$error":"#N/A"}]
[null,null,{"$f":"VLOOKUP($B2829,'Ad Week Dates'!$A:$E,4,FALSE)","v":{"$error":"#N/A"}},{"$f":"VLOOKUP($B2829,'Ad Week Dates'!$A:$E,2,FALSE)","v":{"$error":"#N/A"}},{"$f":"VLOOKUP($B2829,'Ad Week Dates'!$A:$E,3,FALSE)","v":{"$error":"#N/A"}},null,null,null,null,null,null,{"$error":"#N/A"}]
[null,null,{"$f":"VLOOKUP($B2830,'Ad Week Dates'!$A:$E,4,FALSE)","v":{"$error":"#N/A"}},{"$f":"VLOOKUP($B2830,'Ad Week Dates'!$A:$E,2,FALSE)","v":{"$error":"#N/A"}},{"$f":"VLOOKUP($B2830,'Ad Week Dates'!$A:$E,3,FALSE)","v":{"$error":"#N/A"}},null,null,null,null,null,null,{"$error":"#N/A"}]
[null,null,{"$f":"VLOOKUP($B2831,'Ad Week Dates'!$A:$E,4,FALSE)","v":{"$error":"#N/A"}},{"$f":"VLOOKUP($B2831,'Ad Week Dates'!$A:$E,2,FALSE)","v":{"$error":"#N/A"}},{"$f":"VLOOKUP($B2831,'Ad Week Dates'!$A:$E,3,FALSE)","v":{"$error":"#N/A"}},null,null,null,null,null,null,{"$error":"#N/A"}]
[null,null,{"$f":"VLOOKUP($B2832,'Ad Week Dates'!$A:$E,4,FALSE)","v":{"$error":"#N/A"}},{"$f":"VLOOKUP($B2832,'Ad Week Dates'!$A:$E,2,FALSE)","v":{"$error":"#N/A"}},{"$f":"VLOOKUP($B2832,'Ad Week Dates'!$A:$E,3,FALSE)","v":{"$error":"#N/A"}},null,null,null,null,null,null,{"$error":"#N/A"}]
[null,null,{"$f":"VLOOKUP($B2833,'Ad Week Dates'!$A:$E,4,FALSE)","v":{"$error":"#N/A"}},{"$f":"VLOOKUP($B2833,'Ad Week Dates'!$A:$E,2,FALSE)","v":{"$error":"#N/A"}},{"$f":"VLOOKUP($B2833,'Ad Week Dates'!$A:$E,3,FALSE)","v":{"$error":"#N/A"}},null,null,null,null,null,null,{"$error":"#N/A"}]
[null,null,{"$f":"VLOOKUP($B2834,'Ad Week Dates'!$A:$E,4,FALSE)","v":{"$error":"#N/A"}},{"$f":"VLOOKUP($B2834,'Ad Week Dates'!$A:$E,2,FALSE)","v":{"$error":"#N/A"}},{"$f":"VLOOKUP($B2834,'Ad Week Dates'!$A:$E,3,FALSE)","v":{"$error":"#N/A"}},null,null,null,null,null,null,{"$error":"#N/A"}]
[null,null,{"$f":"VLOOKUP($B2835,'Ad Week Dates'!$A:$E,4,FALSE)","v":{"$error":"#N/A"}},{"$f":"VLOOKUP($B2835,'Ad Week Dates'!$A:$E,2,FALSE)","v":{"$error":"#N/A"}},{"$f":"VLOOKUP($B2835,'Ad Week Dates'!$A:$E,3,FALSE)","v":{"$error":"#N/A"}},null,null,null,null,null,null,{"$error":"#N/A"}]
[null,null,{"$f":"VLOOKUP($B2836,'Ad Week Dates'!$A:$E,4,FALSE)","v":{"$error":"#N/A"}},{"$f":"VLOOKUP($B2836,'Ad Week Dates'!$A:$E,2,FALSE)","v":{"$error":"#N/A"}},{"$f":"VLOOKUP($B2836,'Ad Week Dates'!$A:$E,3,FALSE)","v":{"$error":"#N/A"}},null,null,null,null,null,null,{"$error":"#N/A"}]
[null,null,{"$f":"VLOOKUP($B2837,'Ad Week Dates'!$A:$E,4,FALSE)","v":{"$error":"#N/A"}},{"$f":"VLOOKUP($B2837,'Ad Week Dates'!$A:$E,2,FALSE)","v":{"$error":"#N/A"}},{"$f":"VLOOKUP($B2837,'Ad Week Dates'!$A:$E,3,FALSE)","v":{"$error":"#N/A"}},null,null,null,null,null,null,{"$error":"#N/A"}]
[null,null,{"$f":"VLOOKUP($B2838,'Ad Week Dates'!$A:$E,4,FALSE)","v":{"$error":"#N/A"}},{"$f":"VLOOKUP($B2838,'Ad Week Dates'!$A:$E,2,FALSE)","v":{"$error":"#N/A"}},{"$f":"VLOOKUP($B2838,'Ad Week Dates'!$A:$E,3,FALSE)","v":{"$error":"#N/A"}},null,null,null,null,null,null,{"$error":"#N/A"}]
[null,null,{"$f":"VLOOKUP($B2839,'Ad Week Dates'!$A:$E,4,FALSE)","v":{"$error":"#N/A"}},{"$f":"VLOOKUP($B2839,'Ad Week Dates'!$A:$E,2,FALSE)","v":{"$error":"#N/A"}},{"$f":"VLOOKUP($B2839,'Ad Week Dates'!$A:$E,3,FALSE)","v":{"$error":"#N/A"}},null,null,null,null,null,null,{"$error":"#N/A"}]
[null,null,{"$f":"VLOOKUP($B2840,'Ad Week Dates'!$A:$E,4,FALSE)","v":{"$error":"#N/A"}},{"$f":"VLOOKUP($B2840,'Ad Week Dates'!$A:$E,2,FALSE)","v":{"$error":"#N/A"}},{"$f":"VLOOKUP($B2840,'Ad Week Dates'!$A:$E,3,FALSE)","v":{"$error":"#N/A"}},null,null,null,null,null,null,{"$error":"#N/A"}]
[null,null,{"$f":"VLOOKUP($B2841,'Ad Week Dates'!$A:$E,4,FALSE)","v":{"$error":"#N/A"}},{"$f":"VLOOKUP($B2841,'Ad Week Dates'!$A:$E,2,FALSE)","v":{"$error":"#N/A"}},{"$f":"VLOOKUP($B2841,'Ad Week Dates'!$A:$E,3,FALSE)","v":{"$error":"#N/A"}},null,null,null,null,null,null,{"$error":"#N/A"}]
[null,null,{"$f":"VLOOKUP($B2842,'Ad Week Dates'!$A:$E,4,FALSE)","v":{"$error":"#N/A"}},{"$f":"VLOOKUP($B2842,'Ad Week Dates'!$A:$E,2,FALSE)","v":{"$error":"#N/A"}},{"$f":"VLOOKUP($B2842,'Ad Week Dates'!$A:$E,3,FALSE)","v":{"$error":"#N/A"}},null,null,null,null,null,null,{"$error":"#N/A"}]
[null,null,{"$f":"VLOOKUP($B2843,'Ad Week Dates'!$A:$E,4,FALSE)","v":{"$error":"#N/A"}},{"$f":"VLOOKUP($B2843,'Ad Week Dates'!$A:$E,2,FALSE)","v":{"$error":"#N/A"}},{"$f":"VLOOKUP($B2843,'Ad Week Dates'!$A:$E,3,FALSE)","v":{"$error":"#N/A"}},null,null,null,null,null,null,{"$error":"#N/A"}]
[null,null,{"$f":"VLOOKUP($B2844,'Ad Week Dates'!$A:$E,4,FALSE)","v":{"$error":"#N/A"}},{"$f":"VLOOKUP($B2844,'Ad Week Dates'!$A:$E,2,FALSE)","v":{"$error":"#N/A"}},{"$f":"VLOOKUP($B2844,'Ad Week Dates'!$A:$E,3,FALSE)","v":{"$error":"#N/A"}},null,null,null,null,null,null,{"$error":"#N/A"}]
[null,null,{"$f":"VLOOKUP($B2845,'Ad Week Dates'!$A:$E,4,FALSE)","v":{"$error":"#N/A"}},{"$f":"VLOOKUP($B2845,'Ad Week Dates'!$A:$E,2,FALSE)","v":{"$error":"#N/A"}},{"$f":"VLOOKUP($B2845,'Ad Week Dates'!$A:$E,3,FALSE)","v":{"$error":"#N/A"}},null,null,null,null,null,null,{"$error":"#N/A"}]
[null,null,{"$f":"VLOOKUP($B2846,'Ad Week Dates'!$A:$E,4,FALSE)","v":{"$error":"#N/A"}},{"$f":"VLOOKUP($B2846,'Ad Week Dates'!$A:$E,2,FALSE)","v":{"$error":"#N/A"}},{"$f":"VLOOKUP($B2846,'Ad Week Dates'!$A:$E,3,FALSE)","v":{"$error":"#N/A"}},null,null,null,null,null,null,{"$error":"#N/A"}]
[null,null,{"$f":"VLOOKUP($B2847,'Ad Week Dates'!$A:$E,4,FALSE)","v":{"$error":"#N/A"}},{"$f":"VLOOKUP($B2847,'Ad Week Dates'!$A:$E,2,FALSE)","v":{"$error":"#N/A"}},{"$f":"VLOOKUP($B2847,'Ad Week Dates'!$A:$E,3,FALSE)","v":{"$error":"#N/A"}},null,null,null,null,null,null,{"$error":"#N/A"}]
[null,null,{"$f":"VLOOKUP($B2848,'Ad Week Dates'!$A:$E,4,FALSE)","v":{"$error":"#N/A"}},{"$f":"VLOOKUP($B2848,'Ad Week Dates'!$A:$E,2,FALSE)","v":{"$error":"#N/A"}},{"$f":"VLOOKUP($B2848,'Ad Week Dates'!$A:$E,3,FALSE)","v":{"$error":"#N/A"}},null,null,null,null,null,null,{"$error":"#N/A"}]
[null,null,{"$f":"VLOOKUP($B2849,'Ad Week Dates'!$A:$E,4,FALSE)","v":{"$error":"#N/A"}},{"$f":"VLOOKUP($B2849,'Ad Week Dates'!$A:$E,2,FALSE)","v":{"$error":"#N/A"}},{"$f":"VLOOKUP($B2849,'Ad Week Dates'!$A:$E,3,FALSE)","v":{"$error":"#N/A"}},null,null,null,null,null,null,{"$error":"#N/A"}]
[null,null,{"$f":"VLOOKUP($B2850,'Ad Week Dates'!$A:$E,4,FALSE)","v":{"$error":"#N/A"}},{"$f":"VLOOKUP($B2850,'Ad Week Dates'!$A:$E,2,FALSE)","v":{"$error":"#N/A"}},{"$f":"VLOOKUP($B2850,'Ad Week Dates'!$A:$E,3,FALSE)","v":{"$error":"#N/A"}},null,null,null,null,null,null,{"$error":"#N/A"}]
[null,null,{"$f":"VLOOKUP($B2851,'Ad Week Dates'!$A:$E,4,FALSE)","v":{"$error":"#N/A"}},{"$f":"VLOOKUP($B2851,'Ad Week Dates'!$A:$E,2,FALSE)","v":{"$error":"#N/A"}},{"$f":"VLOOKUP($B2851,'Ad Week Dates'!$A:$E,3,FALSE)","v":{"$error":"#N/A"}},null,null,null,null,null,null,{"$error":"#N/A"}]
[null,null,{"$f":"VLOOKUP($B2852,'Ad Week Dates'!$A:$E,4,FALSE)","v":{"$error":"#N/A"}},{"$f":"VLOOKUP($B2852,'Ad Week Dates'!$A:$E,2,FALSE)","v":{"$error":"#N/A"}},{"$f":"VLOOKUP($B2852,'Ad Week Dates'!$A:$E,3,FALSE)","v":{"$error":"#N/A"}},null,null,null,null,null,null,{"$error":"#N/A"}]
[null,null,{"$f":"VLOOKUP($B2853,'Ad Week Dates'!$A:$E,4,FALSE)","v":{"$error":"#N/A"}},{"$f":"VLOOKUP($B2853,'Ad Week Dates'!$A:$E,2,FALSE)","v":{"$error":"#N/A"}},{"$f":"VLOOKUP($B2853,'Ad Week Dates'!$A:$E,3,FALSE)","v":{"$error":"#N/A"}},null,null,null,null,null,null,{"$error":"#N/A"}]
[null,null,{"$f":"VLOOKUP($B2854,'Ad Week Dates'!$A:$E,4,FALSE)","v":{"$error":"#N/A"}},{"$f":"VLOOKUP($B2854,'Ad Week Dates'!$A:$E,2,FALSE)","v":{"$error":"#N/A"}},{"$f":"VLOOKUP($B2854,'Ad Week Dates'!$A:$E,3,FALSE)","v":{"$error":"#N/A"}},null,null,null,null,null,null,{"$error":"#N/A"}]
[null,null,{"$f":"VLOOKUP($B2855,'Ad Week Dates'!$A:$E,4,FALSE)","v":{"$error":"#N/A"}},{"$f":"VLOOKUP($B2855,'Ad Week Dates'!$A:$E,2,FALSE)","v":{"$error":"#N/A"}},{"$f":"VLOOKUP($B2855,'Ad Week Dates'!$A:$E,3,FALSE)","v":{"$error":"#N/A"}},null,null,null,null,null,null,{"$error":"#N/A"}]
[null,null,{"$f":"VLOOKUP($B2856,'Ad Week Dates'!$A:$E,4,FALSE)","v":{"$error":"#N/A"}},{"$f":"VLOOKUP($B2856,'Ad Week Dates'!$A:$E,2,FALSE)","v":{"$error":"#N/A"}},{"$f":"VLOOKUP($B2856,'Ad Week Dates'!$A:$E,3,FALSE)","v":{"$error":"#N/A"}},null,null,null,null,null,null,{"$error":"#N/A"}]
[null,null,{"$f":"VLOOKUP($B2857,'Ad Week Dates'!$A:$E,4,FALSE)","v":{"$error":"#N/A"}},{"$f":"VLOOKUP($B2857,'Ad Week Dates'!$A:$E,2,FALSE)","v":{"$error":"#N/A"}},{"$f":"VLOOKUP($B2857,'Ad Week Dates'!$A:$E,3,FALSE)","v":{"$error":"#N/A"}},null,null,null,null,null,null,{"$error":"#N/A"}]
[null,null,{"$f":"VLOOKUP($B2858,'Ad Week Dates'!$A:$E,4,FALSE)","v":{"$error":"#N/A"}},{"$f":"VLOOKUP($B2858,'Ad Week Dates'!$A:$E,2,FALSE)","v":{"$error":"#N/A"}},{"$f":"VLOOKUP($B2858,'Ad Week Dates'!$A:$E,3,FALSE)","v":{"$error":"#N/A"}},null,null,null,null,null,null,{"$error":"#N/A"}]
[null,null,{"$f":"VLOOKUP($B2859,'Ad Week Dates'!$A:$E,4,FALSE)","v":{"$error":"#N/A"}},{"$f":"VLOOKUP($B2859,'Ad Week Dates'!$A:$E,2,FALSE)","v":{"$error":"#N/A"}},{"$f":"VLOOKUP($B2859,'Ad Week Dates'!$A:$E,3,FALSE)","v":{"$error":"#N/A"}},null,null,null,null,null,null,{"$error":"#N/A"}]
[null,null,{"$f":"VLOOKUP($B2860,'Ad Week Dates'!$A:$E,4,FALSE)","v":{"$error":"#N/A"}},{"$f":"VLOOKUP($B2860,'Ad Week Dates'!$A:$E,2,FALSE)","v":{"$error":"#N/A"}},{"$f":"VLOOKUP($B2860,'Ad Week Dates'!$A:$E,3,FALSE)","v":{"$error":"#N/A"}},null,null,null,null,null,null,{"$error":"#N/A"}]
[null,null,{"$f":"VLOOKUP($B2861,'Ad Week Dates'!$A:$E,4,FALSE)","v":{"$error":"#N/A"}},{"$f":"VLOOKUP($B2861,'Ad Week Dates'!$A:$E,2,FALSE)","v":{"$error":"#N/A"}},{"$f":"VLOOKUP($B2861,'Ad Week Dates'!$A:$E,3,FALSE)","v":{"$error":"#N/A"}},null,null,null,null,null,null,{"$error":"#N/A"}]
[null,null,{"$f":"VLOOKUP($B2862,'Ad Week Dates'!$A:$E,4,FALSE)","v":{"$error":"#N/A"}},{"$f":"VLOOKUP($B2862,'Ad Week Dates'!$A:$E,2,FALSE)","v":{"$error":"#N/A"}},{"$f":"VLOOKUP($B2862,'Ad Week Dates'!$A:$E,3,FALSE)","v":{"$error":"#N/A"}},null,null,null,null,null,null,{"$error":"#N/A"}]
[null,null,{"$f":"VLOOKUP($B2863,'Ad Week Dates'!$A:$E,4,FALSE)","v":{"$error":"#N/A"}},{"$f":"VLOOKUP($B2863,'Ad Week Dates'!$A:$E,2,FALSE)","v":{"$error":"#N/A"}},{"$f":"VLOOKUP($B2863,'Ad Week Dates'!$A:$E,3,FALSE)","v":{"$error":"#N/A"}},null,null,null,null,null,null,{"$error":"#N/A"}]
[null,null,{"$f":"VLOOKUP($B2864,'Ad Week Dates'!$A:$E,4,FALSE)","v":{"$error":"#N/A"}},{"$f":"VLOOKUP($B2864,'Ad Week Dates'!$A:$E,2,FALSE)","v":{"$error":"#N/A"}},{"$f":"VLOOKUP($B2864,'Ad Week Dates'!$A:$E,3,FALSE)","v":{"$error":"#N/A"}},null,null,null,null,null,null,{"$error":"#N/A"}]
[null,null,{"$f":"VLOOKUP($B2865,'Ad Week Dates'!$A:$E,4,FALSE)","v":{"$error":"#N/A"}},{"$f":"VLOOKUP($B2865,'Ad Week Dates'!$A:$E,2,FALSE)","v":{"$error":"#N/A"}},{"$f":"VLOOKUP($B2865,'Ad Week Dates'!$A:$E,3,FALSE)","v":{"$error":"#N/A"}},null,null,null,null,null,null,{"$error":"#N/A"}]
[null,null,{"$f":"VLOOKUP($B2866,'Ad Week Dates'!$A:$E,4,FALSE)","v":{"$error":"#N/A"}},{"$f":"VLOOKUP($B2866,'Ad Week Dates'!$A:$E,2,FALSE)","v":{"$error":"#N/A"}},{"$f":"VLOOKUP($B2866,'Ad Week Dates'!$A:$E,3,FALSE)","v":{"$error":"#N/A"}},null,null,null,null,null,null,{"$error":"#N/A"}]
[null,null,{"$f":"VLOOKUP($B2867,'Ad Week Dates'!$A:$E,4,FALSE)","v":{"$error":"#N/A"}},{"$f":"VLOOKUP($B2867,'Ad Week Dates'!$A:$E,2,FALSE)","v":{"$error":"#N/A"}},{"$f":"VLOOKUP($B2867,'Ad Week Dates'!$A:$E,3,FALSE)","v":{"$error":"#N/A"}},null,null,null,null,null,null,{"$error":"#N/A"}]
[null,null,{"$f":"VLOOKUP($B2868,'Ad Week Dates'!$A:$E,4,FALSE)","v":{"$error":"#N/A"}},{"$f":"VLOOKUP($B2868,'Ad Week Dates'!$A:$E,2,FALSE)","v":{"$error":"#N/A"}},{"$f":"VLOOKUP($B2868,'Ad Week Dates'!$A:$E,3,FALSE)","v":{"$error":"#N/A"}},null,null,null,null,null,null,{"$error":"#N/A"}]
[null,null,{"$f":"VLOOKUP($B2869,'Ad Week Dates'!$A:$E,4,FALSE)","v":{"$error":"#N/A"}},{"$f":"VLOOKUP($B2869,'Ad Week Dates'!$A:$E,2,FALSE)","v":{"$error":"#N/A"}},{"$f":"VLOOKUP($B2869,'Ad Week Dates'!$A:$E,3,FALSE)","v":{"$error":"#N/A"}},null,null,null,null,null,null,{"$error":"#N/A"}]
[null,null,{"$f":"VLOOKUP($B2870,'Ad Week Dates'!$A:$E,4,FALSE)","v":{"$error":"#N/A"}},{"$f":"VLOOKUP($B2870,'Ad Week Dates'!$A:$E,2,FALSE)","v":{"$error":"#N/A"}},{"$f":"VLOOKUP($B2870,'Ad Week Dates'!$A:$E,3,FALSE)","v":{"$error":"#N/A"}},null,null,null,null,null,null,{"$error":"#N/A"}]
[null,null,{"$f":"VLOOKUP($B2871,'Ad Week Dates'!$A:$E,4,FALSE)","v":{"$error":"#N/A"}},{"$f":"VLOOKUP($B2871,'Ad Week Dates'!$A:$E,2,FALSE)","v":{"$error":"#N/A"}},{"$f":"VLOOKUP($B2871,'Ad Week Dates'!$A:$E,3,FALSE)","v":{"$error":"#N/A"}},null,null,null,null,null,null,{"$error":"#N/A"}]
[null,null,{"$f":"VLOOKUP($B2872,'Ad Week Dates'!$A:$E,4,FALSE)","v":{"$error":"#N/A"}},{"$f":"VLOOKUP($B2872,'Ad Week Dates'!$A:$E,2,FALSE)","v":{"$error":"#N/A"}},{"$f":"VLOOKUP($B2872,'Ad Week Dates'!$A:$E,3,FALSE)","v":{"$error":"#N/A"}},null,null,null,null,null,null,{"$error":"#N/A"}]
[null,null,{"$f":"VLOOKUP($B2873,'Ad Week Dates'!$A:$E,4,FALSE)","v":{"$error":"#N/A"}},{"$f":"VLOOKUP($B2873,'Ad Week Dates'!$A:$E,2,FALSE)","v":{"$error":"#N/A"}},{"$f":"VLOOKUP($B2873,'Ad Week Dates'!$A:$E,3,FALSE)","v":{"$error":"#N/A"}},null,null,null,null,null,null,{"$error":"#N/A"}]
[null,null,{"$f":"VLOOKUP($B2874,'Ad Week Dates'!$A:$E,4,FALSE)","v":{"$error":"#N/A"}},{"$f":"VLOOKUP($B2874,'Ad Week Dates'!$A:$E,2,FALSE)","v":{"$error":"#N/A"}},{"$f":"VLOOKUP($B2874,'Ad Week Dates'!$A:$E,3,FALSE)","v":{"$error":"#N/A"}},null,null,null,null,null,null,{"$error":"#N/A"}]
[null,null,{"$f":"VLOOKUP($B2875,'Ad Week Dates'!$A:$E,4,FALSE)","v":{"$error":"#N/A"}},{"$f":"VLOOKUP($B2875,'Ad Week Dates'!$A:$E,2,FALSE)","v":{"$error":"#N/A"}},{"$f":"VLOOKUP($B2875,'Ad Week Dates'!$A:$E,3,FALSE)","v":{"$error":"#N/A"}},null,null,null,null,null,null,{"$error":"#N/A"}]
[null,null,{"$f":"VLOOKUP($B2876,'Ad Week Dates'!$A:$E,4,FALSE)","v":{"$error":"#N/A"}},{"$f":"VLOOKUP($B2876,'Ad Week Dates'!$A:$E,2,FALSE)","v":{"$error":"#N/A"}},{"$f":"VLOOKUP($B2876,'Ad Week Dates'!$A:$E,3,FALSE)","v":{"$error":"#N/A"}},null,null,null,null,null,null,{"$error":"#N/A"}]
[null,null,{"$f":"VLOOKUP($B2877,'Ad Week Dates'!$A:$E,4,FALSE)","v":{"$error":"#N/A"}},{"$f":"VLOOKUP($B2877,'Ad Week Dates'!$A:$E,2,FALSE)","v":{"$error":"#N/A"}},{"$f":"VLOOKUP($B2877,'Ad Week Dates'!$A:$E,3,FALSE)","v":{"$error":"#N/A"}},null,null,null,null,null,null,{"$error":"#N/A"}]
[null,null,{"$f":"VLOOKUP($B2878,'Ad Week Dates'!$A:$E,4,FALSE)","v":{"$error":"#N/A"}},{"$f":"VLOOKUP($B2878,'Ad Week Dates'!$A:$E,2,FALSE)","v":{"$error":"#N/A"}},{"$f":"VLOOKUP($B2878,'Ad Week Dates'!$A:$E,3,FALSE)","v":{"$error":"#N/A"}},null,null,null,null,null,null,{"$error":"#N/A"}]
[null,null,{"$f":"VLOOKUP($B2879,'Ad Week Dates'!$A:$E,4,FALSE)","v":{"$error":"#N/A"}},{"$f":"VLOOKUP($B2879,'Ad Week Dates'!$A:$E,2,FALSE)","v":{"$error":"#N/A"}},{"$f":"VLOOKUP($B2879,'Ad Week Dates'!$A:$E,3,FALSE)","v":{"$error":"#N/A"}},null,null,null,null,null,null,{"$error":"#N/A"}]
[null,null,{"$f":"VLOOKUP($B2880,'Ad Week Dates'!$A:$E,4,FALSE)","v":{"$error":"#N/A"}},{"$f":"VLOOKUP($B2880,'Ad Week Dates'!$A:$E,2,FALSE)","v":{"$error":"#N/A"}},{"$f":"VLOOKUP($B2880,'Ad Week Dates'!$A:$E,3,FALSE)","v":{"$error":"#N/A"}},null,null,null,null,null,null,{"$error":"#N/A"}]
[null,null,{"$f":"VLOOKUP($B2881,'Ad Week Dates'!$A:$E,4,FALSE)","v":{"$error":"#N/A"}},{"$f":"VLOOKUP($B2881,'Ad Week Dates'!$A:$E,2,FALSE)","v":{"$error":"#N/A"}},{"$f":"VLOOKUP($B2881,'Ad Week Dates'!$A:$E,3,FALSE)","v":{"$error":"#N/A"}},null,null,null,null,null,null,{"$error":"#N/A"}]
[null,null,{"$f":"VLOOKUP($B2882,'Ad Week Dates'!$A:$E,4,FALSE)","v":{"$error":"#N/A"}},{"$f":"VLOOKUP($B2882,'Ad Week Dates'!$A:$E,2,FALSE)","v":{"$error":"#N/A"}},{"$f":"VLOOKUP($B2882,'Ad Week Dates'!$A:$E,3,FALSE)","v":{"$error":"#N/A"}},null,null,null,null,null,null,{"$error":"#N/A"}]
[null,null,{"$f":"VLOOKUP($B2883,'Ad Week Dates'!$A:$E,4,FALSE)","v":{"$error":"#N/A"}},{"$f":"VLOOKUP($B2883,'Ad Week Dates'!$A:$E,2,FALSE)","v":{"$error":"#N/A"}},{"$f":"VLOOKUP($B2883,'Ad Week Dates'!$A:$E,3,FALSE)","v":{"$error":"#N/A"}},null,null,null,null,null,null,{"$error":"#N/A"}]
[null,null,{"$f":"VLOOKUP($B2884,'Ad Week Dates'!$A:$E,4,FALSE)","v":{"$error":"#N/A"}},{"$f":"VLOOKUP($B2884,'Ad Week Dates'!$A:$E,2,FALSE)","v":{"$error":"#N/A"}},{"$f":"VLOOKUP($B2884,'Ad Week Dates'!$A:$E,3,FALSE)","v":{"$error":"#N/A"}},null,null,null,null,null,null,{"$error":"#N/A"}]
[null,null,{"$f":"VLOOKUP($B2885,'Ad Week Dates'!$A:$E,4,FALSE)","v":{"$error":"#N/A"}},{"$f":"VLOOKUP($B2885,'Ad Week Dates'!$A:$E,2,FALSE)","v":{"$error":"#N/A"}},{"$f":"VLOOKUP($B2885,'Ad Week Dates'!$A:$E,3,FALSE)","v":{"$error":"#N/A"}},null,null,null,null,null,null,{"$error":"#N/A"}]
[null,null,{"$f":"VLOOKUP($B2886,'Ad Week Dates'!$A:$E,4,FALSE)","v":{"$error":"#N/A"}},{"$f":"VLOOKUP($B2886,'Ad Week Dates'!$A:$E,2,FALSE)","v":{"$error":"#N/A"}},{"$f":"VLOOKUP($B2886,'Ad Week Dates'!$A:$E,3,FALSE)","v":{"$error":"#N/A"}},null,null,null,null,null,null,{"$f":"IF(ISNUMBER(J2886), J2886 - K2886, VALUE(_xlfn.TEXTBEFORE(J2886, \"-\")) - VALUE(_xlfn.TEXTBEFORE(K2886, \"-\")))","v":{"$error":"#N/A"}}]
[null,null,{"$f":"VLOOKUP($B2887,'Ad Week Dates'!$A:$E,4,FALSE)","v":{"$error":"#N/A"}},{"$f":"VLOOKUP($B2887,'Ad Week Dates'!$A:$E,2,FALSE)","v":{"$error":"#N/A"}},{"$f":"VLOOKUP($B2887,'Ad Week Dates'!$A:$E,3,FALSE)","v":{"$error":"#N/A"}},null,null,null,null,null,null,{"$error":"#N/A"}]
[null,null,{"$f":"VLOOKUP($B2888,'Ad Week Dates'!$A:$E,4,FALSE)","v":{"$error":"#N/A"}},{"$f":"VLOOKUP($B2888,'Ad Week Dates'!$A:$E,2,FALSE)","v":{"$error":"#N/A"}},{"$f":"VLOOKUP($B2888,'Ad Week Dates'!$A:$E,3,FALSE)","v":{"$error":"#N/A"}},null,null,null,null,null,null,{"$error":"#N/A"}]
[null,null,{"$f":"VLOOKUP($B2889,'Ad Week Dates'!$A:$E,4,FALSE)","v":{"$error":"#N/A"}},{"$f":"VLOOKUP($B2889,'Ad Week Dates'!$A:$E,2,FALSE)","v":{"$error":"#N/A"}},{"$f":"VLOOKUP($B2889,'Ad Week Dates'!$A:$E,3,FALSE)","v":{"$error":"#N/A"}},null,null,null,null,null,null,{"$error":"#N/A"}]
[null,null,{"$f":"VLOOKUP($B2890,'Ad Week Dates'!$A:$E,4,FALSE)","v":{"$error":"#N/A"}},{"$f":"VLOOKUP($B2890,'Ad Week Dates'!$A:$E,2,FALSE)","v":{"$error":"#N/A"}},{"$f":"VLOOKUP($B2890,'Ad Week Dates'!$A:$E,3,FALSE)","v":{"$error":"#N/A"}},null,null,null,null,null,null,{"$error":"#N/A"}]
[null,null,{"$f":"VLOOKUP($B2891,'Ad Week Dates'!$A:$E,4,FALSE)","v":{"$error":"#N/A"}},{"$f":"VLOOKUP($B2891,'Ad Week Dates'!$A:$E,2,FALSE)","v":{"$error":"#N/A"}},{"$f":"VLOOKUP($B2891,'Ad Week Dates'!$A:$E,3,FALSE)","v":{"$error":"#N/A"}},null,null,null,null,null,null,{"$error":"#N/A"}]
[null,null,{"$f":"VLOOKUP($B2892,'Ad Week Dates'!$A:$E,4,FALSE)","v":{"$error":"#N/A"}},{"$f":"VLOOKUP($B2892,'Ad Week Dates'!$A:$E,2,FALSE)","v":{"$error":"#N/A"}},{"$f":"VLOOKUP($B2892,'Ad Week Dates'!$A:$E,3,FALSE)","v":{"$error":"#N/A"}},null,null,null,null,null,null,{"$error":"#N/A"}]
[null,null,{"$f":"VLOOKUP($B2893,'Ad Week Dates'!$A:$E,4,FALSE)","v":{"$error":"#N/A"}},{"$f":"VLOOKUP($B2893,'Ad Week Dates'!$A:$E,2,FALSE)","v":{"$error":"#N/A"}},{"$f":"VLOOKUP($B2893,'Ad Week Dates'!$A:$E,3,FALSE)","v":{"$error":"#N/A"}},null,null,null,null,null,null,{"$error":"#N/A"}]
[null,null,{"$f":"VLOOKUP($B2894,'Ad Week Dates'!$A:$E,4,FALSE)","v":{"$error":"#N/A"}},{"$f":"VLOOKUP($B2894,'Ad Week Dates'!$A:$E,2,FALSE)","v":{"$error":"#N/A"}},{"$f":"VLOOKUP($B2894,'Ad Week Dates'!$A:$E,3,FALSE)","v":{"$error":"#N/A"}},null,null,null,null,null,null,{"$error":"#N/A"}]
[null,null,{"$f":"VLOOKUP($B2895,'Ad Week Dates'!$A:$E,4,FALSE)","v":{"$error":"#N/A"}},{"$f":"VLOOKUP($B2895,'Ad Week Dates'!$A:$E,2,FALSE)","v":{"$error":"#N/A"}},{"$f":"VLOOKUP($B2895,'Ad Week Dates'!$A:$E,3,FALSE)","v":{"$error":"#N/A"}},null,null,null,null,null,null,{"$error":"#N/A"}]
[null,null,{"$f":"VLOOKUP($B2896,'Ad Week Dates'!$A:$E,4,FALSE)","v":{"$error":"#N/A"}},{"$f":"VLOOKUP($B2896,'Ad Week Dates'!$A:$E,2,FALSE)","v":{"$error":"#N/A"}},{"$f":"VLOOKUP($B2896,'Ad Week Dates'!$A:$E,3,FALSE)","v":{"$error":"#N/A"}},null,null,null,null,null,null,{"$error":"#N/A"}]
[null,null,{"$f":"VLOOKUP($B2897,'Ad Week Dates'!$A:$E,4,FALSE)","v":{"$error":"#N/A"}},{"$f":"VLOOKUP($B2897,'Ad Week Dates'!$A:$E,2,FALSE)","v":{"$error":"#N/A"}},{"$f":"VLOOKUP($B2897,'Ad Week Dates'!$A:$E,3,FALSE)","v":{"$error":"#N/A"}},null,null,null,null,null,null,{"$error":"#N/A"}]
[null,null,{"$f":"VLOOKUP($B2898,'Ad Week Dates'!$A:$E,4,FALSE)","v":{"$error":"#N/A"}},{"$f":"VLOOKUP($B2898,'Ad Week Dates'!$A:$E,2,FALSE)","v":{"$error":"#N/A"}},{"$f":"VLOOKUP($B2898,'Ad Week Dates'!$A:$E,3,FALSE)","v":{"$error":"#N/A"}},null,null,null,null,null,null,{"$error":"#N/A"}]
[null,null,{"$f":"VLOOKUP($B2899,'Ad Week Dates'!$A:$E,4,FALSE)","v":{"$error":"#N/A"}},{"$f":"VLOOKUP($B2899,'Ad Week Dates'!$A:$E,2,FALSE)","v":{"$error":"#N/A"}},{"$f":"VLOOKUP($B2899,'Ad Week Dates'!$A:$E,3,FALSE)","v":{"$error":"#N/A"}},null,null,null,null,null,null,{"$error":"#N/A"}]
[null,null,{"$f":"VLOOKUP($B2900,'Ad Week Dates'!$A:$E,4,FALSE)","v":{"$error":"#N/A"}},{"$f":"VLOOKUP($B2900,'Ad Week Dates'!$A:$E,2,FALSE)","v":{"$error":"#N/A"}},{"$f":"VLOOKUP($B2900,'Ad Week Dates'!$A:$E,3,FALSE)","v":{"$error":"#N/A"}},null,null,null,null,null,null,{"$error":"#N/A"}]
[null,null,{"$f":"VLOOKUP($B2901,'Ad Week Dates'!$A:$E,4,FALSE)","v":{"$error":"#N/A"}},{"$f":"VLOOKUP($B2901,'Ad Week Dates'!$A:$E,2,FALSE)","v":{"$error":"#N/A"}},{"$f":"VLOOKUP($B2901,'Ad Week Dates'!$A:$E,3,FALSE)","v":{"$error":"#N/A"}},null,null,null,null,null,null,{"$error":"#N/A"}]
[null,null,{"$f":"VLOOKUP($B2902,'Ad Week Dates'!$A:$E,4,FALSE)","v":{"$error":"#N/A"}},{"$f":"VLOOKUP($B2902,'Ad Week Dates'!$A:$E,2,FALSE)","v":{"$error":"#N/A"}},{"$f":"VLOOKUP($B2902,'Ad Week Dates'!$A:$E,3,FALSE)","v":{"$error":"#N/A"}},null,null,null,null,null,null,{"$error":"#N/A"}]
[null,null,{"$f":"VLOOKUP($B2903,'Ad Week Dates'!$A:$E,4,FALSE)","v":{"$error":"#N/A"}},{"$f":"VLOOKUP($B2903,'Ad Week Dates'!$A:$E,2,FALSE)","v":{"$error":"#N/A"}},{"$f":"VLOOKUP($B2903,'Ad Week Dates'!$A:$E,3,FALSE)","v":{"$error":"#N/A"}},null,null,null,null,null,null,{"$error":"#N/A"}]
[null,null,{"$f":"VLOOKUP($B2904,'Ad Week Dates'!$A:$E,4,FALSE)","v":{"$error":"#N/A"}},{"$f":"VLOOKUP($B2904,'Ad Week Dates'!$A:$E,2,FALSE)","v":{"$error":"#N/A"}},{"$f":"VLOOKUP($B2904,'Ad Week Dates'!$A:$E,3,FALSE)","v":{"$error":"#N/A"}},null,null,null,null,null,null,{"$error":"#N/A"}]
[null,null,{"$f":"VLOOKUP($B2905,'Ad Week Dates'!$A:$E,4,FALSE)","v":{"$error":"#N/A"}},{"$f":"VLOOKUP($B2905,'Ad Week Dates'!$A:$E,2,FALSE)","v":{"$error":"#N/A"}},{"$f":"VLOOKUP($B2905,'Ad Week Dates'!$A:$E,3,FALSE)","v":{"$error":"#N/A"}},null,null,null,null,null,null,{"$error":"#N/A"}]
[null,null,{"$f":"VLOOKUP($B2906,'Ad Week Dates'!$A:$E,4,FALSE)","v":{"$error":"#N/A"}},{"$f":"VLOOKUP($B2906,'Ad Week Dates'!$A:$E,2,FALSE)","v":{"$error":"#N/A"}},{"$f":"VLOOKUP($B2906,'Ad Week Dates'!$A:$E,3,FALSE)","v":{"$error":"#N/A"}},null,null,null,null,null,null,{"$error":"#N/A"}]
[null,null,{"$f":"VLOOKUP($B2907,'Ad Week Dates'!$A:$E,4,FALSE)","v":{"$error":"#N/A"}},{"$f":"VLOOKUP($B2907,'Ad Week Dates'!$A:$E,2,FALSE)","v":{"$error":"#N/A"}},{"$f":"VLOOKUP($B2907,'Ad Week Dates'!$A:$E,3,FALSE)","v":{"$error":"#N/A"}},null,null,null,null,null,null,{"$error":"#N/A"}]
[null,null,{"$f":"VLOOKUP($B2908,'Ad Week Dates'!$A:$E,4,FALSE)","v":{"$error":"#N/A"}},{"$f":"VLOOKUP($B2908,'Ad Week Dates'!$A:$E,2,FALSE)","v":{"$error":"#N/A"}},{"$f":"VLOOKUP($B2908,'Ad Week Dates'!$A:$E,3,FALSE)","v":{"$error":"#N/A"}},null,null,null,null,null,null,{"$error":"#N/A"}]
[null,null,{"$f":"VLOOKUP($B2909,'Ad Week Dates'!$A:$E,4,FALSE)","v":{"$error":"#N/A"}},{"$f":"VLOOKUP($B2909,'Ad Week Dates'!$A:$E,2,FALSE)","v":{"$error":"#N/A"}},{"$f":"VLOOKUP($B2909,'Ad Week Dates'!$A:$E,3,FALSE)","v":{"$error":"#N/A"}},null,null,null,null,null,null,{"$error":"#N/A"}]
[null,null,{"$f":"VLOOKUP($B2910,'Ad Week Dates'!$A:$E,4,FALSE)","v":{"$error":"#N/A"}},{"$f":"VLOOKUP($B2910,'Ad Week Dates'!$A:$E,2,FALSE)","v":{"$error":"#N/A"}},{"$f":"VLOOKUP($B2910,'Ad Week Dates'!$A:$E,3,FALSE)","v":{"$error":"#N/A"}},null,null,null,null,null,null,{"$error":"#N/A"}]
[null,null,{"$f":"VLOOKUP($B2911,'Ad Week Dates'!$A:$E,4,FALSE)","v":{"$error":"#N/A"}},{"$f":"VLOOKUP($B2911,'Ad Week Dates'!$A:$E,2,FALSE)","v":{"$error":"#N/A"}},{"$f":"VLOOKUP($B2911,'Ad Week Dates'!$A:$E,3,FALSE)","v":{"$error":"#N/A"}},null,null,null,null,null,null,{"$error":"#N/A"}]
[null,null,{"$f":"VLOOKUP($B2912,'Ad Week Dates'!$A:$E,4,FALSE)","v":{"$error":"#N/A"}},{"$f":"VLOOKUP($B2912,'Ad Week Dates'!$A:$E,2,FALSE)","v":{"$error":"#N/A"}},{"$f":"VLOOKUP($B2912,'Ad Week Dates'!$A:$E,3,FALSE)","v":{"$error":"#N/A"}},null,null,null,null,null,null,{"$error":"#N/A"}]
[null,null,{"$f":"VLOOKUP($B2913,'Ad Week Dates'!$A:$E,4,FALSE)","v":{"$error":"#N/A"}},{"$f":"VLOOKUP($B2913,'Ad Week Dates'!$A:$E,2,FALSE)","v":{"$error":"#N/A"}},{"$f":"VLOOKUP($B2913,'Ad Week Dates'!$A:$E,3,FALSE)","v":{"$error":"#N/A"}},null,null,null,null,null,null,{"$error":"#N/A"}]
[null,null,{"$f":"VLOOKUP($B2914,'Ad Week Dates'!$A:$E,4,FALSE)","v":{"$error":"#N/A"}},{"$f":"VLOOKUP($B2914,'Ad Week Dates'!$A:$E,2,FALSE)","v":{"$error":"#N/A"}},{"$f":"VLOOKUP($B2914,'Ad Week Dates'!$A:$E,3,FALSE)","v":{"$error":"#N/A"}},null,null,null,null,null,null,{"$error":"#N/A"}]
[null,null,{"$f":"VLOOKUP($B2915,'Ad Week Dates'!$A:$E,4,FALSE)","v":{"$error":"#N/A"}},{"$f":"VLOOKUP($B2915,'Ad Week Dates'!$A:$E,2,FALSE)","v":{"$error":"#N/A"}},{"$f":"VLOOKUP($B2915,'Ad Week Dates'!$A:$E,3,FALSE)","v":{"$error":"#N/A"}},null,null,null,null,null,null,{"$error":"#N/A"}]
[null,null,{"$f":"VLOOKUP($B2916,'Ad Week Dates'!$A:$E,4,FALSE)","v":{"$error":"#N/A"}},{"$f":"VLOOKUP($B2916,'Ad Week Dates'!$A:$E,2,FALSE)","v":{"$error":"#N/A"}},{"$f":"VLOOKUP($B2916,'Ad Week Dates'!$A:$E,3,FALSE)","v":{"$error":"#N/A"}},null,null,null,null,null,null,{"$error":"#N/A"}]
[null,null,{"$f":"VLOOKUP($B2917,'Ad Week Dates'!$A:$E,4,FALSE)","v":{"$error":"#N/A"}},{"$f":"VLOOKUP($B2917,'Ad Week Dates'!$A:$E,2,FALSE)","v":{"$error":"#N/A"}},{"$f":"VLOOKUP($B2917,'Ad Week Dates'!$A:$E,3,FALSE)","v":{"$error":"#N/A"}},null,null,null,null,null,null,{"$error":"#N/A"}]
[null,null,{"$f":"VLOOKUP($B2918,'Ad Week Dates'!$A:$E,4,FALSE)","v":{"$error":"#N/A"}},{"$f":"VLOOKUP($B2918,'Ad Week Dates'!$A:$E,2,FALSE)","v":{"$error":"#N/A"}},{"$f":"VLOOKUP($B2918,'Ad Week Dates'!$A:$E,3,FALSE)","v":{"$error":"#N/A"}},null,null,null,null,null,null,{"$error":"#N/A"}]
[null,null,{"$f":"VLOOKUP($B2919,'Ad Week Dates'!$A:$E,4,FALSE)","v":{"$error":"#N/A"}},{"$f":"VLOOKUP($B2919,'Ad Week Dates'!$A:$E,2,FALSE)","v":{"$error":"#N/A"}},{"$f":"VLOOKUP($B2919,'Ad Week Dates'!$A:$E,3,FALSE)","v":{"$error":"#N/A"}},null,null,null,null,null,null,{"$error":"#N/A"}]
[null,null,{"$f":"VLOOKUP($B2920,'Ad Week Dates'!$A:$E,4,FALSE)","v":{"$error":"#N/A"}},{"$f":"VLOOKUP($B2920,'Ad Week Dates'!$A:$E,2,FALSE)","v":{"$error":"#N/A"}},{"$f":"VLOOKUP($B2920,'Ad Week Dates'!$A:$E,3,FALSE)","v":{"$error":"#N/A"}},null,null,null,null,null,null,{"$error":"#N/A"}]
[null,null,{"$f":"VLOOKUP($B2921,'Ad Week Dates'!$A:$E,4,FALSE)","v":{"$error":"#N/A"}},{"$f":"VLOOKUP($B2921,'Ad Week Dates'!$A:$E,2,FALSE)","v":{"$error":"#N/A"}},{"$f":"VLOOKUP($B2921,'Ad Week Dates'!$A:$E,3,FALSE)","v":{"$error":"#N/A"}},null,null,null,null,null,null,{"$error":"#N/A"}]
[null,null,{"$f":"VLOOKUP($B2922,'Ad Week Dates'!$A:$E,4,FALSE)","v":{"$error":"#N/A"}},{"$f":"VLOOKUP($B2922,'Ad Week Dates'!$A:$E,2,FALSE)","v":{"$error":"#N/A"}},{"$f":"VLOOKUP($B2922,'Ad Week Dates'!$A:$E,3,FALSE)","v":{"$error":"#N/A"}},null,null,null,null,null,null,{"$error":"#N/A"}]
[null,null,{"$f":"VLOOKUP($B2923,'Ad Week Dates'!$A:$E,4,FALSE)","v":{"$error":"#N/A"}},{"$f":"VLOOKUP($B2923,'Ad Week Dates'!$A:$E,2,FALSE)","v":{"$error":"#N/A"}},{"$f":"VLOOKUP($B2923,'Ad Week Dates'!$A:$E,3,FALSE)","v":{"$error":"#N/A"}},null,null,null,null,null,null,{"$error":"#N/A"}]
[null,null,{"$f":"VLOOKUP($B2924,'Ad Week Dates'!$A:$E,4,FALSE)","v":{"$error":"#N/A"}},{"$f":"VLOOKUP($B2924,'Ad Week Dates'!$A:$E,2,FALSE)","v":{"$error":"#N/A"}},{"$f":"VLOOKUP($B2924,'Ad Week Dates'!$A:$E,3,FALSE)","v":{"$error":"#N/A"}},null,null,null,null,null,null,{"$error":"#N/A"}]
[null,null,{"$f":"VLOOKUP($B2925,'Ad Week Dates'!$A:$E,4,FALSE)","v":{"$error":"#N/A"}},{"$f":"VLOOKUP($B2925,'Ad Week Dates'!$A:$E,2,FALSE)","v":{"$error":"#N/A"}},{"$f":"VLOOKUP($B2925,'Ad Week Dates'!$A:$E,3,FALSE)","v":{"$error":"#N/A"}},null,null,null,null,null,null,{"$error":"#N/A"}]
[null,null,{"$f":"VLOOKUP($B2926,'Ad Week Dates'!$A:$E,4,FALSE)","v":{"$error":"#N/A"}},{"$f":"VLOOKUP($B2926,'Ad Week Dates'!$A:$E,2,FALSE)","v":{"$error":"#N/A"}},{"$f":"VLOOKUP($B2926,'Ad Week Dates'!$A:$E,3,FALSE)","v":{"$error":"#N/A"}},null,null,null,null,null,null,{"$error":"#N/A"}]
[null,null,{"$f":"VLOOKUP($B2927,'Ad Week Dates'!$A:$E,4,FALSE)","v":{"$error":"#N/A"}},{"$f":"VLOOKUP($B2927,'Ad Week Dates'!$A:$E,2,FALSE)","v":{"$error":"#N/A"}},{"$f":"VLOOKUP($B2927,'Ad Week Dates'!$A:$E,3,FALSE)","v":{"$error":"#N/A"}},null,null,null,null,null,null,{"$error":"#N/A"}]
[null,null,{"$f":"VLOOKUP($B2928,'Ad Week Dates'!$A:$E,4,FALSE)","v":{"$error":"#N/A"}},{"$f":"VLOOKUP($B2928,'Ad Week Dates'!$A:$E,2,FALSE)","v":{"$error":"#N/A"}},{"$f":"VLOOKUP($B2928,'Ad Week Dates'!$A:$E,3,FALSE)","v":{"$error":"#N/A"}},null,null,null,null,null,null,{"$error":"#N/A"}]
[null,null,{"$f":"VLOOKUP($B2929,'Ad Week Dates'!$A:$E,4,FALSE)","v":{"$error":"#N/A"}},{"$f":"VLOOKUP($B2929,'Ad Week Dates'!$A:$E,2,FALSE)","v":{"$error":"#N/A"}},{"$f":"VLOOKUP($B2929,'Ad Week Dates'!$A:$E,3,FALSE)","v":{"$error":"#N/A"}},null,null,null,null,null,null,{"$error":"#N/A"}]
[null,null,{"$f":"VLOOKUP($B2930,'Ad Week Dates'!$A:$E,4,FALSE)","v":{"$error":"#N/A"}},{"$f":"VLOOKUP($B2930,'Ad Week Dates'!$A:$E,2,FALSE)","v":{"$error":"#N/A"}},{"$f":"VLOOKUP($B2930,'Ad Week Dates'!$A:$E,3,FALSE)","v":{"$error":"#N/A"}},null,null,null,null,null,null,{"$error":"#N/A"}]
[null,null,{"$f":"VLOOKUP($B2931,'Ad Week Dates'!$A:$E,4,FALSE)","v":{"$error":"#N/A"}},{"$f":"VLOOKUP($B2931,'Ad Week Dates'!$A:$E,2,FALSE)","v":{"$error":"#N/A"}},{"$f":"VLOOKUP($B2931,'Ad Week Dates'!$A:$E,3,FALSE)","v":{"$error":"#N/A"}},null,null,null,null,null,null,{"$error":"#N/A"}]
[null,null,{"$f":"VLOOKUP($B2932,'Ad Week Dates'!$A:$E,4,FALSE)","v":{"$error":"#N/A"}},{"$f":"VLOOKUP($B2932,'Ad Week Dates'!$A:$E,2,FALSE)","v":{"$error":"#N/A"}},{"$f":"VLOOKUP($B2932,'Ad Week Dates'!$A:$E,3,FALSE)","v":{"$error":"#N/A"}},null,null,null,null,null,null,{"$error":"#N/A"}]
[null,null,{"$f":"VLOOKUP($B2933,'Ad Week Dates'!$A:$E,4,FALSE)","v":{"$error":"#N/A"}},{"$f":"VLOOKUP($B2933,'Ad Week Dates'!$A:$E,2,FALSE)","v":{"$error":"#N/A"}},{"$f":"VLOOKUP($B2933,'Ad Week Dates'!$A:$E,3,FALSE)","v":{"$error":"#N/A"}},null,null,null,null,null,null,{"$error":"#N/A"}]
[null,null,{"$f":"VLOOKUP($B2934,'Ad Week Dates'!$A:$E,4,FALSE)","v":{"$error":"#N/A"}},{"$f":"VLOOKUP($B2934,'Ad Week Dates'!$A:$E,2,FALSE)","v":{"$error":"#N/A"}},{"$f":"VLOOKUP($B2934,'Ad Week Dates'!$A:$E,3,FALSE)","v":{"$error":"#N/A"}},null,null,null,null,null,null,{"$error":"#N/A"}]
[null,null,{"$f":"VLOOKUP($B2935,'Ad Week Dates'!$A:$E,4,FALSE)","v":{"$error":"#N/A"}},{"$f":"VLOOKUP($B2935,'Ad Week Dates'!$A:$E,2,FALSE)","v":{"$error":"#N/A"}},{"$f":"VLOOKUP($B2935,'Ad Week Dates'!$A:$E,3,FALSE)","v":{"$error":"#N/A"}},null,null,null,null,null,null,{"$error":"#N/A"}]
[null,null,{"$f":"VLOOKUP($B2936,'Ad Week Dates'!$A:$E,4,FALSE)","v":{"$error":"#N/A"}},{"$f":"VLOOKUP($B2936,'Ad Week Dates'!$A:$E,2,FALSE)","v":{"$error":"#N/A"}},{"$f":"VLOOKUP($B2936,'Ad Week Dates'!$A:$E,3,FALSE)","v":{"$error":"#N/A"}},null,null,null,null,null,null,{"$error":"#N/A"}]
[null,null,{"$f":"VLOOKUP($B2937,'Ad Week Dates'!$A:$E,4,FALSE)","v":{"$error":"#N/A"}},{"$f":"VLOOKUP($B2937,'Ad Week Dates'!$A:$E,2,FALSE)","v":{"$error":"#N/A"}},{"$f":"VLOOKUP($B2937,'Ad Week Dates'!$A:$E,3,FALSE)","v":{"$error":"#N/A"}},null,null,null,null,null,null,{"$error":"#N/A"}]
[null,null,{"$f":"VLOOKUP($B2938,'Ad Week Dates'!$A:$E,4,FALSE)","v":{"$error":"#N/A"}},{"$f":"VLOOKUP($B2938,'Ad Week Dates'!$A:$E,2,FALSE)","v":{"$error":"#N/A"}},{"$f":"VLOOKUP($B2938,'Ad Week Dates'!$A:$E,3,FALSE)","v":{"$error":"#N/A"}},null,null,null,null,null,null,{"$error":"#N/A"}]
[null,null,{"$f":"VLOOKUP($B2939,'Ad Week Dates'!$A:$E,4,FALSE)","v":{"$error":"#N/A"}},{"$f":"VLOOKUP($B2939,'Ad Week Dates'!$A:$E,2,FALSE)","v":{"$error":"#N/A"}},{"$f":"VLOOKUP($B2939,'Ad Week Dates'!$A:$E,3,FALSE)","v":{"$error":"#N/A"}},null,null,null,null,null,null,{"$error":"#N/A"}]
[null,null,{"$f":"VLOOKUP($B2940,'Ad Week Dates'!$A:$E,4,FALSE)","v":{"$error":"#N/A"}},{"$f":"VLOOKUP($B2940,'Ad Week Dates'!$A:$E,2,FALSE)","v":{"$error":"#N/A"}},{"$f":"VLOOKUP($B2940,'Ad Week Dates'!$A:$E,3,FALSE)","v":{"$error":"#N/A"}},null,null,null,null,null,null,{"$error":"#N/A"}]
[null,null,{"$f":"VLOOKUP($B2941,'Ad Week Dates'!$A:$E,4,FALSE)","v":{"$error":"#N/A"}},{"$f":"VLOOKUP($B2941,'Ad Week Dates'!$A:$E,2,FALSE)","v":{"$error":"#N/A"}},{"$f":"VLOOKUP($B2941,'Ad Week Dates'!$A:$E,3,FALSE)","v":{"$error":"#N/A"}},null,null,null,null,null,null,{"$error":"#N/A"}]
[null,null,{"$f":"VLOOKUP($B2942,'Ad Week Dates'!$A:$E,4,FALSE)","v":{"$error":"#N/A"}},{"$f":"VLOOKUP($B2942,'Ad Week Dates'!$A:$E,2,FALSE)","v":{"$error":"#N/A"}},{"$f":"VLOOKUP($B2942,'Ad Week Dates'!$A:$E,3,FALSE)","v":{"$error":"#N/A"}},null,null,null,null,null,null,{"$error":"#N/A"}]
[null,null,{"$f":"VLOOKUP($B2943,'Ad Week Dates'!$A:$E,4,FALSE)","v":{"$error":"#N/A"}},{"$f":"VLOOKUP($B2943,'Ad Week Dates'!$A:$E,2,FALSE)","v":{"$error":"#N/A"}},{"$f":"VLOOKUP($B2943,'Ad Week Dates'!$A:$E,3,FALSE)","v":{"$error":"#N/A"}},null,null,null,null,null,null,{"$error":"#N/A"}]
[null,null,{"$f":"VLOOKUP($B2944,'Ad Week Dates'!$A:$E,4,FALSE)","v":{"$error":"#N/A"}},{"$f":"VLOOKUP($B2944,'Ad Week Dates'!$A:$E,2,FALSE)","v":{"$error":"#N/A"}},{"$f":"VLOOKUP($B2944,'Ad Week Dates'!$A:$E,3,FALSE)","v":{"$error":"#N/A"}},null,null,null,null,null,null,{"$error":"#N/A"}]
[null,null,{"$f":"VLOOKUP($B2945,'Ad Week Dates'!$A:$E,4,FALSE)","v":{"$error":"#N/A"}},{"$f":"VLOOKUP($B2945,'Ad Week Dates'!$A:$E,2,FALSE)","v":{"$error":"#N/A"}},{"$f":"VLOOKUP($B2945,'Ad Week Dates'!$A:$E,3,FALSE)","v":{"$error":"#N/A"}},null,null,null,null,null,null,{"$error":"#N/A"}]
[null,null,{"$f":"VLOOKUP($B2946,'Ad Week Dates'!$A:$E,4,FALSE)","v":{"$error":"#N/A"}},{"$f":"VLOOKUP($B2946,'Ad Week Dates'!$A:$E,2,FALSE)","v":{"$error":"#N/A"}},{"$f":"VLOOKUP($B2946,'Ad Week Dates'!$A:$E,3,FALSE)","v":{"$error":"#N/A"}},null,null,null,null,null,null,{"$error":"#N/A"}]
[null,null,{"$f":"VLOOKUP($B2947,'Ad Week Dates'!$A:$E,4,FALSE)","v":{"$error":"#N/A"}},{"$f":"VLOOKUP($B2947,'Ad Week Dates'!$A:$E,2,FALSE)","v":{"$error":"#N/A"}},{"$f":"VLOOKUP($B2947,'Ad Week Dates'!$A:$E,3,FALSE)","v":{"$error":"#N/A"}},null,null,null,null,null,null,{"$error":"#N/A"}]
[null,null,{"$f":"VLOOKUP($B2948,'Ad Week Dates'!$A:$E,4,FALSE)","v":{"$error":"#N/A"}},{"$f":"VLOOKUP($B2948,'Ad Week Dates'!$A:$E,2,FALSE)","v":{"$error":"#N/A"}},{"$f":"VLOOKUP($B2948,'Ad Week Dates'!$A:$E,3,FALSE)","v":{"$error":"#N/A"}},null,null,null,null,null,null,{"$error":"#N/A"}]
[null,null,{"$f":"VLOOKUP($B2949,'Ad Week Dates'!$A:$E,4,FALSE)","v":{"$error":"#N/A"}},{"$f":"VLOOKUP($B2949,'Ad Week Dates'!$A:$E,2,FALSE)","v":{"$error":"#N/A"}},{"$f":"VLOOKUP($B2949,'Ad Week Dates'!$A:$E,3,FALSE)","v":{"$error":"#N/A"}},null,null,null,null,null,null,{"$error":"#N/A"}]
[null,null,{"$f":"VLOOKUP($B2950,'Ad Week Dates'!$A:$E,4,FALSE)","v":{"$error":"#N/A"}},{"$f":"VLOOKUP($B2950,'Ad Week Dates'!$A:$E,2,FALSE)","v":{"$error":"#N/A"}},{"$f":"VLOOKUP($B2950,'Ad Week Dates'!$A:$E,3,FALSE)","v":{"$error":"#N/A"}},null,null,null,null,null,null,{"$f":"IF(ISNUMBER(J2950), J2950 - K2950, VALUE(_xlfn.TEXTBEFORE(J2950, \"-\")) - VALUE(_xlfn.TEXTBEFORE(K2950, \"-\")))","v":{"$error":"#N/A"}}]
[null,null,{"$f":"VLOOKUP($B2951,'Ad Week Dates'!$A:$E,4,FALSE)","v":{"$error":"#N/A"}},{"$f":"VLOOKUP($B2951,'Ad Week Dates'!$A:$E,2,FALSE)","v":{"$error":"#N/A"}},{"$f":"VLOOKUP($B2951,'Ad Week Dates'!$A:$E,3,FALSE)","v":{"$error":"#N/A"}},null,null,null,null,null,null,{"$error":"#N/A"}]
[null,null,{"$f":"VLOOKUP($B2952,'Ad Week Dates'!$A:$E,4,FALSE)","v":{"$error":"#N/A"}},{"$f":"VLOOKUP($B2952,'Ad Week Dates'!$A:$E,2,FALSE)","v":{"$error":"#N/A"}},{"$f":"VLOOKUP($B2952,'Ad Week Dates'!$A:$E,3,FALSE)","v":{"$error":"#N/A"}},null,null,null,null,null,null,{"$error":"#N/A"}]
[null,null,{"$f":"VLOOKUP($B2953,'Ad Week Dates'!$A:$E,4,FALSE)","v":{"$error":"#N/A"}},{"$f":"VLOOKUP($B2953,'Ad Week Dates'!$A:$E,2,FALSE)","v":{"$error":"#N/A"}},{"$f":"VLOOKUP($B2953,'Ad Week Dates'!$A:$E,3,FALSE)","v":{"$error":"#N/A"}},null,null,null,null,null,null,{"$error":"#N/A"}]
[null,null,{"$f":"VLOOKUP($B2954,'Ad Week Dates'!$A:$E,4,FALSE)","v":{"$error":"#N/A"}},{"$f":"VLOOKUP($B2954,'Ad Week Dates'!$A:$E,2,FALSE)","v":{"$error":"#N/A"}},{"$f":"VLOOKUP($B2954,'Ad Week Dates'!$A:$E,3,FALSE)","v":{"$error":"#N/A"}},null,null,null,null,null,null,{"$error":"#N/A"}]
[null,null,{"$f":"VLOOKUP($B2955,'Ad Week Dates'!$A:$E,4,FALSE)","v":{"$error":"#N/A"}},{"$f":"VLOOKUP($B2955,'Ad Week Dates'!$A:$E,2,FALSE)","v":{"$error":"#N/A"}},{"$f":"VLOOKUP($B2955,'Ad Week Dates'!$A:$E,3,FALSE)","v":{"$error":"#N/A"}},null,null,null,null,null,null,{"$error":"#N/A"}]
[null,null,{"$f":"VLOOKUP($B2956,'Ad Week Dates'!$A:$E,4,FALSE)","v":{"$error":"#N/A"}},{"$f":"VLOOKUP($B2956,'Ad Week Dates'!$A:$E,2,FALSE)","v":{"$error":"#N/A"}},{"$f":"VLOOKUP($B2956,'Ad Week Dates'!$A:$E,3,FALSE)","v":{"$error":"#N/A"}},null,null,null,null,null,null,{"$error":"#N/A"}]
[null,null,{"$f":"VLOOKUP($B2957,'Ad Week Dates'!$A:$E,4,FALSE)","v":{"$error":"#N/A"}},{"$f":"VLOOKUP($B2957,'Ad Week Dates'!$A:$E,2,FALSE)","v":{"$error":"#N/A"}},{"$f":"VLOOKUP($B2957,'Ad Week Dates'!$A:$E,3,FALSE)","v":{"$error":"#N/A"}},null,null,null,null,null,null,{"$error":"#N/A"}]
[null,null,{"$f":"VLOOKUP($B2958,'Ad Week Dates'!$A:$E,4,FALSE)","v":{"$error":"#N/A"}},{"$f":"VLOOKUP($B2958,'Ad Week Dates'!$A:$E,2,FALSE)","v":{"$error":"#N/A"}},{"$f":"VLOOKUP($B2958,'Ad Week Dates'!$A:$E,3,FALSE)","v":{"$error":"#N/A"}},null,null,null,null,null,null,{"$error":"#N/A"}]
[null,null,{"$f":"VLOOKUP($B2959,'Ad Week Dates'!$A:$E,4,FALSE)","v":{"$error":"#N/A"}},{"$f":"VLOOKUP($B2959,'Ad Week Dates'!$A:$E,2,FALSE)","v":{"$error":"#N/A"}},{"$f":"VLOOKUP($B2959,'Ad Week Dates'!$A:$E,3,FALSE)","v":{"$error":"#N/A"}},null,null,null,null,null,null,{"$error":"#N/A"}]
[null,null,{"$f":"VLOOKUP($B2960,'Ad Week Dates'!$A:$E,4,FALSE)","v":{"$error":"#N/A"}},{"$f":"VLOOKUP($B2960,'Ad Week Dates'!$A:$E,2,FALSE)","v":{"$error":"#N/A"}},{"$f":"VLOOKUP($B2960,'Ad Week Dates'!$A:$E,3,FALSE)","v":{"$error":"#N/A"}},null,null,null,null,null,null,{"$error":"#N/A"}]
[null,null,{"$f":"VLOOKUP($B2961,'Ad Week Dates'!$A:$E,4,FALSE)","v":{"$error":"#N/A"}},{"$f":"VLOOKUP($B2961,'Ad Week Dates'!$A:$E,2,FALSE)","v":{"$error":"#N/A"}},{"$f":"VLOOKUP($B2961,'Ad Week Dates'!$A:$E,3,FALSE)","v":{"$error":"#N/A"}},null,null,null,null,null,null,{"$error":"#N/A"}]
[null,null,{"$f":"VLOOKUP($B2962,'Ad Week Dates'!$A:$E,4,FALSE)","v":{"$error":"#N/A"}},{"$f":"VLOOKUP($B2962,'Ad Week Dates'!$A:$E,2,FALSE)","v":{"$error":"#N/A"}},{"$f":"VLOOKUP($B2962,'Ad Week Dates'!$A:$E,3,FALSE)","v":{"$error":"#N/A"}},null,null,null,null,null,null,{"$error":"#N/A"}]
[null,null,{"$f":"VLOOKUP($B2963,'Ad Week Dates'!$A:$E,4,FALSE)","v":{"$error":"#N/A"}},{"$f":"VLOOKUP($B2963,'Ad Week Dates'!$A:$E,2,FALSE)","v":{"$error":"#N/A"}},{"$f":"VLOOKUP($B2963,'Ad Week Dates'!$A:$E,3,FALSE)","v":{"$error":"#N/A"}},null,null,null,null,null,null,{"$error":"#N/A"}]
[null,null,{"$f":"VLOOKUP($B2964,'Ad Week Dates'!$A:$E,4,FALSE)","v":{"$error":"#N/A"}},{"$f":"VLOOKUP($B2964,'Ad Week Dates'!$A:$E,2,FALSE)","v":{"$error":"#N/A"}},{"$f":"VLOOKUP($B2964,'Ad Week Dates'!$A:$E,3,FALSE)","v":{"$error":"#N/A"}},null,null,null,null,null,null,{"$error":"#N/A"}]
[null,null,{"$f":"VLOOKUP($B2965,'Ad Week Dates'!$A:$E,4,FALSE)","v":{"$error":"#N/A"}},{"$f":"VLOOKUP($B2965,'Ad Week Dates'!$A:$E,2,FALSE)","v":{"$error":"#N/A"}},{"$f":"VLOOKUP($B2965,'Ad Week Dates'!$A:$E,3,FALSE)","v":{"$error":"#N/A"}},null,null,null,null,null,null,{"$error":"#N/A"}]
[null,null,{"$f":"VLOOKUP($B2966,'Ad Week Dates'!$A:$E,4,FALSE)","v":{"$error":"#N/A"}},{"$f":"VLOOKUP($B2966,'Ad Week Dates'!$A:$E,2,FALSE)","v":{"$error":"#N/A"}},{"$f":"VLOOKUP($B2966,'Ad Week Dates'!$A:$E,3,FALSE)","v":{"$error":"#N/A"}},null,null,null,null,null,null,{"$error":"#N/A"}]
[null,null,{"$f":"VLOOKUP($B2967,'Ad Week Dates'!$A:$E,4,FALSE)","v":{"$error":"#N/A"}},{"$f":"VLOOKUP($B2967,'Ad Week Dates'!$A:$E,2,FALSE)","v":{"$error":"#N/A"}},{"$f":"VLOOKUP($B2967,'Ad Week Dates'!$A:$E,3,FALSE)","v":{"$error":"#N/A"}},null,null,null,null,null,null,{"$error":"#N/A"}]
[null,null,{"$f":"VLOOKUP($B2968,'Ad Week Dates'!$A:$E,4,FALSE)","v":{"$error":"#N/A"}},{"$f":"VLOOKUP($B2968,'Ad Week Dates'!$A:$E,2,FALSE)","v":{"$error":"#N/A"}},{"$f":"VLOOKUP($B2968,'Ad Week Dates'!$A:$E,3,FALSE)","v":{"$error":"#N/A"}},null,null,null,null,null,null,{"$error":"#N/A"}]
[null,null,{"$f":"VLOOKUP($B2969,'Ad Week Dates'!$A:$E,4,FALSE)","v":{"$error":"#N/A"}},{"$f":"VLOOKUP($B2969,'Ad Week Dates'!$A:$E,2,FALSE)","v":{"$error":"#N/A"}},{"$f":"VLOOKUP($B2969,'Ad Week Dates'!$A:$E,3,FALSE)","v":{"$error":"#N/A"}},null,null,null,null,null,null,{"$error":"#N/A"}]
[null,null,{"$f":"VLOOKUP($B2970,'Ad Week Dates'!$A:$E,4,FALSE)","v":{"$error":"#N/A"}},{"$f":"VLOOKUP($B2970,'Ad Week Dates'!$A:$E,2,FALSE)","v":{"$error":"#N/A"}},{"$f":"VLOOKUP($B2970,'Ad Week Dates'!$A:$E,3,FALSE)","v":{"$error":"#N/A"}},null,null,null,null,null,null,{"$error":"#N/A"}]
[null,null,{"$f":"VLOOKUP($B2971,'Ad Week Dates'!$A:$E,4,FALSE)","v":{"$error":"#N/A"}},{"$f":"VLOOKUP($B2971,'Ad Week Dates'!$A:$E,2,FALSE)","v":{"$error":"#N/A"}},{"$f":"VLOOKUP($B2971,'Ad Week Dates'!$A:$E,3,FALSE)","v":{"$error":"#N/A"}},null,null,null,null,null,null,{"$error":"#N/A"}]
[null,null,{"$f":"VLOOKUP($B2972,'Ad Week Dates'!$A:$E,4,FALSE)","v":{"$error":"#N/A"}},{"$f":"VLOOKUP($B2972,'Ad Week Dates'!$A:$E,2,FALSE)","v":{"$error":"#N/A"}},{"$f":"VLOOKUP($B2972,'Ad Week Dates'!$A:$E,3,FALSE)","v":{"$error":"#N/A"}},null,null,null,null,null,null,{"$error":"#N/A"}]
[null,null,{"$f":"VLOOKUP($B2973,'Ad Week Dates'!$A:$E,4,FALSE)","v":{"$error":"#N/A"}},{"$f":"VLOOKUP($B2973,'Ad Week Dates'!$A:$E,2,FALSE)","v":{"$error":"#N/A"}},{"$f":"VLOOKUP($B2973,'Ad Week Dates'!$A:$E,3,FALSE)","v":{"$error":"#N/A"}},null,null,null,null,null,null,{"$error":"#N/A"}]
[null,null,{"$f":"VLOOKUP($B2974,'Ad Week Dates'!$A:$E,4,FALSE)","v":{"$error":"#N/A"}},{"$f":"VLOOKUP($B2974,'Ad Week Dates'!$A:$E,2,FALSE)","v":{"$error":"#N/A"}},{"$f":"VLOOKUP($B2974,'Ad Week Dates'!$A:$E,3,FALSE)","v":{"$error":"#N/A"}},null,null,null,null,null,null,{"$error":"#N/A"}]
[null,null,{"$f":"VLOOKUP($B2975,'Ad Week Dates'!$A:$E,4,FALSE)","v":{"$error":"#N/A"}},{"$f":"VLOOKUP($B2975,'Ad Week Dates'!$A:$E,2,FALSE)","v":{"$error":"#N/A"}},{"$f":"VLOOKUP($B2975,'Ad Week Dates'!$A:$E,3,FALSE)","v":{"$error":"#N/A"}},null,null,null,null,null,null,{"$error":"#N/A"}]
[null,null,{"$f":"VLOOKUP($B2976,'Ad Week Dates'!$A:$E,4,FALSE)","v":{"$error":"#N/A"}},{"$f":"VLOOKUP($B2976,'Ad Week Dates'!$A:$E,2,FALSE)","v":{"$error":"#N/A"}},{"$f":"VLOOKUP($B2976,'Ad Week Dates'!$A:$E,3,FALSE)","v":{"$error":"#N/A"}},null,null,null,null,null,null,{"$error":"#N/A"}]
[null,null,{"$f":"VLOOKUP($B2977,'Ad Week Dates'!$A:$E,4,FALSE)","v":{"$error":"#N/A"}},{"$f":"VLOOKUP($B2977,'Ad Week Dates'!$A:$E,2,FALSE)","v":{"$error":"#N/A"}},{"$f":"VLOOKUP($B2977,'Ad Week Dates'!$A:$E,3,FALSE)","v":{"$error":"#N/A"}},null,null,null,null,null,null,{"$error":"#N/A"}]
[null,null,{"$f":"VLOOKUP($B2978,'Ad Week Dates'!$A:$E,4,FALSE)","v":{"$error":"#N/A"}},{"$f":"VLOOKUP($B2978,'Ad Week Dates'!$A:$E,2,FALSE)","v":{"$error":"#N/A"}},{"$f":"VLOOKUP($B2978,'Ad Week Dates'!$A:$E,3,FALSE)","v":{"$error":"#N/A"}},null,null,null,null,null,null,{"$error":"#N/A"}]
[null,null,{"$f":"VLOOKUP($B2979,'Ad Week Dates'!$A:$E,4,FALSE)","v":{"$error":"#N/A"}},{"$f":"VLOOKUP($B2979,'Ad Week Dates'!$A:$E,2,FALSE)","v":{"$error":"#N/A"}},{"$f":"VLOOKUP($B2979,'Ad Week Dates'!$A:$E,3,FALSE)","v":{"$error":"#N/A"}},null,null,null,null,null,null,{"$error":"#N/A"}]
[null,null,{"$f":"VLOOKUP($B2980,'Ad Week Dates'!$A:$E,4,FALSE)","v":{"$error":"#N/A"}},{"$f":"VLOOKUP($B2980,'Ad Week Dates'!$A:$E,2,FALSE)","v":{"$error":"#N/A"}},{"$f":"VLOOKUP($B2980,'Ad Week Dates'!$A:$E,3,FALSE)","v":{"$error":"#N/A"}},null,null,null,null,null,null,{"$error":"#N/A"}]
[null,null,{"$f":"VLOOKUP($B2981,'Ad Week Dates'!$A:$E,4,FALSE)","v":{"$error":"#N/A"}},{"$f":"VLOOKUP($B2981,'Ad Week Dates'!$A:$E,2,FALSE)","v":{"$error":"#N/A"}},{"$f":"VLOOKUP($B2981,'Ad Week Dates'!$A:$E,3,FALSE)","v":{"$error":"#N/A"}},null,null,null,null,null,null,{"$error":"#N/A"}]
[null,null,{"$f":"VLOOKUP($B2982,'Ad Week Dates'!$A:$E,4,FALSE)","v":{"$error":"#N/A"}},{"$f":"VLOOKUP($B2982,'Ad Week Dates'!$A:$E,2,FALSE)","v":{"$error":"#N/A"}},{"$f":"VLOOKUP($B2982,'Ad Week Dates'!$A:$E,3,FALSE)","v":{"$error":"#N/A"}},null,null,null,null,null,null,{"$error":"#N/A"}]
[null,null,{"$f":"VLOOKUP($B2983,'Ad Week Dates'!$A:$E,4,FALSE)","v":{"$error":"#N/A"}},{"$f":"VLOOKUP($B2983,'Ad Week Dates'!$A:$E,2,FALSE)","v":{"$error":"#N/A"}},{"$f":"VLOOKUP($B2983,'Ad Week Dates'!$A:$E,3,FALSE)","v":{"$error":"#N/A"}},null,null,null,null,null,null,{"$error":"#N/A"}]
[null,null,{"$f":"VLOOKUP($B2984,'Ad Week Dates'!$A:$E,4,FALSE)","v":{"$error":"#N/A"}},{"$f":"VLOOKUP($B2984,'Ad Week Dates'!$A:$E,2,FALSE)","v":{"$error":"#N/A"}},{"$f":"VLOOKUP($B2984,'Ad Week Dates'!$A:$E,3,FALSE)","v":{"$error":"#N/A"}},null,null,null,null,null,null,{"$error":"#N/A"}]
[null,null,{"$f":"VLOOKUP($B2985,'Ad Week Dates'!$A:$E,4,FALSE)","v":{"$error":"#N/A"}},{"$f":"VLOOKUP($B2985,'Ad Week Dates'!$A:$E,2,FALSE)","v":{"$error":"#N/A"}},{"$f":"VLOOKUP($B2985,'Ad Week Dates'!$A:$E,3,FALSE)","v":{"$error":"#N/A"}},null,null,null,null,null,null,{"$error":"#N/A"}]
[null,null,{"$f":"VLOOKUP($B2986,'Ad Week Dates'!$A:$E,4,FALSE)","v":{"$error":"#N/A"}},{"$f":"VLOOKUP($B2986,'Ad Week Dates'!$A:$E,2,FALSE)","v":{"$error":"#N/A"}},{"$f":"VLOOKUP($B2986,'Ad Week Dates'!$A:$E,3,FALSE)","v":{"$error":"#N/A"}},null,null,null,null,null,null,{"$error":"#N/A"}]
[null,null,{"$f":"VLOOKUP($B2987,'Ad Week Dates'!$A:$E,4,FALSE)","v":{"$error":"#N/A"}},{"$f":"VLOOKUP($B2987,'Ad Week Dates'!$A:$E,2,FALSE)","v":{"$error":"#N/A"}},{"$f":"VLOOKUP($B2987,'Ad Week Dates'!$A:$E,3,FALSE)","v":{"$error":"#N/A"}},null,null,null,null,null,null,{"$error":"#N/A"}]
[null,null,{"$f":"VLOOKUP($B2988,'Ad Week Dates'!$A:$E,4,FALSE)","v":{"$error":"#N/A"}},{"$f":"VLOOKUP($B2988,'Ad Week Dates'!$A:$E,2,FALSE)","v":{"$error":"#N/A"}},{"$f":"VLOOKUP($B2988,'Ad Week Dates'!$A:$E,3,FALSE)","v":{"$error":"#N/A"}},null,null,null,null,null,null,{"$error":"#N/A"}]
[null,null,{"$f":"VLOOKUP($B2989,'Ad Week Dates'!$A:$E,4,FALSE)","v":{"$error":"#N/A"}},{"$f":"VLOOKUP($B2989,'Ad Week Dates'!$A:$E,2,FALSE)","v":{"$error":"#N/A"}},{"$f":"VLOOKUP($B2989,'Ad Week Dates'!$A:$E,3,FALSE)","v":{"$error":"#N/A"}},null,null,null,null,null,null,{"$error":"#N/A"}]
[null,null,{"$f":"VLOOKUP($B2990,'Ad Week Dates'!$A:$E,4,FALSE)","v":{"$error":"#N/A"}},{"$f":"VLOOKUP($B2990,'Ad Week Dates'!$A:$E,2,FALSE)","v":{"$error":"#N/A"}},{"$f":"VLOOKUP($B2990,'Ad Week Dates'!$A:$E,3,FALSE)","v":{"$error":"#N/A"}},null,null,null,null,null,null,{"$error":"#N/A"}]
[null,null,{"$f":"VLOOKUP($B2991,'Ad Week Dates'!$A:$E,4,FALSE)","v":{"$error":"#N/A"}},{"$f":"VLOOKUP($B2991,'Ad Week Dates'!$A:$E,2,FALSE)","v":{"$error":"#N/A"}},{"$f":"VLOOKUP($B2991,'Ad Week Dates'!$A:$E,3,FALSE)","v":{"$error":"#N/A"}},null,null,null,null,null,null,{"$error":"#N/A"}]
[null,null,{"$f":"VLOOKUP($B2992,'Ad Week Dates'!$A:$E,4,FALSE)","v":{"$error":"#N/A"}},{"$f":"VLOOKUP($B2992,'Ad Week Dates'!$A:$E,2,FALSE)","v":{"$error":"#N/A"}},{"$f":"VLOOKUP($B2992,'Ad Week Dates'!$A:$E,3,FALSE)","v":{"$error":"#N/A"}},null,null,null,null,null,null,{"$error":"#N/A"}]
[null,null,{"$f":"VLOOKUP($B2993,'Ad Week Dates'!$A:$E,4,FALSE)","v":{"$error":"#N/A"}},{"$f":"VLOOKUP($B2993,'Ad Week Dates'!$A:$E,2,FALSE)","v":{"$error":"#N/A"}},{"$f":"VLOOKUP($B2993,'Ad Week Dates'!$A:$E,3,FALSE)","v":{"$error":"#N/A"}},null,null,null,null,null,null,{"$error":"#N/A"}]
[null,null,{"$f":"VLOOKUP($B2994,'Ad Week Dates'!$A:$E,4,FALSE)","v":{"$error":"#N/A"}},{"$f":"VLOOKUP($B2994,'Ad Week Dates'!$A:$E,2,FALSE)","v":{"$error":"#N/A"}},{"$f":"VLOOKUP($B2994,'Ad Week Dates'!$A:$E,3,FALSE)","v":{"$error":"#N/A"}},null,null,null,null,null,null,{"$error":"#N/A"}]
[null,null,{"$f":"VLOOKUP($B2995,'Ad Week Dates'!$A:$E,4,FALSE)","v":{"$error":"#N/A"}},{"$f":"VLOOKUP($B2995,'Ad Week Dates'!$A:$E,2,FALSE)","v":{"$error":"#N/A"}},{"$f":"VLOOKUP($B2995,'Ad Week Dates'!$A:$E,3,FALSE)","v":{"$error":"#N/A"}},null,null,null,null,null,null,{"$error":"#N/A"}]
[null,null,{"$f":"VLOOKUP($B2996,'Ad Week Dates'!$A:$E,4,FALSE)","v":{"$error":"#N/A"}},{"$f":"VLOOKUP($B2996,'Ad Week Dates'!$A:$E,2,FALSE)","v":{"$error":"#N/A"}},{"$f":"VLOOKUP($B2996,'Ad Week Dates'!$A:$E,3,FALSE)","v":{"$error":"#N/A"}},null,null,null,null,null,null,{"$error":"#N/A"}]
[null,null,{"$f":"VLOOKUP($B2997,'Ad Week Dates'!$A:$E,4,FALSE)","v":{"$error":"#N/A"}},{"$f":"VLOOKUP($B2997,'Ad Week Dates'!$A:$E,2,FALSE)","v":{"$error":"#N/A"}},{"$f":"VLOOKUP($B2997,'Ad Week Dates'!$A:$E,3,FALSE)","v":{"$error":"#N/A"}},null,null,null,null,null,null,{"$error":"#N/A"}]
[null,null,{"$f":"VLOOKUP($B2998,'Ad Week Dates'!$A:$E,4,FALSE)","v":{"$error":"#N/A"}},{"$f":"VLOOKUP($B2998,'Ad Week Dates'!$A:$E,2,FALSE)","v":{"$error":"#N/A"}},{"$f":"VLOOKUP($B2998,'Ad Week Dates'!$A:$E,3,FALSE)","v":{"$error":"#N/A"}},null,null,null,null,null,null,{"$error":"#N/A"}]
[null,null,{"$f":"VLOOKUP($B2999,'Ad Week Dates'!$A:$E,4,FALSE)","v":{"$error":"#N/A"}},{"$f":"VLOOKUP($B2999,'Ad Week Dates'!$A:$E,2,FALSE)","v":{"$error":"#N/A"}},{"$f":"VLOOKUP($B2999,'Ad Week Dates'!$A:$E,3,FALSE)","v":{"$error":"#N/A"}},null,null,null,null,null,null,{"$error":"#N/A"}]
[null,null,{"$f":"VLOOKUP($B3000,'Ad Week Dates'!$A:$E,4,FALSE)","v":{"$error":"#N/A"}},{"$f":"VLOOKUP($B3000,'Ad Week Dates'!$A:$E,2,FALSE)","v":{"$error":"#N/A"}},{"$f":"VLOOKUP($B3000,'Ad Week Dates'!$A:$E,3,FALSE)","v":{"$error":"#N/A"}},null,null,null,null,null,null,{"$error":"#N/A"}]
[null,null,{"$f":"VLOOKUP($B3001,'Ad Week Dates'!$A:$E,4,FALSE)","v":{"$error":"#N/A"}},{"$f":"VLOOKUP($B3001,'Ad Week Dates'!$A:$E,2,FALSE)","v":{"$error":"#N/A"}},{"$f":"VLOOKUP($B3001,'Ad Week Dates'!$A:$E,3,FALSE)","v":{"$error":"#N/A"}},null,null,null,null,null,null,{"$error":"#N/A"}]
[null,null,{"$f":"VLOOKUP($B3002,'Ad Week Dates'!$A:$E,4,FALSE)","v":{"$error":"#N/A"}},{"$f":"VLOOKUP($B3002,'Ad Week Dates'!$A:$E,2,FALSE)","v":{"$error":"#N/A"}},{"$f":"VLOOKUP($B3002,'Ad Week Dates'!$A:$E,3,FALSE)","v":{"$error":"#N/A"}},null,null,null,null,null,null,{"$error":"#N/A"}]
[null,null,{"$f":"VLOOKUP($B3003,'Ad Week Dates'!$A:$E,4,FALSE)","v":{"$error":"#N/A"}},{"$f":"VLOOKUP($B3003,'Ad Week Dates'!$A:$E,2,FALSE)","v":{"$error":"#N/A"}},{"$f":"VLOOKUP($B3003,'Ad Week Dates'!$A:$E,3,FALSE)","v":{"$error":"#N/A"}},null,null,null,null,null,null,{"$error":"#N/A"}]
[null,null,{"$f":"VLOOKUP($B3004,'Ad Week Dates'!$A:$E,4,FALSE)","v":{"$error":"#N/A"}},{"$f":"VLOOKUP($B3004,'Ad Week Dates'!$A:$E,2,FALSE)","v":{"$error":"#N/A"}},{"$f":"VLOOKUP($B3004,'Ad Week Dates'!$A:$E,3,FALSE)","v":{"$error":"#N/A"}},null,null,null,null,null,null,{"$error":"#N/A"}]
[null,null,{"$f":"VLOOKUP($B3005,'Ad Week Dates'!$A:$E,4,FALSE)","v":{"$error":"#N/A"}},{"$f":"VLOOKUP($B3005,'Ad Week Dates'!$A:$E,2,FALSE)","v":{"$error":"#N/A"}},{"$f":"VLOOKUP($B3005,'Ad Week Dates'!$A:$E,3,FALSE)","v":{"$error":"#N/A"}},null,null,null,null,null,null,{"$error":"#N/A"}]
[null,null,{"$f":"VLOOKUP($B3006,'Ad Week Dates'!$A:$E,4,FALSE)","v":{"$error":"#N/A"}},{"$f":"VLOOKUP($B3006,'Ad Week Dates'!$A:$E,2,FALSE)","v":{"$error":"#N/A"}},{"$f":"VLOOKUP($B3006,'Ad Week Dates'!$A:$E,3,FALSE)","v":{"$error":"#N/A"}},null,null,null,null,null,null,{"$error":"#N/A"}]
[null,null,{"$f":"VLOOKUP($B3007,'Ad Week Dates'!$A:$E,4,FALSE)","v":{"$error":"#N/A"}},{"$f":"VLOOKUP($B3007,'Ad Week Dates'!$A:$E,2,FALSE)","v":{"$error":"#N/A"}},{"$f":"VLOOKUP($B3007,'Ad Week Dates'!$A:$E,3,FALSE)","v":{"$error":"#N/A"}},null,null,null,null,null,null,{"$error":"#N/A"}]
[null,null,{"$f":"VLOOKUP($B3008,'Ad Week Dates'!$A:$E,4,FALSE)","v":{"$error":"#N/A"}},{"$f":"VLOOKUP($B3008,'Ad Week Dates'!$A:$E,2,FALSE)","v":{"$error":"#N/A"}},{"$f":"VLOOKUP($B3008,'Ad Week Dates'!$A:$E,3,FALSE)","v":{"$error":"#N/A"}},null,null,null,null,null,null,{"$error":"#N/A"}]
[null,null,{"$f":"VLOOKUP($B3009,'Ad Week Dates'!$A:$E,4,FALSE)","v":{"$error":"#N/A"}},{"$f":"VLOOKUP($B3009,'Ad Week Dates'!$A:$E,2,FALSE)","v":{"$error":"#N/A"}},{"$f":"VLOOKUP($B3009,'Ad Week Dates'!$A:$E,3,FALSE)","v":{"$error":"#N/A"}},null,null,null,null,null,null,{"$error":"#N/A"}]
[null,null,{"$f":"VLOOKUP($B3010,'Ad Week Dates'!$A:$E,4,FALSE)","v":{"$error":"#N/A"}},{"$f":"VLOOKUP($B3010,'Ad Week Dates'!$A:$E,2,FALSE)","v":{"$error":"#N/A"}},{"$f":"VLOOKUP($B3010,'Ad Week Dates'!$A:$E,3,FALSE)","v":{"$error":"#N/A"}},null,null,null,null,null,null,{"$error":"#N/A"}]
[null,null,{"$f":"VLOOKUP($B3011,'Ad Week Dates'!$A:$E,4,FALSE)","v":{"$error":"#N/A"}},{"$f":"VLOOKUP($B3011,'Ad Week Dates'!$A:$E,2,FALSE)","v":{"$error":"#N/A"}},{"$f":"VLOOKUP($B3011,'Ad Week Dates'!$A:$E,3,FALSE)","v":{"$error":"#N/A"}},null,null,null,null,null,null,{"$error":"#N/A"}]
[null,null,{"$f":"VLOOKUP($B3012,'Ad Week Dates'!$A:$E,4,FALSE)","v":{"$error":"#N/A"}},{"$f":"VLOOKUP($B3012,'Ad Week Dates'!$A:$E,2,FALSE)","v":{"$error":"#N/A"}},{"$f":"VLOOKUP($B3012,'Ad Week Dates'!$A:$E,3,FALSE)","v":{"$error":"#N/A"}},null,null,null,null,null,null,{"$error":"#N/A"}]
[null,null,{"$f":"VLOOKUP($B3013,'Ad Week Dates'!$A:$E,4,FALSE)","v":{"$error":"#N/A"}},{"$f":"VLOOKUP($B3013,'Ad Week Dates'!$A:$E,2,FALSE)","v":{"$error":"#N/A"}},{"$f":"VLOOKUP($B3013,'Ad Week Dates'!$A:$E,3,FALSE)","v":{"$error":"#N/A"}},null,null,null,null,null,null,{"$error":"#N/A"}]
[null,null,{"$f":"VLOOKUP($B3014,'Ad Week Dates'!$A:$E,4,FALSE)","v":{"$error":"#N/A"}},{"$f":"VLOOKUP($B3014,'Ad Week Dates'!$A:$E,2,FALSE)","v":{"$error":"#N/A"}},{"$f":"VLOOKUP($B3014,'Ad Week Dates'!$A:$E,3,FALSE)","v":{"$error":"#N/A"}},null,null,null,null,null,null,{"$f":"IF(ISNUMBER(J3014), J3014 - K3014, VALUE(_xlfn.TEXTBEFORE(J3014, \"-\")) - VALUE(_xlfn.TEXTBEFORE(K3014, \"-\")))","v":{"$error":"#N/A"}}]
[null,null,{"$f":"VLOOKUP($B3015,'Ad Week Dates'!$A:$E,4,FALSE)","v":{"$error":"#N/A"}},{"$f":"VLOOKUP($B3015,'Ad Week Dates'!$A:$E,2,FALSE)","v":{"$error":"#N/A"}},{"$f":"VLOOKUP($B3015,'Ad Week Dates'!$A:$E,3,FALSE)","v":{"$error":"#N/A"}},null,null,null,null,null,null,{"$error":"#N/A"}]
[null,null,{"$f":"VLOOKUP($B3016,'Ad Week Dates'!$A:$E,4,FALSE)","v":{"$error":"#N/A"}},{"$f":"VLOOKUP($B3016,'Ad Week Dates'!$A:$E,2,FALSE)","v":{"$error":"#N/A"}},{"$f":"VLOOKUP($B3016,'Ad Week Dates'!$A:$E,3,FALSE)","v":{"$error":"#N/A"}},null,null,null,null,null,null,{"$error":"#N/A"}]
[null,null,{"$f":"VLOOKUP($B3017,'Ad Week Dates'!$A:$E,4,FALSE)","v":{"$error":"#N/A"}},{"$f":"VLOOKUP($B3017,'Ad Week Dates'!$A:$E,2,FALSE)","v":{"$error":"#N/A"}},{"$f":"VLOOKUP($B3017,'Ad Week Dates'!$A:$E,3,FALSE)","v":{"$error":"#N/A"}},null,null,null,null,null,null,{"$error":"#N/A"}]
[null,null,{"$f":"VLOOKUP($B3018,'Ad Week Dates'!$A:$E,4,FALSE)","v":{"$error":"#N/A"}},{"$f":"VLOOKUP($B3018,'Ad Week Dates'!$A:$E,2,FALSE)","v":{"$error":"#N/A"}},{"$f":"VLOOKUP($B3018,'Ad Week Dates'!$A:$E,3,FALSE)","v":{"$error":"#N/A"}},null,null,null,null,null,null,{"$error":"#N/A"}]
[null,null,{"$f":"VLOOKUP($B3019,'Ad Week Dates'!$A:$E,4,FALSE)","v":{"$error":"#N/A"}},{"$f":"VLOOKUP($B3019,'Ad Week Dates'!$A:$E,2,FALSE)","v":{"$error":"#N/A"}},{"$f":"VLOOKUP($B3019,'Ad Week Dates'!$A:$E,3,FALSE)","v":{"$error":"#N/A"}},null,null,null,null,null,null,{"$error":"#N/A"}]
[null,null,{"$f":"VLOOKUP($B3020,'Ad Week Dates'!$A:$E,4,FALSE)","v":{"$error":"#N/A"}},{"$f":"VLOOKUP($B3020,'Ad Week Dates'!$A:$E,2,FALSE)","v":{"$error":"#N/A"}},{"$f":"VLOOKUP($B3020,'Ad Week Dates'!$A:$E,3,FALSE)","v":{"$error":"#N/A"}},null,null,null,null,null,null,{"$error":"#N/A"}]
[null,null,{"$f":"VLOOKUP($B3021,'Ad Week Dates'!$A:$E,4,FALSE)","v":{"$error":"#N/A"}},{"$f":"VLOOKUP($B3021,'Ad Week Dates'!$A:$E,2,FALSE)","v":{"$error":"#N/A"}},{"$f":"VLOOKUP($B3021,'Ad Week Dates'!$A:$E,3,FALSE)","v":{"$error":"#N/A"}},null,null,null,null,null,null,{"$error":"#N/A"}]
[null,null,{"$f":"VLOOKUP($B3022,'Ad Week Dates'!$A:$E,4,FALSE)","v":{"$error":"#N/A"}},{"$f":"VLOOKUP($B3022,'Ad Week Dates'!$A:$E,2,FALSE)","v":{"$error":"#N/A"}},{"$f":"VLOOKUP($B3022,'Ad Week Dates'!$A:$E,3,FALSE)","v":{"$error":"#N/A"}},null,null,null,null,null,null,{"$error":"#N/A"}]
[null,null,{"$f":"VLOOKUP($B3023,'Ad Week Dates'!$A:$E,4,FALSE)","v":{"$error":"#N/A"}},{"$f":"VLOOKUP($B3023,'Ad Week Dates'!$A:$E,2,FALSE)","v":{"$error":"#N/A"}},{"$f":"VLOOKUP($B3023,'Ad Week Dates'!$A:$E,3,FALSE)","v":{"$error":"#N/A"}},null,null,null,null,null,null,{"$error":"#N/A"}]
[null,null,{"$f":"VLOOKUP($B3024,'Ad Week Dates'!$A:$E,4,FALSE)","v":{"$error":"#N/A"}},{"$f":"VLOOKUP($B3024,'Ad Week Dates'!$A:$E,2,FALSE)","v":{"$error":"#N/A"}},{"$f":"VLOOKUP($B3024,'Ad Week Dates'!$A:$E,3,FALSE)","v":{"$error":"#N/A"}},null,null,null,null,null,null,{"$error":"#N/A"}]
[null,null,{"$f":"VLOOKUP($B3025,'Ad Week Dates'!$A:$E,4,FALSE)","v":{"$error":"#N/A"}},{"$f":"VLOOKUP($B3025,'Ad Week Dates'!$A:$E,2,FALSE)","v":{"$error":"#N/A"}},{"$f":"VLOOKUP($B3025,'Ad Week Dates'!$A:$E,3,FALSE)","v":{"$error":"#N/A"}},null,null,null,null,null,null,{"$error":"#N/A"}]
[null,null,{"$f":"VLOOKUP($B3026,'Ad Week Dates'!$A:$E,4,FALSE)","v":{"$error":"#N/A"}},{"$f":"VLOOKUP($B3026,'Ad Week Dates'!$A:$E,2,FALSE)","v":{"$error":"#N/A"}},{"$f":"VLOOKUP($B3026,'Ad Week Dates'!$A:$E,3,FALSE)","v":{"$error":"#N/A"}},null,null,null,null,null,null,{"$error":"#N/A"}]
[null,null,{"$f":"VLOOKUP($B3027,'Ad Week Dates'!$A:$E,4,FALSE)","v":{"$error":"#N/A"}},{"$f":"VLOOKUP($B3027,'Ad Week Dates'!$A:$E,2,FALSE)","v":{"$error":"#N/A"}},{"$f":"VLOOKUP($B3027,'Ad Week Dates'!$A:$E,3,FALSE)","v":{"$error":"#N/A"}},null,null,null,null,null,null,{"$error":"#N/A"}]
[null,null,{"$f":"VLOOKUP($B3028,'Ad Week Dates'!$A:$E,4,FALSE)","v":{"$error":"#N/A"}},{"$f":"VLOOKUP($B3028,'Ad Week Dates'!$A:$E,2,FALSE)","v":{"$error":"#N/A"}},{"$f":"VLOOKUP($B3028,'Ad Week Dates'!$A:$E,3,FALSE)","v":{"$error":"#N/A"}},null,null,null,null,null,null,{"$error":"#N/A"}]
[null,null,{"$f":"VLOOKUP($B3029,'Ad Week Dates'!$A:$E,4,FALSE)","v":{"$error":"#N/A"}},{"$f":"VLOOKUP($B3029,'Ad Week Dates'!$A:$E,2,FALSE)","v":{"$error":"#N/A"}},{"$f":"VLOOKUP($B3029,'Ad Week Dates'!$A:$E,3,FALSE)","v":{"$error":"#N/A"}},null,null,null,null,null,null,{"$error":"#N/A"}]
[null,null,{"$f":"VLOOKUP($B3030,'Ad Week Dates'!$A:$E,4,FALSE)","v":{"$error":"#N/A"}},{"$f":"VLOOKUP($B3030,'Ad Week Dates'!$A:$E,2,FALSE)","v":{"$error":"#N/A"}},{"$f":"VLOOKUP($B3030,'Ad Week Dates'!$A:$E,3,FALSE)","v":{"$error":"#N/A"}},null,null,null,null,null,null,{"$error":"#N/A"}]
[null,null,{"$f":"VLOOKUP($B3031,'Ad Week Dates'!$A:$E,4,FALSE)","v":{"$error":"#N/A"}},{"$f":"VLOOKUP($B3031,'Ad Week Dates'!$A:$E,2,FALSE)","v":{"$error":"#N/A"}},{"$f":"VLOOKUP($B3031,'Ad Week Dates'!$A:$E,3,FALSE)","v":{"$error":"#N/A"}},null,null,null,null,null,null,{"$error":"#N/A"}]
[null,null,{"$f":"VLOOKUP($B3032,'Ad Week Dates'!$A:$E,4,FALSE)","v":{"$error":"#N/A"}},{"$f":"VLOOKUP($B3032,'Ad Week Dates'!$A:$E,2,FALSE)","v":{"$error":"#N/A"}},{"$f":"VLOOKUP($B3032,'Ad Week Dates'!$A:$E,3,FALSE)","v":{"$error":"#N/A"}},null,null,null,null,null,null,{"$error":"#N/A"}]
[null,null,{"$f":"VLOOKUP($B3033,'Ad Week Dates'!$A:$E,4,FALSE)","v":{"$error":"#N/A"}},{"$f":"VLOOKUP($B3033,'Ad Week Dates'!$A:$E,2,FALSE)","v":{"$error":"#N/A"}},{"$f":"VLOOKUP($B3033,'Ad Week Dates'!$A:$E,3,FALSE)","v":{"$error":"#N/A"}},null,null,null,null,null,null,{"$error":"#N/A"}]
[null,null,{"$f":"VLOOKUP($B3034,'Ad Week Dates'!$A:$E,4,FALSE)","v":{"$error":"#N/A"}},{"$f":"VLOOKUP($B3034,'Ad Week Dates'!$A:$E,2,FALSE)","v":{"$error":"#N/A"}},{"$f":"VLOOKUP($B3034,'Ad Week Dates'!$A:$E,3,FALSE)","v":{"$error":"#N/A"}},null,null,null,null,null,null,{"$error":"#N/A"}]
[null,null,{"$f":"VLOOKUP($B3035,'Ad Week Dates'!$A:$E,4,FALSE)","v":{"$error":"#N/A"}},{"$f":"VLOOKUP($B3035,'Ad Week Dates'!$A:$E,2,FALSE)","v":{"$error":"#N/A"}},{"$f":"VLOOKUP($B3035,'Ad Week Dates'!$A:$E,3,FALSE)","v":{"$error":"#N/A"}},null,null,null,null,null,null,{"$error":"#N/A"}]
[null,null,{"$f":"VLOOKUP($B3036,'Ad Week Dates'!$A:$E,4,FALSE)","v":{"$error":"#N/A"}},{"$f":"VLOOKUP($B3036,'Ad Week Dates'!$A:$E,2,FALSE)","v":{"$error":"#N/A"}},{"$f":"VLOOKUP($B3036,'Ad Week Dates'!$A:$E,3,FALSE)","v":{"$error":"#N/A"}},null,null,null,null,null,null,{"$error":"#N/A"}]
[null,null,{"$f":"VLOOKUP($B3037,'Ad Week Dates'!$A:$E,4,FALSE)","v":{"$error":"#N/A"}},{"$f":"VLOOKUP($B3037,'Ad Week Dates'!$A:$E,2,FALSE)","v":{"$error":"#N/A"}},{"$f":"VLOOKUP($B3037,'Ad Week Dates'!$A:$E,3,FALSE)","v":{"$error":"#N/A"}},null,null,null,null,null,null,{"$error":"#N/A"}]
[null,null,{"$f":"VLOOKUP($B3038,'Ad Week Dates'!$A:$E,4,FALSE)","v":{"$error":"#N/A"}},{"$f":"VLOOKUP($B3038,'Ad Week Dates'!$A:$E,2,FALSE)","v":{"$error":"#N/A"}},{"$f":"VLOOKUP($B3038,'Ad Week Dates'!$A:$E,3,FALSE)","v":{"$error":"#N/A"}},null,null,null,null,null,null,{"$error":"#N/A"}]
[null,null,{"$f":"VLOOKUP($B3039,'Ad Week Dates'!$A:$E,4,FALSE)","v":{"$error":"#N/A"}},{"$f":"VLOOKUP($B3039,'Ad Week Dates'!$A:$E,2,FALSE)","v":{"$error":"#N/A"}},{"$f":"VLOOKUP($B3039,'Ad Week Dates'!$A:$E,3,FALSE)","v":{"$error":"#N/A"}},null,null,null,null,null,null,{"$error":"#N/A"}]
[null,null,{"$f":"VLOOKUP($B3040,'Ad Week Dates'!$A:$E,4,FALSE)","v":{"$error":"#N/A"}},{"$f":"VLOOKUP($B3040,'Ad Week Dates'!$A:$E,2,FALSE)","v":{"$error":"#N/A"}},{"$f":"VLOOKUP($B3040,'Ad Week Dates'!$A:$E,3,FALSE)","v":{"$error":"#N/A"}},null,null,null,null,null,null,{"$error":"#N/A"}]
[null,null,{"$f":"VLOOKUP($B3041,'Ad Week Dates'!$A:$E,4,FALSE)","v":{"$error":"#N/A"}},{"$f":"VLOOKUP($B3041,'Ad Week Dates'!$A:$E,2,FALSE)","v":{"$error":"#N/A"}},{"$f":"VLOOKUP($B3041,'Ad Week Dates'!$A:$E,3,FALSE)","v":{"$error":"#N/A"}},null,null,null,null,null,null,{"$error":"#N/A"}]
[null,null,{"$f":"VLOOKUP($B3042,'Ad Week Dates'!$A:$E,4,FALSE)","v":{"$error":"#N/A"}},{"$f":"VLOOKUP($B3042,'Ad Week Dates'!$A:$E,2,FALSE)","v":{"$error":"#N/A"}},{"$f":"VLOOKUP($B3042,'Ad Week Dates'!$A:$E,3,FALSE)","v":{"$error":"#N/A"}},null,null,null,null,null,null,{"$error":"#N/A"}]
[null,null,{"$f":"VLOOKUP($B3043,'Ad Week Dates'!$A:$E,4,FALSE)","v":{"$error":"#N/A"}},{"$f":"VLOOKUP($B3043,'Ad Week Dates'!$A:$E,2,FALSE)","v":{"$error":"#N/A"}},{"$f":"VLOOKUP($B3043,'Ad Week Dates'!$A:$E,3,FALSE)","v":{"$error":"#N/A"}},null,null,null,null,null,null,{"$error":"#N/A"}]
[null,null,{"$f":"VLOOKUP($B3044,'Ad Week Dates'!$A:$E,4,FALSE)","v":{"$error":"#N/A"}},{"$f":"VLOOKUP($B3044,'Ad Week Dates'!$A:$E,2,FALSE)","v":{"$error":"#N/A"}},{"$f":"VLOOKUP($B3044,'Ad Week Dates'!$A:$E,3,FALSE)","v":{"$error":"#N/A"}},null,null,null,null,null,null,{"$error":"#N/A"}]
[null,null,{"$f":"VLOOKUP($B3045,'Ad Week Dates'!$A:$E,4,FALSE)","v":{"$error":"#N/A"}},{"$f":"VLOOKUP($B3045,'Ad Week Dates'!$A:$E,2,FALSE)","v":{"$error":"#N/A"}},{"$f":"VLOOKUP($B3045,'Ad Week Dates'!$A:$E,3,FALSE)","v":{"$error":"#N/A"}},null,null,null,null,null,null,{"$error":"#N/A"}]
[null,null,{"$f":"VLOOKUP($B3046,'Ad Week Dates'!$A:$E,4,FALSE)","v":{"$error":"#N/A"}},{"$f":"VLOOKUP($B3046,'Ad Week Dates'!$A:$E,2,FALSE)","v":{"$error":"#N/A"}},{"$f":"VLOOKUP($B3046,'Ad Week Dates'!$A:$E,3,FALSE)","v":{"$error":"#N/A"}},null,null,null,null,null,null,{"$error":"#N/A"}]
[null,null,{"$f":"VLOOKUP($B3047,'Ad Week Dates'!$A:$E,4,FALSE)","v":{"$error":"#N/A"}},{"$f":"VLOOKUP($B3047,'Ad Week Dates'!$A:$E,2,FALSE)","v":{"$error":"#N/A"}},{"$f":"VLOOKUP($B3047,'Ad Week Dates'!$A:$E,3,FALSE)","v":{"$error":"#N/A"}},null,null,null,null,null,null,{"$error":"#N/A"}]
[null,null,{"$f":"VLOOKUP($B3048,'Ad Week Dates'!$A:$E,4,FALSE)","v":{"$error":"#N/A"}},{"$f":"VLOOKUP($B3048,'Ad Week Dates'!$A:$E,2,FALSE)","v":{"$error":"#N/A"}},{"$f":"VLOOKUP($B3048,'Ad Week Dates'!$A:$E,3,FALSE)","v":{"$error":"#N/A"}},null,null,null,null,null,null,{"$error":"#N/A"}]
[null,null,{"$f":"VLOOKUP($B3049,'Ad Week Dates'!$A:$E,4,FALSE)","v":{"$error":"#N/A"}},{"$f":"VLOOKUP($B3049,'Ad Week Dates'!$A:$E,2,FALSE)","v":{"$error":"#N/A"}},{"$f":"VLOOKUP($B3049,'Ad Week Dates'!$A:$E,3,FALSE)","v":{"$error":"#N/A"}},null,null,null,null,null,null,{"$error":"#N/A"}]
[null,null,{"$f":"VLOOKUP($B3050,'Ad Week Dates'!$A:$E,4,FALSE)","v":{"$error":"#N/A"}},{"$f":"VLOOKUP($B3050,'Ad Week Dates'!$A:$E,2,FALSE)","v":{"$error":"#N/A"}},{"$f":"VLOOKUP($B3050,'Ad Week Dates'!$A:$E,3,FALSE)","v":{"$error":"#N/A"}},null,null,null,null,null,null,{"$error":"#N/A"}]
[null,null,{"$f":"VLOOKUP($B3051,'Ad Week Dates'!$A:$E,4,FALSE)","v":{"$error":"#N/A"}},{"$f":"VLOOKUP($B3051,'Ad Week Dates'!$A:$E,2,FALSE)","v":{"$error":"#N/A"}},{"$f":"VLOOKUP($B3051,'Ad Week Dates'!$A:$E,3,FALSE)","v":{"$error":"#N/A"}},null,null,null,null,null,null,{"$error":"#N/A"}]
[null,null,{"$f":"VLOOKUP($B3052,'Ad Week Dates'!$A:$E,4,FALSE)","v":{"$error":"#N/A"}},{"$f":"VLOOKUP($B3052,'Ad Week Dates'!$A:$E,2,FALSE)","v":{"$error":"#N/A"}},{"$f":"VLOOKUP($B3052,'Ad Week Dates'!$A:$E,3,FALSE)","v":{"$error":"#N/A"}},null,null,null,null,null,null,{"$error":"#N/A"}]
[null,null,{"$f":"VLOOKUP($B3053,'Ad Week Dates'!$A:$E,4,FALSE)","v":{"$error":"#N/A"}},{"$f":"VLOOKUP($B3053,'Ad Week Dates'!$A:$E,2,FALSE)","v":{"$error":"#N/A"}},{"$f":"VLOOKUP($B3053,'Ad Week Dates'!$A:$E,3,FALSE)","v":{"$error":"#N/A"}},null,null,null,null,null,null,{"$error":"#N/A"}]
[null,null,{"$f":"VLOOKUP($B3054,'Ad Week Dates'!$A:$E,4,FALSE)","v":{"$error":"#N/A"}},{"$f":"VLOOKUP($B3054,'Ad Week Dates'!$A:$E,2,FALSE)","v":{"$error":"#N/A"}},{"$f":"VLOOKUP($B3054,'Ad Week Dates'!$A:$E,3,FALSE)","v":{"$error":"#N/A"}},null,null,null,null,null,null,{"$error":"#N/A"}]
[null,null,{"$f":"VLOOKUP($B3055,'Ad Week Dates'!$A:$E,4,FALSE)","v":{"$error":"#N/A"}},{"$f":"VLOOKUP($B3055,'Ad Week Dates'!$A:$E,2,FALSE)","v":{"$error":"#N/A"}},{"$f":"VLOOKUP($B3055,'Ad Week Dates'!$A:$E,3,FALSE)","v":{"$error":"#N/A"}},null,null,null,null,null,null,{"$error":"#N/A"}]
[null,null,{"$f":"VLOOKUP($B3056,'Ad Week Dates'!$A:$E,4,FALSE)","v":{"$error":"#N/A"}},{"$f":"VLOOKUP($B3056,'Ad Week Dates'!$A:$E,2,FALSE)","v":{"$error":"#N/A"}},{"$f":"VLOOKUP($B3056,'Ad Week Dates'!$A:$E,3,FALSE)","v":{"$error":"#N/A"}},null,null,null,null,null,null,{"$error":"#N/A"}]
[null,null,{"$f":"VLOOKUP($B3057,'Ad Week Dates'!$A:$E,4,FALSE)","v":{"$error":"#N/A"}},{"$f":"VLOOKUP($B3057,'Ad Week Dates'!$A:$E,2,FALSE)","v":{"$error":"#N/A"}},{"$f":"VLOOKUP($B3057,'Ad Week Dates'!$A:$E,3,FALSE)","v":{"$error":"#N/A"}},null,null,null,null,null,null,{"$error":"#N/A"}]
[null,null,{"$f":"VLOOKUP($B3058,'Ad Week Dates'!$A:$E,4,FALSE)","v":{"$error":"#N/A"}},{"$f":"VLOOKUP($B3058,'Ad Week Dates'!$A:$E,2,FALSE)","v":{"$error":"#N/A"}},{"$f":"VLOOKUP($B3058,'Ad Week Dates'!$A:$E,3,FALSE)","v":{"$error":"#N/A"}},null,null,null,null,null,null,{"$error":"#N/A"}]
[null,null,{"$f":"VLOOKUP($B3059,'Ad Week Dates'!$A:$E,4,FALSE)","v":{"$error":"#N/A"}},{"$f":"VLOOKUP($B3059,'Ad Week Dates'!$A:$E,2,FALSE)","v":{"$error":"#N/A"}},{"$f":"VLOOKUP($B3059,'Ad Week Dates'!$A:$E,3,FALSE)","v":{"$error":"#N/A"}},null,null,null,null,null,null,{"$error":"#N/A"}]
[null,null,{"$f":"VLOOKUP($B3060,'Ad Week Dates'!$A:$E,4,FALSE)","v":{"$error":"#N/A"}},{"$f":"VLOOKUP($B3060,'Ad Week Dates'!$A:$E,2,FALSE)","v":{"$error":"#N/A"}},{"$f":"VLOOKUP($B3060,'Ad Week Dates'!$A:$E,3,FALSE)","v":{"$error":"#N/A"}},null,null,null,null,null,null,{"$error":"#N/A"}]
[null,null,{"$f":"VLOOKUP($B3061,'Ad Week Dates'!$A:$E,4,FALSE)","v":{"$error":"#N/A"}},{"$f":"VLOOKUP($B3061,'Ad Week Dates'!$A:$E,2,FALSE)","v":{"$error":"#N/A"}},{"$f":"VLOOKUP($B3061,'Ad Week Dates'!$A:$E,3,FALSE)","v":{"$error":"#N/A"}},null,null,null,null,null,null,{"$error":"#N/A"}]
[null,null,{"$f":"VLOOKUP($B3062,'Ad Week Dates'!$A:$E,4,FALSE)","v":{"$error":"#N/A"}},{"$f":"VLOOKUP($B3062,'Ad Week Dates'!$A:$E,2,FALSE)","v":{"$error":"#N/A"}},{"$f":"VLOOKUP($B3062,'Ad Week Dates'!$A:$E,3,FALSE)","v":{"$error":"#N/A"}},null,null,null,null,null,null,{"$error":"#N/A"}]
[null,null,{"$f":"VLOOKUP($B3063,'Ad Week Dates'!$A:$E,4,FALSE)","v":{"$error":"#N/A"}},{"$f":"VLOOKUP($B3063,'Ad Week Dates'!$A:$E,2,FALSE)","v":{"$error":"#N/A"}},{"$f":"VLOOKUP($B3063,'Ad Week Dates'!$A:$E,3,FALSE)","v":{"$error":"#N/A"}},null,null,null,null,null,null,{"$error":"#N/A"}]
[null,null,{"$f":"VLOOKUP($B3064,'Ad Week Dates'!$A:$E,4,FALSE)","v":{"$error":"#N/A"}},{"$f":"VLOOKUP($B3064,'Ad Week Dates'!$A:$E,2,FALSE)","v":{"$error":"#N/A"}},{"$f":"VLOOKUP($B3064,'Ad Week Dates'!$A:$E,3,FALSE)","v":{"$error":"#N/A"}},null,null,null,null,null,null,{"$error":"#N/A"}]
[null,null,{"$f":"VLOOKUP($B3065,'Ad Week Dates'!$A:$E,4,FALSE)","v":{"$error":"#N/A"}},{"$f":"VLOOKUP($B3065,'Ad Week Dates'!$A:$E,2,FALSE)","v":{"$error":"#N/A"}},{"$f":"VLOOKUP($B3065,'Ad Week Dates'!$A:$E,3,FALSE)","v":{"$error":"#N/A"}},null,null,null,null,null,null,{"$error":"#N/A"}]
[null,null,{"$f":"VLOOKUP($B3066,'Ad Week Dates'!$A:$E,4,FALSE)","v":{"$error":"#N/A"}},{"$f":"VLOOKUP($B3066,'Ad Week Dates'!$A:$E,2,FALSE)","v":{"$error":"#N/A"}},{"$f":"VLOOKUP($B3066,'Ad Week Dates'!$A:$E,3,FALSE)","v":{"$error":"#N/A"}},null,null,null,null,null,null,{"$error":"#N/A"}]
[null,null,{"$f":"VLOOKUP($B3067,'Ad Week Dates'!$A:$E,4,FALSE)","v":{"$error":"#N/A"}},{"$f":"VLOOKUP($B3067,'Ad Week Dates'!$A:$E,2,FALSE)","v":{"$error":"#N/A"}},{"$f":"VLOOKUP($B3067,'Ad Week Dates'!$A:$E,3,FALSE)","v":{"$error":"#N/A"}},null,null,null,null,null,null,{"$error":"#N/A"}]
[null,null,{"$f":"VLOOKUP($B3068,'Ad Week Dates'!$A:$E,4,FALSE)","v":{"$error":"#N/A"}},{"$f":"VLOOKUP($B3068,'Ad Week Dates'!$A:$E,2,FALSE)","v":{"$error":"#N/A"}},{"$f":"VLOOKUP($B3068,'Ad Week Dates'!$A:$E,3,FALSE)","v":{"$error":"#N/A"}},null,null,null,null,null,null,{"$error":"#N/A"}]
[null,null,{"$f":"VLOOKUP($B3069,'Ad Week Dates'!$A:$E,4,FALSE)","v":{"$error":"#N/A"}},{"$f":"VLOOKUP($B3069,'Ad Week Dates'!$A:$E,2,FALSE)","v":{"$error":"#N/A"}},{"$f":"VLOOKUP($B3069,'Ad Week Dates'!$A:$E,3,FALSE)","v":{"$error":"#N/A"}},null,null,null,null,null,null,{"$error":"#N/A"}]
[null,null,{"$f":"VLOOKUP($B3070,'Ad Week Dates'!$A:$E,4,FALSE)","v":{"$error":"#N/A"}},{"$f":"VLOOKUP($B3070,'Ad Week Dates'!$A:$E,2,FALSE)","v":{"$error":"#N/A"}},{"$f":"VLOOKUP($B3070,'Ad Week Dates'!$A:$E,3,FALSE)","v":{"$error":"#N/A"}},null,null,null,null,null,null,{"$error":"#N/A"}]
[null,null,{"$f":"VLOOKUP($B3071,'Ad Week Dates'!$A:$E,4,FALSE)","v":{"$error":"#N/A"}},{"$f":"VLOOKUP($B3071,'Ad Week Dates'!$A:$E,2,FALSE)","v":{"$error":"#N/A"}},{"$f":"VLOOKUP($B3071,'Ad Week Dates'!$A:$E,3,FALSE)","v":{"$error":"#N/A"}},null,null,null,null,null,null,{"$error":"#N/A"}]
[null,null,{"$f":"VLOOKUP($B3072,'Ad Week Dates'!$A:$E,4,FALSE)","v":{"$error":"#N/A"}},{"$f":"VLOOKUP($B3072,'Ad Week Dates'!$A:$E,2,FALSE)","v":{"$error":"#N/A"}},{"$f":"VLOOKUP($B3072,'Ad Week Dates'!$A:$E,3,FALSE)","v":{"$error":"#N/A"}},null,null,null,null,null,null,{"$error":"#N/A"}]
[null,null,{"$f":"VLOOKUP($B3073,'Ad Week Dates'!$A:$E,4,FALSE)","v":{"$error":"#N/A"}},{"$f":"VLOOKUP($B3073,'Ad Week Dates'!$A:$E,2,FALSE)","v":{"$error":"#N/A"}},{"$f":"VLOOKUP($B3073,'Ad Week Dates'!$A:$E,3,FALSE)","v":{"$error":"#N/A"}},null,null,null,null,null,null,{"$error":"#N/A"}]
[null,null,{"$f":"VLOOKUP($B3074,'Ad Week Dates'!$A:$E,4,FALSE)","v":{"$error":"#N/A"}},{"$f":"VLOOKUP($B3074,'Ad Week Dates'!$A:$E,2,FALSE)","v":{"$error":"#N/A"}},{"$f":"VLOOKUP($B3074,'Ad Week Dates'!$A:$E,3,FALSE)","v":{"$error":"#N/A"}},null,null,null,null,null,null,{"$error":"#N/A"}]
[null,null,{"$f":"VLOOKUP($B3075,'Ad Week Dates'!$A:$E,4,FALSE)","v":{"$error":"#N/A"}},{"$f":"VLOOKUP($B3075,'Ad Week Dates'!$A:$E,2,FALSE)","v":{"$error":"#N/A"}},{"$f":"VLOOKUP($B3075,'Ad Week Dates'!$A:$E,3,FALSE)","v":{"$error":"#N/A"}},null,null,null,null,null,null,{"$error":"#N/A"}]
[null,null,{"$f":"VLOOKUP($B3076,'Ad Week Dates'!$A:$E,4,FALSE)","v":{"$error":"#N/A"}},{"$f":"VLOOKUP($B3076,'Ad Week Dates'!$A:$E,2,FALSE)","v":{"$error":"#N/A"}},{"$f":"VLOOKUP($B3076,'Ad Week Dates'!$A:$E,3,FALSE)","v":{"$error":"#N/A"}},null,null,null,null,null,null,{"$error":"#N/A"}]
[null,null,{"$f":"VLOOKUP($B3077,'Ad Week Dates'!$A:$E,4,FALSE)","v":{"$error":"#N/A"}},{"$f":"VLOOKUP($B3077,'Ad Week Dates'!$A:$E,2,FALSE)","v":{"$error":"#N/A"}},{"$f":"VLOOKUP($B3077,'Ad Week Dates'!$A:$E,3,FALSE)","v":{"$error":"#N/A"}},null,null,null,null,null,null,{"$error":"#N/A"}]
[null,null,{"$f":"VLOOKUP($B3078,'Ad Week Dates'!$A:$E,4,FALSE)","v":{"$error":"#N/A"}},{"$f":"VLOOKUP($B3078,'Ad Week Dates'!$A:$E,2,FALSE)","v":{"$error":"#N/A"}},{"$f":"VLOOKUP($B3078,'Ad Week Dates'!$A:$E,3,FALSE)","v":{"$error":"#N/A"}},null,null,null,null,null,null,{"$f":"IF(ISNUMBER(J3078), J3078 - K3078, VALUE(_xlfn.TEXTBEFORE(J3078, \"-\")) - VALUE(_xlfn.TEXTBEFORE(K3078, \"-\")))","v":{"$error":"#N/A"}}]
[null,null,{"$f":"VLOOKUP($B3079,'Ad Week Dates'!$A:$E,4,FALSE)","v":{"$error":"#N/A"}},{"$f":"VLOOKUP($B3079,'Ad Week Dates'!$A:$E,2,FALSE)","v":{"$error":"#N/A"}},{"$f":"VLOOKUP($B3079,'Ad Week Dates'!$A:$E,3,FALSE)","v":{"$error":"#N/A"}},null,null,null,null,null,null,{"$error":"#N/A"}]
[null,null,{"$f":"VLOOKUP($B3080,'Ad Week Dates'!$A:$E,4,FALSE)","v":{"$error":"#N/A"}},{"$f":"VLOOKUP($B3080,'Ad Week Dates'!$A:$E,2,FALSE)","v":{"$error":"#N/A"}},{"$f":"VLOOKUP($B3080,'Ad Week Dates'!$A:$E,3,FALSE)","v":{"$error":"#N/A"}},null,null,null,null,null,null,{"$error":"#N/A"}]
[null,null,{"$f":"VLOOKUP($B3081,'Ad Week Dates'!$A:$E,4,FALSE)","v":{"$error":"#N/A"}},{"$f":"VLOOKUP($B3081,'Ad Week Dates'!$A:$E,2,FALSE)","v":{"$error":"#N/A"}},{"$f":"VLOOKUP($B3081,'Ad Week Dates'!$A:$E,3,FALSE)","v":{"$error":"#N/A"}},null,null,null,null,null,null,{"$error":"#N/A"}]
[null,null,{"$f":"VLOOKUP($B3082,'Ad Week Dates'!$A:$E,4,FALSE)","v":{"$error":"#N/A"}},{"$f":"VLOOKUP($B3082,'Ad Week Dates'!$A:$E,2,FALSE)","v":{"$error":"#N/A"}},{"$f":"VLOOKUP($B3082,'Ad Week Dates'!$A:$E,3,FALSE)","v":{"$error":"#N/A"}},null,null,null,null,null,null,{"$error":"#N/A"}]
[null,null,{"$f":"VLOOKUP($B3083,'Ad Week Dates'!$A:$E,4,FALSE)","v":{"$error":"#N/A"}},{"$f":"VLOOKUP($B3083,'Ad Week Dates'!$A:$E,2,FALSE)","v":{"$error":"#N/A"}},{"$f":"VLOOKUP($B3083,'Ad Week Dates'!$A:$E,3,FALSE)","v":{"$error":"#N/A"}},null,null,null,null,null,null,{"$error":"#N/A"}]
[null,null,{"$f":"VLOOKUP($B3084,'Ad Week Dates'!$A:$E,4,FALSE)","v":{"$error":"#N/A"}},{"$f":"VLOOKUP($B3084,'Ad Week Dates'!$A:$E,2,FALSE)","v":{"$error":"#N/A"}},{"$f":"VLOOKUP($B3084,'Ad Week Dates'!$A:$E,3,FALSE)","v":{"$error":"#N/A"}},null,null,null,null,null,null,{"$error":"#N/A"}]
[null,null,{"$f":"VLOOKUP($B3085,'Ad Week Dates'!$A:$E,4,FALSE)","v":{"$error":"#N/A"}},{"$f":"VLOOKUP($B3085,'Ad Week Dates'!$A:$E,2,FALSE)","v":{"$error":"#N/A"}},{"$f":"VLOOKUP($B3085,'Ad Week Dates'!$A:$E,3,FALSE)","v":{"$error":"#N/A"}},null,null,null,null,null,null,{"$error":"#N/A"}]
[null,null,{"$f":"VLOOKUP($B3086,'Ad Week Dates'!$A:$E,4,FALSE)","v":{"$error":"#N/A"}},{"$f":"VLOOKUP($B3086,'Ad Week Dates'!$A:$E,2,FALSE)","v":{"$error":"#N/A"}},{"$f":"VLOOKUP($B3086,'Ad Week Dates'!$A:$E,3,FALSE)","v":{"$error":"#N/A"}},null,null,null,null,null,null,{"$error":"#N/A"}]
[null,null,{"$f":"VLOOKUP($B3087,'Ad Week Dates'!$A:$E,4,FALSE)","v":{"$error":"#N/A"}},{"$f":"VLOOKUP($B3087,'Ad Week Dates'!$A:$E,2,FALSE)","v":{"$error":"#N/A"}},{"$f":"VLOOKUP($B3087,'Ad Week Dates'!$A:$E,3,FALSE)","v":{"$error":"#N/A"}},null,null,null,null,null,null,{"$error":"#N/A"}]
[null,null,{"$f":"VLOOKUP($B3088,'Ad Week Dates'!$A:$E,4,FALSE)","v":{"$error":"#N/A"}},{"$f":"VLOOKUP($B3088,'Ad Week Dates'!$A:$E,2,FALSE)","v":{"$error":"#N/A"}},{"$f":"VLOOKUP($B3088,'Ad Week Dates'!$A:$E,3,FALSE)","v":{"$error":"#N/A"}},null,null,null,null,null,null,{"$error":"#N/A"}]
[null,null,{"$f":"VLOOKUP($B3089,'Ad Week Dates'!$A:$E,4,FALSE)","v":{"$error":"#N/A"}},{"$f":"VLOOKUP($B3089,'Ad Week Dates'!$A:$E,2,FALSE)","v":{"$error":"#N/A"}},{"$f":"VLOOKUP($B3089,'Ad Week Dates'!$A:$E,3,FALSE)","v":{"$error":"#N/A"}},null,null,null,null,null,null,{"$error":"#N/A"}]
[null,null,{"$f":"VLOOKUP($B3090,'Ad Week Dates'!$A:$E,4,FALSE)","v":{"$error":"#N/A"}},{"$f":"VLOOKUP($B3090,'Ad Week Dates'!$A:$E,2,FALSE)","v":{"$error":"#N/A"}},{"$f":"VLOOKUP($B3090,'Ad Week Dates'!$A:$E,3,FALSE)","v":{"$error":"#N/A"}},null,null,null,null,null,null,{"$error":"#N/A"}]
[null,null,{"$f":"VLOOKUP($B3091,'Ad Week Dates'!$A:$E,4,FALSE)","v":{"$error":"#N/A"}},{"$f":"VLOOKUP($B3091,'Ad Week Dates'!$A:$E,2,FALSE)","v":{"$error":"#N/A"}},{"$f":"VLOOKUP($B3091,'Ad Week Dates'!$A:$E,3,FALSE)","v":{"$error":"#N/A"}},null,null,null,null,null,null,{"$error":"#N/A"}]
[null,null,{"$f":"VLOOKUP($B3092,'Ad Week Dates'!$A:$E,4,FALSE)","v":{"$error":"#N/A"}},{"$f":"VLOOKUP($B3092,'Ad Week Dates'!$A:$E,2,FALSE)","v":{"$error":"#N/A"}},{"$f":"VLOOKUP($B3092,'Ad Week Dates'!$A:$E,3,FALSE)","v":{"$error":"#N/A"}},null,null,null,null,null,null,{"$error":"#N/A"}]
[null,null,{"$f":"VLOOKUP($B3093,'Ad Week Dates'!$A:$E,4,FALSE)","v":{"$error":"#N/A"}},{"$f":"VLOOKUP($B3093,'Ad Week Dates'!$A:$E,2,FALSE)","v":{"$error":"#N/A"}},{"$f":"VLOOKUP($B3093,'Ad Week Dates'!$A:$E,3,FALSE)","v":{"$error":"#N/A"}},null,null,null,null,null,null,{"$error":"#N/A"}]
[null,null,{"$f":"VLOOKUP($B3094,'Ad Week Dates'!$A:$E,4,FALSE)","v":{"$error":"#N/A"}},{"$f":"VLOOKUP($B3094,'Ad Week Dates'!$A:$E,2,FALSE)","v":{"$error":"#N/A"}},{"$f":"VLOOKUP($B3094,'Ad Week Dates'!$A:$E,3,FALSE)","v":{"$error":"#N/A"}},null,null,null,null,null,null,{"$error":"#N/A"}]
[null,null,{"$f":"VLOOKUP($B3095,'Ad Week Dates'!$A:$E,4,FALSE)","v":{"$error":"#N/A"}},{"$f":"VLOOKUP($B3095,'Ad Week Dates'!$A:$E,2,FALSE)","v":{"$error":"#N/A"}},{"$f":"VLOOKUP($B3095,'Ad Week Dates'!$A:$E,3,FALSE)","v":{"$error":"#N/A"}},null,null,null,null,null,null,{"$error":"#N/A"}]
[null,null,{"$f":"VLOOKUP($B3096,'Ad Week Dates'!$A:$E,4,FALSE)","v":{"$error":"#N/A"}},{"$f":"VLOOKUP($B3096,'Ad Week Dates'!$A:$E,2,FALSE)","v":{"$error":"#N/A"}},{"$f":"VLOOKUP($B3096,'Ad Week Dates'!$A:$E,3,FALSE)","v":{"$error":"#N/A"}},null,null,null,null,null,null,{"$error":"#N/A"}]
[null,null,{"$f":"VLOOKUP($B3097,'Ad Week Dates'!$A:$E,4,FALSE)","v":{"$error":"#N/A"}},{"$f":"VLOOKUP($B3097,'Ad Week Dates'!$A:$E,2,FALSE)","v":{"$error":"#N/A"}},{"$f":"VLOOKUP($B3097,'Ad Week Dates'!$A:$E,3,FALSE)","v":{"$error":"#N/A"}},null,null,null,null,null,null,{"$error":"#N/A"}]
[null,null,{"$f":"VLOOKUP($B3098,'Ad Week Dates'!$A:$E,4,FALSE)","v":{"$error":"#N/A"}},{"$f":"VLOOKUP($B3098,'Ad Week Dates'!$A:$E,2,FALSE)","v":{"$error":"#N/A"}},{"$f":"VLOOKUP($B3098,'Ad Week Dates'!$A:$E,3,FALSE)","v":{"$error":"#N/A"}},null,null,null,null,null,null,{"$error":"#N/A"}]
[null,null,{"$f":"VLOOKUP($B3099,'Ad Week Dates'!$A:$E,4,FALSE)","v":{"$error":"#N/A"}},{"$f":"VLOOKUP($B3099,'Ad Week Dates'!$A:$E,2,FALSE)","v":{"$error":"#N/A"}},{"$f":"VLOOKUP($B3099,'Ad Week Dates'!$A:$E,3,FALSE)","v":{"$error":"#N/A"}},null,null,null,null,null,null,{"$error":"#N/A"}]
[null,null,{"$f":"VLOOKUP($B3100,'Ad Week Dates'!$A:$E,4,FALSE)","v":{"$error":"#N/A"}},{"$f":"VLOOKUP($B3100,'Ad Week Dates'!$A:$E,2,FALSE)","v":{"$error":"#N/A"}},{"$f":"VLOOKUP($B3100,'Ad Week Dates'!$A:$E,3,FALSE)","v":{"$error":"#N/A"}},null,null,null,null,null,null,{"$error":"#N/A"}]
[null,null,{"$f":"VLOOKUP($B3101,'Ad Week Dates'!$A:$E,4,FALSE)","v":{"$error":"#N/A"}},{"$f":"VLOOKUP($B3101,'Ad Week Dates'!$A:$E,2,FALSE)","v":{"$error":"#N/A"}},{"$f":"VLOOKUP($B3101,'Ad Week Dates'!$A:$E,3,FALSE)","v":{"$error":"#N/A"}},null,null,null,null,null,null,{"$error":"#N/A"}]
[null,null,{"$f":"VLOOKUP($B3102,'Ad Week Dates'!$A:$E,4,FALSE)","v":{"$error":"#N/A"}},{"$f":"VLOOKUP($B3102,'Ad Week Dates'!$A:$E,2,FALSE)","v":{"$error":"#N/A"}},{"$f":"VLOOKUP($B3102,'Ad Week Dates'!$A:$E,3,FALSE)","v":{"$error":"#N/A"}},null,null,null,null,null,null,{"$error":"#N/A"}]
[null,null,{"$f":"VLOOKUP($B3103,'Ad Week Dates'!$A:$E,4,FALSE)","v":{"$error":"#N/A"}},{"$f":"VLOOKUP($B3103,'Ad Week Dates'!$A:$E,2,FALSE)","v":{"$error":"#N/A"}},{"$f":"VLOOKUP($B3103,'Ad Week Dates'!$A:$E,3,FALSE)","v":{"$error":"#N/A"}},null,null,null,null,null,null,{"$error":"#N/A"}]
[null,null,{"$f":"VLOOKUP($B3104,'Ad Week Dates'!$A:$E,4,FALSE)","v":{"$error":"#N/A"}},{"$f":"VLOOKUP($B3104,'Ad Week Dates'!$A:$E,2,FALSE)","v":{"$error":"#N/A"}},{"$f":"VLOOKUP($B3104,'Ad Week Dates'!$A:$E,3,FALSE)","v":{"$error":"#N/A"}},null,null,null,null,null,null,{"$error":"#N/A"}]
[null,null,{"$f":"VLOOKUP($B3105,'Ad Week Dates'!$A:$E,4,FALSE)","v":{"$error":"#N/A"}},{"$f":"VLOOKUP($B3105,'Ad Week Dates'!$A:$E,2,FALSE)","v":{"$error":"#N/A"}},{"$f":"VLOOKUP($B3105,'Ad Week Dates'!$A:$E,3,FALSE)","v":{"$error":"#N/A"}},null,null,null,null,null,null,{"$error":"#N/A"}]
[null,null,{"$f":"VLOOKUP($B3106,'Ad Week Dates'!$A:$E,4,FALSE)","v":{"$error":"#N/A"}},{"$f":"VLOOKUP($B3106,'Ad Week Dates'!$A:$E,2,FALSE)","v":{"$error":"#N/A"}},{"$f":"VLOOKUP($B3106,'Ad Week Dates'!$A:$E,3,FALSE)","v":{"$error":"#N/A"}},null,null,null,null,null,null,{"$error":"#N/A"}]
[null,null,{"$f":"VLOOKUP($B3107,'Ad Week Dates'!$A:$E,4,FALSE)","v":{"$error":"#N/A"}},{"$f":"VLOOKUP($B3107,'Ad Week Dates'!$A:$E,2,FALSE)","v":{"$error":"#N/A"}},{"$f":"VLOOKUP($B3107,'Ad Week Dates'!$A:$E,3,FALSE)","v":{"$error":"#N/A"}},null,null,null,null,null,null,{"$error":"#N/A"}]
[null,null,{"$f":"VLOOKUP($B3108,'Ad Week Dates'!$A:$E,4,FALSE)","v":{"$error":"#N/A"}},{"$f":"VLOOKUP($B3108,'Ad Week Dates'!$A:$E,2,FALSE)","v":{"$error":"#N/A"}},{"$f":"VLOOKUP($B3108,'Ad Week Dates'!$A:$E,3,FALSE)","v":{"$error":"#N/A"}},null,null,null,null,null,null,{"$error":"#N/A"}]
[null,null,{"$f":"VLOOKUP($B3109,'Ad Week Dates'!$A:$E,4,FALSE)","v":{"$error":"#N/A"}},{"$f":"VLOOKUP($B3109,'Ad Week Dates'!$A:$E,2,FALSE)","v":{"$error":"#N/A"}},{"$f":"VLOOKUP($B3109,'Ad Week Dates'!$A:$E,3,FALSE)","v":{"$error":"#N/A"}},null,null,null,null,null,null,{"$error":"#N/A"}]
[null,null,{"$f":"VLOOKUP($B3110,'Ad Week Dates'!$A:$E,4,FALSE)","v":{"$error":"#N/A"}},{"$f":"VLOOKUP($B3110,'Ad Week Dates'!$A:$E,2,FALSE)","v":{"$error":"#N/A"}},{"$f":"VLOOKUP($B3110,'Ad Week Dates'!$A:$E,3,FALSE)","v":{"$error":"#N/A"}},null,null,null,null,null,null,{"$error":"#N/A"}]
[null,null,{"$f":"VLOOKUP($B3111,'Ad Week Dates'!$A:$E,4,FALSE)","v":{"$error":"#N/A"}},{"$f":"VLOOKUP($B3111,'Ad Week Dates'!$A:$E,2,FALSE)","v":{"$error":"#N/A"}},{"$f":"VLOOKUP($B3111,'Ad Week Dates'!$A:$E,3,FALSE)","v":{"$error":"#N/A"}},null,null,null,null,null,null,{"$error":"#N/A"}]
[null,null,{"$f":"VLOOKUP($B3112,'Ad Week Dates'!$A:$E,4,FALSE)","v":{"$error":"#N/A"}},{"$f":"VLOOKUP($B3112,'Ad Week Dates'!$A:$E,2,FALSE)","v":{"$error":"#N/A"}},{"$f":"VLOOKUP($B3112,'Ad Week Dates'!$A:$E,3,FALSE)","v":{"$error":"#N/A"}},null,null,null,null,null,null,{"$error":"#N/A"}]
[null,null,{"$f":"VLOOKUP($B3113,'Ad Week Dates'!$A:$E,4,FALSE)","v":{"$error":"#N/A"}},{"$f":"VLOOKUP($B3113,'Ad Week Dates'!$A:$E,2,FALSE)","v":{"$error":"#N/A"}},{"$f":"VLOOKUP($B3113,'Ad Week Dates'!$A:$E,3,FALSE)","v":{"$error":"#N/A"}},null,null,null,null,null,null,{"$error":"#N/A"}]
[null,null,{"$f":"VLOOKUP($B3114,'Ad Week Dates'!$A:$E,4,FALSE)","v":{"$error":"#N/A"}},{"$f":"VLOOKUP($B3114,'Ad Week Dates'!$A:$E,2,FALSE)","v":{"$error":"#N/A"}},{"$f":"VLOOKUP($B3114,'Ad Week Dates'!$A:$E,3,FALSE)","v":{"$error":"#N/A"}},null,null,null,null,null,null,{"$error":"#N/A"}]
[null,null,{"$f":"VLOOKUP($B3115,'Ad Week Dates'!$A:$E,4,FALSE)","v":{"$error":"#N/A"}},{"$f":"VLOOKUP($B3115,'Ad Week Dates'!$A:$E,2,FALSE)","v":{"$error":"#N/A"}},{"$f":"VLOOKUP($B3115,'Ad Week Dates'!$A:$E,3,FALSE)","v":{"$error":"#N/A"}},null,null,null,null,null,null,{"$error":"#N/A"}]
[null,null,{"$f":"VLOOKUP($B3116,'Ad Week Dates'!$A:$E,4,FALSE)","v":{"$error":"#N/A"}},{"$f":"VLOOKUP($B3116,'Ad Week Dates'!$A:$E,2,FALSE)","v":{"$error":"#N/A"}},{"$f":"VLOOKUP($B3116,'Ad Week Dates'!$A:$E,3,FALSE)","v":{"$error":"#N/A"}},null,null,null,null,null,null,{"$error":"#N/A"}]
[null,null,{"$f":"VLOOKUP($B3117,'Ad Week Dates'!$A:$E,4,FALSE)","v":{"$error":"#N/A"}},{"$f":"VLOOKUP($B3117,'Ad Week Dates'!$A:$E,2,FALSE)","v":{"$error":"#N/A"}},{"$f":"VLOOKUP($B3117,'Ad Week Dates'!$A:$E,3,FALSE)","v":{"$error":"#N/A"}},null,null,null,null,null,null,{"$error":"#N/A"}]
[null,null,{"$f":"VLOOKUP($B3118,'Ad Week Dates'!$A:$E,4,FALSE)","v":{"$error":"#N/A"}},{"$f":"VLOOKUP($B3118,'Ad Week Dates'!$A:$E,2,FALSE)","v":{"$error":"#N/A"}},{"$f":"VLOOKUP($B3118,'Ad Week Dates'!$A:$E,3,FALSE)","v":{"$error":"#N/A"}},null,null,null,null,null,null,{"$error":"#N/A"}]
[null,null,{"$f":"VLOOKUP($B3119,'Ad Week Dates'!$A:$E,4,FALSE)","v":{"$error":"#N/A"}},{"$f":"VLOOKUP($B3119,'Ad Week Dates'!$A:$E,2,FALSE)","v":{"$error":"#N/A"}},{"$f":"VLOOKUP($B3119,'Ad Week Dates'!$A:$E,3,FALSE)","v":{"$error":"#N/A"}},null,null,null,null,null,null,{"$error":"#N/A"}]
[null,null,{"$f":"VLOOKUP($B3120,'Ad Week Dates'!$A:$E,4,FALSE)","v":{"$error":"#N/A"}},{"$f":"VLOOKUP($B3120,'Ad Week Dates'!$A:$E,2,FALSE)","v":{"$error":"#N/A"}},{"$f":"VLOOKUP($B3120,'Ad Week Dates'!$A:$E,3,FALSE)","v":{"$error":"#N/A"}},null,null,null,null,null,null,{"$error":"#N/A"}]
[null,null,{"$f":"VLOOKUP($B3121,'Ad Week Dates'!$A:$E,4,FALSE)","v":{"$error":"#N/A"}},{"$f":"VLOOKUP($B3121,'Ad Week Dates'!$A:$E,2,FALSE)","v":{"$error":"#N/A"}},{"$f":"VLOOKUP($B3121,'Ad Week Dates'!$A:$E,3,FALSE)","v":{"$error":"#N/A"}},null,null,null,null,null,null,{"$error":"#N/A"}]
[null,null,{"$f":"VLOOKUP($B3122,'Ad Week Dates'!$A:$E,4,FALSE)","v":{"$error":"#N/A"}},{"$f":"VLOOKUP($B3122,'Ad Week Dates'!$A:$E,2,FALSE)","v":{"$error":"#N/A"}},{"$f":"VLOOKUP($B3122,'Ad Week Dates'!$A:$E,3,FALSE)","v":{"$error":"#N/A"}},null,null,null,null,null,null,{"$error":"#N/A"}]
[null,null,{"$f":"VLOOKUP($B3123,'Ad Week Dates'!$A:$E,4,FALSE)","v":{"$error":"#N/A"}},{"$f":"VLOOKUP($B3123,'Ad Week Dates'!$A:$E,2,FALSE)","v":{"$error":"#N/A"}},{"$f":"VLOOKUP($B3123,'Ad Week Dates'!$A:$E,3,FALSE)","v":{"$error":"#N/A"}},null,null,null,null,null,null,{"$error":"#N/A"}]
[null,null,{"$f":"VLOOKUP($B3124,'Ad Week Dates'!$A:$E,4,FALSE)","v":{"$error":"#N/A"}},{"$f":"VLOOKUP($B3124,'Ad Week Dates'!$A:$E,2,FALSE)","v":{"$error":"#N/A"}},{"$f":"VLOOKUP($B3124,'Ad Week Dates'!$A:$E,3,FALSE)","v":{"$error":"#N/A"}},null,null,null,null,null,null,{"$error":"#N/A"}]
[null,null,{"$f":"VLOOKUP($B3125,'Ad Week Dates'!$A:$E,4,FALSE)","v":{"$error":"#N/A"}},{"$f":"VLOOKUP($B3125,'Ad Week Dates'!$A:$E,2,FALSE)","v":{"$error":"#N/A"}},{"$f":"VLOOKUP($B3125,'Ad Week Dates'!$A:$E,3,FALSE)","v":{"$error":"#N/A"}},null,null,null,null,null,null,{"$error":"#N/A"}]
[null,null,{"$f":"VLOOKUP($B3126,'Ad Week Dates'!$A:$E,4,FALSE)","v":{"$error":"#N/A"}},{"$f":"VLOOKUP($B3126,'Ad Week Dates'!$A:$E,2,FALSE)","v":{"$error":"#N/A"}},{"$f":"VLOOKUP($B3126,'Ad Week Dates'!$A:$E,3,FALSE)","v":{"$error":"#N/A"}},null,null,null,null,null,null,{"$error":"#N/A"}]
[null,null,{"$f":"VLOOKUP($B3127,'Ad Week Dates'!$A:$E,4,FALSE)","v":{"$error":"#N/A"}},{"$f":"VLOOKUP($B3127,'Ad Week Dates'!$A:$E,2,FALSE)","v":{"$error":"#N/A"}},{"$f":"VLOOKUP($B3127,'Ad Week Dates'!$A:$E,3,FALSE)","v":{"$error":"#N/A"}},null,null,null,null,null,null,{"$error":"#N/A"}]
[null,null,{"$f":"VLOOKUP($B3128,'Ad Week Dates'!$A:$E,4,FALSE)","v":{"$error":"#N/A"}},{"$f":"VLOOKUP($B3128,'Ad Week Dates'!$A:$E,2,FALSE)","v":{"$error":"#N/A"}},{"$f":"VLOOKUP($B3128,'Ad Week Dates'!$A:$E,3,FALSE)","v":{"$error":"#N/A"}},null,null,null,null,null,null,{"$error":"#N/A"}]
[null,null,{"$f":"VLOOKUP($B3129,'Ad Week Dates'!$A:$E,4,FALSE)","v":{"$error":"#N/A"}},{"$f":"VLOOKUP($B3129,'Ad Week Dates'!$A:$E,2,FALSE)","v":{"$error":"#N/A"}},{"$f":"VLOOKUP($B3129,'Ad Week Dates'!$A:$E,3,FALSE)","v":{"$error":"#N/A"}},null,null,null,null,null,null,{"$error":"#N/A"}]
[null,null,{"$f":"VLOOKUP($B3130,'Ad Week Dates'!$A:$E,4,FALSE)","v":{"$error":"#N/A"}},{"$f":"VLOOKUP($B3130,'Ad Week Dates'!$A:$E,2,FALSE)","v":{"$error":"#N/A"}},{"$f":"VLOOKUP($B3130,'Ad Week Dates'!$A:$E,3,FALSE)","v":{"$error":"#N/A"}},null,null,null,null,null,null,{"$error":"#N/A"}]
[null,null,{"$f":"VLOOKUP($B3131,'Ad Week Dates'!$A:$E,4,FALSE)","v":{"$error":"#N/A"}},{"$f":"VLOOKUP($B3131,'Ad Week Dates'!$A:$E,2,FALSE)","v":{"$error":"#N/A"}},{"$f":"VLOOKUP($B3131,'Ad Week Dates'!$A:$E,3,FALSE)","v":{"$error":"#N/A"}},null,null,null,null,null,null,{"$error":"#N/A"}]
[null,null,{"$f":"VLOOKUP($B3132,'Ad Week Dates'!$A:$E,4,FALSE)","v":{"$error":"#N/A"}},{"$f":"VLOOKUP($B3132,'Ad Week Dates'!$A:$E,2,FALSE)","v":{"$error":"#N/A"}},{"$f":"VLOOKUP($B3132,'Ad Week Dates'!$A:$E,3,FALSE)","v":{"$error":"#N/A"}},null,null,null,null,null,null,{"$error":"#N/A"}]
[null,null,{"$f":"VLOOKUP($B3133,'Ad Week Dates'!$A:$E,4,FALSE)","v":{"$error":"#N/A"}},{"$f":"VLOOKUP($B3133,'Ad Week Dates'!$A:$E,2,FALSE)","v":{"$error":"#N/A"}},{"$f":"VLOOKUP($B3133,'Ad Week Dates'!$A:$E,3,FALSE)","v":{"$error":"#N/A"}},null,null,null,null,null,null,{"$error":"#N/A"}]
[null,null,{"$f":"VLOOKUP($B3134,'Ad Week Dates'!$A:$E,4,FALSE)","v":{"$error":"#N/A"}},{"$f":"VLOOKUP($B3134,'Ad Week Dates'!$A:$E,2,FALSE)","v":{"$error":"#N/A"}},{"$f":"VLOOKUP($B3134,'Ad Week Dates'!$A:$E,3,FALSE)","v":{"$error":"#N/A"}},null,null,null,null,null,null,{"$error":"#N/A"}]
[null,null,{"$f":"VLOOKUP($B3135,'Ad Week Dates'!$A:$E,4,FALSE)","v":{"$error":"#N/A"}},{"$f":"VLOOKUP($B3135,'Ad Week Dates'!$A:$E,2,FALSE)","v":{"$error":"#N/A"}},{"$f":"VLOOKUP($B3135,'Ad Week Dates'!$A:$E,3,FALSE)","v":{"$error":"#N/A"}},null,null,null,null,null,null,{"$error":"#N/A"}]
[null,null,{"$f":"VLOOKUP($B3136,'Ad Week Dates'!$A:$E,4,FALSE)","v":{"$error":"#N/A"}},{"$f":"VLOOKUP($B3136,'Ad Week Dates'!$A:$E,2,FALSE)","v":{"$error":"#N/A"}},{"$f":"VLOOKUP($B3136,'Ad Week Dates'!$A:$E,3,FALSE)","v":{"$error":"#N/A"}},null,null,null,null,null,null,{"$error":"#N/A"}]
[null,null,{"$f":"VLOOKUP($B3137,'Ad Week Dates'!$A:$E,4,FALSE)","v":{"$error":"#N/A"}},{"$f":"VLOOKUP($B3137,'Ad Week Dates'!$A:$E,2,FALSE)","v":{"$error":"#N/A"}},{"$f":"VLOOKUP($B3137,'Ad Week Dates'!$A:$E,3,FALSE)","v":{"$error":"#N/A"}},null,null,null,null,null,null,{"$error":"#N/A"}]
[null,null,{"$f":"VLOOKUP($B3138,'Ad Week Dates'!$A:$E,4,FALSE)","v":{"$error":"#N/A"}},{"$f":"VLOOKUP($B3138,'Ad Week Dates'!$A:$E,2,FALSE)","v":{"$error":"#N/A"}},{"$f":"VLOOKUP($B3138,'Ad Week Dates'!$A:$E,3,FALSE)","v":{"$error":"#N/A"}},null,null,null,null,null,null,{"$error":"#N/A"}]
[null,null,{"$f":"VLOOKUP($B3139,'Ad Week Dates'!$A:$E,4,FALSE)","v":{"$error":"#N/A"}},{"$f":"VLOOKUP($B3139,'Ad Week Dates'!$A:$E,2,FALSE)","v":{"$error":"#N/A"}},{"$f":"VLOOKUP($B3139,'Ad Week Dates'!$A:$E,3,FALSE)","v":{"$error":"#N/A"}},null,null,null,null,null,null,{"$error":"#N/A"}]
[null,null,{"$f":"VLOOKUP($B3140,'Ad Week Dates'!$A:$E,4,FALSE)","v":{"$error":"#N/A"}},{"$f":"VLOOKUP($B3140,'Ad Week Dates'!$A:$E,2,FALSE)","v":{"$error":"#N/A"}},{"$f":"VLOOKUP($B3140,'Ad Week Dates'!$A:$E,3,FALSE)","v":{"$error":"#N/A"}},null,null,null,null,null,null,{"$error":"#N/A"}]
[null,null,{"$f":"VLOOKUP($B3141,'Ad Week Dates'!$A:$E,4,FALSE)","v":{"$error":"#N/A"}},{"$f":"VLOOKUP($B3141,'Ad Week Dates'!$A:$E,2,FALSE)","v":{"$error":"#N/A"}},{"$f":"VLOOKUP($B3141,'Ad Week Dates'!$A:$E,3,FALSE)","v":{"$error":"#N/A"}},null,null,null,null,null,null,{"$error":"#N/A"}]
[null,null,{"$f":"VLOOKUP($B3142,'Ad Week Dates'!$A:$E,4,FALSE)","v":{"$error":"#N/A"}},{"$f":"VLOOKUP($B3142,'Ad Week Dates'!$A:$E,2,FALSE)","v":{"$error":"#N/A"}},{"$f":"VLOOKUP($B3142,'Ad Week Dates'!$A:$E,3,FALSE)","v":{"$error":"#N/A"}},null,null,null,null,null,null,{"$f":"IF(ISNUMBER(J3142), J3142 - K3142, VALUE(_xlfn.TEXTBEFORE(J3142, \"-\")) - VALUE(_xlfn.TEXTBEFORE(K3142, \"-\")))","v":{"$error":"#N/A"}}]
[null,null,{"$f":"VLOOKUP($B3143,'Ad Week Dates'!$A:$E,4,FALSE)","v":{"$error":"#N/A"}},{"$f":"VLOOKUP($B3143,'Ad Week Dates'!$A:$E,2,FALSE)","v":{"$error":"#N/A"}},{"$f":"VLOOKUP($B3143,'Ad Week Dates'!$A:$E,3,FALSE)","v":{"$error":"#N/A"}},null,null,null,null,null,null,{"$error":"#N/A"}]
[null,null,{"$f":"VLOOKUP($B3144,'Ad Week Dates'!$A:$E,4,FALSE)","v":{"$error":"#N/A"}},{"$f":"VLOOKUP($B3144,'Ad Week Dates'!$A:$E,2,FALSE)","v":{"$error":"#N/A"}},{"$f":"VLOOKUP($B3144,'Ad Week Dates'!$A:$E,3,FALSE)","v":{"$error":"#N/A"}},null,null,null,null,null,null,{"$error":"#N/A"}]
[null,null,{"$f":"VLOOKUP($B3145,'Ad Week Dates'!$A:$E,4,FALSE)","v":{"$error":"#N/A"}},{"$f":"VLOOKUP($B3145,'Ad Week Dates'!$A:$E,2,FALSE)","v":{"$error":"#N/A"}},{"$f":"VLOOKUP($B3145,'Ad Week Dates'!$A:$E,3,FALSE)","v":{"$error":"#N/A"}},null,null,null,null,null,null,{"$error":"#N/A"}]
[null,null,{"$f":"VLOOKUP($B3146,'Ad Week Dates'!$A:$E,4,FALSE)","v":{"$error":"#N/A"}},{"$f":"VLOOKUP($B3146,'Ad Week Dates'!$A:$E,2,FALSE)","v":{"$error":"#N/A"}},{"$f":"VLOOKUP($B3146,'Ad Week Dates'!$A:$E,3,FALSE)","v":{"$error":"#N/A"}},null,null,null,null,null,null,{"$error":"#N/A"}]
[null,null,{"$f":"VLOOKUP($B3147,'Ad Week Dates'!$A:$E,4,FALSE)","v":{"$error":"#N/A"}},{"$f":"VLOOKUP($B3147,'Ad Week Dates'!$A:$E,2,FALSE)","v":{"$error":"#N/A"}},{"$f":"VLOOKUP($B3147,'Ad Week Dates'!$A:$E,3,FALSE)","v":{"$error":"#N/A"}},null,null,null,null,null,null,{"$error":"#N/A"}]
[null,null,{"$f":"VLOOKUP($B3148,'Ad Week Dates'!$A:$E,4,FALSE)","v":{"$error":"#N/A"}},{"$f":"VLOOKUP($B3148,'Ad Week Dates'!$A:$E,2,FALSE)","v":{"$error":"#N/A"}},{"$f":"VLOOKUP($B3148,'Ad Week Dates'!$A:$E,3,FALSE)","v":{"$error":"#N/A"}},null,null,null,null,null,null,{"$error":"#N/A"}]
[null,null,{"$f":"VLOOKUP($B3149,'Ad Week Dates'!$A:$E,4,FALSE)","v":{"$error":"#N/A"}},{"$f":"VLOOKUP($B3149,'Ad Week Dates'!$A:$E,2,FALSE)","v":{"$error":"#N/A"}},{"$f":"VLOOKUP($B3149,'Ad Week Dates'!$A:$E,3,FALSE)","v":{"$error":"#N/A"}},null,null,null,null,null,null,{"$error":"#N/A"}]
[null,null,{"$f":"VLOOKUP($B3150,'Ad Week Dates'!$A:$E,4,FALSE)","v":{"$error":"#N/A"}},{"$f":"VLOOKUP($B3150,'Ad Week Dates'!$A:$E,2,FALSE)","v":{"$error":"#N/A"}},{"$f":"VLOOKUP($B3150,'Ad Week Dates'!$A:$E,3,FALSE)","v":{"$error":"#N/A"}},null,null,null,null,null,null,{"$error":"#N/A"}]
[null,null,{"$f":"VLOOKUP($B3151,'Ad Week Dates'!$A:$E,4,FALSE)","v":{"$error":"#N/A"}},{"$f":"VLOOKUP($B3151,'Ad Week Dates'!$A:$E,2,FALSE)","v":{"$error":"#N/A"}},{"$f":"VLOOKUP($B3151,'Ad Week Dates'!$A:$E,3,FALSE)","v":{"$error":"#N/A"}},null,null,null,null,null,null,{"$error":"#N/A"}]
[null,null,{"$f":"VLOOKUP($B3152,'Ad Week Dates'!$A:$E,4,FALSE)","v":{"$error":"#N/A"}},{"$f":"VLOOKUP($B3152,'Ad Week Dates'!$A:$E,2,FALSE)","v":{"$error":"#N/A"}},{"$f":"VLOOKUP($B3152,'Ad Week Dates'!$A:$E,3,FALSE)","v":{"$error":"#N/A"}},null,null,null,null,null,null,{"$error":"#N/A"}]
[null,null,{"$f":"VLOOKUP($B3153,'Ad Week Dates'!$A:$E,4,FALSE)","v":{"$error":"#N/A"}},{"$f":"VLOOKUP($B3153,'Ad Week Dates'!$A:$E,2,FALSE)","v":{"$error":"#N/A"}},{"$f":"VLOOKUP($B3153,'Ad Week Dates'!$A:$E,3,FALSE)","v":{"$error":"#N/A"}},null,null,null,null,null,null,{"$error":"#N/A"}]
[null,null,{"$f":"VLOOKUP($B3154,'Ad Week Dates'!$A:$E,4,FALSE)","v":{"$error":"#N/A"}},{"$f":"VLOOKUP($B3154,'Ad Week Dates'!$A:$E,2,FALSE)","v":{"$error":"#N/A"}},{"$f":"VLOOKUP($B3154,'Ad Week Dates'!$A:$E,3,FALSE)","v":{"$error":"#N/A"}},null,null,null,null,null,null,{"$error":"#N/A"}]
[null,null,{"$f":"VLOOKUP($B3155,'Ad Week Dates'!$A:$E,4,FALSE)","v":{"$error":"#N/A"}},{"$f":"VLOOKUP($B3155,'Ad Week Dates'!$A:$E,2,FALSE)","v":{"$error":"#N/A"}},{"$f":"VLOOKUP($B3155,'Ad Week Dates'!$A:$E,3,FALSE)","v":{"$error":"#N/A"}},null,null,null,null,null,null,{"$error":"#N/A"}]
[null,null,{"$f":"VLOOKUP($B3156,'Ad Week Dates'!$A:$E,4,FALSE)","v":{"$error":"#N/A"}},{"$f":"VLOOKUP($B3156,'Ad Week Dates'!$A:$E,2,FALSE)","v":{"$error":"#N/A"}},{"$f":"VLOOKUP($B3156,'Ad Week Dates'!$A:$E,3,FALSE)","v":{"$error":"#N/A"}},null,null,null,null,null,null,{"$error":"#N/A"}]
[null,null,{"$f":"VLOOKUP($B3157,'Ad Week Dates'!$A:$E,4,FALSE)","v":{"$error":"#N/A"}},{"$f":"VLOOKUP($B3157,'Ad Week Dates'!$A:$E,2,FALSE)","v":{"$error":"#N/A"}},{"$f":"VLOOKUP($B3157,'Ad Week Dates'!$A:$E,3,FALSE)","v":{"$error":"#N/A"}},null,null,null,null,null,null,{"$error":"#N/A"}]
[null,null,{"$f":"VLOOKUP($B3158,'Ad Week Dates'!$A:$E,4,FALSE)","v":{"$error":"#N/A"}},{"$f":"VLOOKUP($B3158,'Ad Week Dates'!$A:$E,2,FALSE)","v":{"$error":"#N/A"}},{"$f":"VLOOKUP($B3158,'Ad Week Dates'!$A:$E,3,FALSE)","v":{"$error":"#N/A"}},null,null,null,null,null,null,{"$error":"#N/A"}]
[null,null,{"$f":"VLOOKUP($B3159,'Ad Week Dates'!$A:$E,4,FALSE)","v":{"$error":"#N/A"}},{"$f":"VLOOKUP($B3159,'Ad Week Dates'!$A:$E,2,FALSE)","v":{"$error":"#N/A"}},{"$f":"VLOOKUP($B3159,'Ad Week Dates'!$A:$E,3,FALSE)","v":{"$error":"#N/A"}},null,null,null,null,null,null,{"$error":"#N/A"}]
[null,null,{"$f":"VLOOKUP($B3160,'Ad Week Dates'!$A:$E,4,FALSE)","v":{"$error":"#N/A"}},{"$f":"VLOOKUP($B3160,'Ad Week Dates'!$A:$E,2,FALSE)","v":{"$error":"#N/A"}},{"$f":"VLOOKUP($B3160,'Ad Week Dates'!$A:$E,3,FALSE)","v":{"$error":"#N/A"}},null,null,null,null,null,null,{"$error":"#N/A"}]
[null,null,{"$f":"VLOOKUP($B3161,'Ad Week Dates'!$A:$E,4,FALSE)","v":{"$error":"#N/A"}},{"$f":"VLOOKUP($B3161,'Ad Week Dates'!$A:$E,2,FALSE)","v":{"$error":"#N/A"}},{"$f":"VLOOKUP($B3161,'Ad Week Dates'!$A:$E,3,FALSE)","v":{"$error":"#N/A"}},null,null,null,null,null,null,{"$error":"#N/A"}]
[null,null,{"$f":"VLOOKUP($B3162,'Ad Week Dates'!$A:$E,4,FALSE)","v":{"$error":"#N/A"}},{"$f":"VLOOKUP($B3162,'Ad Week Dates'!$A:$E,2,FALSE)","v":{"$error":"#N/A"}},{"$f":"VLOOKUP($B3162,'Ad Week Dates'!$A:$E,3,FALSE)","v":{"$error":"#N/A"}},null,null,null,null,null,null,{"$error":"#N/A"}]
[null,null,{"$f":"VLOOKUP($B3163,'Ad Week Dates'!$A:$E,4,FALSE)","v":{"$error":"#N/A"}},{"$f":"VLOOKUP($B3163,'Ad Week Dates'!$A:$E,2,FALSE)","v":{"$error":"#N/A"}},{"$f":"VLOOKUP($B3163,'Ad Week Dates'!$A:$E,3,FALSE)","v":{"$error":"#N/A"}},null,null,null,null,null,null,{"$error":"#N/A"}]
[null,null,{"$f":"VLOOKUP($B3164,'Ad Week Dates'!$A:$E,4,FALSE)","v":{"$error":"#N/A"}},{"$f":"VLOOKUP($B3164,'Ad Week Dates'!$A:$E,2,FALSE)","v":{"$error":"#N/A"}},{"$f":"VLOOKUP($B3164,'Ad Week Dates'!$A:$E,3,FALSE)","v":{"$error":"#N/A"}},null,null,null,null,null,null,{"$error":"#N/A"}]
[null,null,{"$f":"VLOOKUP($B3165,'Ad Week Dates'!$A:$E,4,FALSE)","v":{"$error":"#N/A"}},{"$f":"VLOOKUP($B3165,'Ad Week Dates'!$A:$E,2,FALSE)","v":{"$error":"#N/A"}},{"$f":"VLOOKUP($B3165,'Ad Week Dates'!$A:$E,3,FALSE)","v":{"$error":"#N/A"}},null,null,null,null,null,null,{"$error":"#N/A"}]
[null,null,{"$f":"VLOOKUP($B3166,'Ad Week Dates'!$A:$E,4,FALSE)","v":{"$error":"#N/A"}},{"$f":"VLOOKUP($B3166,'Ad Week Dates'!$A:$E,2,FALSE)","v":{"$error":"#N/A"}},{"$f":"VLOOKUP($B3166,'Ad Week Dates'!$A:$E,3,FALSE)","v":{"$error":"#N/A"}},null,null,null,null,null,null,{"$error":"#N/A"}]
[null,null,{"$f":"VLOOKUP($B3167,'Ad Week Dates'!$A:$E,4,FALSE)","v":{"$error":"#N/A"}},{"$f":"VLOOKUP($B3167,'Ad Week Dates'!$A:$E,2,FALSE)","v":{"$error":"#N/A"}},{"$f":"VLOOKUP($B3167,'Ad Week Dates'!$A:$E,3,FALSE)","v":{"$error":"#N/A"}},null,null,null,null,null,null,{"$error":"#N/A"}]
[null,null,{"$f":"VLOOKUP($B3168,'Ad Week Dates'!$A:$E,4,FALSE)","v":{"$error":"#N/A"}},{"$f":"VLOOKUP($B3168,'Ad Week Dates'!$A:$E,2,FALSE)","v":{"$error":"#N/A"}},{"$f":"VLOOKUP($B3168,'Ad Week Dates'!$A:$E,3,FALSE)","v":{"$error":"#N/A"}},null,null,null,null,null,null,{"$error":"#N/A"}]
[null,null,{"$f":"VLOOKUP($B3169,'Ad Week Dates'!$A:$E,4,FALSE)","v":{"$error":"#N/A"}},{"$f":"VLOOKUP($B3169,'Ad Week Dates'!$A:$E,2,FALSE)","v":{"$error":"#N/A"}},{"$f":"VLOOKUP($B3169,'Ad Week Dates'!$A:$E,3,FALSE)","v":{"$error":"#N/A"}},null,null,null,null,null,null,{"$error":"#N/A"}]
[null,null,{"$f":"VLOOKUP($B3170,'Ad Week Dates'!$A:$E,4,FALSE)","v":{"$error":"#N/A"}},{"$f":"VLOOKUP($B3170,'Ad Week Dates'!$A:$E,2,FALSE)","v":{"$error":"#N/A"}},{"$f":"VLOOKUP($B3170,'Ad Week Dates'!$A:$E,3,FALSE)","v":{"$error":"#N/A"}},null,null,null,null,null,null,{"$error":"#N/A"}]
[null,null,{"$f":"VLOOKUP($B3171,'Ad Week Dates'!$A:$E,4,FALSE)","v":{"$error":"#N/A"}},{"$f":"VLOOKUP($B3171,'Ad Week Dates'!$A:$E,2,FALSE)","v":{"$error":"#N/A"}},{"$f":"VLOOKUP($B3171,'Ad Week Dates'!$A:$E,3,FALSE)","v":{"$error":"#N/A"}},null,null,null,null,null,null,{"$error":"#N/A"}]
[null,null,{"$f":"VLOOKUP($B3172,'Ad Week Dates'!$A:$E,4,FALSE)","v":{"$error":"#N/A"}},{"$f":"VLOOKUP($B3172,'Ad Week Dates'!$A:$E,2,FALSE)","v":{"$error":"#N/A"}},{"$f":"VLOOKUP($B3172,'Ad Week Dates'!$A:$E,3,FALSE)","v":{"$error":"#N/A"}},null,null,null,null,null,null,{"$error":"#N/A"}]
[null,null,{"$f":"VLOOKUP($B3173,'Ad Week Dates'!$A:$E,4,FALSE)","v":{"$error":"#N/A"}},{"$f":"VLOOKUP($B3173,'Ad Week Dates'!$A:$E,2,FALSE)","v":{"$error":"#N/A"}},{"$f":"VLOOKUP($B3173,'Ad Week Dates'!$A:$E,3,FALSE)","v":{"$error":"#N/A"}},null,null,null,null,null,null,{"$error":"#N/A"}]
[null,null,{"$f":"VLOOKUP($B3174,'Ad Week Dates'!$A:$E,4,FALSE)","v":{"$error":"#N/A"}},{"$f":"VLOOKUP($B3174,'Ad Week Dates'!$A:$E,2,FALSE)","v":{"$error":"#N/A"}},{"$f":"VLOOKUP($B3174,'Ad Week Dates'!$A:$E,3,FALSE)","v":{"$error":"#N/A"}},null,null,null,null,null,null,{"$error":"#N/A"}]
[null,null,{"$f":"VLOOKUP($B3175,'Ad Week Dates'!$A:$E,4,FALSE)","v":{"$error":"#N/A"}},{"$f":"VLOOKUP($B3175,'Ad Week Dates'!$A:$E,2,FALSE)","v":{"$error":"#N/A"}},{"$f":"VLOOKUP($B3175,'Ad Week Dates'!$A:$E,3,FALSE)","v":{"$error":"#N/A"}},null,null,null,null,null,null,{"$error":"#N/A"}]
[null,null,{"$f":"VLOOKUP($B3176,'Ad Week Dates'!$A:$E,4,FALSE)","v":{"$error":"#N/A"}},{"$f":"VLOOKUP($B3176,'Ad Week Dates'!$A:$E,2,FALSE)","v":{"$error":"#N/A"}},{"$f":"VLOOKUP($B3176,'Ad Week Dates'!$A:$E,3,FALSE)","v":{"$error":"#N/A"}},null,null,null,null,null,null,{"$error":"#N/A"}]
[null,null,{"$f":"VLOOKUP($B3177,'Ad Week Dates'!$A:$E,4,FALSE)","v":{"$error":"#N/A"}},{"$f":"VLOOKUP($B3177,'Ad Week Dates'!$A:$E,2,FALSE)","v":{"$error":"#N/A"}},{"$f":"VLOOKUP($B3177,'Ad Week Dates'!$A:$E,3,FALSE)","v":{"$error":"#N/A"}},null,null,null,null,null,null,{"$error":"#N/A"}]
[null,null,{"$f":"VLOOKUP($B3178,'Ad Week Dates'!$A:$E,4,FALSE)","v":{"$error":"#N/A"}},{"$f":"VLOOKUP($B3178,'Ad Week Dates'!$A:$E,2,FALSE)","v":{"$error":"#N/A"}},{"$f":"VLOOKUP($B3178,'Ad Week Dates'!$A:$E,3,FALSE)","v":{"$error":"#N/A"}},null,null,null,null,null,null,{"$error":"#N/A"}]
[null,null,{"$f":"VLOOKUP($B3179,'Ad Week Dates'!$A:$E,4,FALSE)","v":{"$error":"#N/A"}},{"$f":"VLOOKUP($B3179,'Ad Week Dates'!$A:$E,2,FALSE)","v":{"$error":"#N/A"}},{"$f":"VLOOKUP($B3179,'Ad Week Dates'!$A:$E,3,FALSE)","v":{"$error":"#N/A"}},null,null,null,null,null,null,{"$error":"#N/A"}]
[null,null,{"$f":"VLOOKUP($B3180,'Ad Week Dates'!$A:$E,4,FALSE)","v":{"$error":"#N/A"}},{"$f":"VLOOKUP($B3180,'Ad Week Dates'!$A:$E,2,FALSE)","v":{"$error":"#N/A"}},{"$f":"VLOOKUP($B3180,'Ad Week Dates'!$A:$E,3,FALSE)","v":{"$error":"#N/A"}},null,null,null,null,null,null,{"$error":"#N/A"}]
[null,null,{"$f":"VLOOKUP($B3181,'Ad Week Dates'!$A:$E,4,FALSE)","v":{"$error":"#N/A"}},{"$f":"VLOOKUP($B3181,'Ad Week Dates'!$A:$E,2,FALSE)","v":{"$error":"#N/A"}},{"$f":"VLOOKUP($B3181,'Ad Week Dates'!$A:$E,3,FALSE)","v":{"$error":"#N/A"}},null,null,null,null,null,null,{"$error":"#N/A"}]
[null,null,{"$f":"VLOOKUP($B3182,'Ad Week Dates'!$A:$E,4,FALSE)","v":{"$error":"#N/A"}},{"$f":"VLOOKUP($B3182,'Ad Week Dates'!$A:$E,2,FALSE)","v":{"$error":"#N/A"}},{"$f":"VLOOKUP($B3182,'Ad Week Dates'!$A:$E,3,FALSE)","v":{"$error":"#N/A"}},null,null,null,null,null,null,{"$error":"#N/A"}]
[null,null,{"$f":"VLOOKUP($B3183,'Ad Week Dates'!$A:$E,4,FALSE)","v":{"$error":"#N/A"}},{"$f":"VLOOKUP($B3183,'Ad Week Dates'!$A:$E,2,FALSE)","v":{"$error":"#N/A"}},{"$f":"VLOOKUP($B3183,'Ad Week Dates'!$A:$E,3,FALSE)","v":{"$error":"#N/A"}},null,null,null,null,null,null,{"$error":"#N/A"}]
[null,null,{"$f":"VLOOKUP($B3184,'Ad Week Dates'!$A:$E,4,FALSE)","v":{"$error":"#N/A"}},{"$f":"VLOOKUP($B3184,'Ad Week Dates'!$A:$E,2,FALSE)","v":{"$error":"#N/A"}},{"$f":"VLOOKUP($B3184,'Ad Week Dates'!$A:$E,3,FALSE)","v":{"$error":"#N/A"}},null,null,null,null,null,null,{"$error":"#N/A"}]
[null,null,{"$f":"VLOOKUP($B3185,'Ad Week Dates'!$A:$E,4,FALSE)","v":{"$error":"#N/A"}},{"$f":"VLOOKUP($B3185,'Ad Week Dates'!$A:$E,2,FALSE)","v":{"$error":"#N/A"}},{"$f":"VLOOKUP($B3185,'Ad Week Dates'!$A:$E,3,FALSE)","v":{"$error":"#N/A"}},null,null,null,null,null,null,{"$error":"#N/A"}]
[null,null,{"$f":"VLOOKUP($B3186,'Ad Week Dates'!$A:$E,4,FALSE)","v":{"$error":"#N/A"}},{"$f":"VLOOKUP($B3186,'Ad Week Dates'!$A:$E,2,FALSE)","v":{"$error":"#N/A"}},{"$f":"VLOOKUP($B3186,'Ad Week Dates'!$A:$E,3,FALSE)","v":{"$error":"#N/A"}},null,null,null,null,null,null,{"$error":"#N/A"}]
[null,null,{"$f":"VLOOKUP($B3187,'Ad Week Dates'!$A:$E,4,FALSE)","v":{"$error":"#N/A"}},{"$f":"VLOOKUP($B3187,'Ad Week Dates'!$A:$E,2,FALSE)","v":{"$error":"#N/A"}},{"$f":"VLOOKUP($B3187,'Ad Week Dates'!$A:$E,3,FALSE)","v":{"$error":"#N/A"}},null,null,null,null,null,null,{"$error":"#N/A"}]
[null,null,{"$f":"VLOOKUP($B3188,'Ad Week Dates'!$A:$E,4,FALSE)","v":{"$error":"#N/A"}},{"$f":"VLOOKUP($B3188,'Ad Week Dates'!$A:$E,2,FALSE)","v":{"$error":"#N/A"}},{"$f":"VLOOKUP($B3188,'Ad Week Dates'!$A:$E,3,FALSE)","v":{"$error":"#N/A"}},null,null,null,null,null,null,{"$error":"#N/A"}]
[null,null,{"$f":"VLOOKUP($B3189,'Ad Week Dates'!$A:$E,4,FALSE)","v":{"$error":"#N/A"}},{"$f":"VLOOKUP($B3189,'Ad Week Dates'!$A:$E,2,FALSE)","v":{"$error":"#N/A"}},{"$f":"VLOOKUP($B3189,'Ad Week Dates'!$A:$E,3,FALSE)","v":{"$error":"#N/A"}},null,null,null,null,null,null,{"$error":"#N/A"}]
[null,null,{"$f":"VLOOKUP($B3190,'Ad Week Dates'!$A:$E,4,FALSE)","v":{"$error":"#N/A"}},{"$f":"VLOOKUP($B3190,'Ad Week Dates'!$A:$E,2,FALSE)","v":{"$error":"#N/A"}},{"$f":"VLOOKUP($B3190,'Ad Week Dates'!$A:$E,3,FALSE)","v":{"$error":"#N/A"}},null,null,null,null,null,null,{"$error":"#N/A"}]
[null,null,{"$f":"VLOOKUP($B3191,'Ad Week Dates'!$A:$E,4,FALSE)","v":{"$error":"#N/A"}},{"$f":"VLOOKUP($B3191,'Ad Week Dates'!$A:$E,2,FALSE)","v":{"$error":"#N/A"}},{"$f":"VLOOKUP($B3191,'Ad Week Dates'!$A:$E,3,FALSE)","v":{"$error":"#N/A"}},null,null,null,null,null,null,{"$error":"#N/A"}]
[null,null,{"$f":"VLOOKUP($B3192,'Ad Week Dates'!$A:$E,4,FALSE)","v":{"$error":"#N/A"}},{"$f":"VLOOKUP($B3192,'Ad Week Dates'!$A:$E,2,FALSE)","v":{"$error":"#N/A"}},{"$f":"VLOOKUP($B3192,'Ad Week Dates'!$A:$E,3,FALSE)","v":{"$error":"#N/A"}},null,null,null,null,null,null,{"$error":"#N/A"}]
[null,null,{"$f":"VLOOKUP($B3193,'Ad Week Dates'!$A:$E,4,FALSE)","v":{"$error":"#N/A"}},{"$f":"VLOOKUP($B3193,'Ad Week Dates'!$A:$E,2,FALSE)","v":{"$error":"#N/A"}},{"$f":"VLOOKUP($B3193,'Ad Week Dates'!$A:$E,3,FALSE)","v":{"$error":"#N/A"}},null,null,null,null,null,null,{"$error":"#N/A"}]
[null,null,{"$f":"VLOOKUP($B3194,'Ad Week Dates'!$A:$E,4,FALSE)","v":{"$error":"#N/A"}},{"$f":"VLOOKUP($B3194,'Ad Week Dates'!$A:$E,2,FALSE)","v":{"$error":"#N/A"}},{"$f":"VLOOKUP($B3194,'Ad Week Dates'!$A:$E,3,FALSE)","v":{"$error":"#N/A"}},null,null,null,null,null,null,{"$error":"#N/A"}]
[null,null,{"$f":"VLOOKUP($B3195,'Ad Week Dates'!$A:$E,4,FALSE)","v":{"$error":"#N/A"}},{"$f":"VLOOKUP($B3195,'Ad Week Dates'!$A:$E,2,FALSE)","v":{"$error":"#N/A"}},{"$f":"VLOOKUP($B3195,'Ad Week Dates'!$A:$E,3,FALSE)","v":{"$error":"#N/A"}},null,null,null,null,null,null,{"$error":"#N/A"}]
[null,null,{"$f":"VLOOKUP($B3196,'Ad Week Dates'!$A:$E,4,FALSE)","v":{"$error":"#N/A"}},{"$f":"VLOOKUP($B3196,'Ad Week Dates'!$A:$E,2,FALSE)","v":{"$error":"#N/A"}},{"$f":"VLOOKUP($B3196,'Ad Week Dates'!$A:$E,3,FALSE)","v":{"$error":"#N/A"}},null,null,null,null,null,null,{"$error":"#N/A"}]
[null,null,{"$f":"VLOOKUP($B3197,'Ad Week Dates'!$A:$E,4,FALSE)","v":{"$error":"#N/A"}},{"$f":"VLOOKUP($B3197,'Ad Week Dates'!$A:$E,2,FALSE)","v":{"$error":"#N/A"}},{"$f":"VLOOKUP($B3197,'Ad Week Dates'!$A:$E,3,FALSE)","v":{"$error":"#N/A"}},null,null,null,null,null,null,{"$error":"#N/A"}]
[null,null,{"$f":"VLOOKUP($B3198,'Ad Week Dates'!$A:$E,4,FALSE)","v":{"$error":"#N/A"}},{"$f":"VLOOKUP($B3198,'Ad Week Dates'!$A:$E,2,FALSE)","v":{"$error":"#N/A"}},{"$f":"VLOOKUP($B3198,'Ad Week Dates'!$A:$E,3,FALSE)","v":{"$error":"#N/A"}},null,null,null,null,null,null,{"$error":"#N/A"}]
[null,null,{"$f":"VLOOKUP($B3199,'Ad Week Dates'!$A:$E,4,FALSE)","v":{"$error":"#N/A"}},{"$f":"VLOOKUP($B3199,'Ad Week Dates'!$A:$E,2,FALSE)","v":{"$error":"#N/A"}},{"$f":"VLOOKUP($B3199,'Ad Week Dates'!$A:$E,3,FALSE)","v":{"$error":"#N/A"}},null,null,null,null,null,null,{"$error":"#N/A"}]
[null,null,{"$f":"VLOOKUP($B3200,'Ad Week Dates'!$A:$E,4,FALSE)","v":{"$error":"#N/A"}},{"$f":"VLOOKUP($B3200,'Ad Week Dates'!$A:$E,2,FALSE)","v":{"$error":"#N/A"}},{"$f":"VLOOKUP($B3200,'Ad Week Dates'!$A:$E,3,FALSE)","v":{"$error":"#N/A"}},null,null,null,null,null,null,{"$error":"#N/A"}]
[null,null,{"$f":"VLOOKUP($B3201,'Ad Week Dates'!$A:$E,4,FALSE)","v":{"$error":"#N/A"}},{"$f":"VLOOKUP($B3201,'Ad Week Dates'!$A:$E,2,FALSE)","v":{"$error":"#N/A"}},{"$f":"VLOOKUP($B3201,'Ad Week Dates'!$A:$E,3,FALSE)","v":{"$error":"#N/A"}},null,null,null,null,null,null,{"$error":"#N/A"}]
[null,null,{"$f":"VLOOKUP($B3202,'Ad Week Dates'!$A:$E,4,FALSE)","v":{"$error":"#N/A"}},{"$f":"VLOOKUP($B3202,'Ad Week Dates'!$A:$E,2,FALSE)","v":{"$error":"#N/A"}},{"$f":"VLOOKUP($B3202,'Ad Week Dates'!$A:$E,3,FALSE)","v":{"$error":"#N/A"}},null,null,null,null,null,null,{"$error":"#N/A"}]
[null,null,{"$f":"VLOOKUP($B3203,'Ad Week Dates'!$A:$E,4,FALSE)","v":{"$error":"#N/A"}},{"$f":"VLOOKUP($B3203,'Ad Week Dates'!$A:$E,2,FALSE)","v":{"$error":"#N/A"}},{"$f":"VLOOKUP($B3203,'Ad Week Dates'!$A:$E,3,FALSE)","v":{"$error":"#N/A"}},null,null,null,null,null,null,{"$error":"#N/A"}]
[null,null,{"$f":"VLOOKUP($B3204,'Ad Week Dates'!$A:$E,4,FALSE)","v":{"$error":"#N/A"}},{"$f":"VLOOKUP($B3204,'Ad Week Dates'!$A:$E,2,FALSE)","v":{"$error":"#N/A"}},{"$f":"VLOOKUP($B3204,'Ad Week Dates'!$A:$E,3,FALSE)","v":{"$error":"#N/A"}},null,null,null,null,null,null,{"$error":"#N/A"}]
[null,null,{"$f":"VLOOKUP($B3205,'Ad Week Dates'!$A:$E,4,FALSE)","v":{"$error":"#N/A"}},{"$f":"VLOOKUP($B3205,'Ad Week Dates'!$A:$E,2,FALSE)","v":{"$error":"#N/A"}},{"$f":"VLOOKUP($B3205,'Ad Week Dates'!$A:$E,3,FALSE)","v":{"$error":"#N/A"}},null,null,null,null,null,null,{"$error":"#N/A"}]
[null,null,{"$f":"VLOOKUP($B3206,'Ad Week Dates'!$A:$E,4,FALSE)","v":{"$error":"#N/A"}},{"$f":"VLOOKUP($B3206,'Ad Week Dates'!$A:$E,2,FALSE)","v":{"$error":"#N/A"}},{"$f":"VLOOKUP($B3206,'Ad Week Dates'!$A:$E,3,FALSE)","v":{"$error":"#N/A"}},null,null,null,null,null,null,{"$f":"IF(ISNUMBER(J3206), J3206 - K3206, VALUE(_xlfn.TEXTBEFORE(J3206, \"-\")) - VALUE(_xlfn.TEXTBEFORE(K3206, \"-\")))","v":{"$error":"#N/A"}}]
[null,null,{"$f":"VLOOKUP($B3207,'Ad Week Dates'!$A:$E,4,FALSE)","v":{"$error":"#N/A"}},{"$f":"VLOOKUP($B3207,'Ad Week Dates'!$A:$E,2,FALSE)","v":{"$error":"#N/A"}},{"$f":"VLOOKUP($B3207,'Ad Week Dates'!$A:$E,3,FALSE)","v":{"$error":"#N/A"}},null,null,null,null,null,null,{"$error":"#N/A"}]
[null,null,{"$f":"VLOOKUP($B3208,'Ad Week Dates'!$A:$E,4,FALSE)","v":{"$error":"#N/A"}},{"$f":"VLOOKUP($B3208,'Ad Week Dates'!$A:$E,2,FALSE)","v":{"$error":"#N/A"}},{"$f":"VLOOKUP($B3208,'Ad Week Dates'!$A:$E,3,FALSE)","v":{"$error":"#N/A"}},null,null,null,null,null,null,{"$error":"#N/A"}]
[null,null,{"$f":"VLOOKUP($B3209,'Ad Week Dates'!$A:$E,4,FALSE)","v":{"$error":"#N/A"}},{"$f":"VLOOKUP($B3209,'Ad Week Dates'!$A:$E,2,FALSE)","v":{"$error":"#N/A"}},{"$f":"VLOOKUP($B3209,'Ad Week Dates'!$A:$E,3,FALSE)","v":{"$error":"#N/A"}},null,null,null,null,null,null,{"$error":"#N/A"}]
[null,null,{"$f":"VLOOKUP($B3210,'Ad Week Dates'!$A:$E,4,FALSE)","v":{"$error":"#N/A"}},{"$f":"VLOOKUP($B3210,'Ad Week Dates'!$A:$E,2,FALSE)","v":{"$error":"#N/A"}},{"$f":"VLOOKUP($B3210,'Ad Week Dates'!$A:$E,3,FALSE)","v":{"$error":"#N/A"}},null,null,null,null,null,null,{"$error":"#N/A"}]
[null,null,{"$f":"VLOOKUP($B3211,'Ad Week Dates'!$A:$E,4,FALSE)","v":{"$error":"#N/A"}},{"$f":"VLOOKUP($B3211,'Ad Week Dates'!$A:$E,2,FALSE)","v":{"$error":"#N/A"}},{"$f":"VLOOKUP($B3211,'Ad Week Dates'!$A:$E,3,FALSE)","v":{"$error":"#N/A"}},null,null,null,null,null,null,{"$error":"#N/A"}]
[null,null,{"$f":"VLOOKUP($B3212,'Ad Week Dates'!$A:$E,4,FALSE)","v":{"$error":"#N/A"}},{"$f":"VLOOKUP($B3212,'Ad Week Dates'!$A:$E,2,FALSE)","v":{"$error":"#N/A"}},{"$f":"VLOOKUP($B3212,'Ad Week Dates'!$A:$E,3,FALSE)","v":{"$error":"#N/A"}},null,null,null,null,null,null,{"$error":"#N/A"}]
[null,null,{"$f":"VLOOKUP($B3213,'Ad Week Dates'!$A:$E,4,FALSE)","v":{"$error":"#N/A"}},{"$f":"VLOOKUP($B3213,'Ad Week Dates'!$A:$E,2,FALSE)","v":{"$error":"#N/A"}},{"$f":"VLOOKUP($B3213,'Ad Week Dates'!$A:$E,3,FALSE)","v":{"$error":"#N/A"}},null,null,null,null,null,null,{"$error":"#N/A"}]
[null,null,{"$f":"VLOOKUP($B3214,'Ad Week Dates'!$A:$E,4,FALSE)","v":{"$error":"#N/A"}},{"$f":"VLOOKUP($B3214,'Ad Week Dates'!$A:$E,2,FALSE)","v":{"$error":"#N/A"}},{"$f":"VLOOKUP($B3214,'Ad Week Dates'!$A:$E,3,FALSE)","v":{"$error":"#N/A"}},null,null,null,null,null,null,{"$error":"#N/A"}]
[null,null,{"$f":"VLOOKUP($B3215,'Ad Week Dates'!$A:$E,4,FALSE)","v":{"$error":"#N/A"}},{"$f":"VLOOKUP($B3215,'Ad Week Dates'!$A:$E,2,FALSE)","v":{"$error":"#N/A"}},{"$f":"VLOOKUP($B3215,'Ad Week Dates'!$A:$E,3,FALSE)","v":{"$error":"#N/A"}},null,null,null,null,null,null,{"$error":"#N/A"}]
[null,null,{"$f":"VLOOKUP($B3216,'Ad Week Dates'!$A:$E,4,FALSE)","v":{"$error":"#N/A"}},{"$f":"VLOOKUP($B3216,'Ad Week Dates'!$A:$E,2,FALSE)","v":{"$error":"#N/A"}},{"$f":"VLOOKUP($B3216,'Ad Week Dates'!$A:$E,3,FALSE)","v":{"$error":"#N/A"}},null,null,null,null,null,null,{"$error":"#N/A"}]
[null,null,{"$f":"VLOOKUP($B3217,'Ad Week Dates'!$A:$E,4,FALSE)","v":{"$error":"#N/A"}},{"$f":"VLOOKUP($B3217,'Ad Week Dates'!$A:$E,2,FALSE)","v":{"$error":"#N/A"}},{"$f":"VLOOKUP($B3217,'Ad Week Dates'!$A:$E,3,FALSE)","v":{"$error":"#N/A"}},null,null,null,null,null,null,{"$error":"#N/A"}]
[null,null,{"$f":"VLOOKUP($B3218,'Ad Week Dates'!$A:$E,4,FALSE)","v":{"$error":"#N/A"}},{"$f":"VLOOKUP($B3218,'Ad Week Dates'!$A:$E,2,FALSE)","v":{"$error":"#N/A"}},{"$f":"VLOOKUP($B3218,'Ad Week Dates'!$A:$E,3,FALSE)","v":{"$error":"#N/A"}},null,null,null,null,null,null,{"$error":"#N/A"}]
[null,null,{"$f":"VLOOKUP($B3219,'Ad Week Dates'!$A:$E,4,FALSE)","v":{"$error":"#N/A"}},{"$f":"VLOOKUP($B3219,'Ad Week Dates'!$A:$E,2,FALSE)","v":{"$error":"#N/A"}},{"$f":"VLOOKUP($B3219,'Ad Week Dates'!$A:$E,3,FALSE)","v":{"$error":"#N/A"}},null,null,null,null,null,null,{"$error":"#N/A"}]
[null,null,{"$f":"VLOOKUP($B3220,'Ad Week Dates'!$A:$E,4,FALSE)","v":{"$error":"#N/A"}},{"$f":"VLOOKUP($B3220,'Ad Week Dates'!$A:$E,2,FALSE)","v":{"$error":"#N/A"}},{"$f":"VLOOKUP($B3220,'Ad Week Dates'!$A:$E,3,FALSE)","v":{"$error":"#N/A"}},null,null,null,null,null,null,{"$error":"#N/A"}]
[null,null,{"$f":"VLOOKUP($B3221,'Ad Week Dates'!$A:$E,4,FALSE)","v":{"$error":"#N/A"}},{"$f":"VLOOKUP($B3221,'Ad Week Dates'!$A:$E,2,FALSE)","v":{"$error":"#N/A"}},{"$f":"VLOOKUP($B3221,'Ad Week Dates'!$A:$E,3,FALSE)","v":{"$error":"#N/A"}},null,null,null,null,null,null,{"$error":"#N/A"}]
[null,null,{"$f":"VLOOKUP($B3222,'Ad Week Dates'!$A:$E,4,FALSE)","v":{"$error":"#N/A"}},{"$f":"VLOOKUP($B3222,'Ad Week Dates'!$A:$E,2,FALSE)","v":{"$error":"#N/A"}},{"$f":"VLOOKUP($B3222,'Ad Week Dates'!$A:$E,3,FALSE)","v":{"$error":"#N/A"}},null,null,null,null,null,null,{"$error":"#N/A"}]
[null,null,{"$f":"VLOOKUP($B3223,'Ad Week Dates'!$A:$E,4,FALSE)","v":{"$error":"#N/A"}},{"$f":"VLOOKUP($B3223,'Ad Week Dates'!$A:$E,2,FALSE)","v":{"$error":"#N/A"}},{"$f":"VLOOKUP($B3223,'Ad Week Dates'!$A:$E,3,FALSE)","v":{"$error":"#N/A"}},null,null,null,null,null,null,{"$error":"#N/A"}]
[null,null,{"$f":"VLOOKUP($B3224,'Ad Week Dates'!$A:$E,4,FALSE)","v":{"$error":"#N/A"}},{"$f":"VLOOKUP($B3224,'Ad Week Dates'!$A:$E,2,FALSE)","v":{"$error":"#N/A"}},{"$f":"VLOOKUP($B3224,'Ad Week Dates'!$A:$E,3,FALSE)","v":{"$error":"#N/A"}},null,null,null,null,null,null,{"$error":"#N/A"}]
[null,null,{"$f":"VLOOKUP($B3225,'Ad Week Dates'!$A:$E,4,FALSE)","v":{"$error":"#N/A"}},{"$f":"VLOOKUP($B3225,'Ad Week Dates'!$A:$E,2,FALSE)","v":{"$error":"#N/A"}},{"$f":"VLOOKUP($B3225,'Ad Week Dates'!$A:$E,3,FALSE)","v":{"$error":"#N/A"}},null,null,null,null,null,null,{"$error":"#N/A"}]
[null,null,{"$f":"VLOOKUP($B3226,'Ad Week Dates'!$A:$E,4,FALSE)","v":{"$error":"#N/A"}},{"$f":"VLOOKUP($B3226,'Ad Week Dates'!$A:$E,2,FALSE)","v":{"$error":"#N/A"}},{"$f":"VLOOKUP($B3226,'Ad Week Dates'!$A:$E,3,FALSE)","v":{"$error":"#N/A"}},null,null,null,null,null,null,{"$error":"#N/A"}]
[null,null,{"$f":"VLOOKUP($B3227,'Ad Week Dates'!$A:$E,4,FALSE)","v":{"$error":"#N/A"}},{"$f":"VLOOKUP($B3227,'Ad Week Dates'!$A:$E,2,FALSE)","v":{"$error":"#N/A"}},{"$f":"VLOOKUP($B3227,'Ad Week Dates'!$A:$E,3,FALSE)","v":{"$error":"#N/A"}},null,null,null,null,null,null,{"$error":"#N/A"}]
[null,null,{"$f":"VLOOKUP($B3228,'Ad Week Dates'!$A:$E,4,FALSE)","v":{"$error":"#N/A"}},{"$f":"VLOOKUP($B3228,'Ad Week Dates'!$A:$E,2,FALSE)","v":{"$error":"#N/A"}},{"$f":"VLOOKUP($B3228,'Ad Week Dates'!$A:$E,3,FALSE)","v":{"$error":"#N/A"}},null,null,null,null,null,null,{"$error":"#N/A"}]
[null,null,{"$f":"VLOOKUP($B3229,'Ad Week Dates'!$A:$E,4,FALSE)","v":{"$error":"#N/A"}},{"$f":"VLOOKUP($B3229,'Ad Week Dates'!$A:$E,2,FALSE)","v":{"$error":"#N/A"}},{"$f":"VLOOKUP($B3229,'Ad Week Dates'!$A:$E,3,FALSE)","v":{"$error":"#N/A"}},null,null,null,null,null,null,{"$error":"#N/A"}]
[null,null,{"$f":"VLOOKUP($B3230,'Ad Week Dates'!$A:$E,4,FALSE)","v":{"$error":"#N/A"}},{"$f":"VLOOKUP($B3230,'Ad Week Dates'!$A:$E,2,FALSE)","v":{"$error":"#N/A"}},{"$f":"VLOOKUP($B3230,'Ad Week Dates'!$A:$E,3,FALSE)","v":{"$error":"#N/A"}},null,null,null,null,null,null,{"$error":"#N/A"}]
[null,null,{"$f":"VLOOKUP($B3231,'Ad Week Dates'!$A:$E,4,FALSE)","v":{"$error":"#N/A"}},{"$f":"VLOOKUP($B3231,'Ad Week Dates'!$A:$E,2,FALSE)","v":{"$error":"#N/A"}},{"$f":"VLOOKUP($B3231,'Ad Week Dates'!$A:$E,3,FALSE)","v":{"$error":"#N/A"}},null,null,null,null,null,null,{"$error":"#N/A"}]
[null,null,{"$f":"VLOOKUP($B3232,'Ad Week Dates'!$A:$E,4,FALSE)","v":{"$error":"#N/A"}},{"$f":"VLOOKUP($B3232,'Ad Week Dates'!$A:$E,2,FALSE)","v":{"$error":"#N/A"}},{"$f":"VLOOKUP($B3232,'Ad Week Dates'!$A:$E,3,FALSE)","v":{"$error":"#N/A"}},null,null,null,null,null,null,{"$error":"#N/A"}]
[null,null,{"$f":"VLOOKUP($B3233,'Ad Week Dates'!$A:$E,4,FALSE)","v":{"$error":"#N/A"}},{"$f":"VLOOKUP($B3233,'Ad Week Dates'!$A:$E,2,FALSE)","v":{"$error":"#N/A"}},{"$f":"VLOOKUP($B3233,'Ad Week Dates'!$A:$E,3,FALSE)","v":{"$error":"#N/A"}},null,null,null,null,null,null,{"$error":"#N/A"}]
[null,null,{"$f":"VLOOKUP($B3234,'Ad Week Dates'!$A:$E,4,FALSE)","v":{"$error":"#N/A"}},{"$f":"VLOOKUP($B3234,'Ad Week Dates'!$A:$E,2,FALSE)","v":{"$error":"#N/A"}},{"$f":"VLOOKUP($B3234,'Ad Week Dates'!$A:$E,3,FALSE)","v":{"$error":"#N/A"}},null,null,null,null,null,null,{"$error":"#N/A"}]
[null,null,{"$f":"VLOOKUP($B3235,'Ad Week Dates'!$A:$E,4,FALSE)","v":{"$error":"#N/A"}},{"$f":"VLOOKUP($B3235,'Ad Week Dates'!$A:$E,2,FALSE)","v":{"$error":"#N/A"}},{"$f":"VLOOKUP($B3235,'Ad Week Dates'!$A:$E,3,FALSE)","v":{"$error":"#N/A"}},null,null,null,null,null,null,{"$error":"#N/A"}]
[null,null,{"$f":"VLOOKUP($B3236,'Ad Week Dates'!$A:$E,4,FALSE)","v":{"$error":"#N/A"}},{"$f":"VLOOKUP($B3236,'Ad Week Dates'!$A:$E,2,FALSE)","v":{"$error":"#N/A"}},{"$f":"VLOOKUP($B3236,'Ad Week Dates'!$A:$E,3,FALSE)","v":{"$error":"#N/A"}},null,null,null,null,null,null,{"$error":"#N/A"}]
[null,null,{"$f":"VLOOKUP($B3237,'Ad Week Dates'!$A:$E,4,FALSE)","v":{"$error":"#N/A"}},{"$f":"VLOOKUP($B3237,'Ad Week Dates'!$A:$E,2,FALSE)","v":{"$error":"#N/A"}},{"$f":"VLOOKUP($B3237,'Ad Week Dates'!$A:$E,3,FALSE)","v":{"$error":"#N/A"}},null,null,null,null,null,null,{"$error":"#N/A"}]
[null,null,{"$f":"VLOOKUP($B3238,'Ad Week Dates'!$A:$E,4,FALSE)","v":{"$error":"#N/A"}},{"$f":"VLOOKUP($B3238,'Ad Week Dates'!$A:$E,2,FALSE)","v":{"$error":"#N/A"}},{"$f":"VLOOKUP($B3238,'Ad Week Dates'!$A:$E,3,FALSE)","v":{"$error":"#N/A"}},null,null,null,null,null,null,{"$error":"#N/A"}]
[null,null,{"$f":"VLOOKUP($B3239,'Ad Week Dates'!$A:$E,4,FALSE)","v":{"$error":"#N/A"}},{"$f":"VLOOKUP($B3239,'Ad Week Dates'!$A:$E,2,FALSE)","v":{"$error":"#N/A"}},{"$f":"VLOOKUP($B3239,'Ad Week Dates'!$A:$E,3,FALSE)","v":{"$error":"#N/A"}},null,null,null,null,null,null,{"$error":"#N/A"}]
[null,null,{"$f":"VLOOKUP($B3240,'Ad Week Dates'!$A:$E,4,FALSE)","v":{"$error":"#N/A"}},{"$f":"VLOOKUP($B3240,'Ad Week Dates'!$A:$E,2,FALSE)","v":{"$error":"#N/A"}},{"$f":"VLOOKUP($B3240,'Ad Week Dates'!$A:$E,3,FALSE)","v":{"$error":"#N/A"}},null,null,null,null,null,null,{"$error":"#N/A"}]
[null,null,{"$f":"VLOOKUP($B3241,'Ad Week Dates'!$A:$E,4,FALSE)","v":{"$error":"#N/A"}},{"$f":"VLOOKUP($B3241,'Ad Week Dates'!$A:$E,2,FALSE)","v":{"$error":"#N/A"}},{"$f":"VLOOKUP($B3241,'Ad Week Dates'!$A:$E,3,FALSE)","v":{"$error":"#N/A"}},null,null,null,null,null,null,{"$error":"#N/A"}]
[null,null,{"$f":"VLOOKUP($B3242,'Ad Week Dates'!$A:$E,4,FALSE)","v":{"$error":"#N/A"}},{"$f":"VLOOKUP($B3242,'Ad Week Dates'!$A:$E,2,FALSE)","v":{"$error":"#N/A"}},{"$f":"VLOOKUP($B3242,'Ad Week Dates'!$A:$E,3,FALSE)","v":{"$error":"#N/A"}},null,null,null,null,null,null,{"$error":"#N/A"}]
[null,null,{"$f":"VLOOKUP($B3243,'Ad Week Dates'!$A:$E,4,FALSE)","v":{"$error":"#N/A"}},{"$f":"VLOOKUP($B3243,'Ad Week Dates'!$A:$E,2,FALSE)","v":{"$error":"#N/A"}},{"$f":"VLOOKUP($B3243,'Ad Week Dates'!$A:$E,3,FALSE)","v":{"$error":"#N/A"}},null,null,null,null,null,null,{"$error":"#N/A"}]
[null,null,{"$f":"VLOOKUP($B3244,'Ad Week Dates'!$A:$E,4,FALSE)","v":{"$error":"#N/A"}},{"$f":"VLOOKUP($B3244,'Ad Week Dates'!$A:$E,2,FALSE)","v":{"$error":"#N/A"}},{"$f":"VLOOKUP($B3244,'Ad Week Dates'!$A:$E,3,FALSE)","v":{"$error":"#N/A"}},null,null,null,null,null,null,{"$error":"#N/A"}]
[null,null,{"$f":"VLOOKUP($B3245,'Ad Week Dates'!$A:$E,4,FALSE)","v":{"$error":"#N/A"}},{"$f":"VLOOKUP($B3245,'Ad Week Dates'!$A:$E,2,FALSE)","v":{"$error":"#N/A"}},{"$f":"VLOOKUP($B3245,'Ad Week Dates'!$A:$E,3,FALSE)","v":{"$error":"#N/A"}},null,null,null,null,null,null,{"$error":"#N/A"}]
[null,null,{"$f":"VLOOKUP($B3246,'Ad Week Dates'!$A:$E,4,FALSE)","v":{"$error":"#N/A"}},{"$f":"VLOOKUP($B3246,'Ad Week Dates'!$A:$E,2,FALSE)","v":{"$error":"#N/A"}},{"$f":"VLOOKUP($B3246,'Ad Week Dates'!$A:$E,3,FALSE)","v":{"$error":"#N/A"}},null,null,null,null,null,null,{"$error":"#N/A"}]
[null,null,{"$f":"VLOOKUP($B3247,'Ad Week Dates'!$A:$E,4,FALSE)","v":{"$error":"#N/A"}},{"$f":"VLOOKUP($B3247,'Ad Week Dates'!$A:$E,2,FALSE)","v":{"$error":"#N/A"}},{"$f":"VLOOKUP($B3247,'Ad Week Dates'!$A:$E,3,FALSE)","v":{"$error":"#N/A"}},null,null,null,null,null,null,{"$error":"#N/A"}]
[null,null,{"$f":"VLOOKUP($B3248,'Ad Week Dates'!$A:$E,4,FALSE)","v":{"$error":"#N/A"}},{"$f":"VLOOKUP($B3248,'Ad Week Dates'!$A:$E,2,FALSE)","v":{"$error":"#N/A"}},{"$f":"VLOOKUP($B3248,'Ad Week Dates'!$A:$E,3,FALSE)","v":{"$error":"#N/A"}},null,null,null,null,null,null,{"$error":"#N/A"}]
[null,null,{"$f":"VLOOKUP($B3249,'Ad Week Dates'!$A:$E,4,FALSE)","v":{"$error":"#N/A"}},{"$f":"VLOOKUP($B3249,'Ad Week Dates'!$A:$E,2,FALSE)","v":{"$error":"#N/A"}},{"$f":"VLOOKUP($B3249,'Ad Week Dates'!$A:$E,3,FALSE)","v":{"$error":"#N/A"}},null,null,null,null,null,null,{"$error":"#N/A"}]
[null,null,{"$f":"VLOOKUP($B3250,'Ad Week Dates'!$A:$E,4,FALSE)","v":{"$error":"#N/A"}},{"$f":"VLOOKUP($B3250,'Ad Week Dates'!$A:$E,2,FALSE)","v":{"$error":"#N/A"}},{"$f":"VLOOKUP($B3250,'Ad Week Dates'!$A:$E,3,FALSE)","v":{"$error":"#N/A"}},null,null,null,null,null,null,{"$error":"#N/A"}]
[null,null,{"$f":"VLOOKUP($B3251,'Ad Week Dates'!$A:$E,4,FALSE)","v":{"$error":"#N/A"}},{"$f":"VLOOKUP($B3251,'Ad Week Dates'!$A:$E,2,FALSE)","v":{"$error":"#N/A"}},{"$f":"VLOOKUP($B3251,'Ad Week Dates'!$A:$E,3,FALSE)","v":{"$error":"#N/A"}},null,null,null,null,null,null,{"$error":"#N/A"}]
[null,null,{"$f":"VLOOKUP($B3252,'Ad Week Dates'!$A:$E,4,FALSE)","v":{"$error":"#N/A"}},{"$f":"VLOOKUP($B3252,'Ad Week Dates'!$A:$E,2,FALSE)","v":{"$error":"#N/A"}},{"$f":"VLOOKUP($B3252,'Ad Week Dates'!$A:$E,3,FALSE)","v":{"$error":"#N/A"}},null,null,null,null,null,null,{"$error":"#N/A"}]
[null,null,{"$f":"VLOOKUP($B3253,'Ad Week Dates'!$A:$E,4,FALSE)","v":{"$error":"#N/A"}},{"$f":"VLOOKUP($B3253,'Ad Week Dates'!$A:$E,2,FALSE)","v":{"$error":"#N/A"}},{"$f":"VLOOKUP($B3253,'Ad Week Dates'!$A:$E,3,FALSE)","v":{"$error":"#N/A"}},null,null,null,null,null,null,{"$error":"#N/A"}]
[null,null,{"$f":"VLOOKUP($B3254,'Ad Week Dates'!$A:$E,4,FALSE)","v":{"$error":"#N/A"}},{"$f":"VLOOKUP($B3254,'Ad Week Dates'!$A:$E,2,FALSE)","v":{"$error":"#N/A"}},{"$f":"VLOOKUP($B3254,'Ad Week Dates'!$A:$E,3,FALSE)","v":{"$error":"#N/A"}},null,null,null,null,null,null,{"$error":"#N/A"}]
[null,null,{"$f":"VLOOKUP($B3255,'Ad Week Dates'!$A:$E,4,FALSE)","v":{"$error":"#N/A"}},{"$f":"VLOOKUP($B3255,'Ad Week Dates'!$A:$E,2,FALSE)","v":{"$error":"#N/A"}},{"$f":"VLOOKUP($B3255,'Ad Week Dates'!$A:$E,3,FALSE)","v":{"$error":"#N/A"}},null,null,null,null,null,null,{"$error":"#N/A"}]
[null,null,{"$f":"VLOOKUP($B3256,'Ad Week Dates'!$A:$E,4,FALSE)","v":{"$error":"#N/A"}},{"$f":"VLOOKUP($B3256,'Ad Week Dates'!$A:$E,2,FALSE)","v":{"$error":"#N/A"}},{"$f":"VLOOKUP($B3256,'Ad Week Dates'!$A:$E,3,FALSE)","v":{"$error":"#N/A"}},null,null,null,null,null,null,{"$error":"#N/A"}]
[null,null,{"$f":"VLOOKUP($B3257,'Ad Week Dates'!$A:$E,4,FALSE)","v":{"$error":"#N/A"}},{"$f":"VLOOKUP($B3257,'Ad Week Dates'!$A:$E,2,FALSE)","v":{"$error":"#N/A"}},{"$f":"VLOOKUP($B3257,'Ad Week Dates'!$A:$E,3,FALSE)","v":{"$error":"#N/A"}},null,null,null,null,null,null,{"$error":"#N/A"}]
[null,null,{"$f":"VLOOKUP($B3258,'Ad Week Dates'!$A:$E,4,FALSE)","v":{"$error":"#N/A"}},{"$f":"VLOOKUP($B3258,'Ad Week Dates'!$A:$E,2,FALSE)","v":{"$error":"#N/A"}},{"$f":"VLOOKUP($B3258,'Ad Week Dates'!$A:$E,3,FALSE)","v":{"$error":"#N/A"}},null,null,null,null,null,null,{"$error":"#N/A"}]
[null,null,{"$f":"VLOOKUP($B3259,'Ad Week Dates'!$A:$E,4,FALSE)","v":{"$error":"#N/A"}},{"$f":"VLOOKUP($B3259,'Ad Week Dates'!$A:$E,2,FALSE)","v":{"$error":"#N/A"}},{"$f":"VLOOKUP($B3259,'Ad Week Dates'!$A:$E,3,FALSE)","v":{"$error":"#N/A"}},null,null,null,null,null,null,{"$error":"#N/A"}]
[null,null,{"$f":"VLOOKUP($B3260,'Ad Week Dates'!$A:$E,4,FALSE)","v":{"$error":"#N/A"}},{"$f":"VLOOKUP($B3260,'Ad Week Dates'!$A:$E,2,FALSE)","v":{"$error":"#N/A"}},{"$f":"VLOOKUP($B3260,'Ad Week Dates'!$A:$E,3,FALSE)","v":{"$error":"#N/A"}},null,null,null,null,null,null,{"$error":"#N/A"}]
[null,null,{"$f":"VLOOKUP($B3261,'Ad Week Dates'!$A:$E,4,FALSE)","v":{"$error":"#N/A"}},{"$f":"VLOOKUP($B3261,'Ad Week Dates'!$A:$E,2,FALSE)","v":{"$error":"#N/A"}},{"$f":"VLOOKUP($B3261,'Ad Week Dates'!$A:$E,3,FALSE)","v":{"$error":"#N/A"}},null,null,null,null,null,null,{"$error":"#N/A"}]
[null,null,{"$f":"VLOOKUP($B3262,'Ad Week Dates'!$A:$E,4,FALSE)","v":{"$error":"#N/A"}},{"$f":"VLOOKUP($B3262,'Ad Week Dates'!$A:$E,2,FALSE)","v":{"$error":"#N/A"}},{"$f":"VLOOKUP($B3262,'Ad Week Dates'!$A:$E,3,FALSE)","v":{"$error":"#N/A"}},null,null,null,null,null,null,{"$error":"#N/A"}]
[null,null,{"$f":"VLOOKUP($B3263,'Ad Week Dates'!$A:$E,4,FALSE)","v":{"$error":"#N/A"}},{"$f":"VLOOKUP($B3263,'Ad Week Dates'!$A:$E,2,FALSE)","v":{"$error":"#N/A"}},{"$f":"VLOOKUP($B3263,'Ad Week Dates'!$A:$E,3,FALSE)","v":{"$error":"#N/A"}},null,null,null,null,null,null,{"$error":"#N/A"}]
[null,null,{"$f":"VLOOKUP($B3264,'Ad Week Dates'!$A:$E,4,FALSE)","v":{"$error":"#N/A"}},{"$f":"VLOOKUP($B3264,'Ad Week Dates'!$A:$E,2,FALSE)","v":{"$error":"#N/A"}},{"$f":"VLOOKUP($B3264,'Ad Week Dates'!$A:$E,3,FALSE)","v":{"$error":"#N/A"}},null,null,null,null,null,null,{"$error":"#N/A"}]
[null,null,{"$f":"VLOOKUP($B3265,'Ad Week Dates'!$A:$E,4,FALSE)","v":{"$error":"#N/A"}},{"$f":"VLOOKUP($B3265,'Ad Week Dates'!$A:$E,2,FALSE)","v":{"$error":"#N/A"}},{"$f":"VLOOKUP($B3265,'Ad Week Dates'!$A:$E,3,FALSE)","v":{"$error":"#N/A"}},null,null,null,null,null,null,{"$error":"#N/A"}]
[null,null,{"$f":"VLOOKUP($B3266,'Ad Week Dates'!$A:$E,4,FALSE)","v":{"$error":"#N/A"}},{"$f":"VLOOKUP($B3266,'Ad Week Dates'!$A:$E,2,FALSE)","v":{"$error":"#N/A"}},{"$f":"VLOOKUP($B3266,'Ad Week Dates'!$A:$E,3,FALSE)","v":{"$error":"#N/A"}},null,null,null,null,null,null,{"$error":"#N/A"}]
[null,null,{"$f":"VLOOKUP($B3267,'Ad Week Dates'!$A:$E,4,FALSE)","v":{"$error":"#N/A"}},{"$f":"VLOOKUP($B3267,'Ad Week Dates'!$A:$E,2,FALSE)","v":{"$error":"#N/A"}},{"$f":"VLOOKUP($B3267,'Ad Week Dates'!$A:$E,3,FALSE)","v":{"$error":"#N/A"}},null,null,null,null,null,null,{"$error":"#N/A"}]
[null,null,{"$f":"VLOOKUP($B3268,'Ad Week Dates'!$A:$E,4,FALSE)","v":{"$error":"#N/A"}},{"$f":"VLOOKUP($B3268,'Ad Week Dates'!$A:$E,2,FALSE)","v":{"$error":"#N/A"}},{"$f":"VLOOKUP($B3268,'Ad Week Dates'!$A:$E,3,FALSE)","v":{"$error":"#N/A"}},null,null,null,null,null,null,{"$error":"#N/A"}]
[null,null,{"$f":"VLOOKUP($B3269,'Ad Week Dates'!$A:$E,4,FALSE)","v":{"$error":"#N/A"}},{"$f":"VLOOKUP($B3269,'Ad Week Dates'!$A:$E,2,FALSE)","v":{"$error":"#N/A"}},{"$f":"VLOOKUP($B3269,'Ad Week Dates'!$A:$E,3,FALSE)","v":{"$error":"#N/A"}},null,null,null,null,null,null,{"$error":"#N/A"}]
[null,null,{"$f":"VLOOKUP($B3270,'Ad Week Dates'!$A:$E,4,FALSE)","v":{"$error":"#N/A"}},{"$f":"VLOOKUP($B3270,'Ad Week Dates'!$A:$E,2,FALSE)","v":{"$error":"#N/A"}},{"$f":"VLOOKUP($B3270,'Ad Week Dates'!$A:$E,3,FALSE)","v":{"$error":"#N/A"}},null,null,null,null,null,null,{"$f":"IF(ISNUMBER(J3270), J3270 - K3270, VALUE(_xlfn.TEXTBEFORE(J3270, \"-\")) - VALUE(_xlfn.TEXTBEFORE(K3270, \"-\")))","v":{"$error":"#N/A"}}]
[null,null,{"$f":"VLOOKUP($B3271,'Ad Week Dates'!$A:$E,4,FALSE)","v":{"$error":"#N/A"}},{"$f":"VLOOKUP($B3271,'Ad Week Dates'!$A:$E,2,FALSE)","v":{"$error":"#N/A"}},{"$f":"VLOOKUP($B3271,'Ad Week Dates'!$A:$E,3,FALSE)","v":{"$error":"#N/A"}},null,null,null,null,null,null,{"$error":"#N/A"}]
[null,null,{"$f":"VLOOKUP($B3272,'Ad Week Dates'!$A:$E,4,FALSE)","v":{"$error":"#N/A"}},{"$f":"VLOOKUP($B3272,'Ad Week Dates'!$A:$E,2,FALSE)","v":{"$error":"#N/A"}},{"$f":"VLOOKUP($B3272,'Ad Week Dates'!$A:$E,3,FALSE)","v":{"$error":"#N/A"}},null,null,null,null,null,null,{"$error":"#N/A"}]
[null,null,{"$f":"VLOOKUP($B3273,'Ad Week Dates'!$A:$E,4,FALSE)","v":{"$error":"#N/A"}},{"$f":"VLOOKUP($B3273,'Ad Week Dates'!$A:$E,2,FALSE)","v":{"$error":"#N/A"}},{"$f":"VLOOKUP($B3273,'Ad Week Dates'!$A:$E,3,FALSE)","v":{"$error":"#N/A"}},null,null,null,null,null,null,{"$error":"#N/A"}]
[null,null,{"$f":"VLOOKUP($B3274,'Ad Week Dates'!$A:$E,4,FALSE)","v":{"$error":"#N/A"}},{"$f":"VLOOKUP($B3274,'Ad Week Dates'!$A:$E,2,FALSE)","v":{"$error":"#N/A"}},{"$f":"VLOOKUP($B3274,'Ad Week Dates'!$A:$E,3,FALSE)","v":{"$error":"#N/A"}},null,null,null,null,null,null,{"$error":"#N/A"}]
[null,null,{"$f":"VLOOKUP($B3275,'Ad Week Dates'!$A:$E,4,FALSE)","v":{"$error":"#N/A"}},{"$f":"VLOOKUP($B3275,'Ad Week Dates'!$A:$E,2,FALSE)","v":{"$error":"#N/A"}},{"$f":"VLOOKUP($B3275,'Ad Week Dates'!$A:$E,3,FALSE)","v":{"$error":"#N/A"}},null,null,null,null,null,null,{"$error":"#N/A"}]
[null,null,{"$f":"VLOOKUP($B3276,'Ad Week Dates'!$A:$E,4,FALSE)","v":{"$error":"#N/A"}},{"$f":"VLOOKUP($B3276,'Ad Week Dates'!$A:$E,2,FALSE)","v":{"$error":"#N/A"}},{"$f":"VLOOKUP($B3276,'Ad Week Dates'!$A:$E,3,FALSE)","v":{"$error":"#N/A"}},null,null,null,null,null,null,{"$error":"#N/A"}]
[null,null,{"$f":"VLOOKUP($B3277,'Ad Week Dates'!$A:$E,4,FALSE)","v":{"$error":"#N/A"}},{"$f":"VLOOKUP($B3277,'Ad Week Dates'!$A:$E,2,FALSE)","v":{"$error":"#N/A"}},{"$f":"VLOOKUP($B3277,'Ad Week Dates'!$A:$E,3,FALSE)","v":{"$error":"#N/A"}},null,null,null,null,null,null,{"$error":"#N/A"}]
[null,null,{"$f":"VLOOKUP($B3278,'Ad Week Dates'!$A:$E,4,FALSE)","v":{"$error":"#N/A"}},{"$f":"VLOOKUP($B3278,'Ad Week Dates'!$A:$E,2,FALSE)","v":{"$error":"#N/A"}},{"$f":"VLOOKUP($B3278,'Ad Week Dates'!$A:$E,3,FALSE)","v":{"$error":"#N/A"}},null,null,null,null,null,null,{"$error":"#N/A"}]
[null,null,{"$f":"VLOOKUP($B3279,'Ad Week Dates'!$A:$E,4,FALSE)","v":{"$error":"#N/A"}},{"$f":"VLOOKUP($B3279,'Ad Week Dates'!$A:$E,2,FALSE)","v":{"$error":"#N/A"}},{"$f":"VLOOKUP($B3279,'Ad Week Dates'!$A:$E,3,FALSE)","v":{"$error":"#N/A"}},null,null,null,null,null,null,{"$error":"#N/A"}]
[null,null,{"$f":"VLOOKUP($B3280,'Ad Week Dates'!$A:$E,4,FALSE)","v":{"$error":"#N/A"}},{"$f":"VLOOKUP($B3280,'Ad Week Dates'!$A:$E,2,FALSE)","v":{"$error":"#N/A"}},{"$f":"VLOOKUP($B3280,'Ad Week Dates'!$A:$E,3,FALSE)","v":{"$error":"#N/A"}},null,null,null,null,null,null,{"$error":"#N/A"}]
[null,null,{"$f":"VLOOKUP($B3281,'Ad Week Dates'!$A:$E,4,FALSE)","v":{"$error":"#N/A"}},{"$f":"VLOOKUP($B3281,'Ad Week Dates'!$A:$E,2,FALSE)","v":{"$error":"#N/A"}},{"$f":"VLOOKUP($B3281,'Ad Week Dates'!$A:$E,3,FALSE)","v":{"$error":"#N/A"}},null,null,null,null,null,null,{"$error":"#N/A"}]
[null,null,{"$f":"VLOOKUP($B3282,'Ad Week Dates'!$A:$E,4,FALSE)","v":{"$error":"#N/A"}},{"$f":"VLOOKUP($B3282,'Ad Week Dates'!$A:$E,2,FALSE)","v":{"$error":"#N/A"}},{"$f":"VLOOKUP($B3282,'Ad Week Dates'!$A:$E,3,FALSE)","v":{"$error":"#N/A"}},null,null,null,null,null,null,{"$error":"#N/A"}]
[null,null,{"$f":"VLOOKUP($B3283,'Ad Week Dates'!$A:$E,4,FALSE)","v":{"$error":"#N/A"}},{"$f":"VLOOKUP($B3283,'Ad Week Dates'!$A:$E,2,FALSE)","v":{"$error":"#N/A"}},{"$f":"VLOOKUP($B3283,'Ad Week Dates'!$A:$E,3,FALSE)","v":{"$error":"#N/A"}},null,null,null,null,null,null,{"$error":"#N/A"}]
[null,null,{"$f":"VLOOKUP($B3284,'Ad Week Dates'!$A:$E,4,FALSE)","v":{"$error":"#N/A"}},{"$f":"VLOOKUP($B3284,'Ad Week Dates'!$A:$E,2,FALSE)","v":{"$error":"#N/A"}},{"$f":"VLOOKUP($B3284,'Ad Week Dates'!$A:$E,3,FALSE)","v":{"$error":"#N/A"}},null,null,null,null,null,null,{"$error":"#N/A"}]
[null,null,{"$f":"VLOOKUP($B3285,'Ad Week Dates'!$A:$E,4,FALSE)","v":{"$error":"#N/A"}},{"$f":"VLOOKUP($B3285,'Ad Week Dates'!$A:$E,2,FALSE)","v":{"$error":"#N/A"}},{"$f":"VLOOKUP($B3285,'Ad Week Dates'!$A:$E,3,FALSE)","v":{"$error":"#N/A"}},null,null,null,null,null,null,{"$error":"#N/A"}]
[null,null,{"$f":"VLOOKUP($B3286,'Ad Week Dates'!$A:$E,4,FALSE)","v":{"$error":"#N/A"}},{"$f":"VLOOKUP($B3286,'Ad Week Dates'!$A:$E,2,FALSE)","v":{"$error":"#N/A"}},{"$f":"VLOOKUP($B3286,'Ad Week Dates'!$A:$E,3,FALSE)","v":{"$error":"#N/A"}},null,null,null,null,null,null,{"$error":"#N/A"}]
[null,null,{"$f":"VLOOKUP($B3287,'Ad Week Dates'!$A:$E,4,FALSE)","v":{"$error":"#N/A"}},{"$f":"VLOOKUP($B3287,'Ad Week Dates'!$A:$E,2,FALSE)","v":{"$error":"#N/A"}},{"$f":"VLOOKUP($B3287,'Ad Week Dates'!$A:$E,3,FALSE)","v":{"$error":"#N/A"}},null,null,null,null,null,null,{"$error":"#N/A"}]
[null,null,{"$f":"VLOOKUP($B3288,'Ad Week Dates'!$A:$E,4,FALSE)","v":{"$error":"#N/A"}},{"$f":"VLOOKUP($B3288,'Ad Week Dates'!$A:$E,2,FALSE)","v":{"$error":"#N/A"}},{"$f":"VLOOKUP($B3288,'Ad Week Dates'!$A:$E,3,FALSE)","v":{"$error":"#N/A"}},null,null,null,null,null,null,{"$error":"#N/A"}]
[null,null,{"$f":"VLOOKUP($B3289,'Ad Week Dates'!$A:$E,4,FALSE)","v":{"$error":"#N/A"}},{"$f":"VLOOKUP($B3289,'Ad Week Dates'!$A:$E,2,FALSE)","v":{"$error":"#N/A"}},{"$f":"VLOOKUP($B3289,'Ad Week Dates'!$A:$E,3,FALSE)","v":{"$error":"#N/A"}},null,null,null,null,null,null,{"$error":"#N/A"}]
[null,null,{"$f":"VLOOKUP($B3290,'Ad Week Dates'!$A:$E,4,FALSE)","v":{"$error":"#N/A"}},{"$f":"VLOOKUP($B3290,'Ad Week Dates'!$A:$E,2,FALSE)","v":{"$error":"#N/A"}},{"$f":"VLOOKUP($B3290,'Ad Week Dates'!$A:$E,3,FALSE)","v":{"$error":"#N/A"}},null,null,null,null,null,null,{"$error":"#N/A"}]
[null,null,{"$f":"VLOOKUP($B3291,'Ad Week Dates'!$A:$E,4,FALSE)","v":{"$error":"#N/A"}},{"$f":"VLOOKUP($B3291,'Ad Week Dates'!$A:$E,2,FALSE)","v":{"$error":"#N/A"}},{"$f":"VLOOKUP($B3291,'Ad Week Dates'!$A:$E,3,FALSE)","v":{"$error":"#N/A"}},null,null,null,null,null,null,{"$error":"#N/A"}]
[null,null,{"$f":"VLOOKUP($B3292,'Ad Week Dates'!$A:$E,4,FALSE)","v":{"$error":"#N/A"}},{"$f":"VLOOKUP($B3292,'Ad Week Dates'!$A:$E,2,FALSE)","v":{"$error":"#N/A"}},{"$f":"VLOOKUP($B3292,'Ad Week Dates'!$A:$E,3,FALSE)","v":{"$error":"#N/A"}},null,null,null,null,null,null,{"$error":"#N/A"}]
[null,null,{"$f":"VLOOKUP($B3293,'Ad Week Dates'!$A:$E,4,FALSE)","v":{"$error":"#N/A"}},{"$f":"VLOOKUP($B3293,'Ad Week Dates'!$A:$E,2,FALSE)","v":{"$error":"#N/A"}},{"$f":"VLOOKUP($B3293,'Ad Week Dates'!$A:$E,3,FALSE)","v":{"$error":"#N/A"}},null,null,null,null,null,null,{"$error":"#N/A"}]
[null,null,{"$f":"VLOOKUP($B3294,'Ad Week Dates'!$A:$E,4,FALSE)","v":{"$error":"#N/A"}},{"$f":"VLOOKUP($B3294,'Ad Week Dates'!$A:$E,2,FALSE)","v":{"$error":"#N/A"}},{"$f":"VLOOKUP($B3294,'Ad Week Dates'!$A:$E,3,FALSE)","v":{"$error":"#N/A"}},null,null,null,null,null,null,{"$error":"#N/A"}]
[null,null,{"$f":"VLOOKUP($B3295,'Ad Week Dates'!$A:$E,4,FALSE)","v":{"$error":"#N/A"}},{"$f":"VLOOKUP($B3295,'Ad Week Dates'!$A:$E,2,FALSE)","v":{"$error":"#N/A"}},{"$f":"VLOOKUP($B3295,'Ad Week Dates'!$A:$E,3,FALSE)","v":{"$error":"#N/A"}},null,null,null,null,null,null,{"$error":"#N/A"}]
[null,null,{"$f":"VLOOKUP($B3296,'Ad Week Dates'!$A:$E,4,FALSE)","v":{"$error":"#N/A"}},{"$f":"VLOOKUP($B3296,'Ad Week Dates'!$A:$E,2,FALSE)","v":{"$error":"#N/A"}},{"$f":"VLOOKUP($B3296,'Ad Week Dates'!$A:$E,3,FALSE)","v":{"$error":"#N/A"}},null,null,null,null,null,null,{"$error":"#N/A"}]
[null,null,{"$f":"VLOOKUP($B3297,'Ad Week Dates'!$A:$E,4,FALSE)","v":{"$error":"#N/A"}},{"$f":"VLOOKUP($B3297,'Ad Week Dates'!$A:$E,2,FALSE)","v":{"$error":"#N/A"}},{"$f":"VLOOKUP($B3297,'Ad Week Dates'!$A:$E,3,FALSE)","v":{"$error":"#N/A"}},null,null,null,null,null,null,{"$error":"#N/A"}]
[null,null,{"$f":"VLOOKUP($B3298,'Ad Week Dates'!$A:$E,4,FALSE)","v":{"$error":"#N/A"}},{"$f":"VLOOKUP($B3298,'Ad Week Dates'!$A:$E,2,FALSE)","v":{"$error":"#N/A"}},{"$f":"VLOOKUP($B3298,'Ad Week Dates'!$A:$E,3,FALSE)","v":{"$error":"#N/A"}},null,null,null,null,null,null,{"$error":"#N/A"}]
[null,null,{"$f":"VLOOKUP($B3299,'Ad Week Dates'!$A:$E,4,FALSE)","v":{"$error":"#N/A"}},{"$f":"VLOOKUP($B3299,'Ad Week Dates'!$A:$E,2,FALSE)","v":{"$error":"#N/A"}},{"$f":"VLOOKUP($B3299,'Ad Week Dates'!$A:$E,3,FALSE)","v":{"$error":"#N/A"}},null,null,null,null,null,null,{"$error":"#N/A"}]
[null,null,{"$f":"VLOOKUP($B3300,'Ad Week Dates'!$A:$E,4,FALSE)","v":{"$error":"#N/A"}},{"$f":"VLOOKUP($B3300,'Ad Week Dates'!$A:$E,2,FALSE)","v":{"$error":"#N/A"}},{"$f":"VLOOKUP($B3300,'Ad Week Dates'!$A:$E,3,FALSE)","v":{"$error":"#N/A"}},null,null,null,null,null,null,{"$error":"#N/A"}]
[null,null,{"$f":"VLOOKUP($B3301,'Ad Week Dates'!$A:$E,4,FALSE)","v":{"$error":"#N/A"}},{"$f":"VLOOKUP($B3301,'Ad Week Dates'!$A:$E,2,FALSE)","v":{"$error":"#N/A"}},{"$f":"VLOOKUP($B3301,'Ad Week Dates'!$A:$E,3,FALSE)","v":{"$error":"#N/A"}},null,null,null,null,null,null,{"$error":"#N/A"}]
[null,null,{"$f":"VLOOKUP($B3302,'Ad Week Dates'!$A:$E,4,FALSE)","v":{"$error":"#N/A"}},{"$f":"VLOOKUP($B3302,'Ad Week Dates'!$A:$E,2,FALSE)","v":{"$error":"#N/A"}},{"$f":"VLOOKUP($B3302,'Ad Week Dates'!$A:$E,3,FALSE)","v":{"$error":"#N/A"}},null,null,null,null,null,null,{"$error":"#N/A"}]
[null,null,{"$f":"VLOOKUP($B3303,'Ad Week Dates'!$A:$E,4,FALSE)","v":{"$error":"#N/A"}},{"$f":"VLOOKUP($B3303,'Ad Week Dates'!$A:$E,2,FALSE)","v":{"$error":"#N/A"}},{"$f":"VLOOKUP($B3303,'Ad Week Dates'!$A:$E,3,FALSE)","v":{"$error":"#N/A"}},null,null,null,null,null,null,{"$error":"#N/A"}]
[null,null,{"$f":"VLOOKUP($B3304,'Ad Week Dates'!$A:$E,4,FALSE)","v":{"$error":"#N/A"}},{"$f":"VLOOKUP($B3304,'Ad Week Dates'!$A:$E,2,FALSE)","v":{"$error":"#N/A"}},{"$f":"VLOOKUP($B3304,'Ad Week Dates'!$A:$E,3,FALSE)","v":{"$error":"#N/A"}},null,null,null,null,null,null,{"$error":"#N/A"}]
[null,null,{"$f":"VLOOKUP($B3305,'Ad Week Dates'!$A:$E,4,FALSE)","v":{"$error":"#N/A"}},{"$f":"VLOOKUP($B3305,'Ad Week Dates'!$A:$E,2,FALSE)","v":{"$error":"#N/A"}},{"$f":"VLOOKUP($B3305,'Ad Week Dates'!$A:$E,3,FALSE)","v":{"$error":"#N/A"}},null,null,null,null,null,null,{"$error":"#N/A"}]
[null,null,{"$f":"VLOOKUP($B3306,'Ad Week Dates'!$A:$E,4,FALSE)","v":{"$error":"#N/A"}},{"$f":"VLOOKUP($B3306,'Ad Week Dates'!$A:$E,2,FALSE)","v":{"$error":"#N/A"}},{"$f":"VLOOKUP($B3306,'Ad Week Dates'!$A:$E,3,FALSE)","v":{"$error":"#N/A"}},null,null,null,null,null,null,{"$error":"#N/A"}]
[null,null,{"$f":"VLOOKUP($B3307,'Ad Week Dates'!$A:$E,4,FALSE)","v":{"$error":"#N/A"}},{"$f":"VLOOKUP($B3307,'Ad Week Dates'!$A:$E,2,FALSE)","v":{"$error":"#N/A"}},{"$f":"VLOOKUP($B3307,'Ad Week Dates'!$A:$E,3,FALSE)","v":{"$error":"#N/A"}},null,null,null,null,null,null,{"$error":"#N/A"}]
[null,null,{"$f":"VLOOKUP($B3308,'Ad Week Dates'!$A:$E,4,FALSE)","v":{"$error":"#N/A"}},{"$f":"VLOOKUP($B3308,'Ad Week Dates'!$A:$E,2,FALSE)","v":{"$error":"#N/A"}},{"$f":"VLOOKUP($B3308,'Ad Week Dates'!$A:$E,3,FALSE)","v":{"$error":"#N/A"}},null,null,null,null,null,null,{"$error":"#N/A"}]
[null,null,{"$f":"VLOOKUP($B3309,'Ad Week Dates'!$A:$E,4,FALSE)","v":{"$error":"#N/A"}},{"$f":"VLOOKUP($B3309,'Ad Week Dates'!$A:$E,2,FALSE)","v":{"$error":"#N/A"}},{"$f":"VLOOKUP($B3309,'Ad Week Dates'!$A:$E,3,FALSE)","v":{"$error":"#N/A"}},null,null,null,null,null,null,{"$error":"#N/A"}]
[null,null,{"$f":"VLOOKUP($B3310,'Ad Week Dates'!$A:$E,4,FALSE)","v":{"$error":"#N/A"}},{"$f":"VLOOKUP($B3310,'Ad Week Dates'!$A:$E,2,FALSE)","v":{"$error":"#N/A"}},{"$f":"VLOOKUP($B3310,'Ad Week Dates'!$A:$E,3,FALSE)","v":{"$error":"#N/A"}},null,null,null,null,null,null,{"$error":"#N/A"}]
[null,null,{"$f":"VLOOKUP($B3311,'Ad Week Dates'!$A:$E,4,FALSE)","v":{"$error":"#N/A"}},{"$f":"VLOOKUP($B3311,'Ad Week Dates'!$A:$E,2,FALSE)","v":{"$error":"#N/A"}},{"$f":"VLOOKUP($B3311,'Ad Week Dates'!$A:$E,3,FALSE)","v":{"$error":"#N/A"}},null,null,null,null,null,null,{"$error":"#N/A"}]
[null,null,{"$f":"VLOOKUP($B3312,'Ad Week Dates'!$A:$E,4,FALSE)","v":{"$error":"#N/A"}},{"$f":"VLOOKUP($B3312,'Ad Week Dates'!$A:$E,2,FALSE)","v":{"$error":"#N/A"}},{"$f":"VLOOKUP($B3312,'Ad Week Dates'!$A:$E,3,FALSE)","v":{"$error":"#N/A"}},null,null,null,null,null,null,{"$error":"#N/A"}]
[null,null,{"$f":"VLOOKUP($B3313,'Ad Week Dates'!$A:$E,4,FALSE)","v":{"$error":"#N/A"}},{"$f":"VLOOKUP($B3313,'Ad Week Dates'!$A:$E,2,FALSE)","v":{"$error":"#N/A"}},{"$f":"VLOOKUP($B3313,'Ad Week Dates'!$A:$E,3,FALSE)","v":{"$error":"#N/A"}},null,null,null,null,null,null,{"$error":"#N/A"}]
[null,null,{"$f":"VLOOKUP($B3314,'Ad Week Dates'!$A:$E,4,FALSE)","v":{"$error":"#N/A"}},{"$f":"VLOOKUP($B3314,'Ad Week Dates'!$A:$E,2,FALSE)","v":{"$error":"#N/A"}},{"$f":"VLOOKUP($B3314,'Ad Week Dates'!$A:$E,3,FALSE)","v":{"$error":"#N/A"}},null,null,null,null,null,null,{"$error":"#N/A"}]
[null,null,{"$f":"VLOOKUP($B3315,'Ad Week Dates'!$A:$E,4,FALSE)","v":{"$error":"#N/A"}},{"$f":"VLOOKUP($B3315,'Ad Week Dates'!$A:$E,2,FALSE)","v":{"$error":"#N/A"}},{"$f":"VLOOKUP($B3315,'Ad Week Dates'!$A:$E,3,FALSE)","v":{"$error":"#N/A"}},null,null,null,null,null,null,{"$error":"#N/A"}]
[null,null,{"$f":"VLOOKUP($B3316,'Ad Week Dates'!$A:$E,4,FALSE)","v":{"$error":"#N/A"}},{"$f":"VLOOKUP($B3316,'Ad Week Dates'!$A:$E,2,FALSE)","v":{"$error":"#N/A"}},{"$f":"VLOOKUP($B3316,'Ad Week Dates'!$A:$E,3,FALSE)","v":{"$error":"#N/A"}},null,null,null,null,null,null,{"$error":"#N/A"}]
[null,null,{"$f":"VLOOKUP($B3317,'Ad Week Dates'!$A:$E,4,FALSE)","v":{"$error":"#N/A"}},{"$f":"VLOOKUP($B3317,'Ad Week Dates'!$A:$E,2,FALSE)","v":{"$error":"#N/A"}},{"$f":"VLOOKUP($B3317,'Ad Week Dates'!$A:$E,3,FALSE)","v":{"$error":"#N/A"}},null,null,null,null,null,null,{"$error":"#N/A"}]
[null,null,{"$f":"VLOOKUP($B3318,'Ad Week Dates'!$A:$E,4,FALSE)","v":{"$error":"#N/A"}},{"$f":"VLOOKUP($B3318,'Ad Week Dates'!$A:$E,2,FALSE)","v":{"$error":"#N/A"}},{"$f":"VLOOKUP($B3318,'Ad Week Dates'!$A:$E,3,FALSE)","v":{"$error":"#N/A"}},null,null,null,null,null,null,{"$error":"#N/A"}]
[null,null,{"$f":"VLOOKUP($B3319,'Ad Week Dates'!$A:$E,4,FALSE)","v":{"$error":"#N/A"}},{"$f":"VLOOKUP($B3319,'Ad Week Dates'!$A:$E,2,FALSE)","v":{"$error":"#N/A"}},{"$f":"VLOOKUP($B3319,'Ad Week Dates'!$A:$E,3,FALSE)","v":{"$error":"#N/A"}},null,null,null,null,null,null,{"$error":"#N/A"}]
[null,null,{"$f":"VLOOKUP($B3320,'Ad Week Dates'!$A:$E,4,FALSE)","v":{"$error":"#N/A"}},{"$f":"VLOOKUP($B3320,'Ad Week Dates'!$A:$E,2,FALSE)","v":{"$error":"#N/A"}},{"$f":"VLOOKUP($B3320,'Ad Week Dates'!$A:$E,3,FALSE)","v":{"$error":"#N/A"}},null,null,null,null,null,null,{"$error":"#N/A"}]
[null,null,{"$f":"VLOOKUP($B3321,'Ad Week Dates'!$A:$E,4,FALSE)","v":{"$error":"#N/A"}},{"$f":"VLOOKUP($B3321,'Ad Week Dates'!$A:$E,2,FALSE)","v":{"$error":"#N/A"}},{"$f":"VLOOKUP($B3321,'Ad Week Dates'!$A:$E,3,FALSE)","v":{"$error":"#N/A"}},null,null,null,null,null,null,{"$error":"#N/A"}]
[null,null,{"$f":"VLOOKUP($B3322,'Ad Week Dates'!$A:$E,4,FALSE)","v":{"$error":"#N/A"}},{"$f":"VLOOKUP($B3322,'Ad Week Dates'!$A:$E,2,FALSE)","v":{"$error":"#N/A"}},{"$f":"VLOOKUP($B3322,'Ad Week Dates'!$A:$E,3,FALSE)","v":{"$error":"#N/A"}},null,null,null,null,null,null,{"$error":"#N/A"}]
[null,null,{"$f":"VLOOKUP($B3323,'Ad Week Dates'!$A:$E,4,FALSE)","v":{"$error":"#N/A"}},{"$f":"VLOOKUP($B3323,'Ad Week Dates'!$A:$E,2,FALSE)","v":{"$error":"#N/A"}},{"$f":"VLOOKUP($B3323,'Ad Week Dates'!$A:$E,3,FALSE)","v":{"$error":"#N/A"}},null,null,null,null,null,null,{"$error":"#N/A"}]
[null,null,{"$f":"VLOOKUP($B3324,'Ad Week Dates'!$A:$E,4,FALSE)","v":{"$error":"#N/A"}},{"$f":"VLOOKUP($B3324,'Ad Week Dates'!$A:$E,2,FALSE)","v":{"$error":"#N/A"}},{"$f":"VLOOKUP($B3324,'Ad Week Dates'!$A:$E,3,FALSE)","v":{"$error":"#N/A"}},null,null,null,null,null,null,{"$error":"#N/A"}]
[null,null,{"$f":"VLOOKUP($B3325,'Ad Week Dates'!$A:$E,4,FALSE)","v":{"$error":"#N/A"}},{"$f":"VLOOKUP($B3325,'Ad Week Dates'!$A:$E,2,FALSE)","v":{"$error":"#N/A"}},{"$f":"VLOOKUP($B3325,'Ad Week Dates'!$A:$E,3,FALSE)","v":{"$error":"#N/A"}},null,null,null,null,null,null,{"$error":"#N/A"}]
[null,null,{"$f":"VLOOKUP($B3326,'Ad Week Dates'!$A:$E,4,FALSE)","v":{"$error":"#N/A"}},{"$f":"VLOOKUP($B3326,'Ad Week Dates'!$A:$E,2,FALSE)","v":{"$error":"#N/A"}},{"$f":"VLOOKUP($B3326,'Ad Week Dates'!$A:$E,3,FALSE)","v":{"$error":"#N/A"}},null,null,null,null,null,null,{"$error":"#N/A"}]
[null,null,{"$f":"VLOOKUP($B3327,'Ad Week Dates'!$A:$E,4,FALSE)","v":{"$error":"#N/A"}},{"$f":"VLOOKUP($B3327,'Ad Week Dates'!$A:$E,2,FALSE)","v":{"$error":"#N/A"}},{"$f":"VLOOKUP($B3327,'Ad Week Dates'!$A:$E,3,FALSE)","v":{"$error":"#N/A"}},null,null,null,null,null,null,{"$error":"#N/A"}]
[null,null,{"$f":"VLOOKUP($B3328,'Ad Week Dates'!$A:$E,4,FALSE)","v":{"$error":"#N/A"}},{"$f":"VLOOKUP($B3328,'Ad Week Dates'!$A:$E,2,FALSE)","v":{"$error":"#N/A"}},{"$f":"VLOOKUP($B3328,'Ad Week Dates'!$A:$E,3,FALSE)","v":{"$error":"#N/A"}},null,null,null,null,null,null,{"$error":"#N/A"}]
[null,null,{"$f":"VLOOKUP($B3329,'Ad Week Dates'!$A:$E,4,FALSE)","v":{"$error":"#N/A"}},{"$f":"VLOOKUP($B3329,'Ad Week Dates'!$A:$E,2,FALSE)","v":{"$error":"#N/A"}},{"$f":"VLOOKUP($B3329,'Ad Week Dates'!$A:$E,3,FALSE)","v":{"$error":"#N/A"}},null,null,null,null,null,null,{"$error":"#N/A"}]
[null,null,{"$f":"VLOOKUP($B3330,'Ad Week Dates'!$A:$E,4,FALSE)","v":{"$error":"#N/A"}},{"$f":"VLOOKUP($B3330,'Ad Week Dates'!$A:$E,2,FALSE)","v":{"$error":"#N/A"}},{"$f":"VLOOKUP($B3330,'Ad Week Dates'!$A:$E,3,FALSE)","v":{"$error":"#N/A"}},null,null,null,null,null,null,{"$error":"#N/A"}]
[null,null,{"$f":"VLOOKUP($B3331,'Ad Week Dates'!$A:$E,4,FALSE)","v":{"$error":"#N/A"}},{"$f":"VLOOKUP($B3331,'Ad Week Dates'!$A:$E,2,FALSE)","v":{"$error":"#N/A"}},{"$f":"VLOOKUP($B3331,'Ad Week Dates'!$A:$E,3,FALSE)","v":{"$error":"#N/A"}},null,null,null,null,null,null,{"$error":"#N/A"}]
[null,null,{"$f":"VLOOKUP($B3332,'Ad Week Dates'!$A:$E,4,FALSE)","v":{"$error":"#N/A"}},{"$f":"VLOOKUP($B3332,'Ad Week Dates'!$A:$E,2,FALSE)","v":{"$error":"#N/A"}},{"$f":"VLOOKUP($B3332,'Ad Week Dates'!$A:$E,3,FALSE)","v":{"$error":"#N/A"}},null,null,null,null,null,null,{"$error":"#N/A"}]
[null,null,{"$f":"VLOOKUP($B3333,'Ad Week Dates'!$A:$E,4,FALSE)","v":{"$error":"#N/A"}},{"$f":"VLOOKUP($B3333,'Ad Week Dates'!$A:$E,2,FALSE)","v":{"$error":"#N/A"}},{"$f":"VLOOKUP($B3333,'Ad Week Dates'!$A:$E,3,FALSE)","v":{"$error":"#N/A"}},null,null,null,null,null,null,{"$error":"#N/A"}]
[null,null,{"$f":"VLOOKUP($B3334,'Ad Week Dates'!$A:$E,4,FALSE)","v":{"$error":"#N/A"}},{"$f":"VLOOKUP($B3334,'Ad Week Dates'!$A:$E,2,FALSE)","v":{"$error":"#N/A"}},{"$f":"VLOOKUP($B3334,'Ad Week Dates'!$A:$E,3,FALSE)","v":{"$error":"#N/A"}},null,null,null,null,null,null,{"$f":"IF(ISNUMBER(J3334), J3334 - K3334, VALUE(_xlfn.TEXTBEFORE(J3334, \"-\")) - VALUE(_xlfn.TEXTBEFORE(K3334, \"-\")))","v":{"$error":"#N/A"}}]
[null,null,{"$f":"VLOOKUP($B3335,'Ad Week Dates'!$A:$E,4,FALSE)","v":{"$error":"#N/A"}},{"$f":"VLOOKUP($B3335,'Ad Week Dates'!$A:$E,2,FALSE)","v":{"$error":"#N/A"}},{"$f":"VLOOKUP($B3335,'Ad Week Dates'!$A:$E,3,FALSE)","v":{"$error":"#N/A"}},null,null,null,null,null,null,{"$error":"#N/A"}]
[null,null,{"$f":"VLOOKUP($B3336,'Ad Week Dates'!$A:$E,4,FALSE)","v":{"$error":"#N/A"}},{"$f":"VLOOKUP($B3336,'Ad Week Dates'!$A:$E,2,FALSE)","v":{"$error":"#N/A"}},{"$f":"VLOOKUP($B3336,'Ad Week Dates'!$A:$E,3,FALSE)","v":{"$error":"#N/A"}},null,null,null,null,null,null,{"$error":"#N/A"}]
[null,null,{"$f":"VLOOKUP($B3337,'Ad Week Dates'!$A:$E,4,FALSE)","v":{"$error":"#N/A"}},{"$f":"VLOOKUP($B3337,'Ad Week Dates'!$A:$E,2,FALSE)","v":{"$error":"#N/A"}},{"$f":"VLOOKUP($B3337,'Ad Week Dates'!$A:$E,3,FALSE)","v":{"$error":"#N/A"}},null,null,null,null,null,null,{"$error":"#N/A"}]
[null,null,{"$f":"VLOOKUP($B3338,'Ad Week Dates'!$A:$E,4,FALSE)","v":{"$error":"#N/A"}},{"$f":"VLOOKUP($B3338,'Ad Week Dates'!$A:$E,2,FALSE)","v":{"$error":"#N/A"}},{"$f":"VLOOKUP($B3338,'Ad Week Dates'!$A:$E,3,FALSE)","v":{"$error":"#N/A"}},null,null,null,null,null,null,{"$error":"#N/A"}]
[null,null,{"$f":"VLOOKUP($B3339,'Ad Week Dates'!$A:$E,4,FALSE)","v":{"$error":"#N/A"}},{"$f":"VLOOKUP($B3339,'Ad Week Dates'!$A:$E,2,FALSE)","v":{"$error":"#N/A"}},{"$f":"VLOOKUP($B3339,'Ad Week Dates'!$A:$E,3,FALSE)","v":{"$error":"#N/A"}},null,null,null,null,null,null,{"$error":"#N/A"}]
[null,null,{"$f":"VLOOKUP($B3340,'Ad Week Dates'!$A:$E,4,FALSE)","v":{"$error":"#N/A"}},{"$f":"VLOOKUP($B3340,'Ad Week Dates'!$A:$E,2,FALSE)","v":{"$error":"#N/A"}},{"$f":"VLOOKUP($B3340,'Ad Week Dates'!$A:$E,3,FALSE)","v":{"$error":"#N/A"}},null,null,null,null,null,null,{"$error":"#N/A"}]
[null,null,{"$f":"VLOOKUP($B3341,'Ad Week Dates'!$A:$E,4,FALSE)","v":{"$error":"#N/A"}},{"$f":"VLOOKUP($B3341,'Ad Week Dates'!$A:$E,2,FALSE)","v":{"$error":"#N/A"}},{"$f":"VLOOKUP($B3341,'Ad Week Dates'!$A:$E,3,FALSE)","v":{"$error":"#N/A"}},null,null,null,null,null,null,{"$error":"#N/A"}]
[null,null,{"$f":"VLOOKUP($B3342,'Ad Week Dates'!$A:$E,4,FALSE)","v":{"$error":"#N/A"}},{"$f":"VLOOKUP($B3342,'Ad Week Dates'!$A:$E,2,FALSE)","v":{"$error":"#N/A"}},{"$f":"VLOOKUP($B3342,'Ad Week Dates'!$A:$E,3,FALSE)","v":{"$error":"#N/A"}},null,null,null,null,null,null,{"$error":"#N/A"}]
[null,null,{"$f":"VLOOKUP($B3343,'Ad Week Dates'!$A:$E,4,FALSE)","v":{"$error":"#N/A"}},{"$f":"VLOOKUP($B3343,'Ad Week Dates'!$A:$E,2,FALSE)","v":{"$error":"#N/A"}},{"$f":"VLOOKUP($B3343,'Ad Week Dates'!$A:$E,3,FALSE)","v":{"$error":"#N/A"}},null,null,null,null,null,null,{"$error":"#N/A"}]
[null,null,{"$f":"VLOOKUP($B3344,'Ad Week Dates'!$A:$E,4,FALSE)","v":{"$error":"#N/A"}},{"$f":"VLOOKUP($B3344,'Ad Week Dates'!$A:$E,2,FALSE)","v":{"$error":"#N/A"}},{"$f":"VLOOKUP($B3344,'Ad Week Dates'!$A:$E,3,FALSE)","v":{"$error":"#N/A"}},null,null,null,null,null,null,{"$error":"#N/A"}]
[null,null,{"$f":"VLOOKUP($B3345,'Ad Week Dates'!$A:$E,4,FALSE)","v":{"$error":"#N/A"}},{"$f":"VLOOKUP($B3345,'Ad Week Dates'!$A:$E,2,FALSE)","v":{"$error":"#N/A"}},{"$f":"VLOOKUP($B3345,'Ad Week Dates'!$A:$E,3,FALSE)","v":{"$error":"#N/A"}},null,null,null,null,null,null,{"$error":"#N/A"}]
[null,null,{"$f":"VLOOKUP($B3346,'Ad Week Dates'!$A:$E,4,FALSE)","v":{"$error":"#N/A"}},{"$f":"VLOOKUP($B3346,'Ad Week Dates'!$A:$E,2,FALSE)","v":{"$error":"#N/A"}},{"$f":"VLOOKUP($B3346,'Ad Week Dates'!$A:$E,3,FALSE)","v":{"$error":"#N/A"}},null,null,null,null,null,null,{"$error":"#N/A"}]
[null,null,{"$f":"VLOOKUP($B3347,'Ad Week Dates'!$A:$E,4,FALSE)","v":{"$error":"#N/A"}},{"$f":"VLOOKUP($B3347,'Ad Week Dates'!$A:$E,2,FALSE)","v":{"$error":"#N/A"}},{"$f":"VLOOKUP($B3347,'Ad Week Dates'!$A:$E,3,FALSE)","v":{"$error":"#N/A"}},null,null,null,null,null,null,{"$error":"#N/A"}]
[null,null,{"$f":"VLOOKUP($B3348,'Ad Week Dates'!$A:$E,4,FALSE)","v":{"$error":"#N/A"}},{"$f":"VLOOKUP($B3348,'Ad Week Dates'!$A:$E,2,FALSE)","v":{"$error":"#N/A"}},{"$f":"VLOOKUP($B3348,'Ad Week Dates'!$A:$E,3,FALSE)","v":{"$error":"#N/A"}},null,null,null,null,null,null,{"$error":"#N/A"}]
[null,null,{"$f":"VLOOKUP($B3349,'Ad Week Dates'!$A:$E,4,FALSE)","v":{"$error":"#N/A"}},{"$f":"VLOOKUP($B3349,'Ad Week Dates'!$A:$E,2,FALSE)","v":{"$error":"#N/A"}},{"$f":"VLOOKUP($B3349,'Ad Week Dates'!$A:$E,3,FALSE)","v":{"$error":"#N/A"}},null,null,null,null,null,null,{"$error":"#N/A"}]
[null,null,{"$f":"VLOOKUP($B3350,'Ad Week Dates'!$A:$E,4,FALSE)","v":{"$error":"#N/A"}},{"$f":"VLOOKUP($B3350,'Ad Week Dates'!$A:$E,2,FALSE)","v":{"$error":"#N/A"}},{"$f":"VLOOKUP($B3350,'Ad Week Dates'!$A:$E,3,FALSE)","v":{"$error":"#N/A"}},null,null,null,null,null,null,{"$error":"#N/A"}]
[null,null,{"$f":"VLOOKUP($B3351,'Ad Week Dates'!$A:$E,4,FALSE)","v":{"$error":"#N/A"}},{"$f":"VLOOKUP($B3351,'Ad Week Dates'!$A:$E,2,FALSE)","v":{"$error":"#N/A"}},{"$f":"VLOOKUP($B3351,'Ad Week Dates'!$A:$E,3,FALSE)","v":{"$error":"#N/A"}},null,null,null,null,null,null,{"$error":"#N/A"}]
[null,null,{"$f":"VLOOKUP($B3352,'Ad Week Dates'!$A:$E,4,FALSE)","v":{"$error":"#N/A"}},{"$f":"VLOOKUP($B3352,'Ad Week Dates'!$A:$E,2,FALSE)","v":{"$error":"#N/A"}},{"$f":"VLOOKUP($B3352,'Ad Week Dates'!$A:$E,3,FALSE)","v":{"$error":"#N/A"}},null,null,null,null,null,null,{"$error":"#N/A"}]
[null,null,{"$f":"VLOOKUP($B3353,'Ad Week Dates'!$A:$E,4,FALSE)","v":{"$error":"#N/A"}},{"$f":"VLOOKUP($B3353,'Ad Week Dates'!$A:$E,2,FALSE)","v":{"$error":"#N/A"}},{"$f":"VLOOKUP($B3353,'Ad Week Dates'!$A:$E,3,FALSE)","v":{"$error":"#N/A"}},null,null,null,null,null,null,{"$error":"#N/A"}]
[null,null,{"$f":"VLOOKUP($B3354,'Ad Week Dates'!$A:$E,4,FALSE)","v":{"$error":"#N/A"}},{"$f":"VLOOKUP($B3354,'Ad Week Dates'!$A:$E,2,FALSE)","v":{"$error":"#N/A"}},{"$f":"VLOOKUP($B3354,'Ad Week Dates'!$A:$E,3,FALSE)","v":{"$error":"#N/A"}},null,null,null,null,null,null,{"$error":"#N/A"}]
[null,null,{"$f":"VLOOKUP($B3355,'Ad Week Dates'!$A:$E,4,FALSE)","v":{"$error":"#N/A"}},{"$f":"VLOOKUP($B3355,'Ad Week Dates'!$A:$E,2,FALSE)","v":{"$error":"#N/A"}},{"$f":"VLOOKUP($B3355,'Ad Week Dates'!$A:$E,3,FALSE)","v":{"$error":"#N/A"}},null,null,null,null,null,null,{"$error":"#N/A"}]
[null,null,{"$f":"VLOOKUP($B3356,'Ad Week Dates'!$A:$E,4,FALSE)","v":{"$error":"#N/A"}},{"$f":"VLOOKUP($B3356,'Ad Week Dates'!$A:$E,2,FALSE)","v":{"$error":"#N/A"}},{"$f":"VLOOKUP($B3356,'Ad Week Dates'!$A:$E,3,FALSE)","v":{"$error":"#N/A"}},null,null,null,null,null,null,{"$error":"#N/A"}]
[null,null,{"$f":"VLOOKUP($B3357,'Ad Week Dates'!$A:$E,4,FALSE)","v":{"$error":"#N/A"}},{"$f":"VLOOKUP($B3357,'Ad Week Dates'!$A:$E,2,FALSE)","v":{"$error":"#N/A"}},{"$f":"VLOOKUP($B3357,'Ad Week Dates'!$A:$E,3,FALSE)","v":{"$error":"#N/A"}},null,null,null,null,null,null,{"$error":"#N/A"}]
[null,null,{"$f":"VLOOKUP($B3358,'Ad Week Dates'!$A:$E,4,FALSE)","v":{"$error":"#N/A"}},{"$f":"VLOOKUP($B3358,'Ad Week Dates'!$A:$E,2,FALSE)","v":{"$error":"#N/A"}},{"$f":"VLOOKUP($B3358,'Ad Week Dates'!$A:$E,3,FALSE)","v":{"$error":"#N/A"}},null,null,null,null,null,null,{"$error":"#N/A"}]
[null,null,{"$f":"VLOOKUP($B3359,'Ad Week Dates'!$A:$E,4,FALSE)","v":{"$error":"#N/A"}},{"$f":"VLOOKUP($B3359,'Ad Week Dates'!$A:$E,2,FALSE)","v":{"$error":"#N/A"}},{"$f":"VLOOKUP($B3359,'Ad Week Dates'!$A:$E,3,FALSE)","v":{"$error":"#N/A"}},null,null,null,null,null,null,{"$error":"#N/A"}]
[null,null,{"$f":"VLOOKUP($B3360,'Ad Week Dates'!$A:$E,4,FALSE)","v":{"$error":"#N/A"}},{"$f":"VLOOKUP($B3360,'Ad Week Dates'!$A:$E,2,FALSE)","v":{"$error":"#N/A"}},{"$f":"VLOOKUP($B3360,'Ad Week Dates'!$A:$E,3,FALSE)","v":{"$error":"#N/A"}},null,null,null,null,null,null,{"$error":"#N/A"}]
[null,null,{"$f":"VLOOKUP($B3361,'Ad Week Dates'!$A:$E,4,FALSE)","v":{"$error":"#N/A"}},{"$f":"VLOOKUP($B3361,'Ad Week Dates'!$A:$E,2,FALSE)","v":{"$error":"#N/A"}},{"$f":"VLOOKUP($B3361,'Ad Week Dates'!$A:$E,3,FALSE)","v":{"$error":"#N/A"}},null,null,null,null,null,null,{"$error":"#N/A"}]
[null,null,{"$f":"VLOOKUP($B3362,'Ad Week Dates'!$A:$E,4,FALSE)","v":{"$error":"#N/A"}},{"$f":"VLOOKUP($B3362,'Ad Week Dates'!$A:$E,2,FALSE)","v":{"$error":"#N/A"}},{"$f":"VLOOKUP($B3362,'Ad Week Dates'!$A:$E,3,FALSE)","v":{"$error":"#N/A"}},null,null,null,null,null,null,{"$error":"#N/A"}]
[null,null,{"$f":"VLOOKUP($B3363,'Ad Week Dates'!$A:$E,4,FALSE)","v":{"$error":"#N/A"}},{"$f":"VLOOKUP($B3363,'Ad Week Dates'!$A:$E,2,FALSE)","v":{"$error":"#N/A"}},{"$f":"VLOOKUP($B3363,'Ad Week Dates'!$A:$E,3,FALSE)","v":{"$error":"#N/A"}},null,null,null,null,null,null,{"$error":"#N/A"}]
[null,null,{"$f":"VLOOKUP($B3364,'Ad Week Dates'!$A:$E,4,FALSE)","v":{"$error":"#N/A"}},{"$f":"VLOOKUP($B3364,'Ad Week Dates'!$A:$E,2,FALSE)","v":{"$error":"#N/A"}},{"$f":"VLOOKUP($B3364,'Ad Week Dates'!$A:$E,3,FALSE)","v":{"$error":"#N/A"}},null,null,null,null,null,null,{"$error":"#N/A"}]
[null,null,{"$f":"VLOOKUP($B3365,'Ad Week Dates'!$A:$E,4,FALSE)","v":{"$error":"#N/A"}},{"$f":"VLOOKUP($B3365,'Ad Week Dates'!$A:$E,2,FALSE)","v":{"$error":"#N/A"}},{"$f":"VLOOKUP($B3365,'Ad Week Dates'!$A:$E,3,FALSE)","v":{"$error":"#N/A"}},null,null,null,null,null,null,{"$error":"#N/A"}]
[null,null,{"$f":"VLOOKUP($B3366,'Ad Week Dates'!$A:$E,4,FALSE)","v":{"$error":"#N/A"}},{"$f":"VLOOKUP($B3366,'Ad Week Dates'!$A:$E,2,FALSE)","v":{"$error":"#N/A"}},{"$f":"VLOOKUP($B3366,'Ad Week Dates'!$A:$E,3,FALSE)","v":{"$error":"#N/A"}},null,null,null,null,null,null,{"$error":"#N/A"}]
[null,null,{"$f":"VLOOKUP($B3367,'Ad Week Dates'!$A:$E,4,FALSE)","v":{"$error":"#N/A"}},{"$f":"VLOOKUP($B3367,'Ad Week Dates'!$A:$E,2,FALSE)","v":{"$error":"#N/A"}},{"$f":"VLOOKUP($B3367,'Ad Week Dates'!$A:$E,3,FALSE)","v":{"$error":"#N/A"}},null,null,null,null,null,null,{"$error":"#N/A"}]
[null,null,{"$f":"VLOOKUP($B3368,'Ad Week Dates'!$A:$E,4,FALSE)","v":{"$error":"#N/A"}},{"$f":"VLOOKUP($B3368,'Ad Week Dates'!$A:$E,2,FALSE)","v":{"$error":"#N/A"}},{"$f":"VLOOKUP($B3368,'Ad Week Dates'!$A:$E,3,FALSE)","v":{"$error":"#N/A"}},null,null,null,null,null,null,{"$error":"#N/A"}]
[null,null,{"$f":"VLOOKUP($B3369,'Ad Week Dates'!$A:$E,4,FALSE)","v":{"$error":"#N/A"}},{"$f":"VLOOKUP($B3369,'Ad Week Dates'!$A:$E,2,FALSE)","v":{"$error":"#N/A"}},{"$f":"VLOOKUP($B3369,'Ad Week Dates'!$A:$E,3,FALSE)","v":{"$error":"#N/A"}},null,null,null,null,null,null,{"$error":"#N/A"}]
[null,null,{"$f":"VLOOKUP($B3370,'Ad Week Dates'!$A:$E,4,FALSE)","v":{"$error":"#N/A"}},{"$f":"VLOOKUP($B3370,'Ad Week Dates'!$A:$E,2,FALSE)","v":{"$error":"#N/A"}},{"$f":"VLOOKUP($B3370,'Ad Week Dates'!$A:$E,3,FALSE)","v":{"$error":"#N/A"}},null,null,null,null,null,null,{"$error":"#N/A"}]
[null,null,{"$f":"VLOOKUP($B3371,'Ad Week Dates'!$A:$E,4,FALSE)","v":{"$error":"#N/A"}},{"$f":"VLOOKUP($B3371,'Ad Week Dates'!$A:$E,2,FALSE)","v":{"$error":"#N/A"}},{"$f":"VLOOKUP($B3371,'Ad Week Dates'!$A:$E,3,FALSE)","v":{"$error":"#N/A"}},null,null,null,null,null,null,{"$error":"#N/A"}]
[null,null,{"$f":"VLOOKUP($B3372,'Ad Week Dates'!$A:$E,4,FALSE)","v":{"$error":"#N/A"}},{"$f":"VLOOKUP($B3372,'Ad Week Dates'!$A:$E,2,FALSE)","v":{"$error":"#N/A"}},{"$f":"VLOOKUP($B3372,'Ad Week Dates'!$A:$E,3,FALSE)","v":{"$error":"#N/A"}},null,null,null,null,null,null,{"$error":"#N/A"}]
[null,null,{"$f":"VLOOKUP($B3373,'Ad Week Dates'!$A:$E,4,FALSE)","v":{"$error":"#N/A"}},{"$f":"VLOOKUP($B3373,'Ad Week Dates'!$A:$E,2,FALSE)","v":{"$error":"#N/A"}},{"$f":"VLOOKUP($B3373,'Ad Week Dates'!$A:$E,3,FALSE)","v":{"$error":"#N/A"}},null,null,null,null,null,null,{"$error":"#N/A"}]
[null,null,{"$f":"VLOOKUP($B3374,'Ad Week Dates'!$A:$E,4,FALSE)","v":{"$error":"#N/A"}},{"$f":"VLOOKUP($B3374,'Ad Week Dates'!$A:$E,2,FALSE)","v":{"$error":"#N/A"}},{"$f":"VLOOKUP($B3374,'Ad Week Dates'!$A:$E,3,FALSE)","v":{"$error":"#N/A"}},null,null,null,null,null,null,{"$error":"#N/A"}]
[null,null,{"$f":"VLOOKUP($B3375,'Ad Week Dates'!$A:$E,4,FALSE)","v":{"$error":"#N/A"}},{"$f":"VLOOKUP($B3375,'Ad Week Dates'!$A:$E,2,FALSE)","v":{"$error":"#N/A"}},{"$f":"VLOOKUP($B3375,'Ad Week Dates'!$A:$E,3,FALSE)","v":{"$error":"#N/A"}},null,null,null,null,null,null,{"$error":"#N/A"}]
[null,null,{"$f":"VLOOKUP($B3376,'Ad Week Dates'!$A:$E,4,FALSE)","v":{"$error":"#N/A"}},{"$f":"VLOOKUP($B3376,'Ad Week Dates'!$A:$E,2,FALSE)","v":{"$error":"#N/A"}},{"$f":"VLOOKUP($B3376,'Ad Week Dates'!$A:$E,3,FALSE)","v":{"$error":"#N/A"}},null,null,null,null,null,null,{"$error":"#N/A"}]
[null,null,{"$f":"VLOOKUP($B3377,'Ad Week Dates'!$A:$E,4,FALSE)","v":{"$error":"#N/A"}},{"$f":"VLOOKUP($B3377,'Ad Week Dates'!$A:$E,2,FALSE)","v":{"$error":"#N/A"}},{"$f":"VLOOKUP($B3377,'Ad Week Dates'!$A:$E,3,FALSE)","v":{"$error":"#N/A"}},null,null,null,null,null,null,{"$error":"#N/A"}]
[null,null,{"$f":"VLOOKUP($B3378,'Ad Week Dates'!$A:$E,4,FALSE)","v":{"$error":"#N/A"}},{"$f":"VLOOKUP($B3378,'Ad Week Dates'!$A:$E,2,FALSE)","v":{"$error":"#N/A"}},{"$f":"VLOOKUP($B3378,'Ad Week Dates'!$A:$E,3,FALSE)","v":{"$error":"#N/A"}},null,null,null,null,null,null,{"$error":"#N/A"}]
[null,null,{"$f":"VLOOKUP($B3379,'Ad Week Dates'!$A:$E,4,FALSE)","v":{"$error":"#N/A"}},{"$f":"VLOOKUP($B3379,'Ad Week Dates'!$A:$E,2,FALSE)","v":{"$error":"#N/A"}},{"$f":"VLOOKUP($B3379,'Ad Week Dates'!$A:$E,3,FALSE)","v":{"$error":"#N/A"}},null,null,null,null,null,null,{"$error":"#N/A"}]
[null,null,{"$f":"VLOOKUP($B3380,'Ad Week Dates'!$A:$E,4,FALSE)","v":{"$error":"#N/A"}},{"$f":"VLOOKUP($B3380,'Ad Week Dates'!$A:$E,2,FALSE)","v":{"$error":"#N/A"}},{"$f":"VLOOKUP($B3380,'Ad Week Dates'!$A:$E,3,FALSE)","v":{"$error":"#N/A"}},null,null,null,null,null,null,{"$error":"#N/A"}]
[null,null,{"$f":"VLOOKUP($B3381,'Ad Week Dates'!$A:$E,4,FALSE)","v":{"$error":"#N/A"}},{"$f":"VLOOKUP($B3381,'Ad Week Dates'!$A:$E,2,FALSE)","v":{"$error":"#N/A"}},{"$f":"VLOOKUP($B3381,'Ad Week Dates'!$A:$E,3,FALSE)","v":{"$error":"#N/A"}},null,null,null,null,null,null,{"$error":"#N/A"}]
[null,null,{"$f":"VLOOKUP($B3382,'Ad Week Dates'!$A:$E,4,FALSE)","v":{"$error":"#N/A"}},{"$f":"VLOOKUP($B3382,'Ad Week Dates'!$A:$E,2,FALSE)","v":{"$error":"#N/A"}},{"$f":"VLOOKUP($B3382,'Ad Week Dates'!$A:$E,3,FALSE)","v":{"$error":"#N/A"}},null,null,null,null,null,null,{"$error":"#N/A"}]
[null,null,{"$f":"VLOOKUP($B3383,'Ad Week Dates'!$A:$E,4,FALSE)","v":{"$error":"#N/A"}},{"$f":"VLOOKUP($B3383,'Ad Week Dates'!$A:$E,2,FALSE)","v":{"$error":"#N/A"}},{"$f":"VLOOKUP($B3383,'Ad Week Dates'!$A:$E,3,FALSE)","v":{"$error":"#N/A"}},null,null,null,null,null,null,{"$error":"#N/A"}]
[null,null,{"$f":"VLOOKUP($B3384,'Ad Week Dates'!$A:$E,4,FALSE)","v":{"$error":"#N/A"}},{"$f":"VLOOKUP($B3384,'Ad Week Dates'!$A:$E,2,FALSE)","v":{"$error":"#N/A"}},{"$f":"VLOOKUP($B3384,'Ad Week Dates'!$A:$E,3,FALSE)","v":{"$error":"#N/A"}},null,null,null,null,null,null,{"$error":"#N/A"}]
[null,null,{"$f":"VLOOKUP($B3385,'Ad Week Dates'!$A:$E,4,FALSE)","v":{"$error":"#N/A"}},{"$f":"VLOOKUP($B3385,'Ad Week Dates'!$A:$E,2,FALSE)","v":{"$error":"#N/A"}},{"$f":"VLOOKUP($B3385,'Ad Week Dates'!$A:$E,3,FALSE)","v":{"$error":"#N/A"}},null,null,null,null,null,null,{"$error":"#N/A"}]
[null,null,{"$f":"VLOOKUP($B3386,'Ad Week Dates'!$A:$E,4,FALSE)","v":{"$error":"#N/A"}},{"$f":"VLOOKUP($B3386,'Ad Week Dates'!$A:$E,2,FALSE)","v":{"$error":"#N/A"}},{"$f":"VLOOKUP($B3386,'Ad Week Dates'!$A:$E,3,FALSE)","v":{"$error":"#N/A"}},null,null,null,null,null,null,{"$error":"#N/A"}]
[null,null,{"$f":"VLOOKUP($B3387,'Ad Week Dates'!$A:$E,4,FALSE)","v":{"$error":"#N/A"}},{"$f":"VLOOKUP($B3387,'Ad Week Dates'!$A:$E,2,FALSE)","v":{"$error":"#N/A"}},{"$f":"VLOOKUP($B3387,'Ad Week Dates'!$A:$E,3,FALSE)","v":{"$error":"#N/A"}},null,null,null,null,null,null,{"$error":"#N/A"}]
[null,null,{"$f":"VLOOKUP($B3388,'Ad Week Dates'!$A:$E,4,FALSE)","v":{"$error":"#N/A"}},{"$f":"VLOOKUP($B3388,'Ad Week Dates'!$A:$E,2,FALSE)","v":{"$error":"#N/A"}},{"$f":"VLOOKUP($B3388,'Ad Week Dates'!$A:$E,3,FALSE)","v":{"$error":"#N/A"}},null,null,null,null,null,null,{"$error":"#N/A"}]
[null,null,{"$f":"VLOOKUP($B3389,'Ad Week Dates'!$A:$E,4,FALSE)","v":{"$error":"#N/A"}},{"$f":"VLOOKUP($B3389,'Ad Week Dates'!$A:$E,2,FALSE)","v":{"$error":"#N/A"}},{"$f":"VLOOKUP($B3389,'Ad Week Dates'!$A:$E,3,FALSE)","v":{"$error":"#N/A"}},null,null,null,null,null,null,{"$error":"#N/A"}]
[null,null,{"$f":"VLOOKUP($B3390,'Ad Week Dates'!$A:$E,4,FALSE)","v":{"$error":"#N/A"}},{"$f":"VLOOKUP($B3390,'Ad Week Dates'!$A:$E,2,FALSE)","v":{"$error":"#N/A"}},{"$f":"VLOOKUP($B3390,'Ad Week Dates'!$A:$E,3,FALSE)","v":{"$error":"#N/A"}},null,null,null,null,null,null,{"$error":"#N/A"}]
[null,null,{"$f":"VLOOKUP($B3391,'Ad Week Dates'!$A:$E,4,FALSE)","v":{"$error":"#N/A"}},{"$f":"VLOOKUP($B3391,'Ad Week Dates'!$A:$E,2,FALSE)","v":{"$error":"#N/A"}},{"$f":"VLOOKUP($B3391,'Ad Week Dates'!$A:$E,3,FALSE)","v":{"$error":"#N/A"}},null,null,null,null,null,null,{"$error":"#N/A"}]
[null,null,{"$f":"VLOOKUP($B3392,'Ad Week Dates'!$A:$E,4,FALSE)","v":{"$error":"#N/A"}},{"$f":"VLOOKUP($B3392,'Ad Week Dates'!$A:$E,2,FALSE)","v":{"$error":"#N/A"}},{"$f":"VLOOKUP($B3392,'Ad Week Dates'!$A:$E,3,FALSE)","v":{"$error":"#N/A"}},null,null,null,null,null,null,{"$error":"#N/A"}]
[null,null,{"$f":"VLOOKUP($B3393,'Ad Week Dates'!$A:$E,4,FALSE)","v":{"$error":"#N/A"}},{"$f":"VLOOKUP($B3393,'Ad Week Dates'!$A:$E,2,FALSE)","v":{"$error":"#N/A"}},{"$f":"VLOOKUP($B3393,'Ad Week Dates'!$A:$E,3,FALSE)","v":{"$error":"#N/A"}},null,null,null,null,null,null,{"$error":"#N/A"}]
[null,null,{"$f":"VLOOKUP($B3394,'Ad Week Dates'!$A:$E,4,FALSE)","v":{"$error":"#N/A"}},{"$f":"VLOOKUP($B3394,'Ad Week Dates'!$A:$E,2,FALSE)","v":{"$error":"#N/A"}},{"$f":"VLOOKUP($B3394,'Ad Week Dates'!$A:$E,3,FALSE)","v":{"$error":"#N/A"}},null,null,null,null,null,null,{"$error":"#N/A"}]
[null,null,{"$f":"VLOOKUP($B3395,'Ad Week Dates'!$A:$E,4,FALSE)","v":{"$error":"#N/A"}},{"$f":"VLOOKUP($B3395,'Ad Week Dates'!$A:$E,2,FALSE)","v":{"$error":"#N/A"}},{"$f":"VLOOKUP($B3395,'Ad Week Dates'!$A:$E,3,FALSE)","v":{"$error":"#N/A"}},null,null,null,null,null,null,{"$error":"#N/A"}]
[null,null,{"$f":"VLOOKUP($B3396,'Ad Week Dates'!$A:$E,4,FALSE)","v":{"$error":"#N/A"}},{"$f":"VLOOKUP($B3396,'Ad Week Dates'!$A:$E,2,FALSE)","v":{"$error":"#N/A"}},{"$f":"VLOOKUP($B3396,'Ad Week Dates'!$A:$E,3,FALSE)","v":{"$error":"#N/A"}},null,null,null,null,null,null,{"$error":"#N/A"}]
[null,null,{"$f":"VLOOKUP($B3397,'Ad Week Dates'!$A:$E,4,FALSE)","v":{"$error":"#N/A"}},{"$f":"VLOOKUP($B3397,'Ad Week Dates'!$A:$E,2,FALSE)","v":{"$error":"#N/A"}},{"$f":"VLOOKUP($B3397,'Ad Week Dates'!$A:$E,3,FALSE)","v":{"$error":"#N/A"}},null,null,null,null,null,null,{"$error":"#N/A"}]
[null,null,{"$f":"VLOOKUP($B3398,'Ad Week Dates'!$A:$E,4,FALSE)","v":{"$error":"#N/A"}},{"$f":"VLOOKUP($B3398,'Ad Week Dates'!$A:$E,2,FALSE)","v":{"$error":"#N/A"}},{"$f":"VLOOKUP($B3398,'Ad Week Dates'!$A:$E,3,FALSE)","v":{"$error":"#N/A"}},null,null,null,null,null,null,{"$f":"IF(ISNUMBER(J3398), J3398 - K3398, VALUE(_xlfn.TEXTBEFORE(J3398, \"-\")) - VALUE(_xlfn.TEXTBEFORE(K3398, \"-\")))","v":{"$error":"#N/A"}}]
[null,null,{"$f":"VLOOKUP($B3399,'Ad Week Dates'!$A:$E,4,FALSE)","v":{"$error":"#N/A"}},{"$f":"VLOOKUP($B3399,'Ad Week Dates'!$A:$E,2,FALSE)","v":{"$error":"#N/A"}},{"$f":"VLOOKUP($B3399,'Ad Week Dates'!$A:$E,3,FALSE)","v":{"$error":"#N/A"}},null,null,null,null,null,null,{"$error":"#N/A"}]
[null,null,{"$f":"VLOOKUP($B3400,'Ad Week Dates'!$A:$E,4,FALSE)","v":{"$error":"#N/A"}},{"$f":"VLOOKUP($B3400,'Ad Week Dates'!$A:$E,2,FALSE)","v":{"$error":"#N/A"}},{"$f":"VLOOKUP($B3400,'Ad Week Dates'!$A:$E,3,FALSE)","v":{"$error":"#N/A"}},null,null,null,null,null,null,{"$error":"#N/A"}]
[null,null,{"$f":"VLOOKUP($B3401,'Ad Week Dates'!$A:$E,4,FALSE)","v":{"$error":"#N/A"}},{"$f":"VLOOKUP($B3401,'Ad Week Dates'!$A:$E,2,FALSE)","v":{"$error":"#N/A"}},{"$f":"VLOOKUP($B3401,'Ad Week Dates'!$A:$E,3,FALSE)","v":{"$error":"#N/A"}},null,null,null,null,null,null,{"$error":"#N/A"}]
[null,null,{"$f":"VLOOKUP($B3402,'Ad Week Dates'!$A:$E,4,FALSE)","v":{"$error":"#N/A"}},{"$f":"VLOOKUP($B3402,'Ad Week Dates'!$A:$E,2,FALSE)","v":{"$error":"#N/A"}},{"$f":"VLOOKUP($B3402,'Ad Week Dates'!$A:$E,3,FALSE)","v":{"$error":"#N/A"}},null,null,null,null,null,null,{"$error":"#N/A"}]
[null,null,{"$f":"VLOOKUP($B3403,'Ad Week Dates'!$A:$E,4,FALSE)","v":{"$error":"#N/A"}},{"$f":"VLOOKUP($B3403,'Ad Week Dates'!$A:$E,2,FALSE)","v":{"$error":"#N/A"}},{"$f":"VLOOKUP($B3403,'Ad Week Dates'!$A:$E,3,FALSE)","v":{"$error":"#N/A"}},null,null,null,null,null,null,{"$error":"#N/A"}]
[null,null,{"$f":"VLOOKUP($B3404,'Ad Week Dates'!$A:$E,4,FALSE)","v":{"$error":"#N/A"}},{"$f":"VLOOKUP($B3404,'Ad Week Dates'!$A:$E,2,FALSE)","v":{"$error":"#N/A"}},{"$f":"VLOOKUP($B3404,'Ad Week Dates'!$A:$E,3,FALSE)","v":{"$error":"#N/A"}},null,null,null,null,null,null,{"$error":"#N/A"}]
[null,null,{"$f":"VLOOKUP($B3405,'Ad Week Dates'!$A:$E,4,FALSE)","v":{"$error":"#N/A"}},{"$f":"VLOOKUP($B3405,'Ad Week Dates'!$A:$E,2,FALSE)","v":{"$error":"#N/A"}},{"$f":"VLOOKUP($B3405,'Ad Week Dates'!$A:$E,3,FALSE)","v":{"$error":"#N/A"}},null,null,null,null,null,null,{"$error":"#N/A"}]
[null,null,{"$f":"VLOOKUP($B3406,'Ad Week Dates'!$A:$E,4,FALSE)","v":{"$error":"#N/A"}},{"$f":"VLOOKUP($B3406,'Ad Week Dates'!$A:$E,2,FALSE)","v":{"$error":"#N/A"}},{"$f":"VLOOKUP($B3406,'Ad Week Dates'!$A:$E,3,FALSE)","v":{"$error":"#N/A"}},null,null,null,null,null,null,{"$error":"#N/A"}]
[null,null,{"$f":"VLOOKUP($B3407,'Ad Week Dates'!$A:$E,4,FALSE)","v":{"$error":"#N/A"}},{"$f":"VLOOKUP($B3407,'Ad Week Dates'!$A:$E,2,FALSE)","v":{"$error":"#N/A"}},{"$f":"VLOOKUP($B3407,'Ad Week Dates'!$A:$E,3,FALSE)","v":{"$error":"#N/A"}},null,null,null,null,null,null,{"$error":"#N/A"}]
[null,null,{"$f":"VLOOKUP($B3408,'Ad Week Dates'!$A:$E,4,FALSE)","v":{"$error":"#N/A"}},{"$f":"VLOOKUP($B3408,'Ad Week Dates'!$A:$E,2,FALSE)","v":{"$error":"#N/A"}},{"$f":"VLOOKUP($B3408,'Ad Week Dates'!$A:$E,3,FALSE)","v":{"$error":"#N/A"}},null,null,null,null,null,null,{"$error":"#N/A"}]
[null,null,{"$f":"VLOOKUP($B3409,'Ad Week Dates'!$A:$E,4,FALSE)","v":{"$error":"#N/A"}},{"$f":"VLOOKUP($B3409,'Ad Week Dates'!$A:$E,2,FALSE)","v":{"$error":"#N/A"}},{"$f":"VLOOKUP($B3409,'Ad Week Dates'!$A:$E,3,FALSE)","v":{"$error":"#N/A"}},null,null,null,null,null,null,{"$error":"#N/A"}]
[null,null,{"$f":"VLOOKUP($B3410,'Ad Week Dates'!$A:$E,4,FALSE)","v":{"$error":"#N/A"}},{"$f":"VLOOKUP($B3410,'Ad Week Dates'!$A:$E,2,FALSE)","v":{"$error":"#N/A"}},{"$f":"VLOOKUP($B3410,'Ad Week Dates'!$A:$E,3,FALSE)","v":{"$error":"#N/A"}},null,null,null,null,null,null,{"$error":"#N/A"}]
[null,null,{"$f":"VLOOKUP($B3411,'Ad Week Dates'!$A:$E,4,FALSE)","v":{"$error":"#N/A"}},{"$f":"VLOOKUP($B3411,'Ad Week Dates'!$A:$E,2,FALSE)","v":{"$error":"#N/A"}},{"$f":"VLOOKUP($B3411,'Ad Week Dates'!$A:$E,3,FALSE)","v":{"$error":"#N/A"}},null,null,null,null,null,null,{"$error":"#N/A"}]
[null,null,{"$f":"VLOOKUP($B3412,'Ad Week Dates'!$A:$E,4,FALSE)","v":{"$error":"#N/A"}},{"$f":"VLOOKUP($B3412,'Ad Week Dates'!$A:$E,2,FALSE)","v":{"$error":"#N/A"}},{"$f":"VLOOKUP($B3412,'Ad Week Dates'!$A:$E,3,FALSE)","v":{"$error":"#N/A"}},null,null,null,null,null,null,{"$error":"#N/A"}]
[null,null,{"$f":"VLOOKUP($B3413,'Ad Week Dates'!$A:$E,4,FALSE)","v":{"$error":"#N/A"}},{"$f":"VLOOKUP($B3413,'Ad Week Dates'!$A:$E,2,FALSE)","v":{"$error":"#N/A"}},{"$f":"VLOOKUP($B3413,'Ad Week Dates'!$A:$E,3,FALSE)","v":{"$error":"#N/A"}},null,null,null,null,null,null,{"$error":"#N/A"}]
[null,null,{"$f":"VLOOKUP($B3414,'Ad Week Dates'!$A:$E,4,FALSE)","v":{"$error":"#N/A"}},{"$f":"VLOOKUP($B3414,'Ad Week Dates'!$A:$E,2,FALSE)","v":{"$error":"#N/A"}},{"$f":"VLOOKUP($B3414,'Ad Week Dates'!$A:$E,3,FALSE)","v":{"$error":"#N/A"}},null,null,null,null,null,null,{"$error":"#N/A"}]
[null,null,{"$f":"VLOOKUP($B3415,'Ad Week Dates'!$A:$E,4,FALSE)","v":{"$error":"#N/A"}},{"$f":"VLOOKUP($B3415,'Ad Week Dates'!$A:$E,2,FALSE)","v":{"$error":"#N/A"}},{"$f":"VLOOKUP($B3415,'Ad Week Dates'!$A:$E,3,FALSE)","v":{"$error":"#N/A"}},null,null,null,null,null,null,{"$error":"#N/A"}]
[null,null,{"$f":"VLOOKUP($B3416,'Ad Week Dates'!$A:$E,4,FALSE)","v":{"$error":"#N/A"}},{"$f":"VLOOKUP($B3416,'Ad Week Dates'!$A:$E,2,FALSE)","v":{"$error":"#N/A"}},{"$f":"VLOOKUP($B3416,'Ad Week Dates'!$A:$E,3,FALSE)","v":{"$error":"#N/A"}},null,null,null,null,null,null,{"$error":"#N/A"}]
[null,null,{"$f":"VLOOKUP($B3417,'Ad Week Dates'!$A:$E,4,FALSE)","v":{"$error":"#N/A"}},{"$f":"VLOOKUP($B3417,'Ad Week Dates'!$A:$E,2,FALSE)","v":{"$error":"#N/A"}},{"$f":"VLOOKUP($B3417,'Ad Week Dates'!$A:$E,3,FALSE)","v":{"$error":"#N/A"}},null,null,null,null,null,null,{"$error":"#N/A"}]
[null,null,{"$f":"VLOOKUP($B3418,'Ad Week Dates'!$A:$E,4,FALSE)","v":{"$error":"#N/A"}},{"$f":"VLOOKUP($B3418,'Ad Week Dates'!$A:$E,2,FALSE)","v":{"$error":"#N/A"}},{"$f":"VLOOKUP($B3418,'Ad Week Dates'!$A:$E,3,FALSE)","v":{"$error":"#N/A"}},null,null,null,null,null,null,{"$error":"#N/A"}]
[null,null,{"$f":"VLOOKUP($B3419,'Ad Week Dates'!$A:$E,4,FALSE)","v":{"$error":"#N/A"}},{"$f":"VLOOKUP($B3419,'Ad Week Dates'!$A:$E,2,FALSE)","v":{"$error":"#N/A"}},{"$f":"VLOOKUP($B3419,'Ad Week Dates'!$A:$E,3,FALSE)","v":{"$error":"#N/A"}},null,null,null,null,null,null,{"$error":"#N/A"}]
[null,null,{"$f":"VLOOKUP($B3420,'Ad Week Dates'!$A:$E,4,FALSE)","v":{"$error":"#N/A"}},{"$f":"VLOOKUP($B3420,'Ad Week Dates'!$A:$E,2,FALSE)","v":{"$error":"#N/A"}},{"$f":"VLOOKUP($B3420,'Ad Week Dates'!$A:$E,3,FALSE)","v":{"$error":"#N/A"}},null,null,null,null,null,null,{"$error":"#N/A"}]
[null,null,{"$f":"VLOOKUP($B3421,'Ad Week Dates'!$A:$E,4,FALSE)","v":{"$error":"#N/A"}},{"$f":"VLOOKUP($B3421,'Ad Week Dates'!$A:$E,2,FALSE)","v":{"$error":"#N/A"}},{"$f":"VLOOKUP($B3421,'Ad Week Dates'!$A:$E,3,FALSE)","v":{"$error":"#N/A"}},null,null,null,null,null,null,{"$error":"#N/A"}]
[null,null,{"$f":"VLOOKUP($B3422,'Ad Week Dates'!$A:$E,4,FALSE)","v":{"$error":"#N/A"}},{"$f":"VLOOKUP($B3422,'Ad Week Dates'!$A:$E,2,FALSE)","v":{"$error":"#N/A"}},{"$f":"VLOOKUP($B3422,'Ad Week Dates'!$A:$E,3,FALSE)","v":{"$error":"#N/A"}},null,null,null,null,null,null,{"$error":"#N/A"}]
[null,null,{"$f":"VLOOKUP($B3423,'Ad Week Dates'!$A:$E,4,FALSE)","v":{"$error":"#N/A"}},{"$f":"VLOOKUP($B3423,'Ad Week Dates'!$A:$E,2,FALSE)","v":{"$error":"#N/A"}},{"$f":"VLOOKUP($B3423,'Ad Week Dates'!$A:$E,3,FALSE)","v":{"$error":"#N/A"}},null,null,null,null,null,null,{"$error":"#N/A"}]
[null,null,{"$f":"VLOOKUP($B3424,'Ad Week Dates'!$A:$E,4,FALSE)","v":{"$error":"#N/A"}},{"$f":"VLOOKUP($B3424,'Ad Week Dates'!$A:$E,2,FALSE)","v":{"$error":"#N/A"}},{"$f":"VLOOKUP($B3424,'Ad Week Dates'!$A:$E,3,FALSE)","v":{"$error":"#N/A"}},null,null,null,null,null,null,{"$error":"#N/A"}]
[null,null,{"$f":"VLOOKUP($B3425,'Ad Week Dates'!$A:$E,4,FALSE)","v":{"$error":"#N/A"}},{"$f":"VLOOKUP($B3425,'Ad Week Dates'!$A:$E,2,FALSE)","v":{"$error":"#N/A"}},{"$f":"VLOOKUP($B3425,'Ad Week Dates'!$A:$E,3,FALSE)","v":{"$error":"#N/A"}},null,null,null,null,null,null,{"$error":"#N/A"}]
[null,null,{"$f":"VLOOKUP($B3426,'Ad Week Dates'!$A:$E,4,FALSE)","v":{"$error":"#N/A"}},{"$f":"VLOOKUP($B3426,'Ad Week Dates'!$A:$E,2,FALSE)","v":{"$error":"#N/A"}},{"$f":"VLOOKUP($B3426,'Ad Week Dates'!$A:$E,3,FALSE)","v":{"$error":"#N/A"}},null,null,null,null,null,null,{"$error":"#N/A"}]
[null,null,{"$f":"VLOOKUP($B3427,'Ad Week Dates'!$A:$E,4,FALSE)","v":{"$error":"#N/A"}},{"$f":"VLOOKUP($B3427,'Ad Week Dates'!$A:$E,2,FALSE)","v":{"$error":"#N/A"}},{"$f":"VLOOKUP($B3427,'Ad Week Dates'!$A:$E,3,FALSE)","v":{"$error":"#N/A"}},null,null,null,null,null,null,{"$error":"#N/A"}]
[null,null,{"$f":"VLOOKUP($B3428,'Ad Week Dates'!$A:$E,4,FALSE)","v":{"$error":"#N/A"}},{"$f":"VLOOKUP($B3428,'Ad Week Dates'!$A:$E,2,FALSE)","v":{"$error":"#N/A"}},{"$f":"VLOOKUP($B3428,'Ad Week Dates'!$A:$E,3,FALSE)","v":{"$error":"#N/A"}},null,null,null,null,null,null,{"$error":"#N/A"}]
[null,null,{"$f":"VLOOKUP($B3429,'Ad Week Dates'!$A:$E,4,FALSE)","v":{"$error":"#N/A"}},{"$f":"VLOOKUP($B3429,'Ad Week Dates'!$A:$E,2,FALSE)","v":{"$error":"#N/A"}},{"$f":"VLOOKUP($B3429,'Ad Week Dates'!$A:$E,3,FALSE)","v":{"$error":"#N/A"}},null,null,null,null,null,null,{"$error":"#N/A"}]
[null,null,{"$f":"VLOOKUP($B3430,'Ad Week Dates'!$A:$E,4,FALSE)","v":{"$error":"#N/A"}},{"$f":"VLOOKUP($B3430,'Ad Week Dates'!$A:$E,2,FALSE)","v":{"$error":"#N/A"}},{"$f":"VLOOKUP($B3430,'Ad Week Dates'!$A:$E,3,FALSE)","v":{"$error":"#N/A"}},null,null,null,null,null,null,{"$error":"#N/A"}]
[null,null,{"$f":"VLOOKUP($B3431,'Ad Week Dates'!$A:$E,4,FALSE)","v":{"$error":"#N/A"}},{"$f":"VLOOKUP($B3431,'Ad Week Dates'!$A:$E,2,FALSE)","v":{"$error":"#N/A"}},{"$f":"VLOOKUP($B3431,'Ad Week Dates'!$A:$E,3,FALSE)","v":{"$error":"#N/A"}},null,null,null,null,null,null,{"$error":"#N/A"}]
[null,null,{"$f":"VLOOKUP($B3432,'Ad Week Dates'!$A:$E,4,FALSE)","v":{"$error":"#N/A"}},{"$f":"VLOOKUP($B3432,'Ad Week Dates'!$A:$E,2,FALSE)","v":{"$error":"#N/A"}},{"$f":"VLOOKUP($B3432,'Ad Week Dates'!$A:$E,3,FALSE)","v":{"$error":"#N/A"}},null,null,null,null,null,null,{"$error":"#N/A"}]
[null,null,{"$f":"VLOOKUP($B3433,'Ad Week Dates'!$A:$E,4,FALSE)","v":{"$error":"#N/A"}},{"$f":"VLOOKUP($B3433,'Ad Week Dates'!$A:$E,2,FALSE)","v":{"$error":"#N/A"}},{"$f":"VLOOKUP($B3433,'Ad Week Dates'!$A:$E,3,FALSE)","v":{"$error":"#N/A"}},null,null,null,null,null,null,{"$error":"#N/A"}]
[null,null,{"$f":"VLOOKUP($B3434,'Ad Week Dates'!$A:$E,4,FALSE)","v":{"$error":"#N/A"}},{"$f":"VLOOKUP($B3434,'Ad Week Dates'!$A:$E,2,FALSE)","v":{"$error":"#N/A"}},{"$f":"VLOOKUP($B3434,'Ad Week Dates'!$A:$E,3,FALSE)","v":{"$error":"#N/A"}},null,null,null,null,null,null,{"$error":"#N/A"}]
[null,null,{"$f":"VLOOKUP($B3435,'Ad Week Dates'!$A:$E,4,FALSE)","v":{"$error":"#N/A"}},{"$f":"VLOOKUP($B3435,'Ad Week Dates'!$A:$E,2,FALSE)","v":{"$error":"#N/A"}},{"$f":"VLOOKUP($B3435,'Ad Week Dates'!$A:$E,3,FALSE)","v":{"$error":"#N/A"}},null,null,null,null,null,null,{"$error":"#N/A"}]
[null,null,{"$f":"VLOOKUP($B3436,'Ad Week Dates'!$A:$E,4,FALSE)","v":{"$error":"#N/A"}},{"$f":"VLOOKUP($B3436,'Ad Week Dates'!$A:$E,2,FALSE)","v":{"$error":"#N/A"}},{"$f":"VLOOKUP($B3436,'Ad Week Dates'!$A:$E,3,FALSE)","v":{"$error":"#N/A"}},null,null,null,null,null,null,{"$error":"#N/A"}]
[null,null,{"$f":"VLOOKUP($B3437,'Ad Week Dates'!$A:$E,4,FALSE)","v":{"$error":"#N/A"}},{"$f":"VLOOKUP($B3437,'Ad Week Dates'!$A:$E,2,FALSE)","v":{"$error":"#N/A"}},{"$f":"VLOOKUP($B3437,'Ad Week Dates'!$A:$E,3,FALSE)","v":{"$error":"#N/A"}},null,null,null,null,null,null,{"$error":"#N/A"}]
[null,null,{"$f":"VLOOKUP($B3438,'Ad Week Dates'!$A:$E,4,FALSE)","v":{"$error":"#N/A"}},{"$f":"VLOOKUP($B3438,'Ad Week Dates'!$A:$E,2,FALSE)","v":{"$error":"#N/A"}},{"$f":"VLOOKUP($B3438,'Ad Week Dates'!$A:$E,3,FALSE)","v":{"$error":"#N/A"}},null,null,null,null,null,null,{"$error":"#N/A"}]
[null,null,{"$f":"VLOOKUP($B3439,'Ad Week Dates'!$A:$E,4,FALSE)","v":{"$error":"#N/A"}},{"$f":"VLOOKUP($B3439,'Ad Week Dates'!$A:$E,2,FALSE)","v":{"$error":"#N/A"}},{"$f":"VLOOKUP($B3439,'Ad Week Dates'!$A:$E,3,FALSE)","v":{"$error":"#N/A"}},null,null,null,null,null,null,{"$error":"#N/A"}]
[null,null,{"$f":"VLOOKUP($B3440,'Ad Week Dates'!$A:$E,4,FALSE)","v":{"$error":"#N/A"}},{"$f":"VLOOKUP($B3440,'Ad Week Dates'!$A:$E,2,FALSE)","v":{"$error":"#N/A"}},{"$f":"VLOOKUP($B3440,'Ad Week Dates'!$A:$E,3,FALSE)","v":{"$error":"#N/A"}},null,null,null,null,null,null,{"$error":"#N/A"}]
[null,null,{"$f":"VLOOKUP($B3441,'Ad Week Dates'!$A:$E,4,FALSE)","v":{"$error":"#N/A"}},{"$f":"VLOOKUP($B3441,'Ad Week Dates'!$A:$E,2,FALSE)","v":{"$error":"#N/A"}},{"$f":"VLOOKUP($B3441,'Ad Week Dates'!$A:$E,3,FALSE)","v":{"$error":"#N/A"}},null,null,null,null,null,null,{"$error":"#N/A"}]
[null,null,{"$f":"VLOOKUP($B3442,'Ad Week Dates'!$A:$E,4,FALSE)","v":{"$error":"#N/A"}},{"$f":"VLOOKUP($B3442,'Ad Week Dates'!$A:$E,2,FALSE)","v":{"$error":"#N/A"}},{"$f":"VLOOKUP($B3442,'Ad Week Dates'!$A:$E,3,FALSE)","v":{"$error":"#N/A"}},null,null,null,null,null,null,{"$error":"#N/A"}]
[null,null,{"$f":"VLOOKUP($B3443,'Ad Week Dates'!$A:$E,4,FALSE)","v":{"$error":"#N/A"}},{"$f":"VLOOKUP($B3443,'Ad Week Dates'!$A:$E,2,FALSE)","v":{"$error":"#N/A"}},{"$f":"VLOOKUP($B3443,'Ad Week Dates'!$A:$E,3,FALSE)","v":{"$error":"#N/A"}},null,null,null,null,null,null,{"$error":"#N/A"}]
[null,null,{"$f":"VLOOKUP($B3444,'Ad Week Dates'!$A:$E,4,FALSE)","v":{"$error":"#N/A"}},{"$f":"VLOOKUP($B3444,'Ad Week Dates'!$A:$E,2,FALSE)","v":{"$error":"#N/A"}},{"$f":"VLOOKUP($B3444,'Ad Week Dates'!$A:$E,3,FALSE)","v":{"$error":"#N/A"}},null,null,null,null,null,null,{"$error":"#N/A"}]
[null,null,{"$f":"VLOOKUP($B3445,'Ad Week Dates'!$A:$E,4,FALSE)","v":{"$error":"#N/A"}},{"$f":"VLOOKUP($B3445,'Ad Week Dates'!$A:$E,2,FALSE)","v":{"$error":"#N/A"}},{"$f":"VLOOKUP($B3445,'Ad Week Dates'!$A:$E,3,FALSE)","v":{"$error":"#N/A"}},null,null,null,null,null,null,{"$error":"#N/A"}]
[null,null,{"$f":"VLOOKUP($B3446,'Ad Week Dates'!$A:$E,4,FALSE)","v":{"$error":"#N/A"}},{"$f":"VLOOKUP($B3446,'Ad Week Dates'!$A:$E,2,FALSE)","v":{"$error":"#N/A"}},{"$f":"VLOOKUP($B3446,'Ad Week Dates'!$A:$E,3,FALSE)","v":{"$error":"#N/A"}},null,null,null,null,null,null,{"$error":"#N/A"}]
[null,null,{"$f":"VLOOKUP($B3447,'Ad Week Dates'!$A:$E,4,FALSE)","v":{"$error":"#N/A"}},{"$f":"VLOOKUP($B3447,'Ad Week Dates'!$A:$E,2,FALSE)","v":{"$error":"#N/A"}},{"$f":"VLOOKUP($B3447,'Ad Week Dates'!$A:$E,3,FALSE)","v":{"$error":"#N/A"}},null,null,null,null,null,null,{"$error":"#N/A"}]
[null,null,{"$f":"VLOOKUP($B3448,'Ad Week Dates'!$A:$E,4,FALSE)","v":{"$error":"#N/A"}},{"$f":"VLOOKUP($B3448,'Ad Week Dates'!$A:$E,2,FALSE)","v":{"$error":"#N/A"}},{"$f":"VLOOKUP($B3448,'Ad Week Dates'!$A:$E,3,FALSE)","v":{"$error":"#N/A"}},null,null,null,null,null,null,{"$error":"#N/A"}]
[null,null,{"$f":"VLOOKUP($B3449,'Ad Week Dates'!$A:$E,4,FALSE)","v":{"$error":"#N/A"}},{"$f":"VLOOKUP($B3449,'Ad Week Dates'!$A:$E,2,FALSE)","v":{"$error":"#N/A"}},{"$f":"VLOOKUP($B3449,'Ad Week Dates'!$A:$E,3,FALSE)","v":{"$error":"#N/A"}},null,null,null,null,null,null,{"$error":"#N/A"}]
[null,null,{"$f":"VLOOKUP($B3450,'Ad Week Dates'!$A:$E,4,FALSE)","v":{"$error":"#N/A"}},{"$f":"VLOOKUP($B3450,'Ad Week Dates'!$A:$E,2,FALSE)","v":{"$error":"#N/A"}},{"$f":"VLOOKUP($B3450,'Ad Week Dates'!$A:$E,3,FALSE)","v":{"$error":"#N/A"}},null,null,null,null,null,null,{"$error":"#N/A"}]
[null,null,{"$f":"VLOOKUP($B3451,'Ad Week Dates'!$A:$E,4,FALSE)","v":{"$error":"#N/A"}},{"$f":"VLOOKUP($B3451,'Ad Week Dates'!$A:$E,2,FALSE)","v":{"$error":"#N/A"}},{"$f":"VLOOKUP($B3451,'Ad Week Dates'!$A:$E,3,FALSE)","v":{"$error":"#N/A"}},null,null,null,null,null,null,{"$error":"#N/A"}]
[null,null,{"$f":"VLOOKUP($B3452,'Ad Week Dates'!$A:$E,4,FALSE)","v":{"$error":"#N/A"}},{"$f":"VLOOKUP($B3452,'Ad Week Dates'!$A:$E,2,FALSE)","v":{"$error":"#N/A"}},{"$f":"VLOOKUP($B3452,'Ad Week Dates'!$A:$E,3,FALSE)","v":{"$error":"#N/A"}},null,null,null,null,null,null,{"$error":"#N/A"}]
[null,null,{"$f":"VLOOKUP($B3453,'Ad Week Dates'!$A:$E,4,FALSE)","v":{"$error":"#N/A"}},{"$f":"VLOOKUP($B3453,'Ad Week Dates'!$A:$E,2,FALSE)","v":{"$error":"#N/A"}},{"$f":"VLOOKUP($B3453,'Ad Week Dates'!$A:$E,3,FALSE)","v":{"$error":"#N/A"}},null,null,null,null,null,null,{"$error":"#N/A"}]
[null,null,{"$f":"VLOOKUP($B3454,'Ad Week Dates'!$A:$E,4,FALSE)","v":{"$error":"#N/A"}},{"$f":"VLOOKUP($B3454,'Ad Week Dates'!$A:$E,2,FALSE)","v":{"$error":"#N/A"}},{"$f":"VLOOKUP($B3454,'Ad Week Dates'!$A:$E,3,FALSE)","v":{"$error":"#N/A"}},null,null,null,null,null,null,{"$error":"#N/A"}]
[null,null,{"$f":"VLOOKUP($B3455,'Ad Week Dates'!$A:$E,4,FALSE)","v":{"$error":"#N/A"}},{"$f":"VLOOKUP($B3455,'Ad Week Dates'!$A:$E,2,FALSE)","v":{"$error":"#N/A"}},{"$f":"VLOOKUP($B3455,'Ad Week Dates'!$A:$E,3,FALSE)","v":{"$error":"#N/A"}},null,null,null,null,null,null,{"$error":"#N/A"}]
[null,null,{"$f":"VLOOKUP($B3456,'Ad Week Dates'!$A:$E,4,FALSE)","v":{"$error":"#N/A"}},{"$f":"VLOOKUP($B3456,'Ad Week Dates'!$A:$E,2,FALSE)","v":{"$error":"#N/A"}},{"$f":"VLOOKUP($B3456,'Ad Week Dates'!$A:$E,3,FALSE)","v":{"$error":"#N/A"}},null,null,null,null,null,null,{"$error":"#N/A"}]
[null,null,{"$f":"VLOOKUP($B3457,'Ad Week Dates'!$A:$E,4,FALSE)","v":{"$error":"#N/A"}},{"$f":"VLOOKUP($B3457,'Ad Week Dates'!$A:$E,2,FALSE)","v":{"$error":"#N/A"}},{"$f":"VLOOKUP($B3457,'Ad Week Dates'!$A:$E,3,FALSE)","v":{"$error":"#N/A"}},null,null,null,null,null,null,{"$error":"#N/A"}]
[null,null,{"$f":"VLOOKUP($B3458,'Ad Week Dates'!$A:$E,4,FALSE)","v":{"$error":"#N/A"}},{"$f":"VLOOKUP($B3458,'Ad Week Dates'!$A:$E,2,FALSE)","v":{"$error":"#N/A"}},{"$f":"VLOOKUP($B3458,'Ad Week Dates'!$A:$E,3,FALSE)","v":{"$error":"#N/A"}},null,null,null,null,null,null,{"$error":"#N/A"}]
[null,null,{"$f":"VLOOKUP($B3459,'Ad Week Dates'!$A:$E,4,FALSE)","v":{"$error":"#N/A"}},{"$f":"VLOOKUP($B3459,'Ad Week Dates'!$A:$E,2,FALSE)","v":{"$error":"#N/A"}},{"$f":"VLOOKUP($B3459,'Ad Week Dates'!$A:$E,3,FALSE)","v":{"$error":"#N/A"}},null,null,null,null,null,null,{"$error":"#N/A"}]
[null,null,{"$f":"VLOOKUP($B3460,'Ad Week Dates'!$A:$E,4,FALSE)","v":{"$error":"#N/A"}},{"$f":"VLOOKUP($B3460,'Ad Week Dates'!$A:$E,2,FALSE)","v":{"$error":"#N/A"}},{"$f":"VLOOKUP($B3460,'Ad Week Dates'!$A:$E,3,FALSE)","v":{"$error":"#N/A"}},null,null,null,null,null,null,{"$error":"#N/A"}]
[null,null,{"$f":"VLOOKUP($B3461,'Ad Week Dates'!$A:$E,4,FALSE)","v":{"$error":"#N/A"}},{"$f":"VLOOKUP($B3461,'Ad Week Dates'!$A:$E,2,FALSE)","v":{"$error":"#N/A"}},{"$f":"VLOOKUP($B3461,'Ad Week Dates'!$A:$E,3,FALSE)","v":{"$error":"#N/A"}},null,null,null,null,null,null,{"$error":"#N/A"}]
[null,null,{"$f":"VLOOKUP($B3462,'Ad Week Dates'!$A:$E,4,FALSE)","v":{"$error":"#N/A"}},{"$f":"VLOOKUP($B3462,'Ad Week Dates'!$A:$E,2,FALSE)","v":{"$error":"#N/A"}},{"$f":"VLOOKUP($B3462,'Ad Week Dates'!$A:$E,3,FALSE)","v":{"$error":"#N/A"}},null,null,null,null,null,null,{"$f":"IF(ISNUMBER(J3462), J3462 - K3462, VALUE(_xlfn.TEXTBEFORE(J3462, \"-\")) - VALUE(_xlfn.TEXTBEFORE(K3462, \"-\")))","v":{"$error":"#N/A"}}]
[null,null,{"$f":"VLOOKUP($B3463,'Ad Week Dates'!$A:$E,4,FALSE)","v":{"$error":"#N/A"}},{"$f":"VLOOKUP($B3463,'Ad Week Dates'!$A:$E,2,FALSE)","v":{"$error":"#N/A"}},{"$f":"VLOOKUP($B3463,'Ad Week Dates'!$A:$E,3,FALSE)","v":{"$error":"#N/A"}},null,null,null,null,null,null,{"$error":"#N/A"}]
[null,null,{"$f":"VLOOKUP($B3464,'Ad Week Dates'!$A:$E,4,FALSE)","v":{"$error":"#N/A"}},{"$f":"VLOOKUP($B3464,'Ad Week Dates'!$A:$E,2,FALSE)","v":{"$error":"#N/A"}},{"$f":"VLOOKUP($B3464,'Ad Week Dates'!$A:$E,3,FALSE)","v":{"$error":"#N/A"}},null,null,null,null,null,null,{"$error":"#N/A"}]
[null,null,{"$f":"VLOOKUP($B3465,'Ad Week Dates'!$A:$E,4,FALSE)","v":{"$error":"#N/A"}},{"$f":"VLOOKUP($B3465,'Ad Week Dates'!$A:$E,2,FALSE)","v":{"$error":"#N/A"}},{"$f":"VLOOKUP($B3465,'Ad Week Dates'!$A:$E,3,FALSE)","v":{"$error":"#N/A"}},null,null,null,null,null,null,{"$error":"#N/A"}]
[null,null,{"$f":"VLOOKUP($B3466,'Ad Week Dates'!$A:$E,4,FALSE)","v":{"$error":"#N/A"}},{"$f":"VLOOKUP($B3466,'Ad Week Dates'!$A:$E,2,FALSE)","v":{"$error":"#N/A"}},{"$f":"VLOOKUP($B3466,'Ad Week Dates'!$A:$E,3,FALSE)","v":{"$error":"#N/A"}},null,null,null,null,null,null,{"$error":"#N/A"}]
[null,null,{"$f":"VLOOKUP($B3467,'Ad Week Dates'!$A:$E,4,FALSE)","v":{"$error":"#N/A"}},{"$f":"VLOOKUP($B3467,'Ad Week Dates'!$A:$E,2,FALSE)","v":{"$error":"#N/A"}},{"$f":"VLOOKUP($B3467,'Ad Week Dates'!$A:$E,3,FALSE)","v":{"$error":"#N/A"}},null,null,null,null,null,null,{"$error":"#N/A"}]
[null,null,{"$f":"VLOOKUP($B3468,'Ad Week Dates'!$A:$E,4,FALSE)","v":{"$error":"#N/A"}},{"$f":"VLOOKUP($B3468,'Ad Week Dates'!$A:$E,2,FALSE)","v":{"$error":"#N/A"}},{"$f":"VLOOKUP($B3468,'Ad Week Dates'!$A:$E,3,FALSE)","v":{"$error":"#N/A"}},null,null,null,null,null,null,{"$error":"#N/A"}]
[null,null,{"$f":"VLOOKUP($B3469,'Ad Week Dates'!$A:$E,4,FALSE)","v":{"$error":"#N/A"}},{"$f":"VLOOKUP($B3469,'Ad Week Dates'!$A:$E,2,FALSE)","v":{"$error":"#N/A"}},{"$f":"VLOOKUP($B3469,'Ad Week Dates'!$A:$E,3,FALSE)","v":{"$error":"#N/A"}},null,null,null,null,null,null,{"$error":"#N/A"}]
[null,null,{"$f":"VLOOKUP($B3470,'Ad Week Dates'!$A:$E,4,FALSE)","v":{"$error":"#N/A"}},{"$f":"VLOOKUP($B3470,'Ad Week Dates'!$A:$E,2,FALSE)","v":{"$error":"#N/A"}},{"$f":"VLOOKUP($B3470,'Ad Week Dates'!$A:$E,3,FALSE)","v":{"$error":"#N/A"}},null,null,null,null,null,null,{"$error":"#N/A"}]
[null,null,{"$f":"VLOOKUP($B3471,'Ad Week Dates'!$A:$E,4,FALSE)","v":{"$error":"#N/A"}},{"$f":"VLOOKUP($B3471,'Ad Week Dates'!$A:$E,2,FALSE)","v":{"$error":"#N/A"}},{"$f":"VLOOKUP($B3471,'Ad Week Dates'!$A:$E,3,FALSE)","v":{"$error":"#N/A"}},null,null,null,null,null,null,{"$error":"#N/A"}]
[null,null,{"$f":"VLOOKUP($B3472,'Ad Week Dates'!$A:$E,4,FALSE)","v":{"$error":"#N/A"}},{"$f":"VLOOKUP($B3472,'Ad Week Dates'!$A:$E,2,FALSE)","v":{"$error":"#N/A"}},{"$f":"VLOOKUP($B3472,'Ad Week Dates'!$A:$E,3,FALSE)","v":{"$error":"#N/A"}},null,null,null,null,null,null,{"$error":"#N/A"}]
[null,null,{"$f":"VLOOKUP($B3473,'Ad Week Dates'!$A:$E,4,FALSE)","v":{"$error":"#N/A"}},{"$f":"VLOOKUP($B3473,'Ad Week Dates'!$A:$E,2,FALSE)","v":{"$error":"#N/A"}},{"$f":"VLOOKUP($B3473,'Ad Week Dates'!$A:$E,3,FALSE)","v":{"$error":"#N/A"}},null,null,null,null,null,null,{"$error":"#N/A"}]
[null,null,{"$f":"VLOOKUP($B3474,'Ad Week Dates'!$A:$E,4,FALSE)","v":{"$error":"#N/A"}},{"$f":"VLOOKUP($B3474,'Ad Week Dates'!$A:$E,2,FALSE)","v":{"$error":"#N/A"}},{"$f":"VLOOKUP($B3474,'Ad Week Dates'!$A:$E,3,FALSE)","v":{"$error":"#N/A"}},null,null,null,null,null,null,{"$error":"#N/A"}]
[null,null,{"$f":"VLOOKUP($B3475,'Ad Week Dates'!$A:$E,4,FALSE)","v":{"$error":"#N/A"}},{"$f":"VLOOKUP($B3475,'Ad Week Dates'!$A:$E,2,FALSE)","v":{"$error":"#N/A"}},{"$f":"VLOOKUP($B3475,'Ad Week Dates'!$A:$E,3,FALSE)","v":{"$error":"#N/A"}},null,null,null,null,null,null,{"$error":"#N/A"}]
[null,null,{"$f":"VLOOKUP($B3476,'Ad Week Dates'!$A:$E,4,FALSE)","v":{"$error":"#N/A"}},{"$f":"VLOOKUP($B3476,'Ad Week Dates'!$A:$E,2,FALSE)","v":{"$error":"#N/A"}},{"$f":"VLOOKUP($B3476,'Ad Week Dates'!$A:$E,3,FALSE)","v":{"$error":"#N/A"}},null,null,null,null,null,null,{"$error":"#N/A"}]
[null,null,{"$f":"VLOOKUP($B3477,'Ad Week Dates'!$A:$E,4,FALSE)","v":{"$error":"#N/A"}},{"$f":"VLOOKUP($B3477,'Ad Week Dates'!$A:$E,2,FALSE)","v":{"$error":"#N/A"}},{"$f":"VLOOKUP($B3477,'Ad Week Dates'!$A:$E,3,FALSE)","v":{"$error":"#N/A"}},null,null,null,null,null,null,{"$error":"#N/A"}]
[null,null,{"$f":"VLOOKUP($B3478,'Ad Week Dates'!$A:$E,4,FALSE)","v":{"$error":"#N/A"}},{"$f":"VLOOKUP($B3478,'Ad Week Dates'!$A:$E,2,FALSE)","v":{"$error":"#N/A"}},{"$f":"VLOOKUP($B3478,'Ad Week Dates'!$A:$E,3,FALSE)","v":{"$error":"#N/A"}},null,null,null,null,null,null,{"$error":"#N/A"}]
[null,null,{"$f":"VLOOKUP($B3479,'Ad Week Dates'!$A:$E,4,FALSE)","v":{"$error":"#N/A"}},{"$f":"VLOOKUP($B3479,'Ad Week Dates'!$A:$E,2,FALSE)","v":{"$error":"#N/A"}},{"$f":"VLOOKUP($B3479,'Ad Week Dates'!$A:$E,3,FALSE)","v":{"$error":"#N/A"}},null,null,null,null,null,null,{"$error":"#N/A"}]
[null,null,{"$f":"VLOOKUP($B3480,'Ad Week Dates'!$A:$E,4,FALSE)","v":{"$error":"#N/A"}},{"$f":"VLOOKUP($B3480,'Ad Week Dates'!$A:$E,2,FALSE)","v":{"$error":"#N/A"}},{"$f":"VLOOKUP($B3480,'Ad Week Dates'!$A:$E,3,FALSE)","v":{"$error":"#N/A"}},null,null,null,null,null,null,{"$error":"#N/A"}]
[null,null,{"$f":"VLOOKUP($B3481,'Ad Week Dates'!$A:$E,4,FALSE)","v":{"$error":"#N/A"}},{"$f":"VLOOKUP($B3481,'Ad Week Dates'!$A:$E,2,FALSE)","v":{"$error":"#N/A"}},{"$f":"VLOOKUP($B3481,'Ad Week Dates'!$A:$E,3,FALSE)","v":{"$error":"#N/A"}},null,null,null,null,null,null,{"$error":"#N/A"}]
[null,null,{"$f":"VLOOKUP($B3482,'Ad Week Dates'!$A:$E,4,FALSE)","v":{"$error":"#N/A"}},{"$f":"VLOOKUP($B3482,'Ad Week Dates'!$A:$E,2,FALSE)","v":{"$error":"#N/A"}},{"$f":"VLOOKUP($B3482,'Ad Week Dates'!$A:$E,3,FALSE)","v":{"$error":"#N/A"}},null,null,null,null,null,null,{"$error":"#N/A"}]
[null,null,{"$f":"VLOOKUP($B3483,'Ad Week Dates'!$A:$E,4,FALSE)","v":{"$error":"#N/A"}},{"$f":"VLOOKUP($B3483,'Ad Week Dates'!$A:$E,2,FALSE)","v":{"$error":"#N/A"}},{"$f":"VLOOKUP($B3483,'Ad Week Dates'!$A:$E,3,FALSE)","v":{"$error":"#N/A"}},null,null,null,null,null,null,{"$error":"#N/A"}]
[null,null,{"$f":"VLOOKUP($B3484,'Ad Week Dates'!$A:$E,4,FALSE)","v":{"$error":"#N/A"}},{"$f":"VLOOKUP($B3484,'Ad Week Dates'!$A:$E,2,FALSE)","v":{"$error":"#N/A"}},{"$f":"VLOOKUP($B3484,'Ad Week Dates'!$A:$E,3,FALSE)","v":{"$error":"#N/A"}},null,null,null,null,null,null,{"$error":"#N/A"}]
[null,null,{"$f":"VLOOKUP($B3485,'Ad Week Dates'!$A:$E,4,FALSE)","v":{"$error":"#N/A"}},{"$f":"VLOOKUP($B3485,'Ad Week Dates'!$A:$E,2,FALSE)","v":{"$error":"#N/A"}},{"$f":"VLOOKUP($B3485,'Ad Week Dates'!$A:$E,3,FALSE)","v":{"$error":"#N/A"}},null,null,null,null,null,null,{"$error":"#N/A"}]
[null,null,{"$f":"VLOOKUP($B3486,'Ad Week Dates'!$A:$E,4,FALSE)","v":{"$error":"#N/A"}},{"$f":"VLOOKUP($B3486,'Ad Week Dates'!$A:$E,2,FALSE)","v":{"$error":"#N/A"}},{"$f":"VLOOKUP($B3486,'Ad Week Dates'!$A:$E,3,FALSE)","v":{"$error":"#N/A"}},null,null,null,null,null,null,{"$error":"#N/A"}]
[null,null,{"$f":"VLOOKUP($B3487,'Ad Week Dates'!$A:$E,4,FALSE)","v":{"$error":"#N/A"}},{"$f":"VLOOKUP($B3487,'Ad Week Dates'!$A:$E,2,FALSE)","v":{"$error":"#N/A"}},{"$f":"VLOOKUP($B3487,'Ad Week Dates'!$A:$E,3,FALSE)","v":{"$error":"#N/A"}},null,null,null,null,null,null,{"$error":"#N/A"}]
[null,null,{"$f":"VLOOKUP($B3488,'Ad Week Dates'!$A:$E,4,FALSE)","v":{"$error":"#N/A"}},{"$f":"VLOOKUP($B3488,'Ad Week Dates'!$A:$E,2,FALSE)","v":{"$error":"#N/A"}},{"$f":"VLOOKUP($B3488,'Ad Week Dates'!$A:$E,3,FALSE)","v":{"$error":"#N/A"}},null,null,null,null,null,null,{"$error":"#N/A"}]
[null,null,{"$f":"VLOOKUP($B3489,'Ad Week Dates'!$A:$E,4,FALSE)","v":{"$error":"#N/A"}},{"$f":"VLOOKUP($B3489,'Ad Week Dates'!$A:$E,2,FALSE)","v":{"$error":"#N/A"}},{"$f":"VLOOKUP($B3489,'Ad Week Dates'!$A:$E,3,FALSE)","v":{"$error":"#N/A"}},null,null,null,null,null,null,{"$error":"#N/A"}]
[null,null,{"$f":"VLOOKUP($B3490,'Ad Week Dates'!$A:$E,4,FALSE)","v":{"$error":"#N/A"}},{"$f":"VLOOKUP($B3490,'Ad Week Dates'!$A:$E,2,FALSE)","v":{"$error":"#N/A"}},{"$f":"VLOOKUP($B3490,'Ad Week Dates'!$A:$E,3,FALSE)","v":{"$error":"#N/A"}},null,null,null,null,null,null,{"$error":"#N/A"}]
[null,null,{"$f":"VLOOKUP($B3491,'Ad Week Dates'!$A:$E,4,FALSE)","v":{"$error":"#N/A"}},{"$f":"VLOOKUP($B3491,'Ad Week Dates'!$A:$E,2,FALSE)","v":{"$error":"#N/A"}},{"$f":"VLOOKUP($B3491,'Ad Week Dates'!$A:$E,3,FALSE)","v":{"$error":"#N/A"}},null,null,null,null,null,null,{"$error":"#N/A"}]
[null,null,{"$f":"VLOOKUP($B3492,'Ad Week Dates'!$A:$E,4,FALSE)","v":{"$error":"#N/A"}},{"$f":"VLOOKUP($B3492,'Ad Week Dates'!$A:$E,2,FALSE)","v":{"$error":"#N/A"}},{"$f":"VLOOKUP($B3492,'Ad Week Dates'!$A:$E,3,FALSE)","v":{"$error":"#N/A"}},null,null,null,null,null,null,{"$error":"#N/A"}]
[null,null,{"$f":"VLOOKUP($B3493,'Ad Week Dates'!$A:$E,4,FALSE)","v":{"$error":"#N/A"}},{"$f":"VLOOKUP($B3493,'Ad Week Dates'!$A:$E,2,FALSE)","v":{"$error":"#N/A"}},{"$f":"VLOOKUP($B3493,'Ad Week Dates'!$A:$E,3,FALSE)","v":{"$error":"#N/A"}},null,null,null,null,null,null,{"$error":"#N/A"}]
[null,null,{"$f":"VLOOKUP($B3494,'Ad Week Dates'!$A:$E,4,FALSE)","v":{"$error":"#N/A"}},{"$f":"VLOOKUP($B3494,'Ad Week Dates'!$A:$E,2,FALSE)","v":{"$error":"#N/A"}},{"$f":"VLOOKUP($B3494,'Ad Week Dates'!$A:$E,3,FALSE)","v":{"$error":"#N/A"}},null,null,null,null,null,null,{"$error":"#N/A"}]
[null,null,{"$f":"VLOOKUP($B3495,'Ad Week Dates'!$A:$E,4,FALSE)","v":{"$error":"#N/A"}},{"$f":"VLOOKUP($B3495,'Ad Week Dates'!$A:$E,2,FALSE)","v":{"$error":"#N/A"}},{"$f":"VLOOKUP($B3495,'Ad Week Dates'!$A:$E,3,FALSE)","v":{"$error":"#N/A"}},null,null,null,null,null,null,{"$error":"#N/A"}]
[null,null,{"$f":"VLOOKUP($B3496,'Ad Week Dates'!$A:$E,4,FALSE)","v":{"$error":"#N/A"}},{"$f":"VLOOKUP($B3496,'Ad Week Dates'!$A:$E,2,FALSE)","v":{"$error":"#N/A"}},{"$f":"VLOOKUP($B3496,'Ad Week Dates'!$A:$E,3,FALSE)","v":{"$error":"#N/A"}},null,null,null,null,null,null,{"$error":"#N/A"}]
[null,null,{"$f":"VLOOKUP($B3497,'Ad Week Dates'!$A:$E,4,FALSE)","v":{"$error":"#N/A"}},{"$f":"VLOOKUP($B3497,'Ad Week Dates'!$A:$E,2,FALSE)","v":{"$error":"#N/A"}},{"$f":"VLOOKUP($B3497,'Ad Week Dates'!$A:$E,3,FALSE)","v":{"$error":"#N/A"}},null,null,null,null,null,null,{"$error":"#N/A"}]
[null,null,{"$f":"VLOOKUP($B3498,'Ad Week Dates'!$A:$E,4,FALSE)","v":{"$error":"#N/A"}},{"$f":"VLOOKUP($B3498,'Ad Week Dates'!$A:$E,2,FALSE)","v":{"$error":"#N/A"}},{"$f":"VLOOKUP($B3498,'Ad Week Dates'!$A:$E,3,FALSE)","v":{"$error":"#N/A"}},null,null,null,null,null,null,{"$error":"#N/A"}]
[null,null,{"$f":"VLOOKUP($B3499,'Ad Week Dates'!$A:$E,4,FALSE)","v":{"$error":"#N/A"}},{"$f":"VLOOKUP($B3499,'Ad Week Dates'!$A:$E,2,FALSE)","v":{"$error":"#N/A"}},{"$f":"VLOOKUP($B3499,'Ad Week Dates'!$A:$E,3,FALSE)","v":{"$error":"#N/A"}},null,null,null,null,null,null,{"$error":"#N/A"}]
[null,null,{"$f":"VLOOKUP($B3500,'Ad Week Dates'!$A:$E,4,FALSE)","v":{"$error":"#N/A"}},{"$f":"VLOOKUP($B3500,'Ad Week Dates'!$A:$E,2,FALSE)","v":{"$error":"#N/A"}},{"$f":"VLOOKUP($B3500,'Ad Week Dates'!$A:$E,3,FALSE)","v":{"$error":"#N/A"}},null,null,null,null,null,null,{"$error":"#N/A"}]
[null,null,{"$f":"VLOOKUP($B3501,'Ad Week Dates'!$A:$E,4,FALSE)","v":{"$error":"#N/A"}},{"$f":"VLOOKUP($B3501,'Ad Week Dates'!$A:$E,2,FALSE)","v":{"$error":"#N/A"}},{"$f":"VLOOKUP($B3501,'Ad Week Dates'!$A:$E,3,FALSE)","v":{"$error":"#N/A"}},null,null,null,null,null,null,{"$error":"#N/A"}]
[null,null,{"$f":"VLOOKUP($B3502,'Ad Week Dates'!$A:$E,4,FALSE)","v":{"$error":"#N/A"}},{"$f":"VLOOKUP($B3502,'Ad Week Dates'!$A:$E,2,FALSE)","v":{"$error":"#N/A"}},{"$f":"VLOOKUP($B3502,'Ad Week Dates'!$A:$E,3,FALSE)","v":{"$error":"#N/A"}},null,null,null,null,null,null,{"$error":"#N/A"}]
[null,null,{"$f":"VLOOKUP($B3503,'Ad Week Dates'!$A:$E,4,FALSE)","v":{"$error":"#N/A"}},{"$f":"VLOOKUP($B3503,'Ad Week Dates'!$A:$E,2,FALSE)","v":{"$error":"#N/A"}},{"$f":"VLOOKUP($B3503,'Ad Week Dates'!$A:$E,3,FALSE)","v":{"$error":"#N/A"}},null,null,null,null,null,null,{"$error":"#N/A"}]
[null,null,{"$f":"VLOOKUP($B3504,'Ad Week Dates'!$A:$E,4,FALSE)","v":{"$error":"#N/A"}},{"$f":"VLOOKUP($B3504,'Ad Week Dates'!$A:$E,2,FALSE)","v":{"$error":"#N/A"}},{"$f":"VLOOKUP($B3504,'Ad Week Dates'!$A:$E,3,FALSE)","v":{"$error":"#N/A"}},null,null,null,null,null,null,{"$error":"#N/A"}]
[null,null,{"$f":"VLOOKUP($B3505,'Ad Week Dates'!$A:$E,4,FALSE)","v":{"$error":"#N/A"}},{"$f":"VLOOKUP($B3505,'Ad Week Dates'!$A:$E,2,FALSE)","v":{"$error":"#N/A"}},{"$f":"VLOOKUP($B3505,'Ad Week Dates'!$A:$E,3,FALSE)","v":{"$error":"#N/A"}},null,null,null,null,null,null,{"$error":"#N/A"}]
[null,null,{"$f":"VLOOKUP($B3506,'Ad Week Dates'!$A:$E,4,FALSE)","v":{"$error":"#N/A"}},{"$f":"VLOOKUP($B3506,'Ad Week Dates'!$A:$E,2,FALSE)","v":{"$error":"#N/A"}},{"$f":"VLOOKUP($B3506,'Ad Week Dates'!$A:$E,3,FALSE)","v":{"$error":"#N/A"}},null,null,null,null,null,null,{"$error":"#N/A"}]
[null,null,{"$f":"VLOOKUP($B3507,'Ad Week Dates'!$A:$E,4,FALSE)","v":{"$error":"#N/A"}},{"$f":"VLOOKUP($B3507,'Ad Week Dates'!$A:$E,2,FALSE)","v":{"$error":"#N/A"}},{"$f":"VLOOKUP($B3507,'Ad Week Dates'!$A:$E,3,FALSE)","v":{"$error":"#N/A"}},null,null,null,null,null,null,{"$error":"#N/A"}]
[null,null,{"$f":"VLOOKUP($B3508,'Ad Week Dates'!$A:$E,4,FALSE)","v":{"$error":"#N/A"}},{"$f":"VLOOKUP($B3508,'Ad Week Dates'!$A:$E,2,FALSE)","v":{"$error":"#N/A"}},{"$f":"VLOOKUP($B3508,'Ad Week Dates'!$A:$E,3,FALSE)","v":{"$error":"#N/A"}},null,null,null,null,null,null,{"$error":"#N/A"}]
[null,null,{"$f":"VLOOKUP($B3509,'Ad Week Dates'!$A:$E,4,FALSE)","v":{"$error":"#N/A"}},{"$f":"VLOOKUP($B3509,'Ad Week Dates'!$A:$E,2,FALSE)","v":{"$error":"#N/A"}},{"$f":"VLOOKUP($B3509,'Ad Week Dates'!$A:$E,3,FALSE)","v":{"$error":"#N/A"}},null,null,null,null,null,null,{"$error":"#N/A"}]
[null,null,{"$f":"VLOOKUP($B3510,'Ad Week Dates'!$A:$E,4,FALSE)","v":{"$error":"#N/A"}},{"$f":"VLOOKUP($B3510,'Ad Week Dates'!$A:$E,2,FALSE)","v":{"$error":"#N/A"}},{"$f":"VLOOKUP($B3510,'Ad Week Dates'!$A:$E,3,FALSE)","v":{"$error":"#N/A"}},null,null,null,null,null,null,{"$error":"#N/A"}]
[null,null,{"$f":"VLOOKUP($B3511,'Ad Week Dates'!$A:$E,4,FALSE)","v":{"$error":"#N/A"}},{"$f":"VLOOKUP($B3511,'Ad Week Dates'!$A:$E,2,FALSE)","v":{"$error":"#N/A"}},{"$f":"VLOOKUP($B3511,'Ad Week Dates'!$A:$E,3,FALSE)","v":{"$error":"#N/A"}},null,null,null,null,null,null,{"$error":"#N/A"}]
[null,null,{"$f":"VLOOKUP($B3512,'Ad Week Dates'!$A:$E,4,FALSE)","v":{"$error":"#N/A"}},{"$f":"VLOOKUP($B3512,'Ad Week Dates'!$A:$E,2,FALSE)","v":{"$error":"#N/A"}},{"$f":"VLOOKUP($B3512,'Ad Week Dates'!$A:$E,3,FALSE)","v":{"$error":"#N/A"}},null,null,null,null,null,null,{"$error":"#N/A"}]
[null,null,{"$f":"VLOOKUP($B3513,'Ad Week Dates'!$A:$E,4,FALSE)","v":{"$error":"#N/A"}},{"$f":"VLOOKUP($B3513,'Ad Week Dates'!$A:$E,2,FALSE)","v":{"$error":"#N/A"}},{"$f":"VLOOKUP($B3513,'Ad Week Dates'!$A:$E,3,FALSE)","v":{"$error":"#N/A"}},null,null,null,null,null,null,{"$error":"#N/A"}]
[null,null,{"$f":"VLOOKUP($B3514,'Ad Week Dates'!$A:$E,4,FALSE)","v":{"$error":"#N/A"}},{"$f":"VLOOKUP($B3514,'Ad Week Dates'!$A:$E,2,FALSE)","v":{"$error":"#N/A"}},{"$f":"VLOOKUP($B3514,'Ad Week Dates'!$A:$E,3,FALSE)","v":{"$error":"#N/A"}},null,null,null,null,null,null,{"$error":"#N/A"}]
[null,null,{"$f":"VLOOKUP($B3515,'Ad Week Dates'!$A:$E,4,FALSE)","v":{"$error":"#N/A"}},{"$f":"VLOOKUP($B3515,'Ad Week Dates'!$A:$E,2,FALSE)","v":{"$error":"#N/A"}},{"$f":"VLOOKUP($B3515,'Ad Week Dates'!$A:$E,3,FALSE)","v":{"$error":"#N/A"}},null,null,null,null,null,null,{"$error":"#N/A"}]
[null,null,{"$f":"VLOOKUP($B3516,'Ad Week Dates'!$A:$E,4,FALSE)","v":{"$error":"#N/A"}},{"$f":"VLOOKUP($B3516,'Ad Week Dates'!$A:$E,2,FALSE)","v":{"$error":"#N/A"}},{"$f":"VLOOKUP($B3516,'Ad Week Dates'!$A:$E,3,FALSE)","v":{"$error":"#N/A"}},null,null,null,null,null,null,{"$error":"#N/A"}]
[null,null,{"$f":"VLOOKUP($B3517,'Ad Week Dates'!$A:$E,4,FALSE)","v":{"$error":"#N/A"}},{"$f":"VLOOKUP($B3517,'Ad Week Dates'!$A:$E,2,FALSE)","v":{"$error":"#N/A"}},{"$f":"VLOOKUP($B3517,'Ad Week Dates'!$A:$E,3,FALSE)","v":{"$error":"#N/A"}},null,null,null,null,null,null,{"$error":"#N/A"}]
[null,null,{"$f":"VLOOKUP($B3518,'Ad Week Dates'!$A:$E,4,FALSE)","v":{"$error":"#N/A"}},{"$f":"VLOOKUP($B3518,'Ad Week Dates'!$A:$E,2,FALSE)","v":{"$error":"#N/A"}},{"$f":"VLOOKUP($B3518,'Ad Week Dates'!$A:$E,3,FALSE)","v":{"$error":"#N/A"}},null,null,null,null,null,null,{"$error":"#N/A"}]
[null,null,{"$f":"VLOOKUP($B3519,'Ad Week Dates'!$A:$E,4,FALSE)","v":{"$error":"#N/A"}},{"$f":"VLOOKUP($B3519,'Ad Week Dates'!$A:$E,2,FALSE)","v":{"$error":"#N/A"}},{"$f":"VLOOKUP($B3519,'Ad Week Dates'!$A:$E,3,FALSE)","v":{"$error":"#N/A"}},null,null,null,null,null,null,{"$error":"#N/A"}]
[null,null,{"$f":"VLOOKUP($B3520,'Ad Week Dates'!$A:$E,4,FALSE)","v":{"$error":"#N/A"}},{"$f":"VLOOKUP($B3520,'Ad Week Dates'!$A:$E,2,FALSE)","v":{"$error":"#N/A"}},{"$f":"VLOOKUP($B3520,'Ad Week Dates'!$A:$E,3,FALSE)","v":{"$error":"#N/A"}},null,null,null,null,null,null,{"$error":"#N/A"}]
[null,null,{"$f":"VLOOKUP($B3521,'Ad Week Dates'!$A:$E,4,FALSE)","v":{"$error":"#N/A"}},{"$f":"VLOOKUP($B3521,'Ad Week Dates'!$A:$E,2,FALSE)","v":{"$error":"#N/A"}},{"$f":"VLOOKUP($B3521,'Ad Week Dates'!$A:$E,3,FALSE)","v":{"$error":"#N/A"}},null,null,null,null,null,null,{"$error":"#N/A"}]
[null,null,{"$f":"VLOOKUP($B3522,'Ad Week Dates'!$A:$E,4,FALSE)","v":{"$error":"#N/A"}},{"$f":"VLOOKUP($B3522,'Ad Week Dates'!$A:$E,2,FALSE)","v":{"$error":"#N/A"}},{"$f":"VLOOKUP($B3522,'Ad Week Dates'!$A:$E,3,FALSE)","v":{"$error":"#N/A"}},null,null,null,null,null,null,{"$error":"#N/A"}]
[null,null,{"$f":"VLOOKUP($B3523,'Ad Week Dates'!$A:$E,4,FALSE)","v":{"$error":"#N/A"}},{"$f":"VLOOKUP($B3523,'Ad Week Dates'!$A:$E,2,FALSE)","v":{"$error":"#N/A"}},{"$f":"VLOOKUP($B3523,'Ad Week Dates'!$A:$E,3,FALSE)","v":{"$error":"#N/A"}},null,null,null,null,null,null,{"$error":"#N/A"}]
[null,null,{"$f":"VLOOKUP($B3524,'Ad Week Dates'!$A:$E,4,FALSE)","v":{"$error":"#N/A"}},{"$f":"VLOOKUP($B3524,'Ad Week Dates'!$A:$E,2,FALSE)","v":{"$error":"#N/A"}},{"$f":"VLOOKUP($B3524,'Ad Week Dates'!$A:$E,3,FALSE)","v":{"$error":"#N/A"}},null,null,null,null,null,null,{"$error":"#N/A"}]
[null,null,{"$f":"VLOOKUP($B3525,'Ad Week Dates'!$A:$E,4,FALSE)","v":{"$error":"#N/A"}},{"$f":"VLOOKUP($B3525,'Ad Week Dates'!$A:$E,2,FALSE)","v":{"$error":"#N/A"}},{"$f":"VLOOKUP($B3525,'Ad Week Dates'!$A:$E,3,FALSE)","v":{"$error":"#N/A"}},null,null,null,null,null,null,{"$error":"#N/A"}]
[null,null,{"$f":"VLOOKUP($B3526,'Ad Week Dates'!$A:$E,4,FALSE)","v":{"$error":"#N/A"}},{"$f":"VLOOKUP($B3526,'Ad Week Dates'!$A:$E,2,FALSE)","v":{"$error":"#N/A"}},{"$f":"VLOOKUP($B3526,'Ad Week Dates'!$A:$E,3,FALSE)","v":{"$error":"#N/A"}},null,null,null,null,null,null,{"$f":"IF(ISNUMBER(J3526), J3526 - K3526, VALUE(_xlfn.TEXTBEFORE(J3526, \"-\")) - VALUE(_xlfn.TEXTBEFORE(K3526, \"-\")))","v":{"$error":"#N/A"}}]
[null,null,{"$f":"VLOOKUP($B3527,'Ad Week Dates'!$A:$E,4,FALSE)","v":{"$error":"#N/A"}},{"$f":"VLOOKUP($B3527,'Ad Week Dates'!$A:$E,2,FALSE)","v":{"$error":"#N/A"}},{"$f":"VLOOKUP($B3527,'Ad Week Dates'!$A:$E,3,FALSE)","v":{"$error":"#N/A"}},null,null,null,null,null,null,{"$error":"#N/A"}]
[null,null,{"$f":"VLOOKUP($B3528,'Ad Week Dates'!$A:$E,4,FALSE)","v":{"$error":"#N/A"}},{"$f":"VLOOKUP($B3528,'Ad Week Dates'!$A:$E,2,FALSE)","v":{"$error":"#N/A"}},{"$f":"VLOOKUP($B3528,'Ad Week Dates'!$A:$E,3,FALSE)","v":{"$error":"#N/A"}},null,null,null,null,null,null,{"$error":"#N/A"}]
[null,null,{"$f":"VLOOKUP($B3529,'Ad Week Dates'!$A:$E,4,FALSE)","v":{"$error":"#N/A"}},{"$f":"VLOOKUP($B3529,'Ad Week Dates'!$A:$E,2,FALSE)","v":{"$error":"#N/A"}},{"$f":"VLOOKUP($B3529,'Ad Week Dates'!$A:$E,3,FALSE)","v":{"$error":"#N/A"}},null,null,null,null,null,null,{"$error":"#N/A"}]
[null,null,{"$f":"VLOOKUP($B3530,'Ad Week Dates'!$A:$E,4,FALSE)","v":{"$error":"#N/A"}},{"$f":"VLOOKUP($B3530,'Ad Week Dates'!$A:$E,2,FALSE)","v":{"$error":"#N/A"}},{"$f":"VLOOKUP($B3530,'Ad Week Dates'!$A:$E,3,FALSE)","v":{"$error":"#N/A"}},null,null,null,null,null,null,{"$error":"#N/A"}]
[null,null,{"$f":"VLOOKUP($B3531,'Ad Week Dates'!$A:$E,4,FALSE)","v":{"$error":"#N/A"}},{"$f":"VLOOKUP($B3531,'Ad Week Dates'!$A:$E,2,FALSE)","v":{"$error":"#N/A"}},{"$f":"VLOOKUP($B3531,'Ad Week Dates'!$A:$E,3,FALSE)","v":{"$error":"#N/A"}},null,null,null,null,null,null,{"$error":"#N/A"}]
[null,null,{"$f":"VLOOKUP($B3532,'Ad Week Dates'!$A:$E,4,FALSE)","v":{"$error":"#N/A"}},{"$f":"VLOOKUP($B3532,'Ad Week Dates'!$A:$E,2,FALSE)","v":{"$error":"#N/A"}},{"$f":"VLOOKUP($B3532,'Ad Week Dates'!$A:$E,3,FALSE)","v":{"$error":"#N/A"}},null,null,null,null,null,null,{"$error":"#N/A"}]
[null,null,{"$f":"VLOOKUP($B3533,'Ad Week Dates'!$A:$E,4,FALSE)","v":{"$error":"#N/A"}},{"$f":"VLOOKUP($B3533,'Ad Week Dates'!$A:$E,2,FALSE)","v":{"$error":"#N/A"}},{"$f":"VLOOKUP($B3533,'Ad Week Dates'!$A:$E,3,FALSE)","v":{"$error":"#N/A"}},null,null,null,null,null,null,{"$error":"#N/A"}]
[null,null,{"$f":"VLOOKUP($B3534,'Ad Week Dates'!$A:$E,4,FALSE)","v":{"$error":"#N/A"}},{"$f":"VLOOKUP($B3534,'Ad Week Dates'!$A:$E,2,FALSE)","v":{"$error":"#N/A"}},{"$f":"VLOOKUP($B3534,'Ad Week Dates'!$A:$E,3,FALSE)","v":{"$error":"#N/A"}},null,null,null,null,null,null,{"$error":"#N/A"}]
[null,null,{"$f":"VLOOKUP($B3535,'Ad Week Dates'!$A:$E,4,FALSE)","v":{"$error":"#N/A"}},{"$f":"VLOOKUP($B3535,'Ad Week Dates'!$A:$E,2,FALSE)","v":{"$error":"#N/A"}},{"$f":"VLOOKUP($B3535,'Ad Week Dates'!$A:$E,3,FALSE)","v":{"$error":"#N/A"}},null,null,null,null,null,null,{"$error":"#N/A"}]
[null,null,{"$f":"VLOOKUP($B3536,'Ad Week Dates'!$A:$E,4,FALSE)","v":{"$error":"#N/A"}},{"$f":"VLOOKUP($B3536,'Ad Week Dates'!$A:$E,2,FALSE)","v":{"$error":"#N/A"}},{"$f":"VLOOKUP($B3536,'Ad Week Dates'!$A:$E,3,FALSE)","v":{"$error":"#N/A"}},null,null,null,null,null,null,{"$error":"#N/A"}]
[null,null,{"$f":"VLOOKUP($B3537,'Ad Week Dates'!$A:$E,4,FALSE)","v":{"$error":"#N/A"}},{"$f":"VLOOKUP($B3537,'Ad Week Dates'!$A:$E,2,FALSE)","v":{"$error":"#N/A"}},{"$f":"VLOOKUP($B3537,'Ad Week Dates'!$A:$E,3,FALSE)","v":{"$error":"#N/A"}},null,null,null,null,null,null,{"$error":"#N/A"}]
[null,null,{"$f":"VLOOKUP($B3538,'Ad Week Dates'!$A:$E,4,FALSE)","v":{"$error":"#N/A"}},{"$f":"VLOOKUP($B3538,'Ad Week Dates'!$A:$E,2,FALSE)","v":{"$error":"#N/A"}},{"$f":"VLOOKUP($B3538,'Ad Week Dates'!$A:$E,3,FALSE)","v":{"$error":"#N/A"}},null,null,null,null,null,null,{"$error":"#N/A"}]
[null,null,{"$f":"VLOOKUP($B3539,'Ad Week Dates'!$A:$E,4,FALSE)","v":{"$error":"#N/A"}},{"$f":"VLOOKUP($B3539,'Ad Week Dates'!$A:$E,2,FALSE)","v":{"$error":"#N/A"}},{"$f":"VLOOKUP($B3539,'Ad Week Dates'!$A:$E,3,FALSE)","v":{"$error":"#N/A"}},null,null,null,null,null,null,{"$error":"#N/A"}]
[null,null,{"$f":"VLOOKUP($B3540,'Ad Week Dates'!$A:$E,4,FALSE)","v":{"$error":"#N/A"}},{"$f":"VLOOKUP($B3540,'Ad Week Dates'!$A:$E,2,FALSE)","v":{"$error":"#N/A"}},{"$f":"VLOOKUP($B3540,'Ad Week Dates'!$A:$E,3,FALSE)","v":{"$error":"#N/A"}},null,null,null,null,null,null,{"$error":"#N/A"}]
[null,null,{"$f":"VLOOKUP($B3541,'Ad Week Dates'!$A:$E,4,FALSE)","v":{"$error":"#N/A"}},{"$f":"VLOOKUP($B3541,'Ad Week Dates'!$A:$E,2,FALSE)","v":{"$error":"#N/A"}},{"$f":"VLOOKUP($B3541,'Ad Week Dates'!$A:$E,3,FALSE)","v":{"$error":"#N/A"}},null,null,null,null,null,null,{"$error":"#N/A"}]
[null,null,{"$f":"VLOOKUP($B3542,'Ad Week Dates'!$A:$E,4,FALSE)","v":{"$error":"#N/A"}},{"$f":"VLOOKUP($B3542,'Ad Week Dates'!$A:$E,2,FALSE)","v":{"$error":"#N/A"}},{"$f":"VLOOKUP($B3542,'Ad Week Dates'!$A:$E,3,FALSE)","v":{"$error":"#N/A"}},null,null,null,null,null,null,{"$error":"#N/A"}]
[null,null,{"$f":"VLOOKUP($B3543,'Ad Week Dates'!$A:$E,4,FALSE)","v":{"$error":"#N/A"}},{"$f":"VLOOKUP($B3543,'Ad Week Dates'!$A:$E,2,FALSE)","v":{"$error":"#N/A"}},{"$f":"VLOOKUP($B3543,'Ad Week Dates'!$A:$E,3,FALSE)","v":{"$error":"#N/A"}},null,null,null,null,null,null,{"$error":"#N/A"}]
[null,null,{"$f":"VLOOKUP($B3544,'Ad Week Dates'!$A:$E,4,FALSE)","v":{"$error":"#N/A"}},{"$f":"VLOOKUP($B3544,'Ad Week Dates'!$A:$E,2,FALSE)","v":{"$error":"#N/A"}},{"$f":"VLOOKUP($B3544,'Ad Week Dates'!$A:$E,3,FALSE)","v":{"$error":"#N/A"}},null,null,null,null,null,null,{"$error":"#N/A"}]
[null,null,{"$f":"VLOOKUP($B3545,'Ad Week Dates'!$A:$E,4,FALSE)","v":{"$error":"#N/A"}},{"$f":"VLOOKUP($B3545,'Ad Week Dates'!$A:$E,2,FALSE)","v":{"$error":"#N/A"}},{"$f":"VLOOKUP($B3545,'Ad Week Dates'!$A:$E,3,FALSE)","v":{"$error":"#N/A"}},null,null,null,null,null,null,{"$error":"#N/A"}]
[null,null,{"$f":"VLOOKUP($B3546,'Ad Week Dates'!$A:$E,4,FALSE)","v":{"$error":"#N/A"}},{"$f":"VLOOKUP($B3546,'Ad Week Dates'!$A:$E,2,FALSE)","v":{"$error":"#N/A"}},{"$f":"VLOOKUP($B3546,'Ad Week Dates'!$A:$E,3,FALSE)","v":{"$error":"#N/A"}},null,null,null,null,null,null,{"$error":"#N/A"}]
[null,null,{"$f":"VLOOKUP($B3547,'Ad Week Dates'!$A:$E,4,FALSE)","v":{"$error":"#N/A"}},{"$f":"VLOOKUP($B3547,'Ad Week Dates'!$A:$E,2,FALSE)","v":{"$error":"#N/A"}},{"$f":"VLOOKUP($B3547,'Ad Week Dates'!$A:$E,3,FALSE)","v":{"$error":"#N/A"}},null,null,null,null,null,null,{"$error":"#N/A"}]
[null,null,{"$f":"VLOOKUP($B3548,'Ad Week Dates'!$A:$E,4,FALSE)","v":{"$error":"#N/A"}},{"$f":"VLOOKUP($B3548,'Ad Week Dates'!$A:$E,2,FALSE)","v":{"$error":"#N/A"}},{"$f":"VLOOKUP($B3548,'Ad Week Dates'!$A:$E,3,FALSE)","v":{"$error":"#N/A"}},null,null,null,null,null,null,{"$error":"#N/A"}]
[null,null,{"$f":"VLOOKUP($B3549,'Ad Week Dates'!$A:$E,4,FALSE)","v":{"$error":"#N/A"}},{"$f":"VLOOKUP($B3549,'Ad Week Dates'!$A:$E,2,FALSE)","v":{"$error":"#N/A"}},{"$f":"VLOOKUP($B3549,'Ad Week Dates'!$A:$E,3,FALSE)","v":{"$error":"#N/A"}},null,null,null,null,null,null,{"$error":"#N/A"}]
[null,null,{"$f":"VLOOKUP($B3550,'Ad Week Dates'!$A:$E,4,FALSE)","v":{"$error":"#N/A"}},{"$f":"VLOOKUP($B3550,'Ad Week Dates'!$A:$E,2,FALSE)","v":{"$error":"#N/A"}},{"$f":"VLOOKUP($B3550,'Ad Week Dates'!$A:$E,3,FALSE)","v":{"$error":"#N/A"}},null,null,null,null,null,null,{"$error":"#N/A"}]
[null,null,{"$f":"VLOOKUP($B3551,'Ad Week Dates'!$A:$E,4,FALSE)","v":{"$error":"#N/A"}},{"$f":"VLOOKUP($B3551,'Ad Week Dates'!$A:$E,2,FALSE)","v":{"$error":"#N/A"}},{"$f":"VLOOKUP($B3551,'Ad Week Dates'!$A:$E,3,FALSE)","v":{"$error":"#N/A"}},null,null,null,null,null,null,{"$error":"#N/A"}]
[null,null,{"$f":"VLOOKUP($B3552,'Ad Week Dates'!$A:$E,4,FALSE)","v":{"$error":"#N/A"}},{"$f":"VLOOKUP($B3552,'Ad Week Dates'!$A:$E,2,FALSE)","v":{"$error":"#N/A"}},{"$f":"VLOOKUP($B3552,'Ad Week Dates'!$A:$E,3,FALSE)","v":{"$error":"#N/A"}},null,null,null,null,null,null,{"$error":"#N/A"}]
[null,null,{"$f":"VLOOKUP($B3553,'Ad Week Dates'!$A:$E,4,FALSE)","v":{"$error":"#N/A"}},{"$f":"VLOOKUP($B3553,'Ad Week Dates'!$A:$E,2,FALSE)","v":{"$error":"#N/A"}},{"$f":"VLOOKUP($B3553,'Ad Week Dates'!$A:$E,3,FALSE)","v":{"$error":"#N/A"}},null,null,null,null,null,null,{"$error":"#N/A"}]
[null,null,{"$f":"VLOOKUP($B3554,'Ad Week Dates'!$A:$E,4,FALSE)","v":{"$error":"#N/A"}},{"$f":"VLOOKUP($B3554,'Ad Week Dates'!$A:$E,2,FALSE)","v":{"$error":"#N/A"}},{"$f":"VLOOKUP($B3554,'Ad Week Dates'!$A:$E,3,FALSE)","v":{"$error":"#N/A"}},null,null,null,null,null,null,{"$error":"#N/A"}]
[null,null,{"$f":"VLOOKUP($B3555,'Ad Week Dates'!$A:$E,4,FALSE)","v":{"$error":"#N/A"}},{"$f":"VLOOKUP($B3555,'Ad Week Dates'!$A:$E,2,FALSE)","v":{"$error":"#N/A"}},{"$f":"VLOOKUP($B3555,'Ad Week Dates'!$A:$E,3,FALSE)","v":{"$error":"#N/A"}},null,null,null,null,null,null,{"$error":"#N/A"}]
[null,null,{"$f":"VLOOKUP($B3556,'Ad Week Dates'!$A:$E,4,FALSE)","v":{"$error":"#N/A"}},{"$f":"VLOOKUP($B3556,'Ad Week Dates'!$A:$E,2,FALSE)","v":{"$error":"#N/A"}},{"$f":"VLOOKUP($B3556,'Ad Week Dates'!$A:$E,3,FALSE)","v":{"$error":"#N/A"}},null,null,null,null,null,null,{"$error":"#N/A"}]
[null,null,{"$f":"VLOOKUP($B3557,'Ad Week Dates'!$A:$E,4,FALSE)","v":{"$error":"#N/A"}},{"$f":"VLOOKUP($B3557,'Ad Week Dates'!$A:$E,2,FALSE)","v":{"$error":"#N/A"}},{"$f":"VLOOKUP($B3557,'Ad Week Dates'!$A:$E,3,FALSE)","v":{"$error":"#N/A"}},null,null,null,null,null,null,{"$error":"#N/A"}]
[null,null,{"$f":"VLOOKUP($B3558,'Ad Week Dates'!$A:$E,4,FALSE)","v":{"$error":"#N/A"}},{"$f":"VLOOKUP($B3558,'Ad Week Dates'!$A:$E,2,FALSE)","v":{"$error":"#N/A"}},{"$f":"VLOOKUP($B3558,'Ad Week Dates'!$A:$E,3,FALSE)","v":{"$error":"#N/A"}},null,null,null,null,null,null,{"$error":"#N/A"}]
[null,null,{"$f":"VLOOKUP($B3559,'Ad Week Dates'!$A:$E,4,FALSE)","v":{"$error":"#N/A"}},{"$f":"VLOOKUP($B3559,'Ad Week Dates'!$A:$E,2,FALSE)","v":{"$error":"#N/A"}},{"$f":"VLOOKUP($B3559,'Ad Week Dates'!$A:$E,3,FALSE)","v":{"$error":"#N/A"}},null,null,null,null,null,null,{"$error":"#N/A"}]
[null,null,{"$f":"VLOOKUP($B3560,'Ad Week Dates'!$A:$E,4,FALSE)","v":{"$error":"#N/A"}},{"$f":"VLOOKUP($B3560,'Ad Week Dates'!$A:$E,2,FALSE)","v":{"$error":"#N/A"}},{"$f":"VLOOKUP($B3560,'Ad Week Dates'!$A:$E,3,FALSE)","v":{"$error":"#N/A"}},null,null,null,null,null,null,{"$error":"#N/A"}]
[null,null,{"$f":"VLOOKUP($B3561,'Ad Week Dates'!$A:$E,4,FALSE)","v":{"$error":"#N/A"}},{"$f":"VLOOKUP($B3561,'Ad Week Dates'!$A:$E,2,FALSE)","v":{"$error":"#N/A"}},{"$f":"VLOOKUP($B3561,'Ad Week Dates'!$A:$E,3,FALSE)","v":{"$error":"#N/A"}},null,null,null,null,null,null,{"$error":"#N/A"}]
[null,null,{"$f":"VLOOKUP($B3562,'Ad Week Dates'!$A:$E,4,FALSE)","v":{"$error":"#N/A"}},{"$f":"VLOOKUP($B3562,'Ad Week Dates'!$A:$E,2,FALSE)","v":{"$error":"#N/A"}},{"$f":"VLOOKUP($B3562,'Ad Week Dates'!$A:$E,3,FALSE)","v":{"$error":"#N/A"}},null,null,null,null,null,null,{"$error":"#N/A"}]
[null,null,{"$f":"VLOOKUP($B3563,'Ad Week Dates'!$A:$E,4,FALSE)","v":{"$error":"#N/A"}},{"$f":"VLOOKUP($B3563,'Ad Week Dates'!$A:$E,2,FALSE)","v":{"$error":"#N/A"}},{"$f":"VLOOKUP($B3563,'Ad Week Dates'!$A:$E,3,FALSE)","v":{"$error":"#N/A"}},null,null,null,null,null,null,{"$error":"#N/A"}]
[null,null,{"$f":"VLOOKUP($B3564,'Ad Week Dates'!$A:$E,4,FALSE)","v":{"$error":"#N/A"}},{"$f":"VLOOKUP($B3564,'Ad Week Dates'!$A:$E,2,FALSE)","v":{"$error":"#N/A"}},{"$f":"VLOOKUP($B3564,'Ad Week Dates'!$A:$E,3,FALSE)","v":{"$error":"#N/A"}},null,null,null,null,null,null,{"$error":"#N/A"}]
[null,null,{"$f":"VLOOKUP($B3565,'Ad Week Dates'!$A:$E,4,FALSE)","v":{"$error":"#N/A"}},{"$f":"VLOOKUP($B3565,'Ad Week Dates'!$A:$E,2,FALSE)","v":{"$error":"#N/A"}},{"$f":"VLOOKUP($B3565,'Ad Week Dates'!$A:$E,3,FALSE)","v":{"$error":"#N/A"}},null,null,null,null,null,null,{"$error":"#N/A"}]
[null,null,{"$f":"VLOOKUP($B3566,'Ad Week Dates'!$A:$E,4,FALSE)","v":{"$error":"#N/A"}},{"$f":"VLOOKUP($B3566,'Ad Week Dates'!$A:$E,2,FALSE)","v":{"$error":"#N/A"}},{"$f":"VLOOKUP($B3566,'Ad Week Dates'!$A:$E,3,FALSE)","v":{"$error":"#N/A"}},null,null,null,null,null,null,{"$error":"#N/A"}]
[null,null,{"$f":"VLOOKUP($B3567,'Ad Week Dates'!$A:$E,4,FALSE)","v":{"$error":"#N/A"}},{"$f":"VLOOKUP($B3567,'Ad Week Dates'!$A:$E,2,FALSE)","v":{"$error":"#N/A"}},{"$f":"VLOOKUP($B3567,'Ad Week Dates'!$A:$E,3,FALSE)","v":{"$error":"#N/A"}},null,null,null,null,null,null,{"$error":"#N/A"}]
[null,null,{"$f":"VLOOKUP($B3568,'Ad Week Dates'!$A:$E,4,FALSE)","v":{"$error":"#N/A"}},{"$f":"VLOOKUP($B3568,'Ad Week Dates'!$A:$E,2,FALSE)","v":{"$error":"#N/A"}},{"$f":"VLOOKUP($B3568,'Ad Week Dates'!$A:$E,3,FALSE)","v":{"$error":"#N/A"}},null,null,null,null,null,null,{"$error":"#N/A"}]
[null,null,{"$f":"VLOOKUP($B3569,'Ad Week Dates'!$A:$E,4,FALSE)","v":{"$error":"#N/A"}},{"$f":"VLOOKUP($B3569,'Ad Week Dates'!$A:$E,2,FALSE)","v":{"$error":"#N/A"}},{"$f":"VLOOKUP($B3569,'Ad Week Dates'!$A:$E,3,FALSE)","v":{"$error":"#N/A"}},null,null,null,null,null,null,{"$error":"#N/A"}]
[null,null,{"$f":"VLOOKUP($B3570,'Ad Week Dates'!$A:$E,4,FALSE)","v":{"$error":"#N/A"}},{"$f":"VLOOKUP($B3570,'Ad Week Dates'!$A:$E,2,FALSE)","v":{"$error":"#N/A"}},{"$f":"VLOOKUP($B3570,'Ad Week Dates'!$A:$E,3,FALSE)","v":{"$error":"#N/A"}},null,null,null,null,null,null,{"$error":"#N/A"}]
[null,null,{"$f":"VLOOKUP($B3571,'Ad Week Dates'!$A:$E,4,FALSE)","v":{"$error":"#N/A"}},{"$f":"VLOOKUP($B3571,'Ad Week Dates'!$A:$E,2,FALSE)","v":{"$error":"#N/A"}},{"$f":"VLOOKUP($B3571,'Ad Week Dates'!$A:$E,3,FALSE)","v":{"$error":"#N/A"}},null,null,null,null,null,null,{"$error":"#N/A"}]
[null,null,{"$f":"VLOOKUP($B3572,'Ad Week Dates'!$A:$E,4,FALSE)","v":{"$error":"#N/A"}},{"$f":"VLOOKUP($B3572,'Ad Week Dates'!$A:$E,2,FALSE)","v":{"$error":"#N/A"}},{"$f":"VLOOKUP($B3572,'Ad Week Dates'!$A:$E,3,FALSE)","v":{"$error":"#N/A"}},null,null,null,null,null,null,{"$error":"#N/A"}]
[null,null,{"$f":"VLOOKUP($B3573,'Ad Week Dates'!$A:$E,4,FALSE)","v":{"$error":"#N/A"}},{"$f":"VLOOKUP($B3573,'Ad Week Dates'!$A:$E,2,FALSE)","v":{"$error":"#N/A"}},{"$f":"VLOOKUP($B3573,'Ad Week Dates'!$A:$E,3,FALSE)","v":{"$error":"#N/A"}},null,null,null,null,null,null,{"$error":"#N/A"}]
[null,null,{"$f":"VLOOKUP($B3574,'Ad Week Dates'!$A:$E,4,FALSE)","v":{"$error":"#N/A"}},{"$f":"VLOOKUP($B3574,'Ad Week Dates'!$A:$E,2,FALSE)","v":{"$error":"#N/A"}},{"$f":"VLOOKUP($B3574,'Ad Week Dates'!$A:$E,3,FALSE)","v":{"$error":"#N/A"}},null,null,null,null,null,null,{"$error":"#N/A"}]
[null,null,{"$f":"VLOOKUP($B3575,'Ad Week Dates'!$A:$E,4,FALSE)","v":{"$error":"#N/A"}},{"$f":"VLOOKUP($B3575,'Ad Week Dates'!$A:$E,2,FALSE)","v":{"$error":"#N/A"}},{"$f":"VLOOKUP($B3575,'Ad Week Dates'!$A:$E,3,FALSE)","v":{"$error":"#N/A"}},null,null,null,null,null,null,{"$error":"#N/A"}]
[null,null,{"$f":"VLOOKUP($B3576,'Ad Week Dates'!$A:$E,4,FALSE)","v":{"$error":"#N/A"}},{"$f":"VLOOKUP($B3576,'Ad Week Dates'!$A:$E,2,FALSE)","v":{"$error":"#N/A"}},{"$f":"VLOOKUP($B3576,'Ad Week Dates'!$A:$E,3,FALSE)","v":{"$error":"#N/A"}},null,null,null,null,null,null,{"$error":"#N/A"}]
[null,null,{"$f":"VLOOKUP($B3577,'Ad Week Dates'!$A:$E,4,FALSE)","v":{"$error":"#N/A"}},{"$f":"VLOOKUP($B3577,'Ad Week Dates'!$A:$E,2,FALSE)","v":{"$error":"#N/A"}},{"$f":"VLOOKUP($B3577,'Ad Week Dates'!$A:$E,3,FALSE)","v":{"$error":"#N/A"}},null,null,null,null,null,null,{"$error":"#N/A"}]
[null,null,{"$f":"VLOOKUP($B3578,'Ad Week Dates'!$A:$E,4,FALSE)","v":{"$error":"#N/A"}},{"$f":"VLOOKUP($B3578,'Ad Week Dates'!$A:$E,2,FALSE)","v":{"$error":"#N/A"}},{"$f":"VLOOKUP($B3578,'Ad Week Dates'!$A:$E,3,FALSE)","v":{"$error":"#N/A"}},null,null,null,null,null,null,{"$error":"#N/A"}]
[null,null,{"$f":"VLOOKUP($B3579,'Ad Week Dates'!$A:$E,4,FALSE)","v":{"$error":"#N/A"}},{"$f":"VLOOKUP($B3579,'Ad Week Dates'!$A:$E,2,FALSE)","v":{"$error":"#N/A"}},{"$f":"VLOOKUP($B3579,'Ad Week Dates'!$A:$E,3,FALSE)","v":{"$error":"#N/A"}},null,null,null,null,null,null,{"$error":"#N/A"}]
[null,null,{"$f":"VLOOKUP($B3580,'Ad Week Dates'!$A:$E,4,FALSE)","v":{"$error":"#N/A"}},{"$f":"VLOOKUP($B3580,'Ad Week Dates'!$A:$E,2,FALSE)","v":{"$error":"#N/A"}},{"$f":"VLOOKUP($B3580,'Ad Week Dates'!$A:$E,3,FALSE)","v":{"$error":"#N/A"}},null,null,null,null,null,null,{"$error":"#N/A"}]
[null,null,{"$f":"VLOOKUP($B3581,'Ad Week Dates'!$A:$E,4,FALSE)","v":{"$error":"#N/A"}},{"$f":"VLOOKUP($B3581,'Ad Week Dates'!$A:$E,2,FALSE)","v":{"$error":"#N/A"}},{"$f":"VLOOKUP($B3581,'Ad Week Dates'!$A:$E,3,FALSE)","v":{"$error":"#N/A"}},null,null,null,null,null,null,{"$error":"#N/A"}]
[null,null,{"$f":"VLOOKUP($B3582,'Ad Week Dates'!$A:$E,4,FALSE)","v":{"$error":"#N/A"}},{"$f":"VLOOKUP($B3582,'Ad Week Dates'!$A:$E,2,FALSE)","v":{"$error":"#N/A"}},{"$f":"VLOOKUP($B3582,'Ad Week Dates'!$A:$E,3,FALSE)","v":{"$error":"#N/A"}},null,null,null,null,null,null,{"$error":"#N/A"}]
[null,null,{"$f":"VLOOKUP($B3583,'Ad Week Dates'!$A:$E,4,FALSE)","v":{"$error":"#N/A"}},{"$f":"VLOOKUP($B3583,'Ad Week Dates'!$A:$E,2,FALSE)","v":{"$error":"#N/A"}},{"$f":"VLOOKUP($B3583,'Ad Week Dates'!$A:$E,3,FALSE)","v":{"$error":"#N/A"}},null,null,null,null,null,null,{"$error":"#N/A"}]
[null,null,{"$f":"VLOOKUP($B3584,'Ad Week Dates'!$A:$E,4,FALSE)","v":{"$error":"#N/A"}},{"$f":"VLOOKUP($B3584,'Ad Week Dates'!$A:$E,2,FALSE)","v":{"$error":"#N/A"}},{"$f":"VLOOKUP($B3584,'Ad Week Dates'!$A:$E,3,FALSE)","v":{"$error":"#N/A"}},null,null,null,null,null,null,{"$error":"#N/A"}]
[null,null,{"$f":"VLOOKUP($B3585,'Ad Week Dates'!$A:$E,4,FALSE)","v":{"$error":"#N/A"}},{"$f":"VLOOKUP($B3585,'Ad Week Dates'!$A:$E,2,FALSE)","v":{"$error":"#N/A"}},{"$f":"VLOOKUP($B3585,'Ad Week Dates'!$A:$E,3,FALSE)","v":{"$error":"#N/A"}},null,null,null,null,null,null,{"$error":"#N/A"}]
[null,null,{"$f":"VLOOKUP($B3586,'Ad Week Dates'!$A:$E,4,FALSE)","v":{"$error":"#N/A"}},{"$f":"VLOOKUP($B3586,'Ad Week Dates'!$A:$E,2,FALSE)","v":{"$error":"#N/A"}},{"$f":"VLOOKUP($B3586,'Ad Week Dates'!$A:$E,3,FALSE)","v":{"$error":"#N/A"}},null,null,null,null,null,null,{"$error":"#N/A"}]
[null,null,{"$f":"VLOOKUP($B3587,'Ad Week Dates'!$A:$E,4,FALSE)","v":{"$error":"#N/A"}},{"$f":"VLOOKUP($B3587,'Ad Week Dates'!$A:$E,2,FALSE)","v":{"$error":"#N/A"}},{"$f":"VLOOKUP($B3587,'Ad Week Dates'!$A:$E,3,FALSE)","v":{"$error":"#N/A"}},null,null,null,null,null,null,{"$error":"#N/A"}]
[null,null,{"$f":"VLOOKUP($B3588,'Ad Week Dates'!$A:$E,4,FALSE)","v":{"$error":"#N/A"}},{"$f":"VLOOKUP($B3588,'Ad Week Dates'!$A:$E,2,FALSE)","v":{"$error":"#N/A"}},{"$f":"VLOOKUP($B3588,'Ad Week Dates'!$A:$E,3,FALSE)","v":{"$error":"#N/A"}},null,null,null,null,null,null,{"$error":"#N/A"}]
[null,null,{"$f":"VLOOKUP($B3589,'Ad Week Dates'!$A:$E,4,FALSE)","v":{"$error":"#N/A"}},{"$f":"VLOOKUP($B3589,'Ad Week Dates'!$A:$E,2,FALSE)","v":{"$error":"#N/A"}},{"$f":"VLOOKUP($B3589,'Ad Week Dates'!$A:$E,3,FALSE)","v":{"$error":"#N/A"}},null,null,null,null,null,null,{"$error":"#N/A"}]
[null,null,{"$f":"VLOOKUP($B3590,'Ad Week Dates'!$A:$E,4,FALSE)","v":{"$error":"#N/A"}},{"$f":"VLOOKUP($B3590,'Ad Week Dates'!$A:$E,2,FALSE)","v":{"$error":"#N/A"}},{"$f":"VLOOKUP($B3590,'Ad Week Dates'!$A:$E,3,FALSE)","v":{"$error":"#N/A"}},null,null,null,null,null,null,{"$f":"IF(ISNUMBER(J3590), J3590 - K3590, VALUE(_xlfn.TEXTBEFORE(J3590, \"-\")) - VALUE(_xlfn.TEXTBEFORE(K3590, \"-\")))","v":{"$error":"#N/A"}}]
[null,null,{"$f":"VLOOKUP($B3591,'Ad Week Dates'!$A:$E,4,FALSE)","v":{"$error":"#N/A"}},{"$f":"VLOOKUP($B3591,'Ad Week Dates'!$A:$E,2,FALSE)","v":{"$error":"#N/A"}},{"$f":"VLOOKUP($B3591,'Ad Week Dates'!$A:$E,3,FALSE)","v":{"$error":"#N/A"}},null,null,null,null,null,null,{"$error":"#N/A"}]
[null,null,{"$f":"VLOOKUP($B3592,'Ad Week Dates'!$A:$E,4,FALSE)","v":{"$error":"#N/A"}},{"$f":"VLOOKUP($B3592,'Ad Week Dates'!$A:$E,2,FALSE)","v":{"$error":"#N/A"}},{"$f":"VLOOKUP($B3592,'Ad Week Dates'!$A:$E,3,FALSE)","v":{"$error":"#N/A"}},null,null,null,null,null,null,{"$error":"#N/A"}]
[null,null,{"$f":"VLOOKUP($B3593,'Ad Week Dates'!$A:$E,4,FALSE)","v":{"$error":"#N/A"}},{"$f":"VLOOKUP($B3593,'Ad Week Dates'!$A:$E,2,FALSE)","v":{"$error":"#N/A"}},{"$f":"VLOOKUP($B3593,'Ad Week Dates'!$A:$E,3,FALSE)","v":{"$error":"#N/A"}},null,null,null,null,null,null,{"$error":"#N/A"}]
[null,null,{"$f":"VLOOKUP($B3594,'Ad Week Dates'!$A:$E,4,FALSE)","v":{"$error":"#N/A"}},{"$f":"VLOOKUP($B3594,'Ad Week Dates'!$A:$E,2,FALSE)","v":{"$error":"#N/A"}},{"$f":"VLOOKUP($B3594,'Ad Week Dates'!$A:$E,3,FALSE)","v":{"$error":"#N/A"}},null,null,null,null,null,null,{"$error":"#N/A"}]
[null,null,{"$f":"VLOOKUP($B3595,'Ad Week Dates'!$A:$E,4,FALSE)","v":{"$error":"#N/A"}},{"$f":"VLOOKUP($B3595,'Ad Week Dates'!$A:$E,2,FALSE)","v":{"$error":"#N/A"}},{"$f":"VLOOKUP($B3595,'Ad Week Dates'!$A:$E,3,FALSE)","v":{"$error":"#N/A"}},null,null,null,null,null,null,{"$error":"#N/A"}]
[null,null,{"$f":"VLOOKUP($B3596,'Ad Week Dates'!$A:$E,4,FALSE)","v":{"$error":"#N/A"}},{"$f":"VLOOKUP($B3596,'Ad Week Dates'!$A:$E,2,FALSE)","v":{"$error":"#N/A"}},{"$f":"VLOOKUP($B3596,'Ad Week Dates'!$A:$E,3,FALSE)","v":{"$error":"#N/A"}},null,null,null,null,null,null,{"$error":"#N/A"}]
[null,null,{"$f":"VLOOKUP($B3597,'Ad Week Dates'!$A:$E,4,FALSE)","v":{"$error":"#N/A"}},{"$f":"VLOOKUP($B3597,'Ad Week Dates'!$A:$E,2,FALSE)","v":{"$error":"#N/A"}},{"$f":"VLOOKUP($B3597,'Ad Week Dates'!$A:$E,3,FALSE)","v":{"$error":"#N/A"}},null,null,null,null,null,null,{"$error":"#N/A"}]
[null,null,{"$f":"VLOOKUP($B3598,'Ad Week Dates'!$A:$E,4,FALSE)","v":{"$error":"#N/A"}},{"$f":"VLOOKUP($B3598,'Ad Week Dates'!$A:$E,2,FALSE)","v":{"$error":"#N/A"}},{"$f":"VLOOKUP($B3598,'Ad Week Dates'!$A:$E,3,FALSE)","v":{"$error":"#N/A"}},null,null,null,null,null,null,{"$error":"#N/A"}]
[null,null,{"$f":"VLOOKUP($B3599,'Ad Week Dates'!$A:$E,4,FALSE)","v":{"$error":"#N/A"}},{"$f":"VLOOKUP($B3599,'Ad Week Dates'!$A:$E,2,FALSE)","v":{"$error":"#N/A"}},{"$f":"VLOOKUP($B3599,'Ad Week Dates'!$A:$E,3,FALSE)","v":{"$error":"#N/A"}},null,null,null,null,null,null,{"$error":"#N/A"}]
[null,null,{"$f":"VLOOKUP($B3600,'Ad Week Dates'!$A:$E,4,FALSE)","v":{"$error":"#N/A"}},{"$f":"VLOOKUP($B3600,'Ad Week Dates'!$A:$E,2,FALSE)","v":{"$error":"#N/A"}},{"$f":"VLOOKUP($B3600,'Ad Week Dates'!$A:$E,3,FALSE)","v":{"$error":"#N/A"}},null,null,null,null,null,null,{"$error":"#N/A"}]
[null,null,{"$f":"VLOOKUP($B3601,'Ad Week Dates'!$A:$E,4,FALSE)","v":{"$error":"#N/A"}},{"$f":"VLOOKUP($B3601,'Ad Week Dates'!$A:$E,2,FALSE)","v":{"$error":"#N/A"}},{"$f":"VLOOKUP($B3601,'Ad Week Dates'!$A:$E,3,FALSE)","v":{"$error":"#N/A"}},null,null,null,null,null,null,{"$error":"#N/A"}]
[null,null,{"$f":"VLOOKUP($B3602,'Ad Week Dates'!$A:$E,4,FALSE)","v":{"$error":"#N/A"}},{"$f":"VLOOKUP($B3602,'Ad Week Dates'!$A:$E,2,FALSE)","v":{"$error":"#N/A"}},{"$f":"VLOOKUP($B3602,'Ad Week Dates'!$A:$E,3,FALSE)","v":{"$error":"#N/A"}},null,null,null,null,null,null,{"$error":"#N/A"}]
[null,null,{"$f":"VLOOKUP($B3603,'Ad Week Dates'!$A:$E,4,FALSE)","v":{"$error":"#N/A"}},{"$f":"VLOOKUP($B3603,'Ad Week Dates'!$A:$E,2,FALSE)","v":{"$error":"#N/A"}},{"$f":"VLOOKUP($B3603,'Ad Week Dates'!$A:$E,3,FALSE)","v":{"$error":"#N/A"}},null,null,null,null,null,null,{"$error":"#N/A"}]
[null,null,{"$f":"VLOOKUP($B3604,'Ad Week Dates'!$A:$E,4,FALSE)","v":{"$error":"#N/A"}},{"$f":"VLOOKUP($B3604,'Ad Week Dates'!$A:$E,2,FALSE)","v":{"$error":"#N/A"}},{"$f":"VLOOKUP($B3604,'Ad Week Dates'!$A:$E,3,FALSE)","v":{"$error":"#N/A"}},null,null,null,null,null,null,{"$error":"#N/A"}]
[null,null,{"$f":"VLOOKUP($B3605,'Ad Week Dates'!$A:$E,4,FALSE)","v":{"$error":"#N/A"}},{"$f":"VLOOKUP($B3605,'Ad Week Dates'!$A:$E,2,FALSE)","v":{"$error":"#N/A"}},{"$f":"VLOOKUP($B3605,'Ad Week Dates'!$A:$E,3,FALSE)","v":{"$error":"#N/A"}},null,null,null,null,null,null,{"$error":"#N/A"}]
[null,null,{"$f":"VLOOKUP($B3606,'Ad Week Dates'!$A:$E,4,FALSE)","v":{"$error":"#N/A"}},{"$f":"VLOOKUP($B3606,'Ad Week Dates'!$A:$E,2,FALSE)","v":{"$error":"#N/A"}},{"$f":"VLOOKUP($B3606,'Ad Week Dates'!$A:$E,3,FALSE)","v":{"$error":"#N/A"}},null,null,null,null,null,null,{"$error":"#N/A"}]
[null,null,{"$f":"VLOOKUP($B3607,'Ad Week Dates'!$A:$E,4,FALSE)","v":{"$error":"#N/A"}},{"$f":"VLOOKUP($B3607,'Ad Week Dates'!$A:$E,2,FALSE)","v":{"$error":"#N/A"}},{"$f":"VLOOKUP($B3607,'Ad Week Dates'!$A:$E,3,FALSE)","v":{"$error":"#N/A"}},null,null,null,null,null,null,{"$error":"#N/A"}]
[null,null,{"$f":"VLOOKUP($B3608,'Ad Week Dates'!$A:$E,4,FALSE)","v":{"$error":"#N/A"}},{"$f":"VLOOKUP($B3608,'Ad Week Dates'!$A:$E,2,FALSE)","v":{"$error":"#N/A"}},{"$f":"VLOOKUP($B3608,'Ad Week Dates'!$A:$E,3,FALSE)","v":{"$error":"#N/A"}},null,null,null,null,null,null,{"$error":"#N/A"}]
[null,null,{"$f":"VLOOKUP($B3609,'Ad Week Dates'!$A:$E,4,FALSE)","v":{"$error":"#N/A"}},{"$f":"VLOOKUP($B3609,'Ad Week Dates'!$A:$E,2,FALSE)","v":{"$error":"#N/A"}},{"$f":"VLOOKUP($B3609,'Ad Week Dates'!$A:$E,3,FALSE)","v":{"$error":"#N/A"}},null,null,null,null,null,null,{"$error":"#N/A"}]
[null,null,{"$f":"VLOOKUP($B3610,'Ad Week Dates'!$A:$E,4,FALSE)","v":{"$error":"#N/A"}},{"$f":"VLOOKUP($B3610,'Ad Week Dates'!$A:$E,2,FALSE)","v":{"$error":"#N/A"}},{"$f":"VLOOKUP($B3610,'Ad Week Dates'!$A:$E,3,FALSE)","v":{"$error":"#N/A"}},null,null,null,null,null,null,{"$error":"#N/A"}]
[null,null,{"$f":"VLOOKUP($B3611,'Ad Week Dates'!$A:$E,4,FALSE)","v":{"$error":"#N/A"}},{"$f":"VLOOKUP($B3611,'Ad Week Dates'!$A:$E,2,FALSE)","v":{"$error":"#N/A"}},{"$f":"VLOOKUP($B3611,'Ad Week Dates'!$A:$E,3,FALSE)","v":{"$error":"#N/A"}},null,null,null,null,null,null,{"$error":"#N/A"}]
[null,null,{"$f":"VLOOKUP($B3612,'Ad Week Dates'!$A:$E,4,FALSE)","v":{"$error":"#N/A"}},{"$f":"VLOOKUP($B3612,'Ad Week Dates'!$A:$E,2,FALSE)","v":{"$error":"#N/A"}},{"$f":"VLOOKUP($B3612,'Ad Week Dates'!$A:$E,3,FALSE)","v":{"$error":"#N/A"}},null,null,null,null,null,null,{"$error":"#N/A"}]
[null,null,{"$f":"VLOOKUP($B3613,'Ad Week Dates'!$A:$E,4,FALSE)","v":{"$error":"#N/A"}},{"$f":"VLOOKUP($B3613,'Ad Week Dates'!$A:$E,2,FALSE)","v":{"$error":"#N/A"}},{"$f":"VLOOKUP($B3613,'Ad Week Dates'!$A:$E,3,FALSE)","v":{"$error":"#N/A"}},null,null,null,null,null,null,{"$error":"#N/A"}]
[null,null,{"$f":"VLOOKUP($B3614,'Ad Week Dates'!$A:$E,4,FALSE)","v":{"$error":"#N/A"}},{"$f":"VLOOKUP($B3614,'Ad Week Dates'!$A:$E,2,FALSE)","v":{"$error":"#N/A"}},{"$f":"VLOOKUP($B3614,'Ad Week Dates'!$A:$E,3,FALSE)","v":{"$error":"#N/A"}},null,null,null,null,null,null,{"$error":"#N/A"}]
[null,null,{"$f":"VLOOKUP($B3615,'Ad Week Dates'!$A:$E,4,FALSE)","v":{"$error":"#N/A"}},{"$f":"VLOOKUP($B3615,'Ad Week Dates'!$A:$E,2,FALSE)","v":{"$error":"#N/A"}},{"$f":"VLOOKUP($B3615,'Ad Week Dates'!$A:$E,3,FALSE)","v":{"$error":"#N/A"}},null,null,null,null,null,null,{"$error":"#N/A"}]
[null,null,{"$f":"VLOOKUP($B3616,'Ad Week Dates'!$A:$E,4,FALSE)","v":{"$error":"#N/A"}},{"$f":"VLOOKUP($B3616,'Ad Week Dates'!$A:$E,2,FALSE)","v":{"$error":"#N/A"}},{"$f":"VLOOKUP($B3616,'Ad Week Dates'!$A:$E,3,FALSE)","v":{"$error":"#N/A"}},null,null,null,null,null,null,{"$error":"#N/A"}]
[null,null,{"$f":"VLOOKUP($B3617,'Ad Week Dates'!$A:$E,4,FALSE)","v":{"$error":"#N/A"}},{"$f":"VLOOKUP($B3617,'Ad Week Dates'!$A:$E,2,FALSE)","v":{"$error":"#N/A"}},{"$f":"VLOOKUP($B3617,'Ad Week Dates'!$A:$E,3,FALSE)","v":{"$error":"#N/A"}},null,null,null,null,null,null,{"$error":"#N/A"}]
[null,null,{"$f":"VLOOKUP($B3618,'Ad Week Dates'!$A:$E,4,FALSE)","v":{"$error":"#N/A"}},{"$f":"VLOOKUP($B3618,'Ad Week Dates'!$A:$E,2,FALSE)","v":{"$error":"#N/A"}},{"$f":"VLOOKUP($B3618,'Ad Week Dates'!$A:$E,3,FALSE)","v":{"$error":"#N/A"}},null,null,null,null,null,null,{"$error":"#N/A"}]
[null,null,{"$f":"VLOOKUP($B3619,'Ad Week Dates'!$A:$E,4,FALSE)","v":{"$error":"#N/A"}},{"$f":"VLOOKUP($B3619,'Ad Week Dates'!$A:$E,2,FALSE)","v":{"$error":"#N/A"}},{"$f":"VLOOKUP($B3619,'Ad Week Dates'!$A:$E,3,FALSE)","v":{"$error":"#N/A"}},null,null,null,null,null,null,{"$error":"#N/A"}]
[null,null,{"$f":"VLOOKUP($B3620,'Ad Week Dates'!$A:$E,4,FALSE)","v":{"$error":"#N/A"}},{"$f":"VLOOKUP($B3620,'Ad Week Dates'!$A:$E,2,FALSE)","v":{"$error":"#N/A"}},{"$f":"VLOOKUP($B3620,'Ad Week Dates'!$A:$E,3,FALSE)","v":{"$error":"#N/A"}},null,null,null,null,null,null,{"$error":"#N/A"}]
[null,null,{"$f":"VLOOKUP($B3621,'Ad Week Dates'!$A:$E,4,FALSE)","v":{"$error":"#N/A"}},{"$f":"VLOOKUP($B3621,'Ad Week Dates'!$A:$E,2,FALSE)","v":{"$error":"#N/A"}},{"$f":"VLOOKUP($B3621,'Ad Week Dates'!$A:$E,3,FALSE)","v":{"$error":"#N/A"}},null,null,null,null,null,null,{"$error":"#N/A"}]
[null,null,{"$f":"VLOOKUP($B3622,'Ad Week Dates'!$A:$E,4,FALSE)","v":{"$error":"#N/A"}},{"$f":"VLOOKUP($B3622,'Ad Week Dates'!$A:$E,2,FALSE)","v":{"$error":"#N/A"}},{"$f":"VLOOKUP($B3622,'Ad Week Dates'!$A:$E,3,FALSE)","v":{"$error":"#N/A"}},null,null,null,null,null,null,{"$error":"#N/A"}]
[null,null,{"$f":"VLOOKUP($B3623,'Ad Week Dates'!$A:$E,4,FALSE)","v":{"$error":"#N/A"}},{"$f":"VLOOKUP($B3623,'Ad Week Dates'!$A:$E,2,FALSE)","v":{"$error":"#N/A"}},{"$f":"VLOOKUP($B3623,'Ad Week Dates'!$A:$E,3,FALSE)","v":{"$error":"#N/A"}},null,null,null,null,null,null,{"$error":"#N/A"}]
[null,null,{"$f":"VLOOKUP($B3624,'Ad Week Dates'!$A:$E,4,FALSE)","v":{"$error":"#N/A"}},{"$f":"VLOOKUP($B3624,'Ad Week Dates'!$A:$E,2,FALSE)","v":{"$error":"#N/A"}},{"$f":"VLOOKUP($B3624,'Ad Week Dates'!$A:$E,3,FALSE)","v":{"$error":"#N/A"}},null,null,null,null,null,null,{"$error":"#N/A"}]
[null,null,{"$f":"VLOOKUP($B3625,'Ad Week Dates'!$A:$E,4,FALSE)","v":{"$error":"#N/A"}},{"$f":"VLOOKUP($B3625,'Ad Week Dates'!$A:$E,2,FALSE)","v":{"$error":"#N/A"}},{"$f":"VLOOKUP($B3625,'Ad Week Dates'!$A:$E,3,FALSE)","v":{"$error":"#N/A"}},null,null,null,null,null,null,{"$error":"#N/A"}]
[null,null,{"$f":"VLOOKUP($B3626,'Ad Week Dates'!$A:$E,4,FALSE)","v":{"$error":"#N/A"}},{"$f":"VLOOKUP($B3626,'Ad Week Dates'!$A:$E,2,FALSE)","v":{"$error":"#N/A"}},{"$f":"VLOOKUP($B3626,'Ad Week Dates'!$A:$E,3,FALSE)","v":{"$error":"#N/A"}},null,null,null,null,null,null,{"$error":"#N/A"}]
[null,null,{"$f":"VLOOKUP($B3627,'Ad Week Dates'!$A:$E,4,FALSE)","v":{"$error":"#N/A"}},{"$f":"VLOOKUP($B3627,'Ad Week Dates'!$A:$E,2,FALSE)","v":{"$error":"#N/A"}},{"$f":"VLOOKUP($B3627,'Ad Week Dates'!$A:$E,3,FALSE)","v":{"$error":"#N/A"}},null,null,null,null,null,null,{"$error":"#N/A"}]
[null,null,{"$f":"VLOOKUP($B3628,'Ad Week Dates'!$A:$E,4,FALSE)","v":{"$error":"#N/A"}},{"$f":"VLOOKUP($B3628,'Ad Week Dates'!$A:$E,2,FALSE)","v":{"$error":"#N/A"}},{"$f":"VLOOKUP($B3628,'Ad Week Dates'!$A:$E,3,FALSE)","v":{"$error":"#N/A"}},null,null,null,null,null,null,{"$error":"#N/A"}]
[null,null,{"$f":"VLOOKUP($B3629,'Ad Week Dates'!$A:$E,4,FALSE)","v":{"$error":"#N/A"}},{"$f":"VLOOKUP($B3629,'Ad Week Dates'!$A:$E,2,FALSE)","v":{"$error":"#N/A"}},{"$f":"VLOOKUP($B3629,'Ad Week Dates'!$A:$E,3,FALSE)","v":{"$error":"#N/A"}},null,null,null,null,null,null,{"$error":"#N/A"}]
[null,null,{"$f":"VLOOKUP($B3630,'Ad Week Dates'!$A:$E,4,FALSE)","v":{"$error":"#N/A"}},{"$f":"VLOOKUP($B3630,'Ad Week Dates'!$A:$E,2,FALSE)","v":{"$error":"#N/A"}},{"$f":"VLOOKUP($B3630,'Ad Week Dates'!$A:$E,3,FALSE)","v":{"$error":"#N/A"}},null,null,null,null,null,null,{"$error":"#N/A"}]
[null,null,{"$f":"VLOOKUP($B3631,'Ad Week Dates'!$A:$E,4,FALSE)","v":{"$error":"#N/A"}},{"$f":"VLOOKUP($B3631,'Ad Week Dates'!$A:$E,2,FALSE)","v":{"$error":"#N/A"}},{"$f":"VLOOKUP($B3631,'Ad Week Dates'!$A:$E,3,FALSE)","v":{"$error":"#N/A"}},null,null,null,null,null,null,{"$error":"#N/A"}]
[null,null,{"$f":"VLOOKUP($B3632,'Ad Week Dates'!$A:$E,4,FALSE)","v":{"$error":"#N/A"}},{"$f":"VLOOKUP($B3632,'Ad Week Dates'!$A:$E,2,FALSE)","v":{"$error":"#N/A"}},{"$f":"VLOOKUP($B3632,'Ad Week Dates'!$A:$E,3,FALSE)","v":{"$error":"#N/A"}},null,null,null,null,null,null,{"$error":"#N/A"}]
[null,null,{"$f":"VLOOKUP($B3633,'Ad Week Dates'!$A:$E,4,FALSE)","v":{"$error":"#N/A"}},{"$f":"VLOOKUP($B3633,'Ad Week Dates'!$A:$E,2,FALSE)","v":{"$error":"#N/A"}},{"$f":"VLOOKUP($B3633,'Ad Week Dates'!$A:$E,3,FALSE)","v":{"$error":"#N/A"}},null,null,null,null,null,null,{"$error":"#N/A"}]
[null,null,{"$f":"VLOOKUP($B3634,'Ad Week Dates'!$A:$E,4,FALSE)","v":{"$error":"#N/A"}},{"$f":"VLOOKUP($B3634,'Ad Week Dates'!$A:$E,2,FALSE)","v":{"$error":"#N/A"}},{"$f":"VLOOKUP($B3634,'Ad Week Dates'!$A:$E,3,FALSE)","v":{"$error":"#N/A"}},null,null,null,null,null,null,{"$error":"#N/A"}]
[null,null,{"$f":"VLOOKUP($B3635,'Ad Week Dates'!$A:$E,4,FALSE)","v":{"$error":"#N/A"}},{"$f":"VLOOKUP($B3635,'Ad Week Dates'!$A:$E,2,FALSE)","v":{"$error":"#N/A"}},{"$f":"VLOOKUP($B3635,'Ad Week Dates'!$A:$E,3,FALSE)","v":{"$error":"#N/A"}},null,null,null,null,null,null,{"$error":"#N/A"}]
[null,null,{"$f":"VLOOKUP($B3636,'Ad Week Dates'!$A:$E,4,FALSE)","v":{"$error":"#N/A"}},{"$f":"VLOOKUP($B3636,'Ad Week Dates'!$A:$E,2,FALSE)","v":{"$error":"#N/A"}},{"$f":"VLOOKUP($B3636,'Ad Week Dates'!$A:$E,3,FALSE)","v":{"$error":"#N/A"}},null,null,null,null,null,null,{"$error":"#N/A"}]
[null,null,{"$f":"VLOOKUP($B3637,'Ad Week Dates'!$A:$E,4,FALSE)","v":{"$error":"#N/A"}},{"$f":"VLOOKUP($B3637,'Ad Week Dates'!$A:$E,2,FALSE)","v":{"$error":"#N/A"}},{"$f":"VLOOKUP($B3637,'Ad Week Dates'!$A:$E,3,FALSE)","v":{"$error":"#N/A"}},null,null,null,null,null,null,{"$error":"#N/A"}]
[null,null,{"$f":"VLOOKUP($B3638,'Ad Week Dates'!$A:$E,4,FALSE)","v":{"$error":"#N/A"}},{"$f":"VLOOKUP($B3638,'Ad Week Dates'!$A:$E,2,FALSE)","v":{"$error":"#N/A"}},{"$f":"VLOOKUP($B3638,'Ad Week Dates'!$A:$E,3,FALSE)","v":{"$error":"#N/A"}},null,null,null,null,null,null,{"$error":"#N/A"}]
[null,null,{"$f":"VLOOKUP($B3639,'Ad Week Dates'!$A:$E,4,FALSE)","v":{"$error":"#N/A"}},{"$f":"VLOOKUP($B3639,'Ad Week Dates'!$A:$E,2,FALSE)","v":{"$error":"#N/A"}},{"$f":"VLOOKUP($B3639,'Ad Week Dates'!$A:$E,3,FALSE)","v":{"$error":"#N/A"}},null,null,null,null,null,null,{"$error":"#N/A"}]
[null,null,{"$f":"VLOOKUP($B3640,'Ad Week Dates'!$A:$E,4,FALSE)","v":{"$error":"#N/A"}},{"$f":"VLOOKUP($B3640,'Ad Week Dates'!$A:$E,2,FALSE)","v":{"$error":"#N/A"}},{"$f":"VLOOKUP($B3640,'Ad Week Dates'!$A:$E,3,FALSE)","v":{"$error":"#N/A"}},null,null,null,null,null,null,{"$error":"#N/A"}]
[null,null,{"$f":"VLOOKUP($B3641,'Ad Week Dates'!$A:$E,4,FALSE)","v":{"$error":"#N/A"}},{"$f":"VLOOKUP($B3641,'Ad Week Dates'!$A:$E,2,FALSE)","v":{"$error":"#N/A"}},{"$f":"VLOOKUP($B3641,'Ad Week Dates'!$A:$E,3,FALSE)","v":{"$error":"#N/A"}},null,null,null,null,null,null,{"$error":"#N/A"}]
[null,null,{"$f":"VLOOKUP($B3642,'Ad Week Dates'!$A:$E,4,FALSE)","v":{"$error":"#N/A"}},{"$f":"VLOOKUP($B3642,'Ad Week Dates'!$A:$E,2,FALSE)","v":{"$error":"#N/A"}},{"$f":"VLOOKUP($B3642,'Ad Week Dates'!$A:$E,3,FALSE)","v":{"$error":"#N/A"}},null,null,null,null,null,null,{"$error":"#N/A"}]
[null,null,{"$f":"VLOOKUP($B3643,'Ad Week Dates'!$A:$E,4,FALSE)","v":{"$error":"#N/A"}},{"$f":"VLOOKUP($B3643,'Ad Week Dates'!$A:$E,2,FALSE)","v":{"$error":"#N/A"}},{"$f":"VLOOKUP($B3643,'Ad Week Dates'!$A:$E,3,FALSE)","v":{"$error":"#N/A"}},null,null,null,null,null,null,{"$error":"#N/A"}]
[null,null,{"$f":"VLOOKUP($B3644,'Ad Week Dates'!$A:$E,4,FALSE)","v":{"$error":"#N/A"}},{"$f":"VLOOKUP($B3644,'Ad Week Dates'!$A:$E,2,FALSE)","v":{"$error":"#N/A"}},{"$f":"VLOOKUP($B3644,'Ad Week Dates'!$A:$E,3,FALSE)","v":{"$error":"#N/A"}},null,null,null,null,null,null,{"$error":"#N/A"}]
[null,null,{"$f":"VLOOKUP($B3645,'Ad Week Dates'!$A:$E,4,FALSE)","v":{"$error":"#N/A"}},{"$f":"VLOOKUP($B3645,'Ad Week Dates'!$A:$E,2,FALSE)","v":{"$error":"#N/A"}},{"$f":"VLOOKUP($B3645,'Ad Week Dates'!$A:$E,3,FALSE)","v":{"$error":"#N/A"}},null,null,null,null,null,null,{"$error":"#N/A"}]
[null,null,{"$f":"VLOOKUP($B3646,'Ad Week Dates'!$A:$E,4,FALSE)","v":{"$error":"#N/A"}},{"$f":"VLOOKUP($B3646,'Ad Week Dates'!$A:$E,2,FALSE)","v":{"$error":"#N/A"}},{"$f":"VLOOKUP($B3646,'Ad Week Dates'!$A:$E,3,FALSE)","v":{"$error":"#N/A"}},null,null,null,null,null,null,{"$error":"#N/A"}]
[null,null,{"$f":"VLOOKUP($B3647,'Ad Week Dates'!$A:$E,4,FALSE)","v":{"$error":"#N/A"}},{"$f":"VLOOKUP($B3647,'Ad Week Dates'!$A:$E,2,FALSE)","v":{"$error":"#N/A"}},{"$f":"VLOOKUP($B3647,'Ad Week Dates'!$A:$E,3,FALSE)","v":{"$error":"#N/A"}},null,null,null,null,null,null,{"$error":"#N/A"}]
[null,null,{"$f":"VLOOKUP($B3648,'Ad Week Dates'!$A:$E,4,FALSE)","v":{"$error":"#N/A"}},{"$f":"VLOOKUP($B3648,'Ad Week Dates'!$A:$E,2,FALSE)","v":{"$error":"#N/A"}},{"$f":"VLOOKUP($B3648,'Ad Week Dates'!$A:$E,3,FALSE)","v":{"$error":"#N/A"}},null,null,null,null,null,null,{"$error":"#N/A"}]
[null,null,{"$f":"VLOOKUP($B3649,'Ad Week Dates'!$A:$E,4,FALSE)","v":{"$error":"#N/A"}},{"$f":"VLOOKUP($B3649,'Ad Week Dates'!$A:$E,2,FALSE)","v":{"$error":"#N/A"}},{"$f":"VLOOKUP($B3649,'Ad Week Dates'!$A:$E,3,FALSE)","v":{"$error":"#N/A"}},null,null,null,null,null,null,{"$error":"#N/A"}]
[null,null,{"$f":"VLOOKUP($B3650,'Ad Week Dates'!$A:$E,4,FALSE)","v":{"$error":"#N/A"}},{"$f":"VLOOKUP($B3650,'Ad Week Dates'!$A:$E,2,FALSE)","v":{"$error":"#N/A"}},{"$f":"VLOOKUP($B3650,'Ad Week Dates'!$A:$E,3,FALSE)","v":{"$error":"#N/A"}},null,null,null,null,null,null,{"$error":"#N/A"}]
[null,null,{"$f":"VLOOKUP($B3651,'Ad Week Dates'!$A:$E,4,FALSE)","v":{"$error":"#N/A"}},{"$f":"VLOOKUP($B3651,'Ad Week Dates'!$A:$E,2,FALSE)","v":{"$error":"#N/A"}},{"$f":"VLOOKUP($B3651,'Ad Week Dates'!$A:$E,3,FALSE)","v":{"$error":"#N/A"}},null,null,null,null,null,null,{"$error":"#N/A"}]
[null,null,{"$f":"VLOOKUP($B3652,'Ad Week Dates'!$A:$E,4,FALSE)","v":{"$error":"#N/A"}},{"$f":"VLOOKUP($B3652,'Ad Week Dates'!$A:$E,2,FALSE)","v":{"$error":"#N/A"}},{"$f":"VLOOKUP($B3652,'Ad Week Dates'!$A:$E,3,FALSE)","v":{"$error":"#N/A"}},null,null,null,null,null,null,{"$error":"#N/A"}]
[null,null,{"$f":"VLOOKUP($B3653,'Ad Week Dates'!$A:$E,4,FALSE)","v":{"$error":"#N/A"}},{"$f":"VLOOKUP($B3653,'Ad Week Dates'!$A:$E,2,FALSE)","v":{"$error":"#N/A"}},{"$f":"VLOOKUP($B3653,'Ad Week Dates'!$A:$E,3,FALSE)","v":{"$error":"#N/A"}},null,null,null,null,null,null,{"$error":"#N/A"}]
[null,null,{"$f":"VLOOKUP($B3654,'Ad Week Dates'!$A:$E,4,FALSE)","v":{"$error":"#N/A"}},{"$f":"VLOOKUP($B3654,'Ad Week Dates'!$A:$E,2,FALSE)","v":{"$error":"#N/A"}},{"$f":"VLOOKUP($B3654,'Ad Week Dates'!$A:$E,3,FALSE)","v":{"$error":"#N/A"}},null,null,null,null,null,null,{"$f":"IF(ISNUMBER(J3654), J3654 - K3654, VALUE(_xlfn.TEXTBEFORE(J3654, \"-\")) - VALUE(_xlfn.TEXTBEFORE(K3654, \"-\")))","v":{"$error":"#N/A"}}]
[null,null,{"$f":"VLOOKUP($B3655,'Ad Week Dates'!$A:$E,4,FALSE)","v":{"$error":"#N/A"}},{"$f":"VLOOKUP($B3655,'Ad Week Dates'!$A:$E,2,FALSE)","v":{"$error":"#N/A"}},{"$f":"VLOOKUP($B3655,'Ad Week Dates'!$A:$E,3,FALSE)","v":{"$error":"#N/A"}},null,null,null,null,null,null,{"$error":"#N/A"}]
[null,null,{"$f":"VLOOKUP($B3656,'Ad Week Dates'!$A:$E,4,FALSE)","v":{"$error":"#N/A"}},{"$f":"VLOOKUP($B3656,'Ad Week Dates'!$A:$E,2,FALSE)","v":{"$error":"#N/A"}},{"$f":"VLOOKUP($B3656,'Ad Week Dates'!$A:$E,3,FALSE)","v":{"$error":"#N/A"}},null,null,null,null,null,null,{"$error":"#N/A"}]
[null,null,{"$f":"VLOOKUP($B3657,'Ad Week Dates'!$A:$E,4,FALSE)","v":{"$error":"#N/A"}},{"$f":"VLOOKUP($B3657,'Ad Week Dates'!$A:$E,2,FALSE)","v":{"$error":"#N/A"}},{"$f":"VLOOKUP($B3657,'Ad Week Dates'!$A:$E,3,FALSE)","v":{"$error":"#N/A"}},null,null,null,null,null,null,{"$error":"#N/A"}]
[null,null,{"$f":"VLOOKUP($B3658,'Ad Week Dates'!$A:$E,4,FALSE)","v":{"$error":"#N/A"}},{"$f":"VLOOKUP($B3658,'Ad Week Dates'!$A:$E,2,FALSE)","v":{"$error":"#N/A"}},{"$f":"VLOOKUP($B3658,'Ad Week Dates'!$A:$E,3,FALSE)","v":{"$error":"#N/A"}},null,null,null,null,null,null,{"$error":"#N/A"}]
[null,null,{"$f":"VLOOKUP($B3659,'Ad Week Dates'!$A:$E,4,FALSE)","v":{"$error":"#N/A"}},{"$f":"VLOOKUP($B3659,'Ad Week Dates'!$A:$E,2,FALSE)","v":{"$error":"#N/A"}},{"$f":"VLOOKUP($B3659,'Ad Week Dates'!$A:$E,3,FALSE)","v":{"$error":"#N/A"}},null,null,null,null,null,null,{"$error":"#N/A"}]
[null,null,{"$f":"VLOOKUP($B3660,'Ad Week Dates'!$A:$E,4,FALSE)","v":{"$error":"#N/A"}},{"$f":"VLOOKUP($B3660,'Ad Week Dates'!$A:$E,2,FALSE)","v":{"$error":"#N/A"}},{"$f":"VLOOKUP($B3660,'Ad Week Dates'!$A:$E,3,FALSE)","v":{"$error":"#N/A"}},null,null,null,null,null,null,{"$error":"#N/A"}]
[null,null,{"$f":"VLOOKUP($B3661,'Ad Week Dates'!$A:$E,4,FALSE)","v":{"$error":"#N/A"}},{"$f":"VLOOKUP($B3661,'Ad Week Dates'!$A:$E,2,FALSE)","v":{"$error":"#N/A"}},{"$f":"VLOOKUP($B3661,'Ad Week Dates'!$A:$E,3,FALSE)","v":{"$error":"#N/A"}},null,null,null,null,null,null,{"$error":"#N/A"}]
[null,null,{"$f":"VLOOKUP($B3662,'Ad Week Dates'!$A:$E,4,FALSE)","v":{"$error":"#N/A"}},{"$f":"VLOOKUP($B3662,'Ad Week Dates'!$A:$E,2,FALSE)","v":{"$error":"#N/A"}},{"$f":"VLOOKUP($B3662,'Ad Week Dates'!$A:$E,3,FALSE)","v":{"$error":"#N/A"}},null,null,null,null,null,null,{"$error":"#N/A"}]
[null,null,{"$f":"VLOOKUP($B3663,'Ad Week Dates'!$A:$E,4,FALSE)","v":{"$error":"#N/A"}},{"$f":"VLOOKUP($B3663,'Ad Week Dates'!$A:$E,2,FALSE)","v":{"$error":"#N/A"}},{"$f":"VLOOKUP($B3663,'Ad Week Dates'!$A:$E,3,FALSE)","v":{"$error":"#N/A"}},null,null,null,null,null,null,{"$error":"#N/A"}]
[null,null,{"$f":"VLOOKUP($B3664,'Ad Week Dates'!$A:$E,4,FALSE)","v":{"$error":"#N/A"}},{"$f":"VLOOKUP($B3664,'Ad Week Dates'!$A:$E,2,FALSE)","v":{"$error":"#N/A"}},{"$f":"VLOOKUP($B3664,'Ad Week Dates'!$A:$E,3,FALSE)","v":{"$error":"#N/A"}},null,null,null,null,null,null,{"$error":"#N/A"}]
[null,null,{"$f":"VLOOKUP($B3665,'Ad Week Dates'!$A:$E,4,FALSE)","v":{"$error":"#N/A"}},{"$f":"VLOOKUP($B3665,'Ad Week Dates'!$A:$E,2,FALSE)","v":{"$error":"#N/A"}},{"$f":"VLOOKUP($B3665,'Ad Week Dates'!$A:$E,3,FALSE)","v":{"$error":"#N/A"}},null,null,null,null,null,null,{"$error":"#N/A"}]
[null,null,{"$f":"VLOOKUP($B3666,'Ad Week Dates'!$A:$E,4,FALSE)","v":{"$error":"#N/A"}},{"$f":"VLOOKUP($B3666,'Ad Week Dates'!$A:$E,2,FALSE)","v":{"$error":"#N/A"}},{"$f":"VLOOKUP($B3666,'Ad Week Dates'!$A:$E,3,FALSE)","v":{"$error":"#N/A"}},null,null,null,null,null,null,{"$error":"#N/A"}]
[null,null,{"$f":"VLOOKUP($B3667,'Ad Week Dates'!$A:$E,4,FALSE)","v":{"$error":"#N/A"}},{"$f":"VLOOKUP($B3667,'Ad Week Dates'!$A:$E,2,FALSE)","v":{"$error":"#N/A"}},{"$f":"VLOOKUP($B3667,'Ad Week Dates'!$A:$E,3,FALSE)","v":{"$error":"#N/A"}},null,null,null,null,null,null,{"$error":"#N/A"}]
[null,null,{"$f":"VLOOKUP($B3668,'Ad Week Dates'!$A:$E,4,FALSE)","v":{"$error":"#N/A"}},{"$f":"VLOOKUP($B3668,'Ad Week Dates'!$A:$E,2,FALSE)","v":{"$error":"#N/A"}},{"$f":"VLOOKUP($B3668,'Ad Week Dates'!$A:$E,3,FALSE)","v":{"$error":"#N/A"}},null,null,null,null,null,null,{"$error":"#N/A"}]
[null,null,{"$f":"VLOOKUP($B3669,'Ad Week Dates'!$A:$E,4,FALSE)","v":{"$error":"#N/A"}},{"$f":"VLOOKUP($B3669,'Ad Week Dates'!$A:$E,2,FALSE)","v":{"$error":"#N/A"}},{"$f":"VLOOKUP($B3669,'Ad Week Dates'!$A:$E,3,FALSE)","v":{"$error":"#N/A"}},null,null,null,null,null,null,{"$error":"#N/A"}]
[null,null,{"$f":"VLOOKUP($B3670,'Ad Week Dates'!$A:$E,4,FALSE)","v":{"$error":"#N/A"}},{"$f":"VLOOKUP($B3670,'Ad Week Dates'!$A:$E,2,FALSE)","v":{"$error":"#N/A"}},{"$f":"VLOOKUP($B3670,'Ad Week Dates'!$A:$E,3,FALSE)","v":{"$error":"#N/A"}},null,null,null,null,null,null,{"$error":"#N/A"}]
[null,null,{"$f":"VLOOKUP($B3671,'Ad Week Dates'!$A:$E,4,FALSE)","v":{"$error":"#N/A"}},{"$f":"VLOOKUP($B3671,'Ad Week Dates'!$A:$E,2,FALSE)","v":{"$error":"#N/A"}},{"$f":"VLOOKUP($B3671,'Ad Week Dates'!$A:$E,3,FALSE)","v":{"$error":"#N/A"}},null,null,null,null,null,null,{"$error":"#N/A"}]
[null,null,{"$f":"VLOOKUP($B3672,'Ad Week Dates'!$A:$E,4,FALSE)","v":{"$error":"#N/A"}},{"$f":"VLOOKUP($B3672,'Ad Week Dates'!$A:$E,2,FALSE)","v":{"$error":"#N/A"}},{"$f":"VLOOKUP($B3672,'Ad Week Dates'!$A:$E,3,FALSE)","v":{"$error":"#N/A"}},null,null,null,null,null,null,{"$error":"#N/A"}]
[null,null,{"$f":"VLOOKUP($B3673,'Ad Week Dates'!$A:$E,4,FALSE)","v":{"$error":"#N/A"}},{"$f":"VLOOKUP($B3673,'Ad Week Dates'!$A:$E,2,FALSE)","v":{"$error":"#N/A"}},{"$f":"VLOOKUP($B3673,'Ad Week Dates'!$A:$E,3,FALSE)","v":{"$error":"#N/A"}},null,null,null,null,null,null,{"$error":"#N/A"}]
[null,null,{"$f":"VLOOKUP($B3674,'Ad Week Dates'!$A:$E,4,FALSE)","v":{"$error":"#N/A"}},{"$f":"VLOOKUP($B3674,'Ad Week Dates'!$A:$E,2,FALSE)","v":{"$error":"#N/A"}},{"$f":"VLOOKUP($B3674,'Ad Week Dates'!$A:$E,3,FALSE)","v":{"$error":"#N/A"}},null,null,null,null,null,null,{"$error":"#N/A"}]
[null,null,{"$f":"VLOOKUP($B3675,'Ad Week Dates'!$A:$E,4,FALSE)","v":{"$error":"#N/A"}},{"$f":"VLOOKUP($B3675,'Ad Week Dates'!$A:$E,2,FALSE)","v":{"$error":"#N/A"}},{"$f":"VLOOKUP($B3675,'Ad Week Dates'!$A:$E,3,FALSE)","v":{"$error":"#N/A"}},null,null,null,null,null,null,{"$error":"#N/A"}]
[null,null,{"$f":"VLOOKUP($B3676,'Ad Week Dates'!$A:$E,4,FALSE)","v":{"$error":"#N/A"}},{"$f":"VLOOKUP($B3676,'Ad Week Dates'!$A:$E,2,FALSE)","v":{"$error":"#N/A"}},{"$f":"VLOOKUP($B3676,'Ad Week Dates'!$A:$E,3,FALSE)","v":{"$error":"#N/A"}},null,null,null,null,null,null,{"$error":"#N/A"}]
[null,null,{"$f":"VLOOKUP($B3677,'Ad Week Dates'!$A:$E,4,FALSE)","v":{"$error":"#N/A"}},{"$f":"VLOOKUP($B3677,'Ad Week Dates'!$A:$E,2,FALSE)","v":{"$error":"#N/A"}},{"$f":"VLOOKUP($B3677,'Ad Week Dates'!$A:$E,3,FALSE)","v":{"$error":"#N/A"}},null,null,null,null,null,null,{"$error":"#N/A"}]
[null,null,{"$f":"VLOOKUP($B3678,'Ad Week Dates'!$A:$E,4,FALSE)","v":{"$error":"#N/A"}},{"$f":"VLOOKUP($B3678,'Ad Week Dates'!$A:$E,2,FALSE)","v":{"$error":"#N/A"}},{"$f":"VLOOKUP($B3678,'Ad Week Dates'!$A:$E,3,FALSE)","v":{"$error":"#N/A"}},null,null,null,null,null,null,{"$error":"#N/A"}]
[null,null,{"$f":"VLOOKUP($B3679,'Ad Week Dates'!$A:$E,4,FALSE)","v":{"$error":"#N/A"}},{"$f":"VLOOKUP($B3679,'Ad Week Dates'!$A:$E,2,FALSE)","v":{"$error":"#N/A"}},{"$f":"VLOOKUP($B3679,'Ad Week Dates'!$A:$E,3,FALSE)","v":{"$error":"#N/A"}},null,null,null,null,null,null,{"$error":"#N/A"}]
[null,null,{"$f":"VLOOKUP($B3680,'Ad Week Dates'!$A:$E,4,FALSE)","v":{"$error":"#N/A"}},{"$f":"VLOOKUP($B3680,'Ad Week Dates'!$A:$E,2,FALSE)","v":{"$error":"#N/A"}},{"$f":"VLOOKUP($B3680,'Ad Week Dates'!$A:$E,3,FALSE)","v":{"$error":"#N/A"}},null,null,null,null,null,null,{"$error":"#N/A"}]
[null,null,{"$f":"VLOOKUP($B3681,'Ad Week Dates'!$A:$E,4,FALSE)","v":{"$error":"#N/A"}},{"$f":"VLOOKUP($B3681,'Ad Week Dates'!$A:$E,2,FALSE)","v":{"$error":"#N/A"}},{"$f":"VLOOKUP($B3681,'Ad Week Dates'!$A:$E,3,FALSE)","v":{"$error":"#N/A"}},null,null,null,null,null,null,{"$error":"#N/A"}]
[null,null,{"$f":"VLOOKUP($B3682,'Ad Week Dates'!$A:$E,4,FALSE)","v":{"$error":"#N/A"}},{"$f":"VLOOKUP($B3682,'Ad Week Dates'!$A:$E,2,FALSE)","v":{"$error":"#N/A"}},{"$f":"VLOOKUP($B3682,'Ad Week Dates'!$A:$E,3,FALSE)","v":{"$error":"#N/A"}},null,null,null,null,null,null,{"$error":"#N/A"}]
[null,null,{"$f":"VLOOKUP($B3683,'Ad Week Dates'!$A:$E,4,FALSE)","v":{"$error":"#N/A"}},{"$f":"VLOOKUP($B3683,'Ad Week Dates'!$A:$E,2,FALSE)","v":{"$error":"#N/A"}},{"$f":"VLOOKUP($B3683,'Ad Week Dates'!$A:$E,3,FALSE)","v":{"$error":"#N/A"}},null,null,null,null,null,null,{"$error":"#N/A"}]
[null,null,{"$f":"VLOOKUP($B3684,'Ad Week Dates'!$A:$E,4,FALSE)","v":{"$error":"#N/A"}},{"$f":"VLOOKUP($B3684,'Ad Week Dates'!$A:$E,2,FALSE)","v":{"$error":"#N/A"}},{"$f":"VLOOKUP($B3684,'Ad Week Dates'!$A:$E,3,FALSE)","v":{"$error":"#N/A"}},null,null,null,null,null,null,{"$error":"#N/A"}]
[null,null,{"$f":"VLOOKUP($B3685,'Ad Week Dates'!$A:$E,4,FALSE)","v":{"$error":"#N/A"}},{"$f":"VLOOKUP($B3685,'Ad Week Dates'!$A:$E,2,FALSE)","v":{"$error":"#N/A"}},{"$f":"VLOOKUP($B3685,'Ad Week Dates'!$A:$E,3,FALSE)","v":{"$error":"#N/A"}},null,null,null,null,null,null,{"$error":"#N/A"}]
[null,null,{"$f":"VLOOKUP($B3686,'Ad Week Dates'!$A:$E,4,FALSE)","v":{"$error":"#N/A"}},{"$f":"VLOOKUP($B3686,'Ad Week Dates'!$A:$E,2,FALSE)","v":{"$error":"#N/A"}},{"$f":"VLOOKUP($B3686,'Ad Week Dates'!$A:$E,3,FALSE)","v":{"$error":"#N/A"}},null,null,null,null,null,null,{"$error":"#N/A"}]
[null,null,{"$f":"VLOOKUP($B3687,'Ad Week Dates'!$A:$E,4,FALSE)","v":{"$error":"#N/A"}},{"$f":"VLOOKUP($B3687,'Ad Week Dates'!$A:$E,2,FALSE)","v":{"$error":"#N/A"}},{"$f":"VLOOKUP($B3687,'Ad Week Dates'!$A:$E,3,FALSE)","v":{"$error":"#N/A"}},null,null,null,null,null,null,{"$error":"#N/A"}]
[null,null,{"$f":"VLOOKUP($B3688,'Ad Week Dates'!$A:$E,4,FALSE)","v":{"$error":"#N/A"}},{"$f":"VLOOKUP($B3688,'Ad Week Dates'!$A:$E,2,FALSE)","v":{"$error":"#N/A"}},{"$f":"VLOOKUP($B3688,'Ad Week Dates'!$A:$E,3,FALSE)","v":{"$error":"#N/A"}},null,null,null,null,null,null,{"$error":"#N/A"}]
[null,null,{"$f":"VLOOKUP($B3689,'Ad Week Dates'!$A:$E,4,FALSE)","v":{"$error":"#N/A"}},{"$f":"VLOOKUP($B3689,'Ad Week Dates'!$A:$E,2,FALSE)","v":{"$error":"#N/A"}},{"$f":"VLOOKUP($B3689,'Ad Week Dates'!$A:$E,3,FALSE)","v":{"$error":"#N/A"}},null,null,null,null,null,null,{"$error":"#N/A"}]
[null,null,{"$f":"VLOOKUP($B3690,'Ad Week Dates'!$A:$E,4,FALSE)","v":{"$error":"#N/A"}},{"$f":"VLOOKUP($B3690,'Ad Week Dates'!$A:$E,2,FALSE)","v":{"$error":"#N/A"}},{"$f":"VLOOKUP($B3690,'Ad Week Dates'!$A:$E,3,FALSE)","v":{"$error":"#N/A"}},null,null,null,null,null,null,{"$error":"#N/A"}]
[null,null,{"$f":"VLOOKUP($B3691,'Ad Week Dates'!$A:$E,4,FALSE)","v":{"$error":"#N/A"}},{"$f":"VLOOKUP($B3691,'Ad Week Dates'!$A:$E,2,FALSE)","v":{"$error":"#N/A"}},{"$f":"VLOOKUP($B3691,'Ad Week Dates'!$A:$E,3,FALSE)","v":{"$error":"#N/A"}},null,null,null,null,null,null,{"$error":"#N/A"}]
[null,null,{"$f":"VLOOKUP($B3692,'Ad Week Dates'!$A:$E,4,FALSE)","v":{"$error":"#N/A"}},{"$f":"VLOOKUP($B3692,'Ad Week Dates'!$A:$E,2,FALSE)","v":{"$error":"#N/A"}},{"$f":"VLOOKUP($B3692,'Ad Week Dates'!$A:$E,3,FALSE)","v":{"$error":"#N/A"}},null,null,null,null,null,null,{"$error":"#N/A"}]
[null,null,{"$f":"VLOOKUP($B3693,'Ad Week Dates'!$A:$E,4,FALSE)","v":{"$error":"#N/A"}},{"$f":"VLOOKUP($B3693,'Ad Week Dates'!$A:$E,2,FALSE)","v":{"$error":"#N/A"}},{"$f":"VLOOKUP($B3693,'Ad Week Dates'!$A:$E,3,FALSE)","v":{"$error":"#N/A"}},null,null,null,null,null,null,{"$error":"#N/A"}]
[null,null,{"$f":"VLOOKUP($B3694,'Ad Week Dates'!$A:$E,4,FALSE)","v":{"$error":"#N/A"}},{"$f":"VLOOKUP($B3694,'Ad Week Dates'!$A:$E,2,FALSE)","v":{"$error":"#N/A"}},{"$f":"VLOOKUP($B3694,'Ad Week Dates'!$A:$E,3,FALSE)","v":{"$error":"#N/A"}},null,null,null,null,null,null,{"$error":"#N/A"}]
[null,null,{"$f":"VLOOKUP($B3695,'Ad Week Dates'!$A:$E,4,FALSE)","v":{"$error":"#N/A"}},{"$f":"VLOOKUP($B3695,'Ad Week Dates'!$A:$E,2,FALSE)","v":{"$error":"#N/A"}},{"$f":"VLOOKUP($B3695,'Ad Week Dates'!$A:$E,3,FALSE)","v":{"$error":"#N/A"}},null,null,null,null,null,null,{"$error":"#N/A"}]
[null,null,{"$f":"VLOOKUP($B3696,'Ad Week Dates'!$A:$E,4,FALSE)","v":{"$error":"#N/A"}},{"$f":"VLOOKUP($B3696,'Ad Week Dates'!$A:$E,2,FALSE)","v":{"$error":"#N/A"}},{"$f":"VLOOKUP($B3696,'Ad Week Dates'!$A:$E,3,FALSE)","v":{"$error":"#N/A"}},null,null,null,null,null,null,{"$error":"#N/A"}]
[null,null,{"$f":"VLOOKUP($B3697,'Ad Week Dates'!$A:$E,4,FALSE)","v":{"$error":"#N/A"}},{"$f":"VLOOKUP($B3697,'Ad Week Dates'!$A:$E,2,FALSE)","v":{"$error":"#N/A"}},{"$f":"VLOOKUP($B3697,'Ad Week Dates'!$A:$E,3,FALSE)","v":{"$error":"#N/A"}},null,null,null,null,null,null,{"$error":"#N/A"}]
[null,null,{"$f":"VLOOKUP($B3698,'Ad Week Dates'!$A:$E,4,FALSE)","v":{"$error":"#N/A"}},{"$f":"VLOOKUP($B3698,'Ad Week Dates'!$A:$E,2,FALSE)","v":{"$error":"#N/A"}},{"$f":"VLOOKUP($B3698,'Ad Week Dates'!$A:$E,3,FALSE)","v":{"$error":"#N/A"}},null,null,null,null,null,null,{"$error":"#N/A"}]
[null,null,{"$f":"VLOOKUP($B3699,'Ad Week Dates'!$A:$E,4,FALSE)","v":{"$error":"#N/A"}},{"$f":"VLOOKUP($B3699,'Ad Week Dates'!$A:$E,2,FALSE)","v":{"$error":"#N/A"}},{"$f":"VLOOKUP($B3699,'Ad Week Dates'!$A:$E,3,FALSE)","v":{"$error":"#N/A"}},null,null,null,null,null,null,{"$error":"#N/A"}]
[null,null,{"$f":"VLOOKUP($B3700,'Ad Week Dates'!$A:$E,4,FALSE)","v":{"$error":"#N/A"}},{"$f":"VLOOKUP($B3700,'Ad Week Dates'!$A:$E,2,FALSE)","v":{"$error":"#N/A"}},{"$f":"VLOOKUP($B3700,'Ad Week Dates'!$A:$E,3,FALSE)","v":{"$error":"#N/A"}},null,null,null,null,null,null,{"$error":"#N/A"}]
[null,null,{"$f":"VLOOKUP($B3701,'Ad Week Dates'!$A:$E,4,FALSE)","v":{"$error":"#N/A"}},{"$f":"VLOOKUP($B3701,'Ad Week Dates'!$A:$E,2,FALSE)","v":{"$error":"#N/A"}},{"$f":"VLOOKUP($B3701,'Ad Week Dates'!$A:$E,3,FALSE)","v":{"$error":"#N/A"}},null,null,null,null,null,null,{"$error":"#N/A"}]
[null,null,{"$f":"VLOOKUP($B3702,'Ad Week Dates'!$A:$E,4,FALSE)","v":{"$error":"#N/A"}},{"$f":"VLOOKUP($B3702,'Ad Week Dates'!$A:$E,2,FALSE)","v":{"$error":"#N/A"}},{"$f":"VLOOKUP($B3702,'Ad Week Dates'!$A:$E,3,FALSE)","v":{"$error":"#N/A"}},null,null,null,null,null,null,{"$error":"#N/A"}]
[null,null,{"$f":"VLOOKUP($B3703,'Ad Week Dates'!$A:$E,4,FALSE)","v":{"$error":"#N/A"}},{"$f":"VLOOKUP($B3703,'Ad Week Dates'!$A:$E,2,FALSE)","v":{"$error":"#N/A"}},{"$f":"VLOOKUP($B3703,'Ad Week Dates'!$A:$E,3,FALSE)","v":{"$error":"#N/A"}},null,null,null,null,null,null,{"$error":"#N/A"}]
[null,null,{"$f":"VLOOKUP($B3704,'Ad Week Dates'!$A:$E,4,FALSE)","v":{"$error":"#N/A"}},{"$f":"VLOOKUP($B3704,'Ad Week Dates'!$A:$E,2,FALSE)","v":{"$error":"#N/A"}},{"$f":"VLOOKUP($B3704,'Ad Week Dates'!$A:$E,3,FALSE)","v":{"$error":"#N/A"}},null,null,null,null,null,null,{"$error":"#N/A"}]
[null,null,{"$f":"VLOOKUP($B3705,'Ad Week Dates'!$A:$E,4,FALSE)","v":{"$error":"#N/A"}},{"$f":"VLOOKUP($B3705,'Ad Week Dates'!$A:$E,2,FALSE)","v":{"$error":"#N/A"}},{"$f":"VLOOKUP($B3705,'Ad Week Dates'!$A:$E,3,FALSE)","v":{"$error":"#N/A"}},null,null,null,null,null,null,{"$error":"#N/A"}]
[null,null,{"$f":"VLOOKUP($B3706,'Ad Week Dates'!$A:$E,4,FALSE)","v":{"$error":"#N/A"}},{"$f":"VLOOKUP($B3706,'Ad Week Dates'!$A:$E,2,FALSE)","v":{"$error":"#N/A"}},{"$f":"VLOOKUP($B3706,'Ad Week Dates'!$A:$E,3,FALSE)","v":{"$error":"#N/A"}},null,null,null,null,null,null,{"$error":"#N/A"}]
[null,null,{"$f":"VLOOKUP($B3707,'Ad Week Dates'!$A:$E,4,FALSE)","v":{"$error":"#N/A"}},{"$f":"VLOOKUP($B3707,'Ad Week Dates'!$A:$E,2,FALSE)","v":{"$error":"#N/A"}},{"$f":"VLOOKUP($B3707,'Ad Week Dates'!$A:$E,3,FALSE)","v":{"$error":"#N/A"}},null,null,null,null,null,null,{"$error":"#N/A"}]
[null,null,{"$f":"VLOOKUP($B3708,'Ad Week Dates'!$A:$E,4,FALSE)","v":{"$error":"#N/A"}},{"$f":"VLOOKUP($B3708,'Ad Week Dates'!$A:$E,2,FALSE)","v":{"$error":"#N/A"}},{"$f":"VLOOKUP($B3708,'Ad Week Dates'!$A:$E,3,FALSE)","v":{"$error":"#N/A"}},null,null,null,null,null,null,{"$error":"#N/A"}]
[null,null,{"$f":"VLOOKUP($B3709,'Ad Week Dates'!$A:$E,4,FALSE)","v":{"$error":"#N/A"}},{"$f":"VLOOKUP($B3709,'Ad Week Dates'!$A:$E,2,FALSE)","v":{"$error":"#N/A"}},{"$f":"VLOOKUP($B3709,'Ad Week Dates'!$A:$E,3,FALSE)","v":{"$error":"#N/A"}},null,null,null,null,null,null,{"$error":"#N/A"}]
[null,null,{"$f":"VLOOKUP($B3710,'Ad Week Dates'!$A:$E,4,FALSE)","v":{"$error":"#N/A"}},{"$f":"VLOOKUP($B3710,'Ad Week Dates'!$A:$E,2,FALSE)","v":{"$error":"#N/A"}},{"$f":"VLOOKUP($B3710,'Ad Week Dates'!$A:$E,3,FALSE)","v":{"$error":"#N/A"}},null,null,null,null,null,null,{"$error":"#N/A"}]
[null,null,{"$f":"VLOOKUP($B3711,'Ad Week Dates'!$A:$E,4,FALSE)","v":{"$error":"#N/A"}},{"$f":"VLOOKUP($B3711,'Ad Week Dates'!$A:$E,2,FALSE)","v":{"$error":"#N/A"}},{"$f":"VLOOKUP($B3711,'Ad Week Dates'!$A:$E,3,FALSE)","v":{"$error":"#N/A"}},null,null,null,null,null,null,{"$error":"#N/A"}]
[null,null,{"$f":"VLOOKUP($B3712,'Ad Week Dates'!$A:$E,4,FALSE)","v":{"$error":"#N/A"}},{"$f":"VLOOKUP($B3712,'Ad Week Dates'!$A:$E,2,FALSE)","v":{"$error":"#N/A"}},{"$f":"VLOOKUP($B3712,'Ad Week Dates'!$A:$E,3,FALSE)","v":{"$error":"#N/A"}},null,null,null,null,null,null,{"$error":"#N/A"}]
[null,null,{"$f":"VLOOKUP($B3713,'Ad Week Dates'!$A:$E,4,FALSE)","v":{"$error":"#N/A"}},{"$f":"VLOOKUP($B3713,'Ad Week Dates'!$A:$E,2,FALSE)","v":{"$error":"#N/A"}},{"$f":"VLOOKUP($B3713,'Ad Week Dates'!$A:$E,3,FALSE)","v":{"$error":"#N/A"}},null,null,null,null,null,null,{"$error":"#N/A"}]
[null,null,{"$f":"VLOOKUP($B3714,'Ad Week Dates'!$A:$E,4,FALSE)","v":{"$error":"#N/A"}},{"$f":"VLOOKUP($B3714,'Ad Week Dates'!$A:$E,2,FALSE)","v":{"$error":"#N/A"}},{"$f":"VLOOKUP($B3714,'Ad Week Dates'!$A:$E,3,FALSE)","v":{"$error":"#N/A"}},null,null,null,null,null,null,{"$error":"#N/A"}]
[null,null,{"$f":"VLOOKUP($B3715,'Ad Week Dates'!$A:$E,4,FALSE)","v":{"$error":"#N/A"}},{"$f":"VLOOKUP($B3715,'Ad Week Dates'!$A:$E,2,FALSE)","v":{"$error":"#N/A"}},{"$f":"VLOOKUP($B3715,'Ad Week Dates'!$A:$E,3,FALSE)","v":{"$error":"#N/A"}},null,null,null,null,null,null,{"$error":"#N/A"}]
[null,null,{"$f":"VLOOKUP($B3716,'Ad Week Dates'!$A:$E,4,FALSE)","v":{"$error":"#N/A"}},{"$f":"VLOOKUP($B3716,'Ad Week Dates'!$A:$E,2,FALSE)","v":{"$error":"#N/A"}},{"$f":"VLOOKUP($B3716,'Ad Week Dates'!$A:$E,3,FALSE)","v":{"$error":"#N/A"}},null,null,null,null,null,null,{"$error":"#N/A"}]
[null,null,{"$f":"VLOOKUP($B3717,'Ad Week Dates'!$A:$E,4,FALSE)","v":{"$error":"#N/A"}},{"$f":"VLOOKUP($B3717,'Ad Week Dates'!$A:$E,2,FALSE)","v":{"$error":"#N/A"}},{"$f":"VLOOKUP($B3717,'Ad Week Dates'!$A:$E,3,FALSE)","v":{"$error":"#N/A"}},null,null,null,null,null,null,{"$error":"#N/A"}]
[null,null,{"$f":"VLOOKUP($B3718,'Ad Week Dates'!$A:$E,4,FALSE)","v":{"$error":"#N/A"}},{"$f":"VLOOKUP($B3718,'Ad Week Dates'!$A:$E,2,FALSE)","v":{"$error":"#N/A"}},{"$f":"VLOOKUP($B3718,'Ad Week Dates'!$A:$E,3,FALSE)","v":{"$error":"#N/A"}},null,null,null,null,null,null,{"$f":"IF(ISNUMBER(J3718), J3718 - K3718, VALUE(_xlfn.TEXTBEFORE(J3718, \"-\")) - VALUE(_xlfn.TEXTBEFORE(K3718, \"-\")))","v":{"$error":"#N/A"}}]
[null,null,{"$f":"VLOOKUP($B3719,'Ad Week Dates'!$A:$E,4,FALSE)","v":{"$error":"#N/A"}},{"$f":"VLOOKUP($B3719,'Ad Week Dates'!$A:$E,2,FALSE)","v":{"$error":"#N/A"}},{"$f":"VLOOKUP($B3719,'Ad Week Dates'!$A:$E,3,FALSE)","v":{"$error":"#N/A"}},null,null,null,null,null,null,{"$error":"#N/A"}]
[null,null,{"$f":"VLOOKUP($B3720,'Ad Week Dates'!$A:$E,4,FALSE)","v":{"$error":"#N/A"}},{"$f":"VLOOKUP($B3720,'Ad Week Dates'!$A:$E,2,FALSE)","v":{"$error":"#N/A"}},{"$f":"VLOOKUP($B3720,'Ad Week Dates'!$A:$E,3,FALSE)","v":{"$error":"#N/A"}},null,null,null,null,null,null,{"$error":"#N/A"}]
[null,null,{"$f":"VLOOKUP($B3721,'Ad Week Dates'!$A:$E,4,FALSE)","v":{"$error":"#N/A"}},{"$f":"VLOOKUP($B3721,'Ad Week Dates'!$A:$E,2,FALSE)","v":{"$error":"#N/A"}},{"$f":"VLOOKUP($B3721,'Ad Week Dates'!$A:$E,3,FALSE)","v":{"$error":"#N/A"}},null,null,null,null,null,null,{"$error":"#N/A"}]
[null,null,{"$f":"VLOOKUP($B3722,'Ad Week Dates'!$A:$E,4,FALSE)","v":{"$error":"#N/A"}},{"$f":"VLOOKUP($B3722,'Ad Week Dates'!$A:$E,2,FALSE)","v":{"$error":"#N/A"}},{"$f":"VLOOKUP($B3722,'Ad Week Dates'!$A:$E,3,FALSE)","v":{"$error":"#N/A"}},null,null,null,null,null,null,{"$error":"#N/A"}]
[null,null,{"$f":"VLOOKUP($B3723,'Ad Week Dates'!$A:$E,4,FALSE)","v":{"$error":"#N/A"}},{"$f":"VLOOKUP($B3723,'Ad Week Dates'!$A:$E,2,FALSE)","v":{"$error":"#N/A"}},{"$f":"VLOOKUP($B3723,'Ad Week Dates'!$A:$E,3,FALSE)","v":{"$error":"#N/A"}},null,null,null,null,null,null,{"$error":"#N/A"}]
[null,null,{"$f":"VLOOKUP($B3724,'Ad Week Dates'!$A:$E,4,FALSE)","v":{"$error":"#N/A"}},{"$f":"VLOOKUP($B3724,'Ad Week Dates'!$A:$E,2,FALSE)","v":{"$error":"#N/A"}},{"$f":"VLOOKUP($B3724,'Ad Week Dates'!$A:$E,3,FALSE)","v":{"$error":"#N/A"}},null,null,null,null,null,null,{"$error":"#N/A"}]
[null,null,{"$f":"VLOOKUP($B3725,'Ad Week Dates'!$A:$E,4,FALSE)","v":{"$error":"#N/A"}},{"$f":"VLOOKUP($B3725,'Ad Week Dates'!$A:$E,2,FALSE)","v":{"$error":"#N/A"}},{"$f":"VLOOKUP($B3725,'Ad Week Dates'!$A:$E,3,FALSE)","v":{"$error":"#N/A"}},null,null,null,null,null,null,{"$error":"#N/A"}]
[null,null,{"$f":"VLOOKUP($B3726,'Ad Week Dates'!$A:$E,4,FALSE)","v":{"$error":"#N/A"}},{"$f":"VLOOKUP($B3726,'Ad Week Dates'!$A:$E,2,FALSE)","v":{"$error":"#N/A"}},{"$f":"VLOOKUP($B3726,'Ad Week Dates'!$A:$E,3,FALSE)","v":{"$error":"#N/A"}},null,null,null,null,null,null,{"$error":"#N/A"}]
[null,null,{"$f":"VLOOKUP($B3727,'Ad Week Dates'!$A:$E,4,FALSE)","v":{"$error":"#N/A"}},{"$f":"VLOOKUP($B3727,'Ad Week Dates'!$A:$E,2,FALSE)","v":{"$error":"#N/A"}},{"$f":"VLOOKUP($B3727,'Ad Week Dates'!$A:$E,3,FALSE)","v":{"$error":"#N/A"}},null,null,null,null,null,null,{"$error":"#N/A"}]
[null,null,{"$f":"VLOOKUP($B3728,'Ad Week Dates'!$A:$E,4,FALSE)","v":{"$error":"#N/A"}},{"$f":"VLOOKUP($B3728,'Ad Week Dates'!$A:$E,2,FALSE)","v":{"$error":"#N/A"}},{"$f":"VLOOKUP($B3728,'Ad Week Dates'!$A:$E,3,FALSE)","v":{"$error":"#N/A"}},null,null,null,null,null,null,{"$error":"#N/A"}]
[null,null,{"$f":"VLOOKUP($B3729,'Ad Week Dates'!$A:$E,4,FALSE)","v":{"$error":"#N/A"}},{"$f":"VLOOKUP($B3729,'Ad Week Dates'!$A:$E,2,FALSE)","v":{"$error":"#N/A"}},{"$f":"VLOOKUP($B3729,'Ad Week Dates'!$A:$E,3,FALSE)","v":{"$error":"#N/A"}},null,null,null,null,null,null,{"$error":"#N/A"}]
[null,null,{"$f":"VLOOKUP($B3730,'Ad Week Dates'!$A:$E,4,FALSE)","v":{"$error":"#N/A"}},{"$f":"VLOOKUP($B3730,'Ad Week Dates'!$A:$E,2,FALSE)","v":{"$error":"#N/A"}},{"$f":"VLOOKUP($B3730,'Ad Week Dates'!$A:$E,3,FALSE)","v":{"$error":"#N/A"}},null,null,null,null,null,null,{"$error":"#N/A"}]
[null,null,{"$f":"VLOOKUP($B3731,'Ad Week Dates'!$A:$E,4,FALSE)","v":{"$error":"#N/A"}},{"$f":"VLOOKUP($B3731,'Ad Week Dates'!$A:$E,2,FALSE)","v":{"$error":"#N/A"}},{"$f":"VLOOKUP($B3731,'Ad Week Dates'!$A:$E,3,FALSE)","v":{"$error":"#N/A"}},null,null,null,null,null,null,{"$error":"#N/A"}]
[null,null,{"$f":"VLOOKUP($B3732,'Ad Week Dates'!$A:$E,4,FALSE)","v":{"$error":"#N/A"}},{"$f":"VLOOKUP($B3732,'Ad Week Dates'!$A:$E,2,FALSE)","v":{"$error":"#N/A"}},{"$f":"VLOOKUP($B3732,'Ad Week Dates'!$A:$E,3,FALSE)","v":{"$error":"#N/A"}},null,null,null,null,null,null,{"$error":"#N/A"}]
[null,null,{"$f":"VLOOKUP($B3733,'Ad Week Dates'!$A:$E,4,FALSE)","v":{"$error":"#N/A"}},{"$f":"VLOOKUP($B3733,'Ad Week Dates'!$A:$E,2,FALSE)","v":{"$error":"#N/A"}},{"$f":"VLOOKUP($B3733,'Ad Week Dates'!$A:$E,3,FALSE)","v":{"$error":"#N/A"}},null,null,null,null,null,null,{"$error":"#N/A"}]
[null,null,{"$f":"VLOOKUP($B3734,'Ad Week Dates'!$A:$E,4,FALSE)","v":{"$error":"#N/A"}},{"$f":"VLOOKUP($B3734,'Ad Week Dates'!$A:$E,2,FALSE)","v":{"$error":"#N/A"}},{"$f":"VLOOKUP($B3734,'Ad Week Dates'!$A:$E,3,FALSE)","v":{"$error":"#N/A"}},null,null,null,null,null,null,{"$error":"#N/A"}]
[null,null,{"$f":"VLOOKUP($B3735,'Ad Week Dates'!$A:$E,4,FALSE)","v":{"$error":"#N/A"}},{"$f":"VLOOKUP($B3735,'Ad Week Dates'!$A:$E,2,FALSE)","v":{"$error":"#N/A"}},{"$f":"VLOOKUP($B3735,'Ad Week Dates'!$A:$E,3,FALSE)","v":{"$error":"#N/A"}},null,null,null,null,null,null,{"$error":"#N/A"}]
[null,null,{"$f":"VLOOKUP($B3736,'Ad Week Dates'!$A:$E,4,FALSE)","v":{"$error":"#N/A"}},{"$f":"VLOOKUP($B3736,'Ad Week Dates'!$A:$E,2,FALSE)","v":{"$error":"#N/A"}},{"$f":"VLOOKUP($B3736,'Ad Week Dates'!$A:$E,3,FALSE)","v":{"$error":"#N/A"}},null,null,null,null,null,null,{"$error":"#N/A"}]
[null,null,{"$f":"VLOOKUP($B3737,'Ad Week Dates'!$A:$E,4,FALSE)","v":{"$error":"#N/A"}},{"$f":"VLOOKUP($B3737,'Ad Week Dates'!$A:$E,2,FALSE)","v":{"$error":"#N/A"}},{"$f":"VLOOKUP($B3737,'Ad Week Dates'!$A:$E,3,FALSE)","v":{"$error":"#N/A"}},null,null,null,null,null,null,{"$error":"#N/A"}]
[null,null,{"$f":"VLOOKUP($B3738,'Ad Week Dates'!$A:$E,4,FALSE)","v":{"$error":"#N/A"}},{"$f":"VLOOKUP($B3738,'Ad Week Dates'!$A:$E,2,FALSE)","v":{"$error":"#N/A"}},{"$f":"VLOOKUP($B3738,'Ad Week Dates'!$A:$E,3,FALSE)","v":{"$error":"#N/A"}},null,null,null,null,null,null,{"$error":"#N/A"}]
[null,null,{"$f":"VLOOKUP($B3739,'Ad Week Dates'!$A:$E,4,FALSE)","v":{"$error":"#N/A"}},{"$f":"VLOOKUP($B3739,'Ad Week Dates'!$A:$E,2,FALSE)","v":{"$error":"#N/A"}},{"$f":"VLOOKUP($B3739,'Ad Week Dates'!$A:$E,3,FALSE)","v":{"$error":"#N/A"}},null,null,null,null,null,null,{"$error":"#N/A"}]
[null,null,{"$f":"VLOOKUP($B3740,'Ad Week Dates'!$A:$E,4,FALSE)","v":{"$error":"#N/A"}},{"$f":"VLOOKUP($B3740,'Ad Week Dates'!$A:$E,2,FALSE)","v":{"$error":"#N/A"}},{"$f":"VLOOKUP($B3740,'Ad Week Dates'!$A:$E,3,FALSE)","v":{"$error":"#N/A"}},null,null,null,null,null,null,{"$error":"#N/A"}]
[null,null,{"$f":"VLOOKUP($B3741,'Ad Week Dates'!$A:$E,4,FALSE)","v":{"$error":"#N/A"}},{"$f":"VLOOKUP($B3741,'Ad Week Dates'!$A:$E,2,FALSE)","v":{"$error":"#N/A"}},{"$f":"VLOOKUP($B3741,'Ad Week Dates'!$A:$E,3,FALSE)","v":{"$error":"#N/A"}},null,null,null,null,null,null,{"$error":"#N/A"}]
[null,null,{"$f":"VLOOKUP($B3742,'Ad Week Dates'!$A:$E,4,FALSE)","v":{"$error":"#N/A"}},{"$f":"VLOOKUP($B3742,'Ad Week Dates'!$A:$E,2,FALSE)","v":{"$error":"#N/A"}},{"$f":"VLOOKUP($B3742,'Ad Week Dates'!$A:$E,3,FALSE)","v":{"$error":"#N/A"}},null,null,null,null,null,null,{"$error":"#N/A"}]
[null,null,{"$f":"VLOOKUP($B3743,'Ad Week Dates'!$A:$E,4,FALSE)","v":{"$error":"#N/A"}},{"$f":"VLOOKUP($B3743,'Ad Week Dates'!$A:$E,2,FALSE)","v":{"$error":"#N/A"}},{"$f":"VLOOKUP($B3743,'Ad Week Dates'!$A:$E,3,FALSE)","v":{"$error":"#N/A"}},null,null,null,null,null,null,{"$error":"#N/A"}]
[null,null,{"$f":"VLOOKUP($B3744,'Ad Week Dates'!$A:$E,4,FALSE)","v":{"$error":"#N/A"}},{"$f":"VLOOKUP($B3744,'Ad Week Dates'!$A:$E,2,FALSE)","v":{"$error":"#N/A"}},{"$f":"VLOOKUP($B3744,'Ad Week Dates'!$A:$E,3,FALSE)","v":{"$error":"#N/A"}},null,null,null,null,null,null,{"$error":"#N/A"}]
[null,null,{"$f":"VLOOKUP($B3745,'Ad Week Dates'!$A:$E,4,FALSE)","v":{"$error":"#N/A"}},{"$f":"VLOOKUP($B3745,'Ad Week Dates'!$A:$E,2,FALSE)","v":{"$error":"#N/A"}},{"$f":"VLOOKUP($B3745,'Ad Week Dates'!$A:$E,3,FALSE)","v":{"$error":"#N/A"}},null,null,null,null,null,null,{"$error":"#N/A"}]
[null,null,{"$f":"VLOOKUP($B3746,'Ad Week Dates'!$A:$E,4,FALSE)","v":{"$error":"#N/A"}},{"$f":"VLOOKUP($B3746,'Ad Week Dates'!$A:$E,2,FALSE)","v":{"$error":"#N/A"}},{"$f":"VLOOKUP($B3746,'Ad Week Dates'!$A:$E,3,FALSE)","v":{"$error":"#N/A"}},null,null,null,null,null,null,{"$error":"#N/A"}]
[null,null,{"$f":"VLOOKUP($B3747,'Ad Week Dates'!$A:$E,4,FALSE)","v":{"$error":"#N/A"}},{"$f":"VLOOKUP($B3747,'Ad Week Dates'!$A:$E,2,FALSE)","v":{"$error":"#N/A"}},{"$f":"VLOOKUP($B3747,'Ad Week Dates'!$A:$E,3,FALSE)","v":{"$error":"#N/A"}},null,null,null,null,null,null,{"$error":"#N/A"}]
[null,null,{"$f":"VLOOKUP($B3748,'Ad Week Dates'!$A:$E,4,FALSE)","v":{"$error":"#N/A"}},{"$f":"VLOOKUP($B3748,'Ad Week Dates'!$A:$E,2,FALSE)","v":{"$error":"#N/A"}},{"$f":"VLOOKUP($B3748,'Ad Week Dates'!$A:$E,3,FALSE)","v":{"$error":"#N/A"}},null,null,null,null,null,null,{"$error":"#N/A"}]
[null,null,{"$f":"VLOOKUP($B3749,'Ad Week Dates'!$A:$E,4,FALSE)","v":{"$error":"#N/A"}},{"$f":"VLOOKUP($B3749,'Ad Week Dates'!$A:$E,2,FALSE)","v":{"$error":"#N/A"}},{"$f":"VLOOKUP($B3749,'Ad Week Dates'!$A:$E,3,FALSE)","v":{"$error":"#N/A"}},null,null,null,null,null,null,{"$error":"#N/A"}]
[null,null,{"$f":"VLOOKUP($B3750,'Ad Week Dates'!$A:$E,4,FALSE)","v":{"$error":"#N/A"}},{"$f":"VLOOKUP($B3750,'Ad Week Dates'!$A:$E,2,FALSE)","v":{"$error":"#N/A"}},{"$f":"VLOOKUP($B3750,'Ad Week Dates'!$A:$E,3,FALSE)","v":{"$error":"#N/A"}},null,null,null,null,null,null,{"$error":"#N/A"}]
[null,null,{"$f":"VLOOKUP($B3751,'Ad Week Dates'!$A:$E,4,FALSE)","v":{"$error":"#N/A"}},{"$f":"VLOOKUP($B3751,'Ad Week Dates'!$A:$E,2,FALSE)","v":{"$error":"#N/A"}},{"$f":"VLOOKUP($B3751,'Ad Week Dates'!$A:$E,3,FALSE)","v":{"$error":"#N/A"}},null,null,null,null,null,null,{"$error":"#N/A"}]
[null,null,{"$f":"VLOOKUP($B3752,'Ad Week Dates'!$A:$E,4,FALSE)","v":{"$error":"#N/A"}},{"$f":"VLOOKUP($B3752,'Ad Week Dates'!$A:$E,2,FALSE)","v":{"$error":"#N/A"}},{"$f":"VLOOKUP($B3752,'Ad Week Dates'!$A:$E,3,FALSE)","v":{"$error":"#N/A"}},null,null,null,null,null,null,{"$error":"#N/A"}]
[null,null,{"$f":"VLOOKUP($B3753,'Ad Week Dates'!$A:$E,4,FALSE)","v":{"$error":"#N/A"}},{"$f":"VLOOKUP($B3753,'Ad Week Dates'!$A:$E,2,FALSE)","v":{"$error":"#N/A"}},{"$f":"VLOOKUP($B3753,'Ad Week Dates'!$A:$E,3,FALSE)","v":{"$error":"#N/A"}},null,null,null,null,null,null,{"$error":"#N/A"}]
[null,null,{"$f":"VLOOKUP($B3754,'Ad Week Dates'!$A:$E,4,FALSE)","v":{"$error":"#N/A"}},{"$f":"VLOOKUP($B3754,'Ad Week Dates'!$A:$E,2,FALSE)","v":{"$error":"#N/A"}},{"$f":"VLOOKUP($B3754,'Ad Week Dates'!$A:$E,3,FALSE)","v":{"$error":"#N/A"}},null,null,null,null,null,null,{"$error":"#N/A"}]
[null,null,{"$f":"VLOOKUP($B3755,'Ad Week Dates'!$A:$E,4,FALSE)","v":{"$error":"#N/A"}},{"$f":"VLOOKUP($B3755,'Ad Week Dates'!$A:$E,2,FALSE)","v":{"$error":"#N/A"}},{"$f":"VLOOKUP($B3755,'Ad Week Dates'!$A:$E,3,FALSE)","v":{"$error":"#N/A"}},null,null,null,null,null,null,{"$error":"#N/A"}]
[null,null,{"$f":"VLOOKUP($B3756,'Ad Week Dates'!$A:$E,4,FALSE)","v":{"$error":"#N/A"}},{"$f":"VLOOKUP($B3756,'Ad Week Dates'!$A:$E,2,FALSE)","v":{"$error":"#N/A"}},{"$f":"VLOOKUP($B3756,'Ad Week Dates'!$A:$E,3,FALSE)","v":{"$error":"#N/A"}},null,null,null,null,null,null,{"$error":"#N/A"}]
[null,null,{"$f":"VLOOKUP($B3757,'Ad Week Dates'!$A:$E,4,FALSE)","v":{"$error":"#N/A"}},{"$f":"VLOOKUP($B3757,'Ad Week Dates'!$A:$E,2,FALSE)","v":{"$error":"#N/A"}},{"$f":"VLOOKUP($B3757,'Ad Week Dates'!$A:$E,3,FALSE)","v":{"$error":"#N/A"}},null,null,null,null,null,null,{"$error":"#N/A"}]
[null,null,{"$f":"VLOOKUP($B3758,'Ad Week Dates'!$A:$E,4,FALSE)","v":{"$error":"#N/A"}},{"$f":"VLOOKUP($B3758,'Ad Week Dates'!$A:$E,2,FALSE)","v":{"$error":"#N/A"}},{"$f":"VLOOKUP($B3758,'Ad Week Dates'!$A:$E,3,FALSE)","v":{"$error":"#N/A"}},null,null,null,null,null,null,{"$error":"#N/A"}]
[null,null,{"$f":"VLOOKUP($B3759,'Ad Week Dates'!$A:$E,4,FALSE)","v":{"$error":"#N/A"}},{"$f":"VLOOKUP($B3759,'Ad Week Dates'!$A:$E,2,FALSE)","v":{"$error":"#N/A"}},{"$f":"VLOOKUP($B3759,'Ad Week Dates'!$A:$E,3,FALSE)","v":{"$error":"#N/A"}},null,null,null,null,null,null,{"$error":"#N/A"}]
[null,null,{"$f":"VLOOKUP($B3760,'Ad Week Dates'!$A:$E,4,FALSE)","v":{"$error":"#N/A"}},{"$f":"VLOOKUP($B3760,'Ad Week Dates'!$A:$E,2,FALSE)","v":{"$error":"#N/A"}},{"$f":"VLOOKUP($B3760,'Ad Week Dates'!$A:$E,3,FALSE)","v":{"$error":"#N/A"}},null,null,null,null,null,null,{"$error":"#N/A"}]
[null,null,{"$f":"VLOOKUP($B3761,'Ad Week Dates'!$A:$E,4,FALSE)","v":{"$error":"#N/A"}},{"$f":"VLOOKUP($B3761,'Ad Week Dates'!$A:$E,2,FALSE)","v":{"$error":"#N/A"}},{"$f":"VLOOKUP($B3761,'Ad Week Dates'!$A:$E,3,FALSE)","v":{"$error":"#N/A"}},null,null,null,null,null,null,{"$error":"#N/A"}]
[null,null,{"$f":"VLOOKUP($B3762,'Ad Week Dates'!$A:$E,4,FALSE)","v":{"$error":"#N/A"}},{"$f":"VLOOKUP($B3762,'Ad Week Dates'!$A:$E,2,FALSE)","v":{"$error":"#N/A"}},{"$f":"VLOOKUP($B3762,'Ad Week Dates'!$A:$E,3,FALSE)","v":{"$error":"#N/A"}},null,null,null,null,null,null,{"$error":"#N/A"}]
[null,null,{"$f":"VLOOKUP($B3763,'Ad Week Dates'!$A:$E,4,FALSE)","v":{"$error":"#N/A"}},{"$f":"VLOOKUP($B3763,'Ad Week Dates'!$A:$E,2,FALSE)","v":{"$error":"#N/A"}},{"$f":"VLOOKUP($B3763,'Ad Week Dates'!$A:$E,3,FALSE)","v":{"$error":"#N/A"}},null,null,null,null,null,null,{"$error":"#N/A"}]
[null,null,{"$f":"VLOOKUP($B3764,'Ad Week Dates'!$A:$E,4,FALSE)","v":{"$error":"#N/A"}},{"$f":"VLOOKUP($B3764,'Ad Week Dates'!$A:$E,2,FALSE)","v":{"$error":"#N/A"}},{"$f":"VLOOKUP($B3764,'Ad Week Dates'!$A:$E,3,FALSE)","v":{"$error":"#N/A"}},null,null,null,null,null,null,{"$error":"#N/A"}]
[null,null,{"$f":"VLOOKUP($B3765,'Ad Week Dates'!$A:$E,4,FALSE)","v":{"$error":"#N/A"}},{"$f":"VLOOKUP($B3765,'Ad Week Dates'!$A:$E,2,FALSE)","v":{"$error":"#N/A"}},{"$f":"VLOOKUP($B3765,'Ad Week Dates'!$A:$E,3,FALSE)","v":{"$error":"#N/A"}},null,null,null,null,null,null,{"$error":"#N/A"}]
[null,null,{"$f":"VLOOKUP($B3766,'Ad Week Dates'!$A:$E,4,FALSE)","v":{"$error":"#N/A"}},{"$f":"VLOOKUP($B3766,'Ad Week Dates'!$A:$E,2,FALSE)","v":{"$error":"#N/A"}},{"$f":"VLOOKUP($B3766,'Ad Week Dates'!$A:$E,3,FALSE)","v":{"$error":"#N/A"}},null,null,null,null,null,null,{"$error":"#N/A"}]
[null,null,{"$f":"VLOOKUP($B3767,'Ad Week Dates'!$A:$E,4,FALSE)","v":{"$error":"#N/A"}},{"$f":"VLOOKUP($B3767,'Ad Week Dates'!$A:$E,2,FALSE)","v":{"$error":"#N/A"}},{"$f":"VLOOKUP($B3767,'Ad Week Dates'!$A:$E,3,FALSE)","v":{"$error":"#N/A"}},null,null,null,null,null,null,{"$error":"#N/A"}]
[null,null,{"$f":"VLOOKUP($B3768,'Ad Week Dates'!$A:$E,4,FALSE)","v":{"$error":"#N/A"}},{"$f":"VLOOKUP($B3768,'Ad Week Dates'!$A:$E,2,FALSE)","v":{"$error":"#N/A"}},{"$f":"VLOOKUP($B3768,'Ad Week Dates'!$A:$E,3,FALSE)","v":{"$error":"#N/A"}},null,null,null,null,null,null,{"$error":"#N/A"}]
[null,null,{"$f":"VLOOKUP($B3769,'Ad Week Dates'!$A:$E,4,FALSE)","v":{"$error":"#N/A"}},{"$f":"VLOOKUP($B3769,'Ad Week Dates'!$A:$E,2,FALSE)","v":{"$error":"#N/A"}},{"$f":"VLOOKUP($B3769,'Ad Week Dates'!$A:$E,3,FALSE)","v":{"$error":"#N/A"}},null,null,null,null,null,null,{"$error":"#N/A"}]
[null,null,{"$f":"VLOOKUP($B3770,'Ad Week Dates'!$A:$E,4,FALSE)","v":{"$error":"#N/A"}},{"$f":"VLOOKUP($B3770,'Ad Week Dates'!$A:$E,2,FALSE)","v":{"$error":"#N/A"}},{"$f":"VLOOKUP($B3770,'Ad Week Dates'!$A:$E,3,FALSE)","v":{"$error":"#N/A"}},null,null,null,null,null,null,{"$error":"#N/A"}]
[null,null,{"$f":"VLOOKUP($B3771,'Ad Week Dates'!$A:$E,4,FALSE)","v":{"$error":"#N/A"}},{"$f":"VLOOKUP($B3771,'Ad Week Dates'!$A:$E,2,FALSE)","v":{"$error":"#N/A"}},{"$f":"VLOOKUP($B3771,'Ad Week Dates'!$A:$E,3,FALSE)","v":{"$error":"#N/A"}},null,null,null,null,null,null,{"$error":"#N/A"}]
[null,null,{"$f":"VLOOKUP($B3772,'Ad Week Dates'!$A:$E,4,FALSE)","v":{"$error":"#N/A"}},{"$f":"VLOOKUP($B3772,'Ad Week Dates'!$A:$E,2,FALSE)","v":{"$error":"#N/A"}},{"$f":"VLOOKUP($B3772,'Ad Week Dates'!$A:$E,3,FALSE)","v":{"$error":"#N/A"}},null,null,null,null,null,null,{"$error":"#N/A"}]
[null,null,{"$f":"VLOOKUP($B3773,'Ad Week Dates'!$A:$E,4,FALSE)","v":{"$error":"#N/A"}},{"$f":"VLOOKUP($B3773,'Ad Week Dates'!$A:$E,2,FALSE)","v":{"$error":"#N/A"}},{"$f":"VLOOKUP($B3773,'Ad Week Dates'!$A:$E,3,FALSE)","v":{"$error":"#N/A"}},null,null,null,null,null,null,{"$error":"#N/A"}]
[null,null,{"$f":"VLOOKUP($B3774,'Ad Week Dates'!$A:$E,4,FALSE)","v":{"$error":"#N/A"}},{"$f":"VLOOKUP($B3774,'Ad Week Dates'!$A:$E,2,FALSE)","v":{"$error":"#N/A"}},{"$f":"VLOOKUP($B3774,'Ad Week Dates'!$A:$E,3,FALSE)","v":{"$error":"#N/A"}},null,null,null,null,null,null,{"$error":"#N/A"}]
[null,null,{"$f":"VLOOKUP($B3775,'Ad Week Dates'!$A:$E,4,FALSE)","v":{"$error":"#N/A"}},{"$f":"VLOOKUP($B3775,'Ad Week Dates'!$A:$E,2,FALSE)","v":{"$error":"#N/A"}},{"$f":"VLOOKUP($B3775,'Ad Week Dates'!$A:$E,3,FALSE)","v":{"$error":"#N/A"}},null,null,null,null,null,null,{"$error":"#N/A"}]
[null,null,{"$f":"VLOOKUP($B3776,'Ad Week Dates'!$A:$E,4,FALSE)","v":{"$error":"#N/A"}},{"$f":"VLOOKUP($B3776,'Ad Week Dates'!$A:$E,2,FALSE)","v":{"$error":"#N/A"}},{"$f":"VLOOKUP($B3776,'Ad Week Dates'!$A:$E,3,FALSE)","v":{"$error":"#N/A"}},null,null,null,null,null,null,{"$error":"#N/A"}]
[null,null,{"$f":"VLOOKUP($B3777,'Ad Week Dates'!$A:$E,4,FALSE)","v":{"$error":"#N/A"}},{"$f":"VLOOKUP($B3777,'Ad Week Dates'!$A:$E,2,FALSE)","v":{"$error":"#N/A"}},{"$f":"VLOOKUP($B3777,'Ad Week Dates'!$A:$E,3,FALSE)","v":{"$error":"#N/A"}},null,null,null,null,null,null,{"$error":"#N/A"}]
[null,null,{"$f":"VLOOKUP($B3778,'Ad Week Dates'!$A:$E,4,FALSE)","v":{"$error":"#N/A"}},{"$f":"VLOOKUP($B3778,'Ad Week Dates'!$A:$E,2,FALSE)","v":{"$error":"#N/A"}},{"$f":"VLOOKUP($B3778,'Ad Week Dates'!$A:$E,3,FALSE)","v":{"$error":"#N/A"}},null,null,null,null,null,null,{"$error":"#N/A"}]
[null,null,{"$f":"VLOOKUP($B3779,'Ad Week Dates'!$A:$E,4,FALSE)","v":{"$error":"#N/A"}},{"$f":"VLOOKUP($B3779,'Ad Week Dates'!$A:$E,2,FALSE)","v":{"$error":"#N/A"}},{"$f":"VLOOKUP($B3779,'Ad Week Dates'!$A:$E,3,FALSE)","v":{"$error":"#N/A"}},null,null,null,null,null,null,{"$error":"#N/A"}]
[null,null,{"$f":"VLOOKUP($B3780,'Ad Week Dates'!$A:$E,4,FALSE)","v":{"$error":"#N/A"}},{"$f":"VLOOKUP($B3780,'Ad Week Dates'!$A:$E,2,FALSE)","v":{"$error":"#N/A"}},{"$f":"VLOOKUP($B3780,'Ad Week Dates'!$A:$E,3,FALSE)","v":{"$error":"#N/A"}},null,null,null,null,null,null,{"$error":"#N/A"}]
[null,null,{"$f":"VLOOKUP($B3781,'Ad Week Dates'!$A:$E,4,FALSE)","v":{"$error":"#N/A"}},{"$f":"VLOOKUP($B3781,'Ad Week Dates'!$A:$E,2,FALSE)","v":{"$error":"#N/A"}},{"$f":"VLOOKUP($B3781,'Ad Week Dates'!$A:$E,3,FALSE)","v":{"$error":"#N/A"}},null,null,null,null,null,null,{"$error":"#N/A"}]
[null,null,{"$f":"VLOOKUP($B3782,'Ad Week Dates'!$A:$E,4,FALSE)","v":{"$error":"#N/A"}},{"$f":"VLOOKUP($B3782,'Ad Week Dates'!$A:$E,2,FALSE)","v":{"$error":"#N/A"}},{"$f":"VLOOKUP($B3782,'Ad Week Dates'!$A:$E,3,FALSE)","v":{"$error":"#N/A"}},null,null,null,null,null,null,{"$f":"IF(ISNUMBER(J3782), J3782 - K3782, VALUE(_xlfn.TEXTBEFORE(J3782, \"-\")) - VALUE(_xlfn.TEXTBEFORE(K3782, \"-\")))","v":{"$error":"#N/A"}}]
[null,null,{"$f":"VLOOKUP($B3783,'Ad Week Dates'!$A:$E,4,FALSE)","v":{"$error":"#N/A"}},{"$f":"VLOOKUP($B3783,'Ad Week Dates'!$A:$E,2,FALSE)","v":{"$error":"#N/A"}},{"$f":"VLOOKUP($B3783,'Ad Week Dates'!$A:$E,3,FALSE)","v":{"$error":"#N/A"}},null,null,null,null,null,null,{"$error":"#N/A"}]
[null,null,{"$f":"VLOOKUP($B3784,'Ad Week Dates'!$A:$E,4,FALSE)","v":{"$error":"#N/A"}},{"$f":"VLOOKUP($B3784,'Ad Week Dates'!$A:$E,2,FALSE)","v":{"$error":"#N/A"}},{"$f":"VLOOKUP($B3784,'Ad Week Dates'!$A:$E,3,FALSE)","v":{"$error":"#N/A"}},null,null,null,null,null,null,{"$error":"#N/A"}]
[null,null,{"$f":"VLOOKUP($B3785,'Ad Week Dates'!$A:$E,4,FALSE)","v":{"$error":"#N/A"}},{"$f":"VLOOKUP($B3785,'Ad Week Dates'!$A:$E,2,FALSE)","v":{"$error":"#N/A"}},{"$f":"VLOOKUP($B3785,'Ad Week Dates'!$A:$E,3,FALSE)","v":{"$error":"#N/A"}},null,null,null,null,null,null,{"$error":"#N/A"}]
[null,null,{"$f":"VLOOKUP($B3786,'Ad Week Dates'!$A:$E,4,FALSE)","v":{"$error":"#N/A"}},{"$f":"VLOOKUP($B3786,'Ad Week Dates'!$A:$E,2,FALSE)","v":{"$error":"#N/A"}},{"$f":"VLOOKUP($B3786,'Ad Week Dates'!$A:$E,3,FALSE)","v":{"$error":"#N/A"}},null,null,null,null,null,null,{"$error":"#N/A"}]
[null,null,{"$f":"VLOOKUP($B3787,'Ad Week Dates'!$A:$E,4,FALSE)","v":{"$error":"#N/A"}},{"$f":"VLOOKUP($B3787,'Ad Week Dates'!$A:$E,2,FALSE)","v":{"$error":"#N/A"}},{"$f":"VLOOKUP($B3787,'Ad Week Dates'!$A:$E,3,FALSE)","v":{"$error":"#N/A"}},null,null,null,null,null,null,{"$error":"#N/A"}]
[null,null,{"$f":"VLOOKUP($B3788,'Ad Week Dates'!$A:$E,4,FALSE)","v":{"$error":"#N/A"}},{"$f":"VLOOKUP($B3788,'Ad Week Dates'!$A:$E,2,FALSE)","v":{"$error":"#N/A"}},{"$f":"VLOOKUP($B3788,'Ad Week Dates'!$A:$E,3,FALSE)","v":{"$error":"#N/A"}},null,null,null,null,null,null,{"$error":"#N/A"}]
[null,null,{"$f":"VLOOKUP($B3789,'Ad Week Dates'!$A:$E,4,FALSE)","v":{"$error":"#N/A"}},{"$f":"VLOOKUP($B3789,'Ad Week Dates'!$A:$E,2,FALSE)","v":{"$error":"#N/A"}},{"$f":"VLOOKUP($B3789,'Ad Week Dates'!$A:$E,3,FALSE)","v":{"$error":"#N/A"}},null,null,null,null,null,null,{"$error":"#N/A"}]
[null,null,{"$f":"VLOOKUP($B3790,'Ad Week Dates'!$A:$E,4,FALSE)","v":{"$error":"#N/A"}},{"$f":"VLOOKUP($B3790,'Ad Week Dates'!$A:$E,2,FALSE)","v":{"$error":"#N/A"}},{"$f":"VLOOKUP($B3790,'Ad Week Dates'!$A:$E,3,FALSE)","v":{"$error":"#N/A"}},null,null,null,null,null,null,{"$error":"#N/A"}]
[null,null,{"$f":"VLOOKUP($B3791,'Ad Week Dates'!$A:$E,4,FALSE)","v":{"$error":"#N/A"}},{"$f":"VLOOKUP($B3791,'Ad Week Dates'!$A:$E,2,FALSE)","v":{"$error":"#N/A"}},{"$f":"VLOOKUP($B3791,'Ad Week Dates'!$A:$E,3,FALSE)","v":{"$error":"#N/A"}},null,null,null,null,null,null,{"$error":"#N/A"}]
[null,null,{"$f":"VLOOKUP($B3792,'Ad Week Dates'!$A:$E,4,FALSE)","v":{"$error":"#N/A"}},{"$f":"VLOOKUP($B3792,'Ad Week Dates'!$A:$E,2,FALSE)","v":{"$error":"#N/A"}},{"$f":"VLOOKUP($B3792,'Ad Week Dates'!$A:$E,3,FALSE)","v":{"$error":"#N/A"}},null,null,null,null,null,null,{"$error":"#N/A"}]
[null,null,{"$f":"VLOOKUP($B3793,'Ad Week Dates'!$A:$E,4,FALSE)","v":{"$error":"#N/A"}},{"$f":"VLOOKUP($B3793,'Ad Week Dates'!$A:$E,2,FALSE)","v":{"$error":"#N/A"}},{"$f":"VLOOKUP($B3793,'Ad Week Dates'!$A:$E,3,FALSE)","v":{"$error":"#N/A"}},null,null,null,null,null,null,{"$error":"#N/A"}]
[null,null,{"$f":"VLOOKUP($B3794,'Ad Week Dates'!$A:$E,4,FALSE)","v":{"$error":"#N/A"}},{"$f":"VLOOKUP($B3794,'Ad Week Dates'!$A:$E,2,FALSE)","v":{"$error":"#N/A"}},{"$f":"VLOOKUP($B3794,'Ad Week Dates'!$A:$E,3,FALSE)","v":{"$error":"#N/A"}},null,null,null,null,null,null,{"$error":"#N/A"}]
[null,null,{"$f":"VLOOKUP($B3795,'Ad Week Dates'!$A:$E,4,FALSE)","v":{"$error":"#N/A"}},{"$f":"VLOOKUP($B3795,'Ad Week Dates'!$A:$E,2,FALSE)","v":{"$error":"#N/A"}},{"$f":"VLOOKUP($B3795,'Ad Week Dates'!$A:$E,3,FALSE)","v":{"$error":"#N/A"}},null,null,null,null,null,null,{"$error":"#N/A"}]
[null,null,{"$f":"VLOOKUP($B3796,'Ad Week Dates'!$A:$E,4,FALSE)","v":{"$error":"#N/A"}},{"$f":"VLOOKUP($B3796,'Ad Week Dates'!$A:$E,2,FALSE)","v":{"$error":"#N/A"}},{"$f":"VLOOKUP($B3796,'Ad Week Dates'!$A:$E,3,FALSE)","v":{"$error":"#N/A"}},null,null,null,null,null,null,{"$error":"#N/A"}]
[null,null,{"$f":"VLOOKUP($B3797,'Ad Week Dates'!$A:$E,4,FALSE)","v":{"$error":"#N/A"}},{"$f":"VLOOKUP($B3797,'Ad Week Dates'!$A:$E,2,FALSE)","v":{"$error":"#N/A"}},{"$f":"VLOOKUP($B3797,'Ad Week Dates'!$A:$E,3,FALSE)","v":{"$error":"#N/A"}},null,null,null,null,null,null,{"$error":"#N/A"}]
[null,null,{"$f":"VLOOKUP($B3798,'Ad Week Dates'!$A:$E,4,FALSE)","v":{"$error":"#N/A"}},{"$f":"VLOOKUP($B3798,'Ad Week Dates'!$A:$E,2,FALSE)","v":{"$error":"#N/A"}},{"$f":"VLOOKUP($B3798,'Ad Week Dates'!$A:$E,3,FALSE)","v":{"$error":"#N/A"}},null,null,null,null,null,null,{"$error":"#N/A"}]
[null,null,{"$f":"VLOOKUP($B3799,'Ad Week Dates'!$A:$E,4,FALSE)","v":{"$error":"#N/A"}},{"$f":"VLOOKUP($B3799,'Ad Week Dates'!$A:$E,2,FALSE)","v":{"$error":"#N/A"}},{"$f":"VLOOKUP($B3799,'Ad Week Dates'!$A:$E,3,FALSE)","v":{"$error":"#N/A"}},null,null,null,null,null,null,{"$error":"#N/A"}]
[null,null,{"$f":"VLOOKUP($B3800,'Ad Week Dates'!$A:$E,4,FALSE)","v":{"$error":"#N/A"}},{"$f":"VLOOKUP($B3800,'Ad Week Dates'!$A:$E,2,FALSE)","v":{"$error":"#N/A"}},{"$f":"VLOOKUP($B3800,'Ad Week Dates'!$A:$E,3,FALSE)","v":{"$error":"#N/A"}},null,null,null,null,null,null,{"$error":"#N/A"}]
[null,null,{"$f":"VLOOKUP($B3801,'Ad Week Dates'!$A:$E,4,FALSE)","v":{"$error":"#N/A"}},{"$f":"VLOOKUP($B3801,'Ad Week Dates'!$A:$E,2,FALSE)","v":{"$error":"#N/A"}},{"$f":"VLOOKUP($B3801,'Ad Week Dates'!$A:$E,3,FALSE)","v":{"$error":"#N/A"}},null,null,null,null,null,null,{"$error":"#N/A"}]
[null,null,{"$f":"VLOOKUP($B3802,'Ad Week Dates'!$A:$E,4,FALSE)","v":{"$error":"#N/A"}},{"$f":"VLOOKUP($B3802,'Ad Week Dates'!$A:$E,2,FALSE)","v":{"$error":"#N/A"}},{"$f":"VLOOKUP($B3802,'Ad Week Dates'!$A:$E,3,FALSE)","v":{"$error":"#N/A"}},null,null,null,null,null,null,{"$error":"#N/A"}]
[null,null,{"$f":"VLOOKUP($B3803,'Ad Week Dates'!$A:$E,4,FALSE)","v":{"$error":"#N/A"}},{"$f":"VLOOKUP($B3803,'Ad Week Dates'!$A:$E,2,FALSE)","v":{"$error":"#N/A"}},{"$f":"VLOOKUP($B3803,'Ad Week Dates'!$A:$E,3,FALSE)","v":{"$error":"#N/A"}},null,null,null,null,null,null,{"$error":"#N/A"}]
[null,null,{"$f":"VLOOKUP($B3804,'Ad Week Dates'!$A:$E,4,FALSE)","v":{"$error":"#N/A"}},{"$f":"VLOOKUP($B3804,'Ad Week Dates'!$A:$E,2,FALSE)","v":{"$error":"#N/A"}},{"$f":"VLOOKUP($B3804,'Ad Week Dates'!$A:$E,3,FALSE)","v":{"$error":"#N/A"}},null,null,null,null,null,null,{"$error":"#N/A"}]
[null,null,{"$f":"VLOOKUP($B3805,'Ad Week Dates'!$A:$E,4,FALSE)","v":{"$error":"#N/A"}},{"$f":"VLOOKUP($B3805,'Ad Week Dates'!$A:$E,2,FALSE)","v":{"$error":"#N/A"}},{"$f":"VLOOKUP($B3805,'Ad Week Dates'!$A:$E,3,FALSE)","v":{"$error":"#N/A"}},null,null,null,null,null,null,{"$error":"#N/A"}]
[null,null,{"$f":"VLOOKUP($B3806,'Ad Week Dates'!$A:$E,4,FALSE)","v":{"$error":"#N/A"}},{"$f":"VLOOKUP($B3806,'Ad Week Dates'!$A:$E,2,FALSE)","v":{"$error":"#N/A"}},{"$f":"VLOOKUP($B3806,'Ad Week Dates'!$A:$E,3,FALSE)","v":{"$error":"#N/A"}},null,null,null,null,null,null,{"$error":"#N/A"}]
[null,null,{"$f":"VLOOKUP($B3807,'Ad Week Dates'!$A:$E,4,FALSE)","v":{"$error":"#N/A"}},{"$f":"VLOOKUP($B3807,'Ad Week Dates'!$A:$E,2,FALSE)","v":{"$error":"#N/A"}},{"$f":"VLOOKUP($B3807,'Ad Week Dates'!$A:$E,3,FALSE)","v":{"$error":"#N/A"}},null,null,null,null,null,null,{"$error":"#N/A"}]
[null,null,{"$f":"VLOOKUP($B3808,'Ad Week Dates'!$A:$E,4,FALSE)","v":{"$error":"#N/A"}},{"$f":"VLOOKUP($B3808,'Ad Week Dates'!$A:$E,2,FALSE)","v":{"$error":"#N/A"}},{"$f":"VLOOKUP($B3808,'Ad Week Dates'!$A:$E,3,FALSE)","v":{"$error":"#N/A"}},null,null,null,null,null,null,{"$error":"#N/A"}]
[null,null,{"$f":"VLOOKUP($B3809,'Ad Week Dates'!$A:$E,4,FALSE)","v":{"$error":"#N/A"}},{"$f":"VLOOKUP($B3809,'Ad Week Dates'!$A:$E,2,FALSE)","v":{"$error":"#N/A"}},{"$f":"VLOOKUP($B3809,'Ad Week Dates'!$A:$E,3,FALSE)","v":{"$error":"#N/A"}},null,null,null,null,null,null,{"$error":"#N/A"}]
[null,null,{"$f":"VLOOKUP($B3810,'Ad Week Dates'!$A:$E,4,FALSE)","v":{"$error":"#N/A"}},{"$f":"VLOOKUP($B3810,'Ad Week Dates'!$A:$E,2,FALSE)","v":{"$error":"#N/A"}},{"$f":"VLOOKUP($B3810,'Ad Week Dates'!$A:$E,3,FALSE)","v":{"$error":"#N/A"}},null,null,null,null,null,null,{"$error":"#N/A"}]
[null,null,{"$f":"VLOOKUP($B3811,'Ad Week Dates'!$A:$E,4,FALSE)","v":{"$error":"#N/A"}},{"$f":"VLOOKUP($B3811,'Ad Week Dates'!$A:$E,2,FALSE)","v":{"$error":"#N/A"}},{"$f":"VLOOKUP($B3811,'Ad Week Dates'!$A:$E,3,FALSE)","v":{"$error":"#N/A"}},null,null,null,null,null,null,{"$error":"#N/A"}]
[null,null,{"$f":"VLOOKUP($B3812,'Ad Week Dates'!$A:$E,4,FALSE)","v":{"$error":"#N/A"}},{"$f":"VLOOKUP($B3812,'Ad Week Dates'!$A:$E,2,FALSE)","v":{"$error":"#N/A"}},{"$f":"VLOOKUP($B3812,'Ad Week Dates'!$A:$E,3,FALSE)","v":{"$error":"#N/A"}},null,null,null,null,null,null,{"$error":"#N/A"}]
[null,null,{"$f":"VLOOKUP($B3813,'Ad Week Dates'!$A:$E,4,FALSE)","v":{"$error":"#N/A"}},{"$f":"VLOOKUP($B3813,'Ad Week Dates'!$A:$E,2,FALSE)","v":{"$error":"#N/A"}},{"$f":"VLOOKUP($B3813,'Ad Week Dates'!$A:$E,3,FALSE)","v":{"$error":"#N/A"}},null,null,null,null,null,null,{"$error":"#N/A"}]
[null,null,{"$f":"VLOOKUP($B3814,'Ad Week Dates'!$A:$E,4,FALSE)","v":{"$error":"#N/A"}},{"$f":"VLOOKUP($B3814,'Ad Week Dates'!$A:$E,2,FALSE)","v":{"$error":"#N/A"}},{"$f":"VLOOKUP($B3814,'Ad Week Dates'!$A:$E,3,FALSE)","v":{"$error":"#N/A"}},null,null,null,null,null,null,{"$error":"#N/A"}]
[null,null,{"$f":"VLOOKUP($B3815,'Ad Week Dates'!$A:$E,4,FALSE)","v":{"$error":"#N/A"}},{"$f":"VLOOKUP($B3815,'Ad Week Dates'!$A:$E,2,FALSE)","v":{"$error":"#N/A"}},{"$f":"VLOOKUP($B3815,'Ad Week Dates'!$A:$E,3,FALSE)","v":{"$error":"#N/A"}},null,null,null,null,null,null,{"$error":"#N/A"}]
[null,null,{"$f":"VLOOKUP($B3816,'Ad Week Dates'!$A:$E,4,FALSE)","v":{"$error":"#N/A"}},{"$f":"VLOOKUP($B3816,'Ad Week Dates'!$A:$E,2,FALSE)","v":{"$error":"#N/A"}},{"$f":"VLOOKUP($B3816,'Ad Week Dates'!$A:$E,3,FALSE)","v":{"$error":"#N/A"}},null,null,null,null,null,null,{"$error":"#N/A"}]
[null,null,{"$f":"VLOOKUP($B3817,'Ad Week Dates'!$A:$E,4,FALSE)","v":{"$error":"#N/A"}},{"$f":"VLOOKUP($B3817,'Ad Week Dates'!$A:$E,2,FALSE)","v":{"$error":"#N/A"}},{"$f":"VLOOKUP($B3817,'Ad Week Dates'!$A:$E,3,FALSE)","v":{"$error":"#N/A"}},null,null,null,null,null,null,{"$error":"#N/A"}]
[null,null,{"$f":"VLOOKUP($B3818,'Ad Week Dates'!$A:$E,4,FALSE)","v":{"$error":"#N/A"}},{"$f":"VLOOKUP($B3818,'Ad Week Dates'!$A:$E,2,FALSE)","v":{"$error":"#N/A"}},{"$f":"VLOOKUP($B3818,'Ad Week Dates'!$A:$E,3,FALSE)","v":{"$error":"#N/A"}},null,null,null,null,null,null,{"$error":"#N/A"}]
[null,null,{"$f":"VLOOKUP($B3819,'Ad Week Dates'!$A:$E,4,FALSE)","v":{"$error":"#N/A"}},{"$f":"VLOOKUP($B3819,'Ad Week Dates'!$A:$E,2,FALSE)","v":{"$error":"#N/A"}},{"$f":"VLOOKUP($B3819,'Ad Week Dates'!$A:$E,3,FALSE)","v":{"$error":"#N/A"}},null,null,null,null,null,null,{"$error":"#N/A"}]
[null,null,{"$f":"VLOOKUP($B3820,'Ad Week Dates'!$A:$E,4,FALSE)","v":{"$error":"#N/A"}},{"$f":"VLOOKUP($B3820,'Ad Week Dates'!$A:$E,2,FALSE)","v":{"$error":"#N/A"}},{"$f":"VLOOKUP($B3820,'Ad Week Dates'!$A:$E,3,FALSE)","v":{"$error":"#N/A"}},null,null,null,null,null,null,{"$error":"#N/A"}]
[null,null,{"$f":"VLOOKUP($B3821,'Ad Week Dates'!$A:$E,4,FALSE)","v":{"$error":"#N/A"}},{"$f":"VLOOKUP($B3821,'Ad Week Dates'!$A:$E,2,FALSE)","v":{"$error":"#N/A"}},{"$f":"VLOOKUP($B3821,'Ad Week Dates'!$A:$E,3,FALSE)","v":{"$error":"#N/A"}},null,null,null,null,null,null,{"$error":"#N/A"}]
[null,null,{"$f":"VLOOKUP($B3822,'Ad Week Dates'!$A:$E,4,FALSE)","v":{"$error":"#N/A"}},{"$f":"VLOOKUP($B3822,'Ad Week Dates'!$A:$E,2,FALSE)","v":{"$error":"#N/A"}},{"$f":"VLOOKUP($B3822,'Ad Week Dates'!$A:$E,3,FALSE)","v":{"$error":"#N/A"}},null,null,null,null,null,null,{"$error":"#N/A"}]
[null,null,{"$f":"VLOOKUP($B3823,'Ad Week Dates'!$A:$E,4,FALSE)","v":{"$error":"#N/A"}},{"$f":"VLOOKUP($B3823,'Ad Week Dates'!$A:$E,2,FALSE)","v":{"$error":"#N/A"}},{"$f":"VLOOKUP($B3823,'Ad Week Dates'!$A:$E,3,FALSE)","v":{"$error":"#N/A"}},null,null,null,null,null,null,{"$error":"#N/A"}]
[null,null,{"$f":"VLOOKUP($B3824,'Ad Week Dates'!$A:$E,4,FALSE)","v":{"$error":"#N/A"}},{"$f":"VLOOKUP($B3824,'Ad Week Dates'!$A:$E,2,FALSE)","v":{"$error":"#N/A"}},{"$f":"VLOOKUP($B3824,'Ad Week Dates'!$A:$E,3,FALSE)","v":{"$error":"#N/A"}},null,null,null,null,null,null,{"$error":"#N/A"}]
[null,null,{"$f":"VLOOKUP($B3825,'Ad Week Dates'!$A:$E,4,FALSE)","v":{"$error":"#N/A"}},{"$f":"VLOOKUP($B3825,'Ad Week Dates'!$A:$E,2,FALSE)","v":{"$error":"#N/A"}},{"$f":"VLOOKUP($B3825,'Ad Week Dates'!$A:$E,3,FALSE)","v":{"$error":"#N/A"}},null,null,null,null,null,null,{"$error":"#N/A"}]
[null,null,{"$f":"VLOOKUP($B3826,'Ad Week Dates'!$A:$E,4,FALSE)","v":{"$error":"#N/A"}},{"$f":"VLOOKUP($B3826,'Ad Week Dates'!$A:$E,2,FALSE)","v":{"$error":"#N/A"}},{"$f":"VLOOKUP($B3826,'Ad Week Dates'!$A:$E,3,FALSE)","v":{"$error":"#N/A"}},null,null,null,null,null,null,{"$error":"#N/A"}]
[null,null,{"$f":"VLOOKUP($B3827,'Ad Week Dates'!$A:$E,4,FALSE)","v":{"$error":"#N/A"}},{"$f":"VLOOKUP($B3827,'Ad Week Dates'!$A:$E,2,FALSE)","v":{"$error":"#N/A"}},{"$f":"VLOOKUP($B3827,'Ad Week Dates'!$A:$E,3,FALSE)","v":{"$error":"#N/A"}},null,null,null,null,null,null,{"$error":"#N/A"}]
[null,null,{"$f":"VLOOKUP($B3828,'Ad Week Dates'!$A:$E,4,FALSE)","v":{"$error":"#N/A"}},{"$f":"VLOOKUP($B3828,'Ad Week Dates'!$A:$E,2,FALSE)","v":{"$error":"#N/A"}},{"$f":"VLOOKUP($B3828,'Ad Week Dates'!$A:$E,3,FALSE)","v":{"$error":"#N/A"}},null,null,null,null,null,null,{"$error":"#N/A"}]
[null,null,{"$f":"VLOOKUP($B3829,'Ad Week Dates'!$A:$E,4,FALSE)","v":{"$error":"#N/A"}},{"$f":"VLOOKUP($B3829,'Ad Week Dates'!$A:$E,2,FALSE)","v":{"$error":"#N/A"}},{"$f":"VLOOKUP($B3829,'Ad Week Dates'!$A:$E,3,FALSE)","v":{"$error":"#N/A"}},null,null,null,null,null,null,{"$error":"#N/A"}]
[null,null,{"$f":"VLOOKUP($B3830,'Ad Week Dates'!$A:$E,4,FALSE)","v":{"$error":"#N/A"}},{"$f":"VLOOKUP($B3830,'Ad Week Dates'!$A:$E,2,FALSE)","v":{"$error":"#N/A"}},{"$f":"VLOOKUP($B3830,'Ad Week Dates'!$A:$E,3,FALSE)","v":{"$error":"#N/A"}},null,null,null,null,null,null,{"$error":"#N/A"}]
[null,null,{"$f":"VLOOKUP($B3831,'Ad Week Dates'!$A:$E,4,FALSE)","v":{"$error":"#N/A"}},{"$f":"VLOOKUP($B3831,'Ad Week Dates'!$A:$E,2,FALSE)","v":{"$error":"#N/A"}},{"$f":"VLOOKUP($B3831,'Ad Week Dates'!$A:$E,3,FALSE)","v":{"$error":"#N/A"}},null,null,null,null,null,null,{"$error":"#N/A"}]
[null,null,{"$f":"VLOOKUP($B3832,'Ad Week Dates'!$A:$E,4,FALSE)","v":{"$error":"#N/A"}},{"$f":"VLOOKUP($B3832,'Ad Week Dates'!$A:$E,2,FALSE)","v":{"$error":"#N/A"}},{"$f":"VLOOKUP($B3832,'Ad Week Dates'!$A:$E,3,FALSE)","v":{"$error":"#N/A"}},null,null,null,null,null,null,{"$error":"#N/A"}]
[null,null,{"$f":"VLOOKUP($B3833,'Ad Week Dates'!$A:$E,4,FALSE)","v":{"$error":"#N/A"}},{"$f":"VLOOKUP($B3833,'Ad Week Dates'!$A:$E,2,FALSE)","v":{"$error":"#N/A"}},{"$f":"VLOOKUP($B3833,'Ad Week Dates'!$A:$E,3,FALSE)","v":{"$error":"#N/A"}},null,null,null,null,null,null,{"$error":"#N/A"}]
[null,null,{"$f":"VLOOKUP($B3834,'Ad Week Dates'!$A:$E,4,FALSE)","v":{"$error":"#N/A"}},{"$f":"VLOOKUP($B3834,'Ad Week Dates'!$A:$E,2,FALSE)","v":{"$error":"#N/A"}},{"$f":"VLOOKUP($B3834,'Ad Week Dates'!$A:$E,3,FALSE)","v":{"$error":"#N/A"}},null,null,null,null,null,null,{"$error":"#N/A"}]
[null,null,{"$f":"VLOOKUP($B3835,'Ad Week Dates'!$A:$E,4,FALSE)","v":{"$error":"#N/A"}},{"$f":"VLOOKUP($B3835,'Ad Week Dates'!$A:$E,2,FALSE)","v":{"$error":"#N/A"}},{"$f":"VLOOKUP($B3835,'Ad Week Dates'!$A:$E,3,FALSE)","v":{"$error":"#N/A"}},null,null,null,null,null,null,{"$error":"#N/A"}]
[null,null,{"$f":"VLOOKUP($B3836,'Ad Week Dates'!$A:$E,4,FALSE)","v":{"$error":"#N/A"}},{"$f":"VLOOKUP($B3836,'Ad Week Dates'!$A:$E,2,FALSE)","v":{"$error":"#N/A"}},{"$f":"VLOOKUP($B3836,'Ad Week Dates'!$A:$E,3,FALSE)","v":{"$error":"#N/A"}},null,null,null,null,null,null,{"$error":"#N/A"}]
[null,null,{"$f":"VLOOKUP($B3837,'Ad Week Dates'!$A:$E,4,FALSE)","v":{"$error":"#N/A"}},{"$f":"VLOOKUP($B3837,'Ad Week Dates'!$A:$E,2,FALSE)","v":{"$error":"#N/A"}},{"$f":"VLOOKUP($B3837,'Ad Week Dates'!$A:$E,3,FALSE)","v":{"$error":"#N/A"}},null,null,null,null,null,null,{"$error":"#N/A"}]
[null,null,{"$f":"VLOOKUP($B3838,'Ad Week Dates'!$A:$E,4,FALSE)","v":{"$error":"#N/A"}},{"$f":"VLOOKUP($B3838,'Ad Week Dates'!$A:$E,2,FALSE)","v":{"$error":"#N/A"}},{"$f":"VLOOKUP($B3838,'Ad Week Dates'!$A:$E,3,FALSE)","v":{"$error":"#N/A"}},null,null,null,null,null,null,{"$error":"#N/A"}]
[null,null,{"$f":"VLOOKUP($B3839,'Ad Week Dates'!$A:$E,4,FALSE)","v":{"$error":"#N/A"}},{"$f":"VLOOKUP($B3839,'Ad Week Dates'!$A:$E,2,FALSE)","v":{"$error":"#N/A"}},{"$f":"VLOOKUP($B3839,'Ad Week Dates'!$A:$E,3,FALSE)","v":{"$error":"#N/A"}},null,null,null,null,null,null,{"$error":"#N/A"}]
[null,null,{"$f":"VLOOKUP($B3840,'Ad Week Dates'!$A:$E,4,FALSE)","v":{"$error":"#N/A"}},{"$f":"VLOOKUP($B3840,'Ad Week Dates'!$A:$E,2,FALSE)","v":{"$error":"#N/A"}},{"$f":"VLOOKUP($B3840,'Ad Week Dates'!$A:$E,3,FALSE)","v":{"$error":"#N/A"}},null,null,null,null,null,null,{"$error":"#N/A"}]
[null,null,{"$f":"VLOOKUP($B3841,'Ad Week Dates'!$A:$E,4,FALSE)","v":{"$error":"#N/A"}},{"$f":"VLOOKUP($B3841,'Ad Week Dates'!$A:$E,2,FALSE)","v":{"$error":"#N/A"}},{"$f":"VLOOKUP($B3841,'Ad Week Dates'!$A:$E,3,FALSE)","v":{"$error":"#N/A"}},null,null,null,null,null,null,{"$error":"#N/A"}]
[null,null,{"$f":"VLOOKUP($B3842,'Ad Week Dates'!$A:$E,4,FALSE)","v":{"$error":"#N/A"}},{"$f":"VLOOKUP($B3842,'Ad Week Dates'!$A:$E,2,FALSE)","v":{"$error":"#N/A"}},{"$f":"VLOOKUP($B3842,'Ad Week Dates'!$A:$E,3,FALSE)","v":{"$error":"#N/A"}},null,null,null,null,null,null,{"$error":"#N/A"}]
[null,null,{"$f":"VLOOKUP($B3843,'Ad Week Dates'!$A:$E,4,FALSE)","v":{"$error":"#N/A"}},{"$f":"VLOOKUP($B3843,'Ad Week Dates'!$A:$E,2,FALSE)","v":{"$error":"#N/A"}},{"$f":"VLOOKUP($B3843,'Ad Week Dates'!$A:$E,3,FALSE)","v":{"$error":"#N/A"}},null,null,null,null,null,null,{"$error":"#N/A"}]
[null,null,{"$f":"VLOOKUP($B3844,'Ad Week Dates'!$A:$E,4,FALSE)","v":{"$error":"#N/A"}},{"$f":"VLOOKUP($B3844,'Ad Week Dates'!$A:$E,2,FALSE)","v":{"$error":"#N/A"}},{"$f":"VLOOKUP($B3844,'Ad Week Dates'!$A:$E,3,FALSE)","v":{"$error":"#N/A"}},null,null,null,null,null,null,{"$error":"#N/A"}]
[null,null,{"$f":"VLOOKUP($B3845,'Ad Week Dates'!$A:$E,4,FALSE)","v":{"$error":"#N/A"}},{"$f":"VLOOKUP($B3845,'Ad Week Dates'!$A:$E,2,FALSE)","v":{"$error":"#N/A"}},{"$f":"VLOOKUP($B3845,'Ad Week Dates'!$A:$E,3,FALSE)","v":{"$error":"#N/A"}},null,null,null,null,null,null,{"$error":"#N/A"}]
[null,null,{"$f":"VLOOKUP($B3846,'Ad Week Dates'!$A:$E,4,FALSE)","v":{"$error":"#N/A"}},{"$f":"VLOOKUP($B3846,'Ad Week Dates'!$A:$E,2,FALSE)","v":{"$error":"#N/A"}},{"$f":"VLOOKUP($B3846,'Ad Week Dates'!$A:$E,3,FALSE)","v":{"$error":"#N/A"}},null,null,null,null,null,null,{"$f":"IF(ISNUMBER(J3846), J3846 - K3846, VALUE(_xlfn.TEXTBEFORE(J3846, \"-\")) - VALUE(_xlfn.TEXTBEFORE(K3846, \"-\")))","v":{"$error":"#N/A"}}]
[null,null,{"$f":"VLOOKUP($B3847,'Ad Week Dates'!$A:$E,4,FALSE)","v":{"$error":"#N/A"}},{"$f":"VLOOKUP($B3847,'Ad Week Dates'!$A:$E,2,FALSE)","v":{"$error":"#N/A"}},{"$f":"VLOOKUP($B3847,'Ad Week Dates'!$A:$E,3,FALSE)","v":{"$error":"#N/A"}},null,null,null,null,null,null,{"$error":"#N/A"}]
[null,null,{"$f":"VLOOKUP($B3848,'Ad Week Dates'!$A:$E,4,FALSE)","v":{"$error":"#N/A"}},{"$f":"VLOOKUP($B3848,'Ad Week Dates'!$A:$E,2,FALSE)","v":{"$error":"#N/A"}},{"$f":"VLOOKUP($B3848,'Ad Week Dates'!$A:$E,3,FALSE)","v":{"$error":"#N/A"}},null,null,null,null,null,null,{"$error":"#N/A"}]
[null,null,{"$f":"VLOOKUP($B3849,'Ad Week Dates'!$A:$E,4,FALSE)","v":{"$error":"#N/A"}},{"$f":"VLOOKUP($B3849,'Ad Week Dates'!$A:$E,2,FALSE)","v":{"$error":"#N/A"}},{"$f":"VLOOKUP($B3849,'Ad Week Dates'!$A:$E,3,FALSE)","v":{"$error":"#N/A"}},null,null,null,null,null,null,{"$error":"#N/A"}]
[null,null,{"$f":"VLOOKUP($B3850,'Ad Week Dates'!$A:$E,4,FALSE)","v":{"$error":"#N/A"}},{"$f":"VLOOKUP($B3850,'Ad Week Dates'!$A:$E,2,FALSE)","v":{"$error":"#N/A"}},{"$f":"VLOOKUP($B3850,'Ad Week Dates'!$A:$E,3,FALSE)","v":{"$error":"#N/A"}},null,null,null,null,null,null,{"$error":"#N/A"}]
[null,null,{"$f":"VLOOKUP($B3851,'Ad Week Dates'!$A:$E,4,FALSE)","v":{"$error":"#N/A"}},{"$f":"VLOOKUP($B3851,'Ad Week Dates'!$A:$E,2,FALSE)","v":{"$error":"#N/A"}},{"$f":"VLOOKUP($B3851,'Ad Week Dates'!$A:$E,3,FALSE)","v":{"$error":"#N/A"}},null,null,null,null,null,null,{"$error":"#N/A"}]
[null,null,{"$f":"VLOOKUP($B3852,'Ad Week Dates'!$A:$E,4,FALSE)","v":{"$error":"#N/A"}},{"$f":"VLOOKUP($B3852,'Ad Week Dates'!$A:$E,2,FALSE)","v":{"$error":"#N/A"}},{"$f":"VLOOKUP($B3852,'Ad Week Dates'!$A:$E,3,FALSE)","v":{"$error":"#N/A"}},null,null,null,null,null,null,{"$error":"#N/A"}]
[null,null,{"$f":"VLOOKUP($B3853,'Ad Week Dates'!$A:$E,4,FALSE)","v":{"$error":"#N/A"}},{"$f":"VLOOKUP($B3853,'Ad Week Dates'!$A:$E,2,FALSE)","v":{"$error":"#N/A"}},{"$f":"VLOOKUP($B3853,'Ad Week Dates'!$A:$E,3,FALSE)","v":{"$error":"#N/A"}},null,null,null,null,null,null,{"$error":"#N/A"}]
[null,null,{"$f":"VLOOKUP($B3854,'Ad Week Dates'!$A:$E,4,FALSE)","v":{"$error":"#N/A"}},{"$f":"VLOOKUP($B3854,'Ad Week Dates'!$A:$E,2,FALSE)","v":{"$error":"#N/A"}},{"$f":"VLOOKUP($B3854,'Ad Week Dates'!$A:$E,3,FALSE)","v":{"$error":"#N/A"}},null,null,null,null,null,null,{"$error":"#N/A"}]
[null,null,{"$f":"VLOOKUP($B3855,'Ad Week Dates'!$A:$E,4,FALSE)","v":{"$error":"#N/A"}},{"$f":"VLOOKUP($B3855,'Ad Week Dates'!$A:$E,2,FALSE)","v":{"$error":"#N/A"}},{"$f":"VLOOKUP($B3855,'Ad Week Dates'!$A:$E,3,FALSE)","v":{"$error":"#N/A"}},null,null,null,null,null,null,{"$error":"#N/A"}]
[null,null,{"$f":"VLOOKUP($B3856,'Ad Week Dates'!$A:$E,4,FALSE)","v":{"$error":"#N/A"}},{"$f":"VLOOKUP($B3856,'Ad Week Dates'!$A:$E,2,FALSE)","v":{"$error":"#N/A"}},{"$f":"VLOOKUP($B3856,'Ad Week Dates'!$A:$E,3,FALSE)","v":{"$error":"#N/A"}},null,null,null,null,null,null,{"$error":"#N/A"}]
[null,null,{"$f":"VLOOKUP($B3857,'Ad Week Dates'!$A:$E,4,FALSE)","v":{"$error":"#N/A"}},{"$f":"VLOOKUP($B3857,'Ad Week Dates'!$A:$E,2,FALSE)","v":{"$error":"#N/A"}},{"$f":"VLOOKUP($B3857,'Ad Week Dates'!$A:$E,3,FALSE)","v":{"$error":"#N/A"}},null,null,null,null,null,null,{"$error":"#N/A"}]
[null,null,{"$f":"VLOOKUP($B3858,'Ad Week Dates'!$A:$E,4,FALSE)","v":{"$error":"#N/A"}},{"$f":"VLOOKUP($B3858,'Ad Week Dates'!$A:$E,2,FALSE)","v":{"$error":"#N/A"}},{"$f":"VLOOKUP($B3858,'Ad Week Dates'!$A:$E,3,FALSE)","v":{"$error":"#N/A"}},null,null,null,null,null,null,{"$error":"#N/A"}]
[null,null,{"$f":"VLOOKUP($B3859,'Ad Week Dates'!$A:$E,4,FALSE)","v":{"$error":"#N/A"}},{"$f":"VLOOKUP($B3859,'Ad Week Dates'!$A:$E,2,FALSE)","v":{"$error":"#N/A"}},{"$f":"VLOOKUP($B3859,'Ad Week Dates'!$A:$E,3,FALSE)","v":{"$error":"#N/A"}},null,null,null,null,null,null,{"$error":"#N/A"}]
[null,null,{"$f":"VLOOKUP($B3860,'Ad Week Dates'!$A:$E,4,FALSE)","v":{"$error":"#N/A"}},{"$f":"VLOOKUP($B3860,'Ad Week Dates'!$A:$E,2,FALSE)","v":{"$error":"#N/A"}},{"$f":"VLOOKUP($B3860,'Ad Week Dates'!$A:$E,3,FALSE)","v":{"$error":"#N/A"}},null,null,null,null,null,null,{"$error":"#N/A"}]
[null,null,{"$f":"VLOOKUP($B3861,'Ad Week Dates'!$A:$E,4,FALSE)","v":{"$error":"#N/A"}},{"$f":"VLOOKUP($B3861,'Ad Week Dates'!$A:$E,2,FALSE)","v":{"$error":"#N/A"}},{"$f":"VLOOKUP($B3861,'Ad Week Dates'!$A:$E,3,FALSE)","v":{"$error":"#N/A"}},null,null,null,null,null,null,{"$error":"#N/A"}]
[null,null,{"$f":"VLOOKUP($B3862,'Ad Week Dates'!$A:$E,4,FALSE)","v":{"$error":"#N/A"}},{"$f":"VLOOKUP($B3862,'Ad Week Dates'!$A:$E,2,FALSE)","v":{"$error":"#N/A"}},{"$f":"VLOOKUP($B3862,'Ad Week Dates'!$A:$E,3,FALSE)","v":{"$error":"#N/A"}},null,null,null,null,null,null,{"$error":"#N/A"}]
[null,null,{"$f":"VLOOKUP($B3863,'Ad Week Dates'!$A:$E,4,FALSE)","v":{"$error":"#N/A"}},{"$f":"VLOOKUP($B3863,'Ad Week Dates'!$A:$E,2,FALSE)","v":{"$error":"#N/A"}},{"$f":"VLOOKUP($B3863,'Ad Week Dates'!$A:$E,3,FALSE)","v":{"$error":"#N/A"}},null,null,null,null,null,null,{"$error":"#N/A"}]
[null,null,{"$f":"VLOOKUP($B3864,'Ad Week Dates'!$A:$E,4,FALSE)","v":{"$error":"#N/A"}},{"$f":"VLOOKUP($B3864,'Ad Week Dates'!$A:$E,2,FALSE)","v":{"$error":"#N/A"}},{"$f":"VLOOKUP($B3864,'Ad Week Dates'!$A:$E,3,FALSE)","v":{"$error":"#N/A"}},null,null,null,null,null,null,{"$error":"#N/A"}]
[null,null,{"$f":"VLOOKUP($B3865,'Ad Week Dates'!$A:$E,4,FALSE)","v":{"$error":"#N/A"}},{"$f":"VLOOKUP($B3865,'Ad Week Dates'!$A:$E,2,FALSE)","v":{"$error":"#N/A"}},{"$f":"VLOOKUP($B3865,'Ad Week Dates'!$A:$E,3,FALSE)","v":{"$error":"#N/A"}},null,null,null,null,null,null,{"$error":"#N/A"}]
[null,null,{"$f":"VLOOKUP($B3866,'Ad Week Dates'!$A:$E,4,FALSE)","v":{"$error":"#N/A"}},{"$f":"VLOOKUP($B3866,'Ad Week Dates'!$A:$E,2,FALSE)","v":{"$error":"#N/A"}},{"$f":"VLOOKUP($B3866,'Ad Week Dates'!$A:$E,3,FALSE)","v":{"$error":"#N/A"}},null,null,null,null,null,null,{"$error":"#N/A"}]
[null,null,{"$f":"VLOOKUP($B3867,'Ad Week Dates'!$A:$E,4,FALSE)","v":{"$error":"#N/A"}},{"$f":"VLOOKUP($B3867,'Ad Week Dates'!$A:$E,2,FALSE)","v":{"$error":"#N/A"}},{"$f":"VLOOKUP($B3867,'Ad Week Dates'!$A:$E,3,FALSE)","v":{"$error":"#N/A"}},null,null,null,null,null,null,{"$error":"#N/A"}]
[null,null,{"$f":"VLOOKUP($B3868,'Ad Week Dates'!$A:$E,4,FALSE)","v":{"$error":"#N/A"}},{"$f":"VLOOKUP($B3868,'Ad Week Dates'!$A:$E,2,FALSE)","v":{"$error":"#N/A"}},{"$f":"VLOOKUP($B3868,'Ad Week Dates'!$A:$E,3,FALSE)","v":{"$error":"#N/A"}},null,null,null,null,null,null,{"$error":"#N/A"}]
[null,null,{"$f":"VLOOKUP($B3869,'Ad Week Dates'!$A:$E,4,FALSE)","v":{"$error":"#N/A"}},{"$f":"VLOOKUP($B3869,'Ad Week Dates'!$A:$E,2,FALSE)","v":{"$error":"#N/A"}},{"$f":"VLOOKUP($B3869,'Ad Week Dates'!$A:$E,3,FALSE)","v":{"$error":"#N/A"}},null,null,null,null,null,null,{"$error":"#N/A"}]
[null,null,{"$f":"VLOOKUP($B3870,'Ad Week Dates'!$A:$E,4,FALSE)","v":{"$error":"#N/A"}},{"$f":"VLOOKUP($B3870,'Ad Week Dates'!$A:$E,2,FALSE)","v":{"$error":"#N/A"}},{"$f":"VLOOKUP($B3870,'Ad Week Dates'!$A:$E,3,FALSE)","v":{"$error":"#N/A"}},null,null,null,null,null,null,{"$error":"#N/A"}]
[null,null,{"$f":"VLOOKUP($B3871,'Ad Week Dates'!$A:$E,4,FALSE)","v":{"$error":"#N/A"}},{"$f":"VLOOKUP($B3871,'Ad Week Dates'!$A:$E,2,FALSE)","v":{"$error":"#N/A"}},{"$f":"VLOOKUP($B3871,'Ad Week Dates'!$A:$E,3,FALSE)","v":{"$error":"#N/A"}},null,null,null,null,null,null,{"$error":"#N/A"}]
[null,null,{"$f":"VLOOKUP($B3872,'Ad Week Dates'!$A:$E,4,FALSE)","v":{"$error":"#N/A"}},{"$f":"VLOOKUP($B3872,'Ad Week Dates'!$A:$E,2,FALSE)","v":{"$error":"#N/A"}},{"$f":"VLOOKUP($B3872,'Ad Week Dates'!$A:$E,3,FALSE)","v":{"$error":"#N/A"}},null,null,null,null,null,null,{"$error":"#N/A"}]
[null,null,{"$f":"VLOOKUP($B3873,'Ad Week Dates'!$A:$E,4,FALSE)","v":{"$error":"#N/A"}},{"$f":"VLOOKUP($B3873,'Ad Week Dates'!$A:$E,2,FALSE)","v":{"$error":"#N/A"}},{"$f":"VLOOKUP($B3873,'Ad Week Dates'!$A:$E,3,FALSE)","v":{"$error":"#N/A"}},null,null,null,null,null,null,{"$error":"#N/A"}]
[null,null,{"$f":"VLOOKUP($B3874,'Ad Week Dates'!$A:$E,4,FALSE)","v":{"$error":"#N/A"}},{"$f":"VLOOKUP($B3874,'Ad Week Dates'!$A:$E,2,FALSE)","v":{"$error":"#N/A"}},{"$f":"VLOOKUP($B3874,'Ad Week Dates'!$A:$E,3,FALSE)","v":{"$error":"#N/A"}},null,null,null,null,null,null,{"$error":"#N/A"}]
[null,null,{"$f":"VLOOKUP($B3875,'Ad Week Dates'!$A:$E,4,FALSE)","v":{"$error":"#N/A"}},{"$f":"VLOOKUP($B3875,'Ad Week Dates'!$A:$E,2,FALSE)","v":{"$error":"#N/A"}},{"$f":"VLOOKUP($B3875,'Ad Week Dates'!$A:$E,3,FALSE)","v":{"$error":"#N/A"}},null,null,null,null,null,null,{"$error":"#N/A"}]
[null,null,{"$f":"VLOOKUP($B3876,'Ad Week Dates'!$A:$E,4,FALSE)","v":{"$error":"#N/A"}},{"$f":"VLOOKUP($B3876,'Ad Week Dates'!$A:$E,2,FALSE)","v":{"$error":"#N/A"}},{"$f":"VLOOKUP($B3876,'Ad Week Dates'!$A:$E,3,FALSE)","v":{"$error":"#N/A"}},null,null,null,null,null,null,{"$error":"#N/A"}]
[null,null,{"$f":"VLOOKUP($B3877,'Ad Week Dates'!$A:$E,4,FALSE)","v":{"$error":"#N/A"}},{"$f":"VLOOKUP($B3877,'Ad Week Dates'!$A:$E,2,FALSE)","v":{"$error":"#N/A"}},{"$f":"VLOOKUP($B3877,'Ad Week Dates'!$A:$E,3,FALSE)","v":{"$error":"#N/A"}},null,null,null,null,null,null,{"$error":"#N/A"}]
[null,null,{"$f":"VLOOKUP($B3878,'Ad Week Dates'!$A:$E,4,FALSE)","v":{"$error":"#N/A"}},{"$f":"VLOOKUP($B3878,'Ad Week Dates'!$A:$E,2,FALSE)","v":{"$error":"#N/A"}},{"$f":"VLOOKUP($B3878,'Ad Week Dates'!$A:$E,3,FALSE)","v":{"$error":"#N/A"}},null,null,null,null,null,null,{"$error":"#N/A"}]
[null,null,{"$f":"VLOOKUP($B3879,'Ad Week Dates'!$A:$E,4,FALSE)","v":{"$error":"#N/A"}},{"$f":"VLOOKUP($B3879,'Ad Week Dates'!$A:$E,2,FALSE)","v":{"$error":"#N/A"}},{"$f":"VLOOKUP($B3879,'Ad Week Dates'!$A:$E,3,FALSE)","v":{"$error":"#N/A"}},null,null,null,null,null,null,{"$error":"#N/A"}]
[null,null,{"$f":"VLOOKUP($B3880,'Ad Week Dates'!$A:$E,4,FALSE)","v":{"$error":"#N/A"}},{"$f":"VLOOKUP($B3880,'Ad Week Dates'!$A:$E,2,FALSE)","v":{"$error":"#N/A"}},{"$f":"VLOOKUP($B3880,'Ad Week Dates'!$A:$E,3,FALSE)","v":{"$error":"#N/A"}},null,null,null,null,null,null,{"$error":"#N/A"}]
[null,null,{"$f":"VLOOKUP($B3881,'Ad Week Dates'!$A:$E,4,FALSE)","v":{"$error":"#N/A"}},{"$f":"VLOOKUP($B3881,'Ad Week Dates'!$A:$E,2,FALSE)","v":{"$error":"#N/A"}},{"$f":"VLOOKUP($B3881,'Ad Week Dates'!$A:$E,3,FALSE)","v":{"$error":"#N/A"}},null,null,null,null,null,null,{"$error":"#N/A"}]
[null,null,{"$f":"VLOOKUP($B3882,'Ad Week Dates'!$A:$E,4,FALSE)","v":{"$error":"#N/A"}},{"$f":"VLOOKUP($B3882,'Ad Week Dates'!$A:$E,2,FALSE)","v":{"$error":"#N/A"}},{"$f":"VLOOKUP($B3882,'Ad Week Dates'!$A:$E,3,FALSE)","v":{"$error":"#N/A"}},null,null,null,null,null,null,{"$error":"#N/A"}]
[null,null,{"$f":"VLOOKUP($B3883,'Ad Week Dates'!$A:$E,4,FALSE)","v":{"$error":"#N/A"}},{"$f":"VLOOKUP($B3883,'Ad Week Dates'!$A:$E,2,FALSE)","v":{"$error":"#N/A"}},{"$f":"VLOOKUP($B3883,'Ad Week Dates'!$A:$E,3,FALSE)","v":{"$error":"#N/A"}},null,null,null,null,null,null,{"$error":"#N/A"}]
[null,null,{"$f":"VLOOKUP($B3884,'Ad Week Dates'!$A:$E,4,FALSE)","v":{"$error":"#N/A"}},{"$f":"VLOOKUP($B3884,'Ad Week Dates'!$A:$E,2,FALSE)","v":{"$error":"#N/A"}},{"$f":"VLOOKUP($B3884,'Ad Week Dates'!$A:$E,3,FALSE)","v":{"$error":"#N/A"}},null,null,null,null,null,null,{"$error":"#N/A"}]
[null,null,{"$f":"VLOOKUP($B3885,'Ad Week Dates'!$A:$E,4,FALSE)","v":{"$error":"#N/A"}},{"$f":"VLOOKUP($B3885,'Ad Week Dates'!$A:$E,2,FALSE)","v":{"$error":"#N/A"}},{"$f":"VLOOKUP($B3885,'Ad Week Dates'!$A:$E,3,FALSE)","v":{"$error":"#N/A"}},null,null,null,null,null,null,{"$error":"#N/A"}]
[null,null,{"$f":"VLOOKUP($B3886,'Ad Week Dates'!$A:$E,4,FALSE)","v":{"$error":"#N/A"}},{"$f":"VLOOKUP($B3886,'Ad Week Dates'!$A:$E,2,FALSE)","v":{"$error":"#N/A"}},{"$f":"VLOOKUP($B3886,'Ad Week Dates'!$A:$E,3,FALSE)","v":{"$error":"#N/A"}},null,null,null,null,null,null,{"$error":"#N/A"}]
[null,null,{"$f":"VLOOKUP($B3887,'Ad Week Dates'!$A:$E,4,FALSE)","v":{"$error":"#N/A"}},{"$f":"VLOOKUP($B3887,'Ad Week Dates'!$A:$E,2,FALSE)","v":{"$error":"#N/A"}},{"$f":"VLOOKUP($B3887,'Ad Week Dates'!$A:$E,3,FALSE)","v":{"$error":"#N/A"}},null,null,null,null,null,null,{"$error":"#N/A"}]
[null,null,{"$f":"VLOOKUP($B3888,'Ad Week Dates'!$A:$E,4,FALSE)","v":{"$error":"#N/A"}},{"$f":"VLOOKUP($B3888,'Ad Week Dates'!$A:$E,2,FALSE)","v":{"$error":"#N/A"}},{"$f":"VLOOKUP($B3888,'Ad Week Dates'!$A:$E,3,FALSE)","v":{"$error":"#N/A"}},null,null,null,null,null,null,{"$error":"#N/A"}]
[null,null,{"$f":"VLOOKUP($B3889,'Ad Week Dates'!$A:$E,4,FALSE)","v":{"$error":"#N/A"}},{"$f":"VLOOKUP($B3889,'Ad Week Dates'!$A:$E,2,FALSE)","v":{"$error":"#N/A"}},{"$f":"VLOOKUP($B3889,'Ad Week Dates'!$A:$E,3,FALSE)","v":{"$error":"#N/A"}},null,null,null,null,null,null,{"$error":"#N/A"}]
[null,null,{"$f":"VLOOKUP($B3890,'Ad Week Dates'!$A:$E,4,FALSE)","v":{"$error":"#N/A"}},{"$f":"VLOOKUP($B3890,'Ad Week Dates'!$A:$E,2,FALSE)","v":{"$error":"#N/A"}},{"$f":"VLOOKUP($B3890,'Ad Week Dates'!$A:$E,3,FALSE)","v":{"$error":"#N/A"}},null,null,null,null,null,null,{"$error":"#N/A"}]
[null,null,{"$f":"VLOOKUP($B3891,'Ad Week Dates'!$A:$E,4,FALSE)","v":{"$error":"#N/A"}},{"$f":"VLOOKUP($B3891,'Ad Week Dates'!$A:$E,2,FALSE)","v":{"$error":"#N/A"}},{"$f":"VLOOKUP($B3891,'Ad Week Dates'!$A:$E,3,FALSE)","v":{"$error":"#N/A"}},null,null,null,null,null,null,{"$error":"#N/A"}]
[null,null,{"$f":"VLOOKUP($B3892,'Ad Week Dates'!$A:$E,4,FALSE)","v":{"$error":"#N/A"}},{"$f":"VLOOKUP($B3892,'Ad Week Dates'!$A:$E,2,FALSE)","v":{"$error":"#N/A"}},{"$f":"VLOOKUP($B3892,'Ad Week Dates'!$A:$E,3,FALSE)","v":{"$error":"#N/A"}},null,null,null,null,null,null,{"$error":"#N/A"}]
[null,null,{"$f":"VLOOKUP($B3893,'Ad Week Dates'!$A:$E,4,FALSE)","v":{"$error":"#N/A"}},{"$f":"VLOOKUP($B3893,'Ad Week Dates'!$A:$E,2,FALSE)","v":{"$error":"#N/A"}},{"$f":"VLOOKUP($B3893,'Ad Week Dates'!$A:$E,3,FALSE)","v":{"$error":"#N/A"}},null,null,null,null,null,null,{"$error":"#N/A"}]
[null,null,{"$f":"VLOOKUP($B3894,'Ad Week Dates'!$A:$E,4,FALSE)","v":{"$error":"#N/A"}},{"$f":"VLOOKUP($B3894,'Ad Week Dates'!$A:$E,2,FALSE)","v":{"$error":"#N/A"}},{"$f":"VLOOKUP($B3894,'Ad Week Dates'!$A:$E,3,FALSE)","v":{"$error":"#N/A"}},null,null,null,null,null,null,{"$error":"#N/A"}]
[null,null,{"$f":"VLOOKUP($B3895,'Ad Week Dates'!$A:$E,4,FALSE)","v":{"$error":"#N/A"}},{"$f":"VLOOKUP($B3895,'Ad Week Dates'!$A:$E,2,FALSE)","v":{"$error":"#N/A"}},{"$f":"VLOOKUP($B3895,'Ad Week Dates'!$A:$E,3,FALSE)","v":{"$error":"#N/A"}},null,null,null,null,null,null,{"$error":"#N/A"}]
[null,null,{"$f":"VLOOKUP($B3896,'Ad Week Dates'!$A:$E,4,FALSE)","v":{"$error":"#N/A"}},{"$f":"VLOOKUP($B3896,'Ad Week Dates'!$A:$E,2,FALSE)","v":{"$error":"#N/A"}},{"$f":"VLOOKUP($B3896,'Ad Week Dates'!$A:$E,3,FALSE)","v":{"$error":"#N/A"}},null,null,null,null,null,null,{"$error":"#N/A"}]
[null,null,{"$f":"VLOOKUP($B3897,'Ad Week Dates'!$A:$E,4,FALSE)","v":{"$error":"#N/A"}},{"$f":"VLOOKUP($B3897,'Ad Week Dates'!$A:$E,2,FALSE)","v":{"$error":"#N/A"}},{"$f":"VLOOKUP($B3897,'Ad Week Dates'!$A:$E,3,FALSE)","v":{"$error":"#N/A"}},null,null,null,null,null,null,{"$error":"#N/A"}]
[null,null,{"$f":"VLOOKUP($B3898,'Ad Week Dates'!$A:$E,4,FALSE)","v":{"$error":"#N/A"}},{"$f":"VLOOKUP($B3898,'Ad Week Dates'!$A:$E,2,FALSE)","v":{"$error":"#N/A"}},{"$f":"VLOOKUP($B3898,'Ad Week Dates'!$A:$E,3,FALSE)","v":{"$error":"#N/A"}},null,null,null,null,null,null,{"$error":"#N/A"}]
[null,null,{"$f":"VLOOKUP($B3899,'Ad Week Dates'!$A:$E,4,FALSE)","v":{"$error":"#N/A"}},{"$f":"VLOOKUP($B3899,'Ad Week Dates'!$A:$E,2,FALSE)","v":{"$error":"#N/A"}},{"$f":"VLOOKUP($B3899,'Ad Week Dates'!$A:$E,3,FALSE)","v":{"$error":"#N/A"}},null,null,null,null,null,null,{"$error":"#N/A"}]
[null,null,{"$f":"VLOOKUP($B3900,'Ad Week Dates'!$A:$E,4,FALSE)","v":{"$error":"#N/A"}},{"$f":"VLOOKUP($B3900,'Ad Week Dates'!$A:$E,2,FALSE)","v":{"$error":"#N/A"}},{"$f":"VLOOKUP($B3900,'Ad Week Dates'!$A:$E,3,FALSE)","v":{"$error":"#N/A"}},null,null,null,null,null,null,{"$error":"#N/A"}]
[null,null,{"$f":"VLOOKUP($B3901,'Ad Week Dates'!$A:$E,4,FALSE)","v":{"$error":"#N/A"}},{"$f":"VLOOKUP($B3901,'Ad Week Dates'!$A:$E,2,FALSE)","v":{"$error":"#N/A"}},{"$f":"VLOOKUP($B3901,'Ad Week Dates'!$A:$E,3,FALSE)","v":{"$error":"#N/A"}},null,null,null,null,null,null,{"$error":"#N/A"}]
[null,null,{"$f":"VLOOKUP($B3902,'Ad Week Dates'!$A:$E,4,FALSE)","v":{"$error":"#N/A"}},{"$f":"VLOOKUP($B3902,'Ad Week Dates'!$A:$E,2,FALSE)","v":{"$error":"#N/A"}},{"$f":"VLOOKUP($B3902,'Ad Week Dates'!$A:$E,3,FALSE)","v":{"$error":"#N/A"}},null,null,null,null,null,null,{"$error":"#N/A"}]
[null,null,{"$f":"VLOOKUP($B3903,'Ad Week Dates'!$A:$E,4,FALSE)","v":{"$error":"#N/A"}},{"$f":"VLOOKUP($B3903,'Ad Week Dates'!$A:$E,2,FALSE)","v":{"$error":"#N/A"}},{"$f":"VLOOKUP($B3903,'Ad Week Dates'!$A:$E,3,FALSE)","v":{"$error":"#N/A"}},null,null,null,null,null,null,{"$error":"#N/A"}]
[null,null,{"$f":"VLOOKUP($B3904,'Ad Week Dates'!$A:$E,4,FALSE)","v":{"$error":"#N/A"}},{"$f":"VLOOKUP($B3904,'Ad Week Dates'!$A:$E,2,FALSE)","v":{"$error":"#N/A"}},{"$f":"VLOOKUP($B3904,'Ad Week Dates'!$A:$E,3,FALSE)","v":{"$error":"#N/A"}},null,null,null,null,null,null,{"$error":"#N/A"}]
[null,null,{"$f":"VLOOKUP($B3905,'Ad Week Dates'!$A:$E,4,FALSE)","v":{"$error":"#N/A"}},{"$f":"VLOOKUP($B3905,'Ad Week Dates'!$A:$E,2,FALSE)","v":{"$error":"#N/A"}},{"$f":"VLOOKUP($B3905,'Ad Week Dates'!$A:$E,3,FALSE)","v":{"$error":"#N/A"}},null,null,null,null,null,null,{"$error":"#N/A"}]
[null,null,{"$f":"VLOOKUP($B3906,'Ad Week Dates'!$A:$E,4,FALSE)","v":{"$error":"#N/A"}},{"$f":"VLOOKUP($B3906,'Ad Week Dates'!$A:$E,2,FALSE)","v":{"$error":"#N/A"}},{"$f":"VLOOKUP($B3906,'Ad Week Dates'!$A:$E,3,FALSE)","v":{"$error":"#N/A"}},null,null,null,null,null,null,{"$error":"#N/A"}]
[null,null,{"$f":"VLOOKUP($B3907,'Ad Week Dates'!$A:$E,4,FALSE)","v":{"$error":"#N/A"}},{"$f":"VLOOKUP($B3907,'Ad Week Dates'!$A:$E,2,FALSE)","v":{"$error":"#N/A"}},{"$f":"VLOOKUP($B3907,'Ad Week Dates'!$A:$E,3,FALSE)","v":{"$error":"#N/A"}},null,null,null,null,null,null,{"$error":"#N/A"}]
[null,null,{"$f":"VLOOKUP($B3908,'Ad Week Dates'!$A:$E,4,FALSE)","v":{"$error":"#N/A"}},{"$f":"VLOOKUP($B3908,'Ad Week Dates'!$A:$E,2,FALSE)","v":{"$error":"#N/A"}},{"$f":"VLOOKUP($B3908,'Ad Week Dates'!$A:$E,3,FALSE)","v":{"$error":"#N/A"}},null,null,null,null,null,null,{"$error":"#N/A"}]
[null,null,{"$f":"VLOOKUP($B3909,'Ad Week Dates'!$A:$E,4,FALSE)","v":{"$error":"#N/A"}},{"$f":"VLOOKUP($B3909,'Ad Week Dates'!$A:$E,2,FALSE)","v":{"$error":"#N/A"}},{"$f":"VLOOKUP($B3909,'Ad Week Dates'!$A:$E,3,FALSE)","v":{"$error":"#N/A"}},null,null,null,null,null,null,{"$error":"#N/A"}]
[null,null,{"$f":"VLOOKUP($B3910,'Ad Week Dates'!$A:$E,4,FALSE)","v":{"$error":"#N/A"}},{"$f":"VLOOKUP($B3910,'Ad Week Dates'!$A:$E,2,FALSE)","v":{"$error":"#N/A"}},{"$f":"VLOOKUP($B3910,'Ad Week Dates'!$A:$E,3,FALSE)","v":{"$error":"#N/A"}},null,null,null,null,null,null,{"$f":"IF(ISNUMBER(J3910), J3910 - K3910, VALUE(_xlfn.TEXTBEFORE(J3910, \"-\")) - VALUE(_xlfn.TEXTBEFORE(K3910, \"-\")))","v":{"$error":"#N/A"}}]
[null,null,{"$f":"VLOOKUP($B3911,'Ad Week Dates'!$A:$E,4,FALSE)","v":{"$error":"#N/A"}},{"$f":"VLOOKUP($B3911,'Ad Week Dates'!$A:$E,2,FALSE)","v":{"$error":"#N/A"}},{"$f":"VLOOKUP($B3911,'Ad Week Dates'!$A:$E,3,FALSE)","v":{"$error":"#N/A"}},null,null,null,null,null,null,{"$error":"#N/A"}]
[null,null,{"$f":"VLOOKUP($B3912,'Ad Week Dates'!$A:$E,4,FALSE)","v":{"$error":"#N/A"}},{"$f":"VLOOKUP($B3912,'Ad Week Dates'!$A:$E,2,FALSE)","v":{"$error":"#N/A"}},{"$f":"VLOOKUP($B3912,'Ad Week Dates'!$A:$E,3,FALSE)","v":{"$error":"#N/A"}},null,null,null,null,null,null,{"$error":"#N/A"}]
[null,null,{"$f":"VLOOKUP($B3913,'Ad Week Dates'!$A:$E,4,FALSE)","v":{"$error":"#N/A"}},{"$f":"VLOOKUP($B3913,'Ad Week Dates'!$A:$E,2,FALSE)","v":{"$error":"#N/A"}},{"$f":"VLOOKUP($B3913,'Ad Week Dates'!$A:$E,3,FALSE)","v":{"$error":"#N/A"}},null,null,null,null,null,null,{"$error":"#N/A"}]
[null,null,{"$f":"VLOOKUP($B3914,'Ad Week Dates'!$A:$E,4,FALSE)","v":{"$error":"#N/A"}},{"$f":"VLOOKUP($B3914,'Ad Week Dates'!$A:$E,2,FALSE)","v":{"$error":"#N/A"}},{"$f":"VLOOKUP($B3914,'Ad Week Dates'!$A:$E,3,FALSE)","v":{"$error":"#N/A"}},null,null,null,null,null,null,{"$error":"#N/A"}]
[null,null,{"$f":"VLOOKUP($B3915,'Ad Week Dates'!$A:$E,4,FALSE)","v":{"$error":"#N/A"}},{"$f":"VLOOKUP($B3915,'Ad Week Dates'!$A:$E,2,FALSE)","v":{"$error":"#N/A"}},{"$f":"VLOOKUP($B3915,'Ad Week Dates'!$A:$E,3,FALSE)","v":{"$error":"#N/A"}},null,null,null,null,null,null,{"$error":"#N/A"}]
[null,null,{"$f":"VLOOKUP($B3916,'Ad Week Dates'!$A:$E,4,FALSE)","v":{"$error":"#N/A"}},{"$f":"VLOOKUP($B3916,'Ad Week Dates'!$A:$E,2,FALSE)","v":{"$error":"#N/A"}},{"$f":"VLOOKUP($B3916,'Ad Week Dates'!$A:$E,3,FALSE)","v":{"$error":"#N/A"}},null,null,null,null,null,null,{"$error":"#N/A"}]
[null,null,{"$f":"VLOOKUP($B3917,'Ad Week Dates'!$A:$E,4,FALSE)","v":{"$error":"#N/A"}},{"$f":"VLOOKUP($B3917,'Ad Week Dates'!$A:$E,2,FALSE)","v":{"$error":"#N/A"}},{"$f":"VLOOKUP($B3917,'Ad Week Dates'!$A:$E,3,FALSE)","v":{"$error":"#N/A"}},null,null,null,null,null,null,{"$error":"#N/A"}]
[null,null,{"$f":"VLOOKUP($B3918,'Ad Week Dates'!$A:$E,4,FALSE)","v":{"$error":"#N/A"}},{"$f":"VLOOKUP($B3918,'Ad Week Dates'!$A:$E,2,FALSE)","v":{"$error":"#N/A"}},{"$f":"VLOOKUP($B3918,'Ad Week Dates'!$A:$E,3,FALSE)","v":{"$error":"#N/A"}},null,null,null,null,null,null,{"$error":"#N/A"}]
[null,null,{"$f":"VLOOKUP($B3919,'Ad Week Dates'!$A:$E,4,FALSE)","v":{"$error":"#N/A"}},{"$f":"VLOOKUP($B3919,'Ad Week Dates'!$A:$E,2,FALSE)","v":{"$error":"#N/A"}},{"$f":"VLOOKUP($B3919,'Ad Week Dates'!$A:$E,3,FALSE)","v":{"$error":"#N/A"}},null,null,null,null,null,null,{"$error":"#N/A"}]
[null,null,{"$f":"VLOOKUP($B3920,'Ad Week Dates'!$A:$E,4,FALSE)","v":{"$error":"#N/A"}},{"$f":"VLOOKUP($B3920,'Ad Week Dates'!$A:$E,2,FALSE)","v":{"$error":"#N/A"}},{"$f":"VLOOKUP($B3920,'Ad Week Dates'!$A:$E,3,FALSE)","v":{"$error":"#N/A"}},null,null,null,null,null,null,{"$error":"#N/A"}]
[null,null,{"$f":"VLOOKUP($B3921,'Ad Week Dates'!$A:$E,4,FALSE)","v":{"$error":"#N/A"}},{"$f":"VLOOKUP($B3921,'Ad Week Dates'!$A:$E,2,FALSE)","v":{"$error":"#N/A"}},{"$f":"VLOOKUP($B3921,'Ad Week Dates'!$A:$E,3,FALSE)","v":{"$error":"#N/A"}},null,null,null,null,null,null,{"$error":"#N/A"}]
[null,null,{"$f":"VLOOKUP($B3922,'Ad Week Dates'!$A:$E,4,FALSE)","v":{"$error":"#N/A"}},{"$f":"VLOOKUP($B3922,'Ad Week Dates'!$A:$E,2,FALSE)","v":{"$error":"#N/A"}},{"$f":"VLOOKUP($B3922,'Ad Week Dates'!$A:$E,3,FALSE)","v":{"$error":"#N/A"}},null,null,null,null,null,null,{"$error":"#N/A"}]
[null,null,{"$f":"VLOOKUP($B3923,'Ad Week Dates'!$A:$E,4,FALSE)","v":{"$error":"#N/A"}},{"$f":"VLOOKUP($B3923,'Ad Week Dates'!$A:$E,2,FALSE)","v":{"$error":"#N/A"}},{"$f":"VLOOKUP($B3923,'Ad Week Dates'!$A:$E,3,FALSE)","v":{"$error":"#N/A"}},null,null,null,null,null,null,{"$error":"#N/A"}]
[null,null,{"$f":"VLOOKUP($B3924,'Ad Week Dates'!$A:$E,4,FALSE)","v":{"$error":"#N/A"}},{"$f":"VLOOKUP($B3924,'Ad Week Dates'!$A:$E,2,FALSE)","v":{"$error":"#N/A"}},{"$f":"VLOOKUP($B3924,'Ad Week Dates'!$A:$E,3,FALSE)","v":{"$error":"#N/A"}},null,null,null,null,null,null,{"$error":"#N/A"}]
[null,null,{"$f":"VLOOKUP($B3925,'Ad Week Dates'!$A:$E,4,FALSE)","v":{"$error":"#N/A"}},{"$f":"VLOOKUP($B3925,'Ad Week Dates'!$A:$E,2,FALSE)","v":{"$error":"#N/A"}},{"$f":"VLOOKUP($B3925,'Ad Week Dates'!$A:$E,3,FALSE)","v":{"$error":"#N/A"}},null,null,null,null,null,null,{"$error":"#N/A"}]
[null,null,{"$f":"VLOOKUP($B3926,'Ad Week Dates'!$A:$E,4,FALSE)","v":{"$error":"#N/A"}},{"$f":"VLOOKUP($B3926,'Ad Week Dates'!$A:$E,2,FALSE)","v":{"$error":"#N/A"}},{"$f":"VLOOKUP($B3926,'Ad Week Dates'!$A:$E,3,FALSE)","v":{"$error":"#N/A"}},null,null,null,null,null,null,{"$error":"#N/A"}]
[null,null,{"$f":"VLOOKUP($B3927,'Ad Week Dates'!$A:$E,4,FALSE)","v":{"$error":"#N/A"}},{"$f":"VLOOKUP($B3927,'Ad Week Dates'!$A:$E,2,FALSE)","v":{"$error":"#N/A"}},{"$f":"VLOOKUP($B3927,'Ad Week Dates'!$A:$E,3,FALSE)","v":{"$error":"#N/A"}},null,null,null,null,null,null,{"$error":"#N/A"}]
[null,null,{"$f":"VLOOKUP($B3928,'Ad Week Dates'!$A:$E,4,FALSE)","v":{"$error":"#N/A"}},{"$f":"VLOOKUP($B3928,'Ad Week Dates'!$A:$E,2,FALSE)","v":{"$error":"#N/A"}},{"$f":"VLOOKUP($B3928,'Ad Week Dates'!$A:$E,3,FALSE)","v":{"$error":"#N/A"}},null,null,null,null,null,null,{"$error":"#N/A"}]
[null,null,{"$f":"VLOOKUP($B3929,'Ad Week Dates'!$A:$E,4,FALSE)","v":{"$error":"#N/A"}},{"$f":"VLOOKUP($B3929,'Ad Week Dates'!$A:$E,2,FALSE)","v":{"$error":"#N/A"}},{"$f":"VLOOKUP($B3929,'Ad Week Dates'!$A:$E,3,FALSE)","v":{"$error":"#N/A"}},null,null,null,null,null,null,{"$error":"#N/A"}]
[null,null,{"$f":"VLOOKUP($B3930,'Ad Week Dates'!$A:$E,4,FALSE)","v":{"$error":"#N/A"}},{"$f":"VLOOKUP($B3930,'Ad Week Dates'!$A:$E,2,FALSE)","v":{"$error":"#N/A"}},{"$f":"VLOOKUP($B3930,'Ad Week Dates'!$A:$E,3,FALSE)","v":{"$error":"#N/A"}},null,null,null,null,null,null,{"$error":"#N/A"}]
[null,null,{"$f":"VLOOKUP($B3931,'Ad Week Dates'!$A:$E,4,FALSE)","v":{"$error":"#N/A"}},{"$f":"VLOOKUP($B3931,'Ad Week Dates'!$A:$E,2,FALSE)","v":{"$error":"#N/A"}},{"$f":"VLOOKUP($B3931,'Ad Week Dates'!$A:$E,3,FALSE)","v":{"$error":"#N/A"}},null,null,null,null,null,null,{"$error":"#N/A"}]
[null,null,{"$f":"VLOOKUP($B3932,'Ad Week Dates'!$A:$E,4,FALSE)","v":{"$error":"#N/A"}},{"$f":"VLOOKUP($B3932,'Ad Week Dates'!$A:$E,2,FALSE)","v":{"$error":"#N/A"}},{"$f":"VLOOKUP($B3932,'Ad Week Dates'!$A:$E,3,FALSE)","v":{"$error":"#N/A"}},null,null,null,null,null,null,{"$error":"#N/A"}]
[null,null,{"$f":"VLOOKUP($B3933,'Ad Week Dates'!$A:$E,4,FALSE)","v":{"$error":"#N/A"}},{"$f":"VLOOKUP($B3933,'Ad Week Dates'!$A:$E,2,FALSE)","v":{"$error":"#N/A"}},{"$f":"VLOOKUP($B3933,'Ad Week Dates'!$A:$E,3,FALSE)","v":{"$error":"#N/A"}},null,null,null,null,null,null,{"$error":"#N/A"}]
[null,null,{"$f":"VLOOKUP($B3934,'Ad Week Dates'!$A:$E,4,FALSE)","v":{"$error":"#N/A"}},{"$f":"VLOOKUP($B3934,'Ad Week Dates'!$A:$E,2,FALSE)","v":{"$error":"#N/A"}},{"$f":"VLOOKUP($B3934,'Ad Week Dates'!$A:$E,3,FALSE)","v":{"$error":"#N/A"}},null,null,null,null,null,null,{"$error":"#N/A"}]
[null,null,{"$f":"VLOOKUP($B3935,'Ad Week Dates'!$A:$E,4,FALSE)","v":{"$error":"#N/A"}},{"$f":"VLOOKUP($B3935,'Ad Week Dates'!$A:$E,2,FALSE)","v":{"$error":"#N/A"}},{"$f":"VLOOKUP($B3935,'Ad Week Dates'!$A:$E,3,FALSE)","v":{"$error":"#N/A"}},null,null,null,null,null,null,{"$error":"#N/A"}]
[null,null,{"$f":"VLOOKUP($B3936,'Ad Week Dates'!$A:$E,4,FALSE)","v":{"$error":"#N/A"}},{"$f":"VLOOKUP($B3936,'Ad Week Dates'!$A:$E,2,FALSE)","v":{"$error":"#N/A"}},{"$f":"VLOOKUP($B3936,'Ad Week Dates'!$A:$E,3,FALSE)","v":{"$error":"#N/A"}},null,null,null,null,null,null,{"$error":"#N/A"}]
[null,null,{"$f":"VLOOKUP($B3937,'Ad Week Dates'!$A:$E,4,FALSE)","v":{"$error":"#N/A"}},{"$f":"VLOOKUP($B3937,'Ad Week Dates'!$A:$E,2,FALSE)","v":{"$error":"#N/A"}},{"$f":"VLOOKUP($B3937,'Ad Week Dates'!$A:$E,3,FALSE)","v":{"$error":"#N/A"}},null,null,null,null,null,null,{"$error":"#N/A"}]
[null,null,{"$f":"VLOOKUP($B3938,'Ad Week Dates'!$A:$E,4,FALSE)","v":{"$error":"#N/A"}},{"$f":"VLOOKUP($B3938,'Ad Week Dates'!$A:$E,2,FALSE)","v":{"$error":"#N/A"}},{"$f":"VLOOKUP($B3938,'Ad Week Dates'!$A:$E,3,FALSE)","v":{"$error":"#N/A"}},null,null,null,null,null,null,{"$error":"#N/A"}]
[null,null,{"$f":"VLOOKUP($B3939,'Ad Week Dates'!$A:$E,4,FALSE)","v":{"$error":"#N/A"}},{"$f":"VLOOKUP($B3939,'Ad Week Dates'!$A:$E,2,FALSE)","v":{"$error":"#N/A"}},{"$f":"VLOOKUP($B3939,'Ad Week Dates'!$A:$E,3,FALSE)","v":{"$error":"#N/A"}},null,null,null,null,null,null,{"$error":"#N/A"}]
[null,null,{"$f":"VLOOKUP($B3940,'Ad Week Dates'!$A:$E,4,FALSE)","v":{"$error":"#N/A"}},{"$f":"VLOOKUP($B3940,'Ad Week Dates'!$A:$E,2,FALSE)","v":{"$error":"#N/A"}},{"$f":"VLOOKUP($B3940,'Ad Week Dates'!$A:$E,3,FALSE)","v":{"$error":"#N/A"}},null,null,null,null,null,null,{"$error":"#N/A"}]
[null,null,{"$f":"VLOOKUP($B3941,'Ad Week Dates'!$A:$E,4,FALSE)","v":{"$error":"#N/A"}},{"$f":"VLOOKUP($B3941,'Ad Week Dates'!$A:$E,2,FALSE)","v":{"$error":"#N/A"}},{"$f":"VLOOKUP($B3941,'Ad Week Dates'!$A:$E,3,FALSE)","v":{"$error":"#N/A"}},null,null,null,null,null,null,{"$error":"#N/A"}]
[null,null,{"$f":"VLOOKUP($B3942,'Ad Week Dates'!$A:$E,4,FALSE)","v":{"$error":"#N/A"}},{"$f":"VLOOKUP($B3942,'Ad Week Dates'!$A:$E,2,FALSE)","v":{"$error":"#N/A"}},{"$f":"VLOOKUP($B3942,'Ad Week Dates'!$A:$E,3,FALSE)","v":{"$error":"#N/A"}},null,null,null,null,null,null,{"$error":"#N/A"}]
[null,null,{"$f":"VLOOKUP($B3943,'Ad Week Dates'!$A:$E,4,FALSE)","v":{"$error":"#N/A"}},{"$f":"VLOOKUP($B3943,'Ad Week Dates'!$A:$E,2,FALSE)","v":{"$error":"#N/A"}},{"$f":"VLOOKUP($B3943,'Ad Week Dates'!$A:$E,3,FALSE)","v":{"$error":"#N/A"}},null,null,null,null,null,null,{"$error":"#N/A"}]
[null,null,{"$f":"VLOOKUP($B3944,'Ad Week Dates'!$A:$E,4,FALSE)","v":{"$error":"#N/A"}},{"$f":"VLOOKUP($B3944,'Ad Week Dates'!$A:$E,2,FALSE)","v":{"$error":"#N/A"}},{"$f":"VLOOKUP($B3944,'Ad Week Dates'!$A:$E,3,FALSE)","v":{"$error":"#N/A"}},null,null,null,null,null,null,{"$error":"#N/A"}]
[null,null,{"$f":"VLOOKUP($B3945,'Ad Week Dates'!$A:$E,4,FALSE)","v":{"$error":"#N/A"}},{"$f":"VLOOKUP($B3945,'Ad Week Dates'!$A:$E,2,FALSE)","v":{"$error":"#N/A"}},{"$f":"VLOOKUP($B3945,'Ad Week Dates'!$A:$E,3,FALSE)","v":{"$error":"#N/A"}},null,null,null,null,null,null,{"$error":"#N/A"}]
[null,null,{"$f":"VLOOKUP($B3946,'Ad Week Dates'!$A:$E,4,FALSE)","v":{"$error":"#N/A"}},{"$f":"VLOOKUP($B3946,'Ad Week Dates'!$A:$E,2,FALSE)","v":{"$error":"#N/A"}},{"$f":"VLOOKUP($B3946,'Ad Week Dates'!$A:$E,3,FALSE)","v":{"$error":"#N/A"}},null,null,null,null,null,null,{"$error":"#N/A"}]
[null,null,{"$f":"VLOOKUP($B3947,'Ad Week Dates'!$A:$E,4,FALSE)","v":{"$error":"#N/A"}},{"$f":"VLOOKUP($B3947,'Ad Week Dates'!$A:$E,2,FALSE)","v":{"$error":"#N/A"}},{"$f":"VLOOKUP($B3947,'Ad Week Dates'!$A:$E,3,FALSE)","v":{"$error":"#N/A"}},null,null,null,null,null,null,{"$error":"#N/A"}]
[null,null,{"$f":"VLOOKUP($B3948,'Ad Week Dates'!$A:$E,4,FALSE)","v":{"$error":"#N/A"}},{"$f":"VLOOKUP($B3948,'Ad Week Dates'!$A:$E,2,FALSE)","v":{"$error":"#N/A"}},{"$f":"VLOOKUP($B3948,'Ad Week Dates'!$A:$E,3,FALSE)","v":{"$error":"#N/A"}},null,null,null,null,null,null,{"$error":"#N/A"}]
[null,null,{"$f":"VLOOKUP($B3949,'Ad Week Dates'!$A:$E,4,FALSE)","v":{"$error":"#N/A"}},{"$f":"VLOOKUP($B3949,'Ad Week Dates'!$A:$E,2,FALSE)","v":{"$error":"#N/A"}},{"$f":"VLOOKUP($B3949,'Ad Week Dates'!$A:$E,3,FALSE)","v":{"$error":"#N/A"}},null,null,null,null,null,null,{"$error":"#N/A"}]
[null,null,{"$f":"VLOOKUP($B3950,'Ad Week Dates'!$A:$E,4,FALSE)","v":{"$error":"#N/A"}},{"$f":"VLOOKUP($B3950,'Ad Week Dates'!$A:$E,2,FALSE)","v":{"$error":"#N/A"}},{"$f":"VLOOKUP($B3950,'Ad Week Dates'!$A:$E,3,FALSE)","v":{"$error":"#N/A"}},null,null,null,null,null,null,{"$error":"#N/A"}]
[null,null,{"$f":"VLOOKUP($B3951,'Ad Week Dates'!$A:$E,4,FALSE)","v":{"$error":"#N/A"}},{"$f":"VLOOKUP($B3951,'Ad Week Dates'!$A:$E,2,FALSE)","v":{"$error":"#N/A"}},{"$f":"VLOOKUP($B3951,'Ad Week Dates'!$A:$E,3,FALSE)","v":{"$error":"#N/A"}},null,null,null,null,null,null,{"$error":"#N/A"}]
[null,null,{"$f":"VLOOKUP($B3952,'Ad Week Dates'!$A:$E,4,FALSE)","v":{"$error":"#N/A"}},{"$f":"VLOOKUP($B3952,'Ad Week Dates'!$A:$E,2,FALSE)","v":{"$error":"#N/A"}},{"$f":"VLOOKUP($B3952,'Ad Week Dates'!$A:$E,3,FALSE)","v":{"$error":"#N/A"}},null,null,null,null,null,null,{"$error":"#N/A"}]
[null,null,{"$f":"VLOOKUP($B3953,'Ad Week Dates'!$A:$E,4,FALSE)","v":{"$error":"#N/A"}},{"$f":"VLOOKUP($B3953,'Ad Week Dates'!$A:$E,2,FALSE)","v":{"$error":"#N/A"}},{"$f":"VLOOKUP($B3953,'Ad Week Dates'!$A:$E,3,FALSE)","v":{"$error":"#N/A"}},null,null,null,null,null,null,{"$error":"#N/A"}]
[null,null,{"$f":"VLOOKUP($B3954,'Ad Week Dates'!$A:$E,4,FALSE)","v":{"$error":"#N/A"}},{"$f":"VLOOKUP($B3954,'Ad Week Dates'!$A:$E,2,FALSE)","v":{"$error":"#N/A"}},{"$f":"VLOOKUP($B3954,'Ad Week Dates'!$A:$E,3,FALSE)","v":{"$error":"#N/A"}},null,null,null,null,null,null,{"$error":"#N/A"}]
[null,null,{"$f":"VLOOKUP($B3955,'Ad Week Dates'!$A:$E,4,FALSE)","v":{"$error":"#N/A"}},{"$f":"VLOOKUP($B3955,'Ad Week Dates'!$A:$E,2,FALSE)","v":{"$error":"#N/A"}},{"$f":"VLOOKUP($B3955,'Ad Week Dates'!$A:$E,3,FALSE)","v":{"$error":"#N/A"}},null,null,null,null,null,null,{"$error":"#N/A"}]
[null,null,{"$f":"VLOOKUP($B3956,'Ad Week Dates'!$A:$E,4,FALSE)","v":{"$error":"#N/A"}},{"$f":"VLOOKUP($B3956,'Ad Week Dates'!$A:$E,2,FALSE)","v":{"$error":"#N/A"}},{"$f":"VLOOKUP($B3956,'Ad Week Dates'!$A:$E,3,FALSE)","v":{"$error":"#N/A"}},null,null,null,null,null,null,{"$error":"#N/A"}]
[null,null,{"$f":"VLOOKUP($B3957,'Ad Week Dates'!$A:$E,4,FALSE)","v":{"$error":"#N/A"}},{"$f":"VLOOKUP($B3957,'Ad Week Dates'!$A:$E,2,FALSE)","v":{"$error":"#N/A"}},{"$f":"VLOOKUP($B3957,'Ad Week Dates'!$A:$E,3,FALSE)","v":{"$error":"#N/A"}},null,null,null,null,null,null,{"$error":"#N/A"}]
[null,null,{"$f":"VLOOKUP($B3958,'Ad Week Dates'!$A:$E,4,FALSE)","v":{"$error":"#N/A"}},{"$f":"VLOOKUP($B3958,'Ad Week Dates'!$A:$E,2,FALSE)","v":{"$error":"#N/A"}},{"$f":"VLOOKUP($B3958,'Ad Week Dates'!$A:$E,3,FALSE)","v":{"$error":"#N/A"}},null,null,null,null,null,null,{"$error":"#N/A"}]
[null,null,{"$f":"VLOOKUP($B3959,'Ad Week Dates'!$A:$E,4,FALSE)","v":{"$error":"#N/A"}},{"$f":"VLOOKUP($B3959,'Ad Week Dates'!$A:$E,2,FALSE)","v":{"$error":"#N/A"}},{"$f":"VLOOKUP($B3959,'Ad Week Dates'!$A:$E,3,FALSE)","v":{"$error":"#N/A"}},null,null,null,null,null,null,{"$error":"#N/A"}]
[null,null,{"$f":"VLOOKUP($B3960,'Ad Week Dates'!$A:$E,4,FALSE)","v":{"$error":"#N/A"}},{"$f":"VLOOKUP($B3960,'Ad Week Dates'!$A:$E,2,FALSE)","v":{"$error":"#N/A"}},{"$f":"VLOOKUP($B3960,'Ad Week Dates'!$A:$E,3,FALSE)","v":{"$error":"#N/A"}},null,null,null,null,null,null,{"$error":"#N/A"}]
[null,null,{"$f":"VLOOKUP($B3961,'Ad Week Dates'!$A:$E,4,FALSE)","v":{"$error":"#N/A"}},{"$f":"VLOOKUP($B3961,'Ad Week Dates'!$A:$E,2,FALSE)","v":{"$error":"#N/A"}},{"$f":"VLOOKUP($B3961,'Ad Week Dates'!$A:$E,3,FALSE)","v":{"$error":"#N/A"}},null,null,null,null,null,null,{"$error":"#N/A"}]
[null,null,{"$f":"VLOOKUP($B3962,'Ad Week Dates'!$A:$E,4,FALSE)","v":{"$error":"#N/A"}},{"$f":"VLOOKUP($B3962,'Ad Week Dates'!$A:$E,2,FALSE)","v":{"$error":"#N/A"}},{"$f":"VLOOKUP($B3962,'Ad Week Dates'!$A:$E,3,FALSE)","v":{"$error":"#N/A"}},null,null,null,null,null,null,{"$error":"#N/A"}]
[null,null,{"$f":"VLOOKUP($B3963,'Ad Week Dates'!$A:$E,4,FALSE)","v":{"$error":"#N/A"}},{"$f":"VLOOKUP($B3963,'Ad Week Dates'!$A:$E,2,FALSE)","v":{"$error":"#N/A"}},{"$f":"VLOOKUP($B3963,'Ad Week Dates'!$A:$E,3,FALSE)","v":{"$error":"#N/A"}},null,null,null,null,null,null,{"$error":"#N/A"}]
[null,null,{"$f":"VLOOKUP($B3964,'Ad Week Dates'!$A:$E,4,FALSE)","v":{"$error":"#N/A"}},{"$f":"VLOOKUP($B3964,'Ad Week Dates'!$A:$E,2,FALSE)","v":{"$error":"#N/A"}},{"$f":"VLOOKUP($B3964,'Ad Week Dates'!$A:$E,3,FALSE)","v":{"$error":"#N/A"}},null,null,null,null,null,null,{"$error":"#N/A"}]
[null,null,{"$f":"VLOOKUP($B3965,'Ad Week Dates'!$A:$E,4,FALSE)","v":{"$error":"#N/A"}},{"$f":"VLOOKUP($B3965,'Ad Week Dates'!$A:$E,2,FALSE)","v":{"$error":"#N/A"}},{"$f":"VLOOKUP($B3965,'Ad Week Dates'!$A:$E,3,FALSE)","v":{"$error":"#N/A"}},null,null,null,null,null,null,{"$error":"#N/A"}]
[null,null,{"$f":"VLOOKUP($B3966,'Ad Week Dates'!$A:$E,4,FALSE)","v":{"$error":"#N/A"}},{"$f":"VLOOKUP($B3966,'Ad Week Dates'!$A:$E,2,FALSE)","v":{"$error":"#N/A"}},{"$f":"VLOOKUP($B3966,'Ad Week Dates'!$A:$E,3,FALSE)","v":{"$error":"#N/A"}},null,null,null,null,null,null,{"$error":"#N/A"}]
[null,null,{"$f":"VLOOKUP($B3967,'Ad Week Dates'!$A:$E,4,FALSE)","v":{"$error":"#N/A"}},{"$f":"VLOOKUP($B3967,'Ad Week Dates'!$A:$E,2,FALSE)","v":{"$error":"#N/A"}},{"$f":"VLOOKUP($B3967,'Ad Week Dates'!$A:$E,3,FALSE)","v":{"$error":"#N/A"}},null,null,null,null,null,null,{"$error":"#N/A"}]
[null,null,{"$f":"VLOOKUP($B3968,'Ad Week Dates'!$A:$E,4,FALSE)","v":{"$error":"#N/A"}},{"$f":"VLOOKUP($B3968,'Ad Week Dates'!$A:$E,2,FALSE)","v":{"$error":"#N/A"}},{"$f":"VLOOKUP($B3968,'Ad Week Dates'!$A:$E,3,FALSE)","v":{"$error":"#N/A"}},null,null,null,null,null,null,{"$error":"#N/A"}]
[null,null,{"$f":"VLOOKUP($B3969,'Ad Week Dates'!$A:$E,4,FALSE)","v":{"$error":"#N/A"}},{"$f":"VLOOKUP($B3969,'Ad Week Dates'!$A:$E,2,FALSE)","v":{"$error":"#N/A"}},{"$f":"VLOOKUP($B3969,'Ad Week Dates'!$A:$E,3,FALSE)","v":{"$error":"#N/A"}},null,null,null,null,null,null,{"$error":"#N/A"}]
[null,null,{"$f":"VLOOKUP($B3970,'Ad Week Dates'!$A:$E,4,FALSE)","v":{"$error":"#N/A"}},{"$f":"VLOOKUP($B3970,'Ad Week Dates'!$A:$E,2,FALSE)","v":{"$error":"#N/A"}},{"$f":"VLOOKUP($B3970,'Ad Week Dates'!$A:$E,3,FALSE)","v":{"$error":"#N/A"}},null,null,null,null,null,null,{"$error":"#N/A"}]
[null,null,{"$f":"VLOOKUP($B3971,'Ad Week Dates'!$A:$E,4,FALSE)","v":{"$error":"#N/A"}},{"$f":"VLOOKUP($B3971,'Ad Week Dates'!$A:$E,2,FALSE)","v":{"$error":"#N/A"}},{"$f":"VLOOKUP($B3971,'Ad Week Dates'!$A:$E,3,FALSE)","v":{"$error":"#N/A"}},null,null,null,null,null,null,{"$error":"#N/A"}]
[null,null,{"$f":"VLOOKUP($B3972,'Ad Week Dates'!$A:$E,4,FALSE)","v":{"$error":"#N/A"}},{"$f":"VLOOKUP($B3972,'Ad Week Dates'!$A:$E,2,FALSE)","v":{"$error":"#N/A"}},{"$f":"VLOOKUP($B3972,'Ad Week Dates'!$A:$E,3,FALSE)","v":{"$error":"#N/A"}},null,null,null,null,null,null,{"$error":"#N/A"}]
[null,null,{"$f":"VLOOKUP($B3973,'Ad Week Dates'!$A:$E,4,FALSE)","v":{"$error":"#N/A"}},{"$f":"VLOOKUP($B3973,'Ad Week Dates'!$A:$E,2,FALSE)","v":{"$error":"#N/A"}},{"$f":"VLOOKUP($B3973,'Ad Week Dates'!$A:$E,3,FALSE)","v":{"$error":"#N/A"}},null,null,null,null,null,null,{"$error":"#N/A"}]
[null,null,{"$f":"VLOOKUP($B3974,'Ad Week Dates'!$A:$E,4,FALSE)","v":{"$error":"#N/A"}},{"$f":"VLOOKUP($B3974,'Ad Week Dates'!$A:$E,2,FALSE)","v":{"$error":"#N/A"}},{"$f":"VLOOKUP($B3974,'Ad Week Dates'!$A:$E,3,FALSE)","v":{"$error":"#N/A"}},null,null,null,null,null,null,{"$f":"IF(ISNUMBER(J3974), J3974 - K3974, VALUE(_xlfn.TEXTBEFORE(J3974, \"-\")) - VALUE(_xlfn.TEXTBEFORE(K3974, \"-\")))","v":{"$error":"#N/A"}}]
[null,null,{"$f":"VLOOKUP($B3975,'Ad Week Dates'!$A:$E,4,FALSE)","v":{"$error":"#N/A"}},{"$f":"VLOOKUP($B3975,'Ad Week Dates'!$A:$E,2,FALSE)","v":{"$error":"#N/A"}},{"$f":"VLOOKUP($B3975,'Ad Week Dates'!$A:$E,3,FALSE)","v":{"$error":"#N/A"}},null,null,null,null,null,null,{"$error":"#N/A"}]
[null,null,{"$f":"VLOOKUP($B3976,'Ad Week Dates'!$A:$E,4,FALSE)","v":{"$error":"#N/A"}},{"$f":"VLOOKUP($B3976,'Ad Week Dates'!$A:$E,2,FALSE)","v":{"$error":"#N/A"}},{"$f":"VLOOKUP($B3976,'Ad Week Dates'!$A:$E,3,FALSE)","v":{"$error":"#N/A"}},null,null,null,null,null,null,{"$error":"#N/A"}]
[null,null,{"$f":"VLOOKUP($B3977,'Ad Week Dates'!$A:$E,4,FALSE)","v":{"$error":"#N/A"}},{"$f":"VLOOKUP($B3977,'Ad Week Dates'!$A:$E,2,FALSE)","v":{"$error":"#N/A"}},{"$f":"VLOOKUP($B3977,'Ad Week Dates'!$A:$E,3,FALSE)","v":{"$error":"#N/A"}},null,null,null,null,null,null,{"$error":"#N/A"}]
[null,null,{"$f":"VLOOKUP($B3978,'Ad Week Dates'!$A:$E,4,FALSE)","v":{"$error":"#N/A"}},{"$f":"VLOOKUP($B3978,'Ad Week Dates'!$A:$E,2,FALSE)","v":{"$error":"#N/A"}},{"$f":"VLOOKUP($B3978,'Ad Week Dates'!$A:$E,3,FALSE)","v":{"$error":"#N/A"}},null,null,null,null,null,null,{"$error":"#N/A"}]
[null,null,{"$f":"VLOOKUP($B3979,'Ad Week Dates'!$A:$E,4,FALSE)","v":{"$error":"#N/A"}},{"$f":"VLOOKUP($B3979,'Ad Week Dates'!$A:$E,2,FALSE)","v":{"$error":"#N/A"}},{"$f":"VLOOKUP($B3979,'Ad Week Dates'!$A:$E,3,FALSE)","v":{"$error":"#N/A"}},null,null,null,null,null,null,{"$error":"#N/A"}]
[null,null,{"$f":"VLOOKUP($B3980,'Ad Week Dates'!$A:$E,4,FALSE)","v":{"$error":"#N/A"}},{"$f":"VLOOKUP($B3980,'Ad Week Dates'!$A:$E,2,FALSE)","v":{"$error":"#N/A"}},{"$f":"VLOOKUP($B3980,'Ad Week Dates'!$A:$E,3,FALSE)","v":{"$error":"#N/A"}},null,null,null,null,null,null,{"$error":"#N/A"}]
[null,null,{"$f":"VLOOKUP($B3981,'Ad Week Dates'!$A:$E,4,FALSE)","v":{"$error":"#N/A"}},{"$f":"VLOOKUP($B3981,'Ad Week Dates'!$A:$E,2,FALSE)","v":{"$error":"#N/A"}},{"$f":"VLOOKUP($B3981,'Ad Week Dates'!$A:$E,3,FALSE)","v":{"$error":"#N/A"}},null,null,null,null,null,null,{"$error":"#N/A"}]
[null,null,{"$f":"VLOOKUP($B3982,'Ad Week Dates'!$A:$E,4,FALSE)","v":{"$error":"#N/A"}},{"$f":"VLOOKUP($B3982,'Ad Week Dates'!$A:$E,2,FALSE)","v":{"$error":"#N/A"}},{"$f":"VLOOKUP($B3982,'Ad Week Dates'!$A:$E,3,FALSE)","v":{"$error":"#N/A"}},null,null,null,null,null,null,{"$error":"#N/A"}]
[null,null,{"$f":"VLOOKUP($B3983,'Ad Week Dates'!$A:$E,4,FALSE)","v":{"$error":"#N/A"}},{"$f":"VLOOKUP($B3983,'Ad Week Dates'!$A:$E,2,FALSE)","v":{"$error":"#N/A"}},{"$f":"VLOOKUP($B3983,'Ad Week Dates'!$A:$E,3,FALSE)","v":{"$error":"#N/A"}},null,null,null,null,null,null,{"$error":"#N/A"}]
[null,null,{"$f":"VLOOKUP($B3984,'Ad Week Dates'!$A:$E,4,FALSE)","v":{"$error":"#N/A"}},{"$f":"VLOOKUP($B3984,'Ad Week Dates'!$A:$E,2,FALSE)","v":{"$error":"#N/A"}},{"$f":"VLOOKUP($B3984,'Ad Week Dates'!$A:$E,3,FALSE)","v":{"$error":"#N/A"}},null,null,null,null,null,null,{"$error":"#N/A"}]
[null,null,{"$f":"VLOOKUP($B3985,'Ad Week Dates'!$A:$E,4,FALSE)","v":{"$error":"#N/A"}},{"$f":"VLOOKUP($B3985,'Ad Week Dates'!$A:$E,2,FALSE)","v":{"$error":"#N/A"}},{"$f":"VLOOKUP($B3985,'Ad Week Dates'!$A:$E,3,FALSE)","v":{"$error":"#N/A"}},null,null,null,null,null,null,{"$error":"#N/A"}]
[null,null,{"$f":"VLOOKUP($B3986,'Ad Week Dates'!$A:$E,4,FALSE)","v":{"$error":"#N/A"}},{"$f":"VLOOKUP($B3986,'Ad Week Dates'!$A:$E,2,FALSE)","v":{"$error":"#N/A"}},{"$f":"VLOOKUP($B3986,'Ad Week Dates'!$A:$E,3,FALSE)","v":{"$error":"#N/A"}},null,null,null,null,null,null,{"$error":"#N/A"}]
[null,null,{"$f":"VLOOKUP($B3987,'Ad Week Dates'!$A:$E,4,FALSE)","v":{"$error":"#N/A"}},{"$f":"VLOOKUP($B3987,'Ad Week Dates'!$A:$E,2,FALSE)","v":{"$error":"#N/A"}},{"$f":"VLOOKUP($B3987,'Ad Week Dates'!$A:$E,3,FALSE)","v":{"$error":"#N/A"}},null,null,null,null,null,null,{"$error":"#N/A"}]
[null,null,{"$f":"VLOOKUP($B3988,'Ad Week Dates'!$A:$E,4,FALSE)","v":{"$error":"#N/A"}},{"$f":"VLOOKUP($B3988,'Ad Week Dates'!$A:$E,2,FALSE)","v":{"$error":"#N/A"}},{"$f":"VLOOKUP($B3988,'Ad Week Dates'!$A:$E,3,FALSE)","v":{"$error":"#N/A"}},null,null,null,null,null,null,{"$error":"#N/A"}]
[null,null,{"$f":"VLOOKUP($B3989,'Ad Week Dates'!$A:$E,4,FALSE)","v":{"$error":"#N/A"}},{"$f":"VLOOKUP($B3989,'Ad Week Dates'!$A:$E,2,FALSE)","v":{"$error":"#N/A"}},{"$f":"VLOOKUP($B3989,'Ad Week Dates'!$A:$E,3,FALSE)","v":{"$error":"#N/A"}},null,null,null,null,null,null,{"$error":"#N/A"}]
[null,null,{"$f":"VLOOKUP($B3990,'Ad Week Dates'!$A:$E,4,FALSE)","v":{"$error":"#N/A"}},{"$f":"VLOOKUP($B3990,'Ad Week Dates'!$A:$E,2,FALSE)","v":{"$error":"#N/A"}},{"$f":"VLOOKUP($B3990,'Ad Week Dates'!$A:$E,3,FALSE)","v":{"$error":"#N/A"}},null,null,null,null,null,null,{"$error":"#N/A"}]
[null,null,{"$f":"VLOOKUP($B3991,'Ad Week Dates'!$A:$E,4,FALSE)","v":{"$error":"#N/A"}},{"$f":"VLOOKUP($B3991,'Ad Week Dates'!$A:$E,2,FALSE)","v":{"$error":"#N/A"}},{"$f":"VLOOKUP($B3991,'Ad Week Dates'!$A:$E,3,FALSE)","v":{"$error":"#N/A"}},null,null,null,null,null,null,{"$error":"#N/A"}]
[null,null,{"$f":"VLOOKUP($B3992,'Ad Week Dates'!$A:$E,4,FALSE)","v":{"$error":"#N/A"}},{"$f":"VLOOKUP($B3992,'Ad Week Dates'!$A:$E,2,FALSE)","v":{"$error":"#N/A"}},{"$f":"VLOOKUP($B3992,'Ad Week Dates'!$A:$E,3,FALSE)","v":{"$error":"#N/A"}},null,null,null,null,null,null,{"$error":"#N/A"}]
[null,null,{"$f":"VLOOKUP($B3993,'Ad Week Dates'!$A:$E,4,FALSE)","v":{"$error":"#N/A"}},{"$f":"VLOOKUP($B3993,'Ad Week Dates'!$A:$E,2,FALSE)","v":{"$error":"#N/A"}},{"$f":"VLOOKUP($B3993,'Ad Week Dates'!$A:$E,3,FALSE)","v":{"$error":"#N/A"}},null,null,null,null,null,null,{"$error":"#N/A"}]
[null,null,{"$f":"VLOOKUP($B3994,'Ad Week Dates'!$A:$E,4,FALSE)","v":{"$error":"#N/A"}},{"$f":"VLOOKUP($B3994,'Ad Week Dates'!$A:$E,2,FALSE)","v":{"$error":"#N/A"}},{"$f":"VLOOKUP($B3994,'Ad Week Dates'!$A:$E,3,FALSE)","v":{"$error":"#N/A"}},null,null,null,null,null,null,{"$error":"#N/A"}]
[null,null,{"$f":"VLOOKUP($B3995,'Ad Week Dates'!$A:$E,4,FALSE)","v":{"$error":"#N/A"}},{"$f":"VLOOKUP($B3995,'Ad Week Dates'!$A:$E,2,FALSE)","v":{"$error":"#N/A"}},{"$f":"VLOOKUP($B3995,'Ad Week Dates'!$A:$E,3,FALSE)","v":{"$error":"#N/A"}},null,null,null,null,null,null,{"$error":"#N/A"}]
[null,null,{"$f":"VLOOKUP($B3996,'Ad Week Dates'!$A:$E,4,FALSE)","v":{"$error":"#N/A"}},{"$f":"VLOOKUP($B3996,'Ad Week Dates'!$A:$E,2,FALSE)","v":{"$error":"#N/A"}},{"$f":"VLOOKUP($B3996,'Ad Week Dates'!$A:$E,3,FALSE)","v":{"$error":"#N/A"}},null,null,null,null,null,null,{"$error":"#N/A"}]
[null,null,{"$f":"VLOOKUP($B3997,'Ad Week Dates'!$A:$E,4,FALSE)","v":{"$error":"#N/A"}},{"$f":"VLOOKUP($B3997,'Ad Week Dates'!$A:$E,2,FALSE)","v":{"$error":"#N/A"}},{"$f":"VLOOKUP($B3997,'Ad Week Dates'!$A:$E,3,FALSE)","v":{"$error":"#N/A"}},null,null,null,null,null,null,{"$error":"#N/A"}]
[null,null,{"$f":"VLOOKUP($B3998,'Ad Week Dates'!$A:$E,4,FALSE)","v":{"$error":"#N/A"}},{"$f":"VLOOKUP($B3998,'Ad Week Dates'!$A:$E,2,FALSE)","v":{"$error":"#N/A"}},{"$f":"VLOOKUP($B3998,'Ad Week Dates'!$A:$E,3,FALSE)","v":{"$error":"#N/A"}},null,null,null,null,null,null,{"$error":"#N/A"}]
[null,null,{"$f":"VLOOKUP($B3999,'Ad Week Dates'!$A:$E,4,FALSE)","v":{"$error":"#N/A"}},{"$f":"VLOOKUP($B3999,'Ad Week Dates'!$A:$E,2,FALSE)","v":{"$error":"#N/A"}},{"$f":"VLOOKUP($B3999,'Ad Week Dates'!$A:$E,3,FALSE)","v":{"$error":"#N/A"}},null,null,null,null,null,null,{"$error":"#N/A"}]
[null,null,{"$f":"VLOOKUP($B4000,'Ad Week Dates'!$A:$E,4,FALSE)","v":{"$error":"#N/A"}},{"$f":"VLOOKUP($B4000,'Ad Week Dates'!$A:$E,2,FALSE)","v":{"$error":"#N/A"}},{"$f":"VLOOKUP($B4000,'Ad Week Dates'!$A:$E,3,FALSE)","v":{"$error":"#N/A"}},null,null,null,null,null,null,{"$error":"#N/A"}]
[null,null,{"$f":"VLOOKUP($B4001,'Ad Week Dates'!$A:$E,4,FALSE)","v":{"$error":"#N/A"}},{"$f":"VLOOKUP($B4001,'Ad Week Dates'!$A:$E,2,FALSE)","v":{"$error":"#N/A"}},{"$f":"VLOOKUP($B4001,'Ad Week Dates'!$A:$E,3,FALSE)","v":{"$error":"#N/A"}},null,null,null,null,null,null,{"$error":"#N/A"}]
[null,null,{"$f":"VLOOKUP($B4002,'Ad Week Dates'!$A:$E,4,FALSE)","v":{"$error":"#N/A"}},{"$f":"VLOOKUP($B4002,'Ad Week Dates'!$A:$E,2,FALSE)","v":{"$error":"#N/A"}},{"$f":"VLOOKUP($B4002,'Ad Week Dates'!$A:$E,3,FALSE)","v":{"$error":"#N/A"}},null,null,null,null,null,null,{"$error":"#N/A"}]
[null,null,{"$f":"VLOOKUP($B4003,'Ad Week Dates'!$A:$E,4,FALSE)","v":{"$error":"#N/A"}},{"$f":"VLOOKUP($B4003,'Ad Week Dates'!$A:$E,2,FALSE)","v":{"$error":"#N/A"}},{"$f":"VLOOKUP($B4003,'Ad Week Dates'!$A:$E,3,FALSE)","v":{"$error":"#N/A"}},null,null,null,null,null,null,{"$error":"#N/A"}]
[null,null,{"$f":"VLOOKUP($B4004,'Ad Week Dates'!$A:$E,4,FALSE)","v":{"$error":"#N/A"}},{"$f":"VLOOKUP($B4004,'Ad Week Dates'!$A:$E,2,FALSE)","v":{"$error":"#N/A"}},{"$f":"VLOOKUP($B4004,'Ad Week Dates'!$A:$E,3,FALSE)","v":{"$error":"#N/A"}},null,null,null,null,null,null,{"$error":"#N/A"}]
[null,null,{"$f":"VLOOKUP($B4005,'Ad Week Dates'!$A:$E,4,FALSE)","v":{"$error":"#N/A"}},{"$f":"VLOOKUP($B4005,'Ad Week Dates'!$A:$E,2,FALSE)","v":{"$error":"#N/A"}},{"$f":"VLOOKUP($B4005,'Ad Week Dates'!$A:$E,3,FALSE)","v":{"$error":"#N/A"}},null,null,null,null,null,null,{"$error":"#N/A"}]
[null,null,{"$f":"VLOOKUP($B4006,'Ad Week Dates'!$A:$E,4,FALSE)","v":{"$error":"#N/A"}},{"$f":"VLOOKUP($B4006,'Ad Week Dates'!$A:$E,2,FALSE)","v":{"$error":"#N/A"}},{"$f":"VLOOKUP($B4006,'Ad Week Dates'!$A:$E,3,FALSE)","v":{"$error":"#N/A"}},null,null,null,null,null,null,{"$error":"#N/A"}]
[null,null,{"$f":"VLOOKUP($B4007,'Ad Week Dates'!$A:$E,4,FALSE)","v":{"$error":"#N/A"}},{"$f":"VLOOKUP($B4007,'Ad Week Dates'!$A:$E,2,FALSE)","v":{"$error":"#N/A"}},{"$f":"VLOOKUP($B4007,'Ad Week Dates'!$A:$E,3,FALSE)","v":{"$error":"#N/A"}},null,null,null,null,null,null,{"$error":"#N/A"}]
[null,null,{"$f":"VLOOKUP($B4008,'Ad Week Dates'!$A:$E,4,FALSE)","v":{"$error":"#N/A"}},{"$f":"VLOOKUP($B4008,'Ad Week Dates'!$A:$E,2,FALSE)","v":{"$error":"#N/A"}},{"$f":"VLOOKUP($B4008,'Ad Week Dates'!$A:$E,3,FALSE)","v":{"$error":"#N/A"}},null,null,null,null,null,null,{"$error":"#N/A"}]
[null,null,{"$f":"VLOOKUP($B4009,'Ad Week Dates'!$A:$E,4,FALSE)","v":{"$error":"#N/A"}},{"$f":"VLOOKUP($B4009,'Ad Week Dates'!$A:$E,2,FALSE)","v":{"$error":"#N/A"}},{"$f":"VLOOKUP($B4009,'Ad Week Dates'!$A:$E,3,FALSE)","v":{"$error":"#N/A"}},null,null,null,null,null,null,{"$error":"#N/A"}]
[null,null,{"$f":"VLOOKUP($B4010,'Ad Week Dates'!$A:$E,4,FALSE)","v":{"$error":"#N/A"}},{"$f":"VLOOKUP($B4010,'Ad Week Dates'!$A:$E,2,FALSE)","v":{"$error":"#N/A"}},{"$f":"VLOOKUP($B4010,'Ad Week Dates'!$A:$E,3,FALSE)","v":{"$error":"#N/A"}},null,null,null,null,null,null,{"$error":"#N/A"}]
[null,null,{"$f":"VLOOKUP($B4011,'Ad Week Dates'!$A:$E,4,FALSE)","v":{"$error":"#N/A"}},{"$f":"VLOOKUP($B4011,'Ad Week Dates'!$A:$E,2,FALSE)","v":{"$error":"#N/A"}},{"$f":"VLOOKUP($B4011,'Ad Week Dates'!$A:$E,3,FALSE)","v":{"$error":"#N/A"}},null,null,null,null,null,null,{"$error":"#N/A"}]
[null,null,{"$f":"VLOOKUP($B4012,'Ad Week Dates'!$A:$E,4,FALSE)","v":{"$error":"#N/A"}},{"$f":"VLOOKUP($B4012,'Ad Week Dates'!$A:$E,2,FALSE)","v":{"$error":"#N/A"}},{"$f":"VLOOKUP($B4012,'Ad Week Dates'!$A:$E,3,FALSE)","v":{"$error":"#N/A"}},null,null,null,null,null,null,{"$error":"#N/A"}]
[null,null,{"$f":"VLOOKUP($B4013,'Ad Week Dates'!$A:$E,4,FALSE)","v":{"$error":"#N/A"}},{"$f":"VLOOKUP($B4013,'Ad Week Dates'!$A:$E,2,FALSE)","v":{"$error":"#N/A"}},{"$f":"VLOOKUP($B4013,'Ad Week Dates'!$A:$E,3,FALSE)","v":{"$error":"#N/A"}},null,null,null,null,null,null,{"$error":"#N/A"}]
[null,null,{"$f":"VLOOKUP($B4014,'Ad Week Dates'!$A:$E,4,FALSE)","v":{"$error":"#N/A"}},{"$f":"VLOOKUP($B4014,'Ad Week Dates'!$A:$E,2,FALSE)","v":{"$error":"#N/A"}},{"$f":"VLOOKUP($B4014,'Ad Week Dates'!$A:$E,3,FALSE)","v":{"$error":"#N/A"}},null,null,null,null,null,null,{"$error":"#N/A"}]
[null,null,{"$f":"VLOOKUP($B4015,'Ad Week Dates'!$A:$E,4,FALSE)","v":{"$error":"#N/A"}},{"$f":"VLOOKUP($B4015,'Ad Week Dates'!$A:$E,2,FALSE)","v":{"$error":"#N/A"}},{"$f":"VLOOKUP($B4015,'Ad Week Dates'!$A:$E,3,FALSE)","v":{"$error":"#N/A"}},null,null,null,null,null,null,{"$error":"#N/A"}]
[null,null,{"$f":"VLOOKUP($B4016,'Ad Week Dates'!$A:$E,4,FALSE)","v":{"$error":"#N/A"}},{"$f":"VLOOKUP($B4016,'Ad Week Dates'!$A:$E,2,FALSE)","v":{"$error":"#N/A"}},{"$f":"VLOOKUP($B4016,'Ad Week Dates'!$A:$E,3,FALSE)","v":{"$error":"#N/A"}},null,null,null,null,null,null,{"$error":"#N/A"}]
[null,null,{"$f":"VLOOKUP($B4017,'Ad Week Dates'!$A:$E,4,FALSE)","v":{"$error":"#N/A"}},{"$f":"VLOOKUP($B4017,'Ad Week Dates'!$A:$E,2,FALSE)","v":{"$error":"#N/A"}},{"$f":"VLOOKUP($B4017,'Ad Week Dates'!$A:$E,3,FALSE)","v":{"$error":"#N/A"}},null,null,null,null,null,null,{"$error":"#N/A"}]
[null,null,{"$f":"VLOOKUP($B4018,'Ad Week Dates'!$A:$E,4,FALSE)","v":{"$error":"#N/A"}},{"$f":"VLOOKUP($B4018,'Ad Week Dates'!$A:$E,2,FALSE)","v":{"$error":"#N/A"}},{"$f":"VLOOKUP($B4018,'Ad Week Dates'!$A:$E,3,FALSE)","v":{"$error":"#N/A"}},null,null,null,null,null,null,{"$error":"#N/A"}]
[null,null,{"$f":"VLOOKUP($B4019,'Ad Week Dates'!$A:$E,4,FALSE)","v":{"$error":"#N/A"}},{"$f":"VLOOKUP($B4019,'Ad Week Dates'!$A:$E,2,FALSE)","v":{"$error":"#N/A"}},{"$f":"VLOOKUP($B4019,'Ad Week Dates'!$A:$E,3,FALSE)","v":{"$error":"#N/A"}},null,null,null,null,null,null,{"$error":"#N/A"}]
[null,null,{"$f":"VLOOKUP($B4020,'Ad Week Dates'!$A:$E,4,FALSE)","v":{"$error":"#N/A"}},{"$f":"VLOOKUP($B4020,'Ad Week Dates'!$A:$E,2,FALSE)","v":{"$error":"#N/A"}},{"$f":"VLOOKUP($B4020,'Ad Week Dates'!$A:$E,3,FALSE)","v":{"$error":"#N/A"}},null,null,null,null,null,null,{"$error":"#N/A"}]
[null,null,{"$f":"VLOOKUP($B4021,'Ad Week Dates'!$A:$E,4,FALSE)","v":{"$error":"#N/A"}},{"$f":"VLOOKUP($B4021,'Ad Week Dates'!$A:$E,2,FALSE)","v":{"$error":"#N/A"}},{"$f":"VLOOKUP($B4021,'Ad Week Dates'!$A:$E,3,FALSE)","v":{"$error":"#N/A"}},null,null,null,null,null,null,{"$error":"#N/A"}]
[null,null,{"$f":"VLOOKUP($B4022,'Ad Week Dates'!$A:$E,4,FALSE)","v":{"$error":"#N/A"}},{"$f":"VLOOKUP($B4022,'Ad Week Dates'!$A:$E,2,FALSE)","v":{"$error":"#N/A"}},{"$f":"VLOOKUP($B4022,'Ad Week Dates'!$A:$E,3,FALSE)","v":{"$error":"#N/A"}},null,null,null,null,null,null,{"$error":"#N/A"}]
[null,null,{"$f":"VLOOKUP($B4023,'Ad Week Dates'!$A:$E,4,FALSE)","v":{"$error":"#N/A"}},{"$f":"VLOOKUP($B4023,'Ad Week Dates'!$A:$E,2,FALSE)","v":{"$error":"#N/A"}},{"$f":"VLOOKUP($B4023,'Ad Week Dates'!$A:$E,3,FALSE)","v":{"$error":"#N/A"}},null,null,null,null,null,null,{"$error":"#N/A"}]
[null,null,{"$f":"VLOOKUP($B4024,'Ad Week Dates'!$A:$E,4,FALSE)","v":{"$error":"#N/A"}},{"$f":"VLOOKUP($B4024,'Ad Week Dates'!$A:$E,2,FALSE)","v":{"$error":"#N/A"}},{"$f":"VLOOKUP($B4024,'Ad Week Dates'!$A:$E,3,FALSE)","v":{"$error":"#N/A"}},null,null,null,null,null,null,{"$error":"#N/A"}]
[null,null,{"$f":"VLOOKUP($B4025,'Ad Week Dates'!$A:$E,4,FALSE)","v":{"$error":"#N/A"}},{"$f":"VLOOKUP($B4025,'Ad Week Dates'!$A:$E,2,FALSE)","v":{"$error":"#N/A"}},{"$f":"VLOOKUP($B4025,'Ad Week Dates'!$A:$E,3,FALSE)","v":{"$error":"#N/A"}},null,null,null,null,null,null,{"$error":"#N/A"}]
[null,null,{"$f":"VLOOKUP($B4026,'Ad Week Dates'!$A:$E,4,FALSE)","v":{"$error":"#N/A"}},{"$f":"VLOOKUP($B4026,'Ad Week Dates'!$A:$E,2,FALSE)","v":{"$error":"#N/A"}},{"$f":"VLOOKUP($B4026,'Ad Week Dates'!$A:$E,3,FALSE)","v":{"$error":"#N/A"}},null,null,null,null,null,null,{"$error":"#N/A"}]
[null,null,{"$f":"VLOOKUP($B4027,'Ad Week Dates'!$A:$E,4,FALSE)","v":{"$error":"#N/A"}},{"$f":"VLOOKUP($B4027,'Ad Week Dates'!$A:$E,2,FALSE)","v":{"$error":"#N/A"}},{"$f":"VLOOKUP($B4027,'Ad Week Dates'!$A:$E,3,FALSE)","v":{"$error":"#N/A"}},null,null,null,null,null,null,{"$error":"#N/A"}]
[null,null,{"$f":"VLOOKUP($B4028,'Ad Week Dates'!$A:$E,4,FALSE)","v":{"$error":"#N/A"}},{"$f":"VLOOKUP($B4028,'Ad Week Dates'!$A:$E,2,FALSE)","v":{"$error":"#N/A"}},{"$f":"VLOOKUP($B4028,'Ad Week Dates'!$A:$E,3,FALSE)","v":{"$error":"#N/A"}},null,null,null,null,null,null,{"$error":"#N/A"}]
[null,null,{"$f":"VLOOKUP($B4029,'Ad Week Dates'!$A:$E,4,FALSE)","v":{"$error":"#N/A"}},{"$f":"VLOOKUP($B4029,'Ad Week Dates'!$A:$E,2,FALSE)","v":{"$error":"#N/A"}},{"$f":"VLOOKUP($B4029,'Ad Week Dates'!$A:$E,3,FALSE)","v":{"$error":"#N/A"}},null,null,null,null,null,null,{"$error":"#N/A"}]
[null,null,{"$f":"VLOOKUP($B4030,'Ad Week Dates'!$A:$E,4,FALSE)","v":{"$error":"#N/A"}},{"$f":"VLOOKUP($B4030,'Ad Week Dates'!$A:$E,2,FALSE)","v":{"$error":"#N/A"}},{"$f":"VLOOKUP($B4030,'Ad Week Dates'!$A:$E,3,FALSE)","v":{"$error":"#N/A"}},null,null,null,null,null,null,{"$error":"#N/A"}]
[null,null,{"$f":"VLOOKUP($B4031,'Ad Week Dates'!$A:$E,4,FALSE)","v":{"$error":"#N/A"}},{"$f":"VLOOKUP($B4031,'Ad Week Dates'!$A:$E,2,FALSE)","v":{"$error":"#N/A"}},{"$f":"VLOOKUP($B4031,'Ad Week Dates'!$A:$E,3,FALSE)","v":{"$error":"#N/A"}},null,null,null,null,null,null,{"$error":"#N/A"}]
[null,null,{"$f":"VLOOKUP($B4032,'Ad Week Dates'!$A:$E,4,FALSE)","v":{"$error":"#N/A"}},{"$f":"VLOOKUP($B4032,'Ad Week Dates'!$A:$E,2,FALSE)","v":{"$error":"#N/A"}},{"$f":"VLOOKUP($B4032,'Ad Week Dates'!$A:$E,3,FALSE)","v":{"$error":"#N/A"}},null,null,null,null,null,null,{"$error":"#N/A"}]
[null,null,{"$f":"VLOOKUP($B4033,'Ad Week Dates'!$A:$E,4,FALSE)","v":{"$error":"#N/A"}},{"$f":"VLOOKUP($B4033,'Ad Week Dates'!$A:$E,2,FALSE)","v":{"$error":"#N/A"}},{"$f":"VLOOKUP($B4033,'Ad Week Dates'!$A:$E,3,FALSE)","v":{"$error":"#N/A"}},null,null,null,null,null,null,{"$error":"#N/A"}]
[null,null,{"$f":"VLOOKUP($B4034,'Ad Week Dates'!$A:$E,4,FALSE)","v":{"$error":"#N/A"}},{"$f":"VLOOKUP($B4034,'Ad Week Dates'!$A:$E,2,FALSE)","v":{"$error":"#N/A"}},{"$f":"VLOOKUP($B4034,'Ad Week Dates'!$A:$E,3,FALSE)","v":{"$error":"#N/A"}},null,null,null,null,null,null,{"$error":"#N/A"}]
[null,null,{"$f":"VLOOKUP($B4035,'Ad Week Dates'!$A:$E,4,FALSE)","v":{"$error":"#N/A"}},{"$f":"VLOOKUP($B4035,'Ad Week Dates'!$A:$E,2,FALSE)","v":{"$error":"#N/A"}},{"$f":"VLOOKUP($B4035,'Ad Week Dates'!$A:$E,3,FALSE)","v":{"$error":"#N/A"}},null,null,null,null,null,null,{"$error":"#N/A"}]
[null,null,{"$f":"VLOOKUP($B4036,'Ad Week Dates'!$A:$E,4,FALSE)","v":{"$error":"#N/A"}},{"$f":"VLOOKUP($B4036,'Ad Week Dates'!$A:$E,2,FALSE)","v":{"$error":"#N/A"}},{"$f":"VLOOKUP($B4036,'Ad Week Dates'!$A:$E,3,FALSE)","v":{"$error":"#N/A"}},null,null,null,null,null,null,{"$error":"#N/A"}]
[null,null,{"$f":"VLOOKUP($B4037,'Ad Week Dates'!$A:$E,4,FALSE)","v":{"$error":"#N/A"}},{"$f":"VLOOKUP($B4037,'Ad Week Dates'!$A:$E,2,FALSE)","v":{"$error":"#N/A"}},{"$f":"VLOOKUP($B4037,'Ad Week Dates'!$A:$E,3,FALSE)","v":{"$error":"#N/A"}},null,null,null,null,null,null,{"$error":"#N/A"}]
[null,null,{"$f":"VLOOKUP($B4038,'Ad Week Dates'!$A:$E,4,FALSE)","v":{"$error":"#N/A"}},{"$f":"VLOOKUP($B4038,'Ad Week Dates'!$A:$E,2,FALSE)","v":{"$error":"#N/A"}},{"$f":"VLOOKUP($B4038,'Ad Week Dates'!$A:$E,3,FALSE)","v":{"$error":"#N/A"}},null,null,null,null,null,null,{"$f":"IF(ISNUMBER(J4038), J4038 - K4038, VALUE(_xlfn.TEXTBEFORE(J4038, \"-\")) - VALUE(_xlfn.TEXTBEFORE(K4038, \"-\")))","v":{"$error":"#N/A"}}]
[null,null,{"$f":"VLOOKUP($B4039,'Ad Week Dates'!$A:$E,4,FALSE)","v":{"$error":"#N/A"}},{"$f":"VLOOKUP($B4039,'Ad Week Dates'!$A:$E,2,FALSE)","v":{"$error":"#N/A"}},{"$f":"VLOOKUP($B4039,'Ad Week Dates'!$A:$E,3,FALSE)","v":{"$error":"#N/A"}},null,null,null,null,null,null,{"$error":"#N/A"}]
[null,null,{"$f":"VLOOKUP($B4040,'Ad Week Dates'!$A:$E,4,FALSE)","v":{"$error":"#N/A"}},{"$f":"VLOOKUP($B4040,'Ad Week Dates'!$A:$E,2,FALSE)","v":{"$error":"#N/A"}},{"$f":"VLOOKUP($B4040,'Ad Week Dates'!$A:$E,3,FALSE)","v":{"$error":"#N/A"}},null,null,null,null,null,null,{"$error":"#N/A"}]
[null,null,{"$f":"VLOOKUP($B4041,'Ad Week Dates'!$A:$E,4,FALSE)","v":{"$error":"#N/A"}},{"$f":"VLOOKUP($B4041,'Ad Week Dates'!$A:$E,2,FALSE)","v":{"$error":"#N/A"}},{"$f":"VLOOKUP($B4041,'Ad Week Dates'!$A:$E,3,FALSE)","v":{"$error":"#N/A"}},null,null,null,null,null,null,{"$error":"#N/A"}]
[null,null,{"$f":"VLOOKUP($B4042,'Ad Week Dates'!$A:$E,4,FALSE)","v":{"$error":"#N/A"}},{"$f":"VLOOKUP($B4042,'Ad Week Dates'!$A:$E,2,FALSE)","v":{"$error":"#N/A"}},{"$f":"VLOOKUP($B4042,'Ad Week Dates'!$A:$E,3,FALSE)","v":{"$error":"#N/A"}},null,null,null,null,null,null,{"$error":"#N/A"}]
[null,null,{"$f":"VLOOKUP($B4043,'Ad Week Dates'!$A:$E,4,FALSE)","v":{"$error":"#N/A"}},{"$f":"VLOOKUP($B4043,'Ad Week Dates'!$A:$E,2,FALSE)","v":{"$error":"#N/A"}},{"$f":"VLOOKUP($B4043,'Ad Week Dates'!$A:$E,3,FALSE)","v":{"$error":"#N/A"}},null,null,null,null,null,null,{"$error":"#N/A"}]
[null,null,{"$f":"VLOOKUP($B4044,'Ad Week Dates'!$A:$E,4,FALSE)","v":{"$error":"#N/A"}},{"$f":"VLOOKUP($B4044,'Ad Week Dates'!$A:$E,2,FALSE)","v":{"$error":"#N/A"}},{"$f":"VLOOKUP($B4044,'Ad Week Dates'!$A:$E,3,FALSE)","v":{"$error":"#N/A"}},null,null,null,null,null,null,{"$error":"#N/A"}]
[null,null,{"$f":"VLOOKUP($B4045,'Ad Week Dates'!$A:$E,4,FALSE)","v":{"$error":"#N/A"}},{"$f":"VLOOKUP($B4045,'Ad Week Dates'!$A:$E,2,FALSE)","v":{"$error":"#N/A"}},{"$f":"VLOOKUP($B4045,'Ad Week Dates'!$A:$E,3,FALSE)","v":{"$error":"#N/A"}},null,null,null,null,null,null,{"$error":"#N/A"}]
[null,null,{"$f":"VLOOKUP($B4046,'Ad Week Dates'!$A:$E,4,FALSE)","v":{"$error":"#N/A"}},{"$f":"VLOOKUP($B4046,'Ad Week Dates'!$A:$E,2,FALSE)","v":{"$error":"#N/A"}},{"$f":"VLOOKUP($B4046,'Ad Week Dates'!$A:$E,3,FALSE)","v":{"$error":"#N/A"}},null,null,null,null,null,null,{"$error":"#N/A"}]
[null,null,{"$f":"VLOOKUP($B4047,'Ad Week Dates'!$A:$E,4,FALSE)","v":{"$error":"#N/A"}},{"$f":"VLOOKUP($B4047,'Ad Week Dates'!$A:$E,2,FALSE)","v":{"$error":"#N/A"}},{"$f":"VLOOKUP($B4047,'Ad Week Dates'!$A:$E,3,FALSE)","v":{"$error":"#N/A"}},null,null,null,null,null,null,{"$error":"#N/A"}]
[null,null,{"$f":"VLOOKUP($B4048,'Ad Week Dates'!$A:$E,4,FALSE)","v":{"$error":"#N/A"}},{"$f":"VLOOKUP($B4048,'Ad Week Dates'!$A:$E,2,FALSE)","v":{"$error":"#N/A"}},{"$f":"VLOOKUP($B4048,'Ad Week Dates'!$A:$E,3,FALSE)","v":{"$error":"#N/A"}},null,null,null,null,null,null,{"$error":"#N/A"}]
[null,null,{"$f":"VLOOKUP($B4049,'Ad Week Dates'!$A:$E,4,FALSE)","v":{"$error":"#N/A"}},{"$f":"VLOOKUP($B4049,'Ad Week Dates'!$A:$E,2,FALSE)","v":{"$error":"#N/A"}},{"$f":"VLOOKUP($B4049,'Ad Week Dates'!$A:$E,3,FALSE)","v":{"$error":"#N/A"}},null,null,null,null,null,null,{"$error":"#N/A"}]
[null,null,{"$f":"VLOOKUP($B4050,'Ad Week Dates'!$A:$E,4,FALSE)","v":{"$error":"#N/A"}},{"$f":"VLOOKUP($B4050,'Ad Week Dates'!$A:$E,2,FALSE)","v":{"$error":"#N/A"}},{"$f":"VLOOKUP($B4050,'Ad Week Dates'!$A:$E,3,FALSE)","v":{"$error":"#N/A"}},null,null,null,null,null,null,{"$error":"#N/A"}]
[null,null,{"$f":"VLOOKUP($B4051,'Ad Week Dates'!$A:$E,4,FALSE)","v":{"$error":"#N/A"}},{"$f":"VLOOKUP($B4051,'Ad Week Dates'!$A:$E,2,FALSE)","v":{"$error":"#N/A"}},{"$f":"VLOOKUP($B4051,'Ad Week Dates'!$A:$E,3,FALSE)","v":{"$error":"#N/A"}},null,null,null,null,null,null,{"$error":"#N/A"}]
[null,null,{"$f":"VLOOKUP($B4052,'Ad Week Dates'!$A:$E,4,FALSE)","v":{"$error":"#N/A"}},{"$f":"VLOOKUP($B4052,'Ad Week Dates'!$A:$E,2,FALSE)","v":{"$error":"#N/A"}},{"$f":"VLOOKUP($B4052,'Ad Week Dates'!$A:$E,3,FALSE)","v":{"$error":"#N/A"}},null,null,null,null,null,null,{"$error":"#N/A"}]
[null,null,{"$f":"VLOOKUP($B4053,'Ad Week Dates'!$A:$E,4,FALSE)","v":{"$error":"#N/A"}},{"$f":"VLOOKUP($B4053,'Ad Week Dates'!$A:$E,2,FALSE)","v":{"$error":"#N/A"}},{"$f":"VLOOKUP($B4053,'Ad Week Dates'!$A:$E,3,FALSE)","v":{"$error":"#N/A"}},null,null,null,null,null,null,{"$error":"#N/A"}]
[null,null,{"$f":"VLOOKUP($B4054,'Ad Week Dates'!$A:$E,4,FALSE)","v":{"$error":"#N/A"}},{"$f":"VLOOKUP($B4054,'Ad Week Dates'!$A:$E,2,FALSE)","v":{"$error":"#N/A"}},{"$f":"VLOOKUP($B4054,'Ad Week Dates'!$A:$E,3,FALSE)","v":{"$error":"#N/A"}},null,null,null,null,null,null,{"$error":"#N/A"}]
[null,null,{"$f":"VLOOKUP($B4055,'Ad Week Dates'!$A:$E,4,FALSE)","v":{"$error":"#N/A"}},{"$f":"VLOOKUP($B4055,'Ad Week Dates'!$A:$E,2,FALSE)","v":{"$error":"#N/A"}},{"$f":"VLOOKUP($B4055,'Ad Week Dates'!$A:$E,3,FALSE)","v":{"$error":"#N/A"}},null,null,null,null,null,null,{"$error":"#N/A"}]
[null,null,{"$f":"VLOOKUP($B4056,'Ad Week Dates'!$A:$E,4,FALSE)","v":{"$error":"#N/A"}},{"$f":"VLOOKUP($B4056,'Ad Week Dates'!$A:$E,2,FALSE)","v":{"$error":"#N/A"}},{"$f":"VLOOKUP($B4056,'Ad Week Dates'!$A:$E,3,FALSE)","v":{"$error":"#N/A"}},null,null,null,null,null,null,{"$error":"#N/A"}]
[null,null,{"$f":"VLOOKUP($B4057,'Ad Week Dates'!$A:$E,4,FALSE)","v":{"$error":"#N/A"}},{"$f":"VLOOKUP($B4057,'Ad Week Dates'!$A:$E,2,FALSE)","v":{"$error":"#N/A"}},{"$f":"VLOOKUP($B4057,'Ad Week Dates'!$A:$E,3,FALSE)","v":{"$error":"#N/A"}},null,null,null,null,null,null,{"$error":"#N/A"}]
[null,null,{"$f":"VLOOKUP($B4058,'Ad Week Dates'!$A:$E,4,FALSE)","v":{"$error":"#N/A"}},{"$f":"VLOOKUP($B4058,'Ad Week Dates'!$A:$E,2,FALSE)","v":{"$error":"#N/A"}},{"$f":"VLOOKUP($B4058,'Ad Week Dates'!$A:$E,3,FALSE)","v":{"$error":"#N/A"}},null,null,null,null,null,null,{"$error":"#N/A"}]
[null,null,{"$f":"VLOOKUP($B4059,'Ad Week Dates'!$A:$E,4,FALSE)","v":{"$error":"#N/A"}},{"$f":"VLOOKUP($B4059,'Ad Week Dates'!$A:$E,2,FALSE)","v":{"$error":"#N/A"}},{"$f":"VLOOKUP($B4059,'Ad Week Dates'!$A:$E,3,FALSE)","v":{"$error":"#N/A"}},null,null,null,null,null,null,{"$error":"#N/A"}]
[null,null,{"$f":"VLOOKUP($B4060,'Ad Week Dates'!$A:$E,4,FALSE)","v":{"$error":"#N/A"}},{"$f":"VLOOKUP($B4060,'Ad Week Dates'!$A:$E,2,FALSE)","v":{"$error":"#N/A"}},{"$f":"VLOOKUP($B4060,'Ad Week Dates'!$A:$E,3,FALSE)","v":{"$error":"#N/A"}},null,null,null,null,null,null,{"$error":"#N/A"}]
[null,null,{"$f":"VLOOKUP($B4061,'Ad Week Dates'!$A:$E,4,FALSE)","v":{"$error":"#N/A"}},{"$f":"VLOOKUP($B4061,'Ad Week Dates'!$A:$E,2,FALSE)","v":{"$error":"#N/A"}},{"$f":"VLOOKUP($B4061,'Ad Week Dates'!$A:$E,3,FALSE)","v":{"$error":"#N/A"}},null,null,null,null,null,null,{"$error":"#N/A"}]
[null,null,{"$f":"VLOOKUP($B4062,'Ad Week Dates'!$A:$E,4,FALSE)","v":{"$error":"#N/A"}},{"$f":"VLOOKUP($B4062,'Ad Week Dates'!$A:$E,2,FALSE)","v":{"$error":"#N/A"}},{"$f":"VLOOKUP($B4062,'Ad Week Dates'!$A:$E,3,FALSE)","v":{"$error":"#N/A"}},null,null,null,null,null,null,{"$error":"#N/A"}]
[null,null,{"$f":"VLOOKUP($B4063,'Ad Week Dates'!$A:$E,4,FALSE)","v":{"$error":"#N/A"}},{"$f":"VLOOKUP($B4063,'Ad Week Dates'!$A:$E,2,FALSE)","v":{"$error":"#N/A"}},{"$f":"VLOOKUP($B4063,'Ad Week Dates'!$A:$E,3,FALSE)","v":{"$error":"#N/A"}},null,null,null,null,null,null,{"$error":"#N/A"}]
[null,null,{"$f":"VLOOKUP($B4064,'Ad Week Dates'!$A:$E,4,FALSE)","v":{"$error":"#N/A"}},{"$f":"VLOOKUP($B4064,'Ad Week Dates'!$A:$E,2,FALSE)","v":{"$error":"#N/A"}},{"$f":"VLOOKUP($B4064,'Ad Week Dates'!$A:$E,3,FALSE)","v":{"$error":"#N/A"}},null,null,null,null,null,null,{"$error":"#N/A"}]
[null,null,{"$f":"VLOOKUP($B4065,'Ad Week Dates'!$A:$E,4,FALSE)","v":{"$error":"#N/A"}},{"$f":"VLOOKUP($B4065,'Ad Week Dates'!$A:$E,2,FALSE)","v":{"$error":"#N/A"}},{"$f":"VLOOKUP($B4065,'Ad Week Dates'!$A:$E,3,FALSE)","v":{"$error":"#N/A"}},null,null,null,null,null,null,{"$error":"#N/A"}]
[null,null,{"$f":"VLOOKUP($B4066,'Ad Week Dates'!$A:$E,4,FALSE)","v":{"$error":"#N/A"}},{"$f":"VLOOKUP($B4066,'Ad Week Dates'!$A:$E,2,FALSE)","v":{"$error":"#N/A"}},{"$f":"VLOOKUP($B4066,'Ad Week Dates'!$A:$E,3,FALSE)","v":{"$error":"#N/A"}},null,null,null,null,null,null,{"$error":"#N/A"}]
[null,null,{"$f":"VLOOKUP($B4067,'Ad Week Dates'!$A:$E,4,FALSE)","v":{"$error":"#N/A"}},{"$f":"VLOOKUP($B4067,'Ad Week Dates'!$A:$E,2,FALSE)","v":{"$error":"#N/A"}},{"$f":"VLOOKUP($B4067,'Ad Week Dates'!$A:$E,3,FALSE)","v":{"$error":"#N/A"}},null,null,null,null,null,null,{"$error":"#N/A"}]
[null,null,{"$f":"VLOOKUP($B4068,'Ad Week Dates'!$A:$E,4,FALSE)","v":{"$error":"#N/A"}},{"$f":"VLOOKUP($B4068,'Ad Week Dates'!$A:$E,2,FALSE)","v":{"$error":"#N/A"}},{"$f":"VLOOKUP($B4068,'Ad Week Dates'!$A:$E,3,FALSE)","v":{"$error":"#N/A"}},null,null,null,null,null,null,{"$error":"#N/A"}]
[null,null,{"$f":"VLOOKUP($B4069,'Ad Week Dates'!$A:$E,4,FALSE)","v":{"$error":"#N/A"}},{"$f":"VLOOKUP($B4069,'Ad Week Dates'!$A:$E,2,FALSE)","v":{"$error":"#N/A"}},{"$f":"VLOOKUP($B4069,'Ad Week Dates'!$A:$E,3,FALSE)","v":{"$error":"#N/A"}},null,null,null,null,null,null,{"$error":"#N/A"}]
[null,null,{"$f":"VLOOKUP($B4070,'Ad Week Dates'!$A:$E,4,FALSE)","v":{"$error":"#N/A"}},{"$f":"VLOOKUP($B4070,'Ad Week Dates'!$A:$E,2,FALSE)","v":{"$error":"#N/A"}},{"$f":"VLOOKUP($B4070,'Ad Week Dates'!$A:$E,3,FALSE)","v":{"$error":"#N/A"}},null,null,null,null,null,null,{"$error":"#N/A"}]
[null,null,{"$f":"VLOOKUP($B4071,'Ad Week Dates'!$A:$E,4,FALSE)","v":{"$error":"#N/A"}},{"$f":"VLOOKUP($B4071,'Ad Week Dates'!$A:$E,2,FALSE)","v":{"$error":"#N/A"}},{"$f":"VLOOKUP($B4071,'Ad Week Dates'!$A:$E,3,FALSE)","v":{"$error":"#N/A"}},null,null,null,null,null,null,{"$error":"#N/A"}]
[null,null,{"$f":"VLOOKUP($B4072,'Ad Week Dates'!$A:$E,4,FALSE)","v":{"$error":"#N/A"}},{"$f":"VLOOKUP($B4072,'Ad Week Dates'!$A:$E,2,FALSE)","v":{"$error":"#N/A"}},{"$f":"VLOOKUP($B4072,'Ad Week Dates'!$A:$E,3,FALSE)","v":{"$error":"#N/A"}},null,null,null,null,null,null,{"$error":"#N/A"}]
[null,null,{"$f":"VLOOKUP($B4073,'Ad Week Dates'!$A:$E,4,FALSE)","v":{"$error":"#N/A"}},{"$f":"VLOOKUP($B4073,'Ad Week Dates'!$A:$E,2,FALSE)","v":{"$error":"#N/A"}},{"$f":"VLOOKUP($B4073,'Ad Week Dates'!$A:$E,3,FALSE)","v":{"$error":"#N/A"}},null,null,null,null,null,null,{"$error":"#N/A"}]
[null,null,{"$f":"VLOOKUP($B4074,'Ad Week Dates'!$A:$E,4,FALSE)","v":{"$error":"#N/A"}},{"$f":"VLOOKUP($B4074,'Ad Week Dates'!$A:$E,2,FALSE)","v":{"$error":"#N/A"}},{"$f":"VLOOKUP($B4074,'Ad Week Dates'!$A:$E,3,FALSE)","v":{"$error":"#N/A"}},null,null,null,null,null,null,{"$error":"#N/A"}]
[null,null,{"$f":"VLOOKUP($B4075,'Ad Week Dates'!$A:$E,4,FALSE)","v":{"$error":"#N/A"}},{"$f":"VLOOKUP($B4075,'Ad Week Dates'!$A:$E,2,FALSE)","v":{"$error":"#N/A"}},{"$f":"VLOOKUP($B4075,'Ad Week Dates'!$A:$E,3,FALSE)","v":{"$error":"#N/A"}},null,null,null,null,null,null,{"$error":"#N/A"}]
[null,null,{"$f":"VLOOKUP($B4076,'Ad Week Dates'!$A:$E,4,FALSE)","v":{"$error":"#N/A"}},{"$f":"VLOOKUP($B4076,'Ad Week Dates'!$A:$E,2,FALSE)","v":{"$error":"#N/A"}},{"$f":"VLOOKUP($B4076,'Ad Week Dates'!$A:$E,3,FALSE)","v":{"$error":"#N/A"}},null,null,null,null,null,null,{"$error":"#N/A"}]
[null,null,{"$f":"VLOOKUP($B4077,'Ad Week Dates'!$A:$E,4,FALSE)","v":{"$error":"#N/A"}},{"$f":"VLOOKUP($B4077,'Ad Week Dates'!$A:$E,2,FALSE)","v":{"$error":"#N/A"}},{"$f":"VLOOKUP($B4077,'Ad Week Dates'!$A:$E,3,FALSE)","v":{"$error":"#N/A"}},null,null,null,null,null,null,{"$error":"#N/A"}]
[null,null,{"$f":"VLOOKUP($B4078,'Ad Week Dates'!$A:$E,4,FALSE)","v":{"$error":"#N/A"}},{"$f":"VLOOKUP($B4078,'Ad Week Dates'!$A:$E,2,FALSE)","v":{"$error":"#N/A"}},{"$f":"VLOOKUP($B4078,'Ad Week Dates'!$A:$E,3,FALSE)","v":{"$error":"#N/A"}},null,null,null,null,null,null,{"$error":"#N/A"}]
[null,null,{"$f":"VLOOKUP($B4079,'Ad Week Dates'!$A:$E,4,FALSE)","v":{"$error":"#N/A"}},{"$f":"VLOOKUP($B4079,'Ad Week Dates'!$A:$E,2,FALSE)","v":{"$error":"#N/A"}},{"$f":"VLOOKUP($B4079,'Ad Week Dates'!$A:$E,3,FALSE)","v":{"$error":"#N/A"}},null,null,null,null,null,null,{"$error":"#N/A"}]
[null,null,{"$f":"VLOOKUP($B4080,'Ad Week Dates'!$A:$E,4,FALSE)","v":{"$error":"#N/A"}},{"$f":"VLOOKUP($B4080,'Ad Week Dates'!$A:$E,2,FALSE)","v":{"$error":"#N/A"}},{"$f":"VLOOKUP($B4080,'Ad Week Dates'!$A:$E,3,FALSE)","v":{"$error":"#N/A"}},null,null,null,null,null,null,{"$error":"#N/A"}]
[null,null,{"$f":"VLOOKUP($B4081,'Ad Week Dates'!$A:$E,4,FALSE)","v":{"$error":"#N/A"}},{"$f":"VLOOKUP($B4081,'Ad Week Dates'!$A:$E,2,FALSE)","v":{"$error":"#N/A"}},{"$f":"VLOOKUP($B4081,'Ad Week Dates'!$A:$E,3,FALSE)","v":{"$error":"#N/A"}},null,null,null,null,null,null,{"$error":"#N/A"}]
[null,null,{"$f":"VLOOKUP($B4082,'Ad Week Dates'!$A:$E,4,FALSE)","v":{"$error":"#N/A"}},{"$f":"VLOOKUP($B4082,'Ad Week Dates'!$A:$E,2,FALSE)","v":{"$error":"#N/A"}},{"$f":"VLOOKUP($B4082,'Ad Week Dates'!$A:$E,3,FALSE)","v":{"$error":"#N/A"}},null,null,null,null,null,null,{"$error":"#N/A"}]
[null,null,{"$f":"VLOOKUP($B4083,'Ad Week Dates'!$A:$E,4,FALSE)","v":{"$error":"#N/A"}},{"$f":"VLOOKUP($B4083,'Ad Week Dates'!$A:$E,2,FALSE)","v":{"$error":"#N/A"}},{"$f":"VLOOKUP($B4083,'Ad Week Dates'!$A:$E,3,FALSE)","v":{"$error":"#N/A"}},null,null,null,null,null,null,{"$error":"#N/A"}]
[null,null,{"$f":"VLOOKUP($B4084,'Ad Week Dates'!$A:$E,4,FALSE)","v":{"$error":"#N/A"}},{"$f":"VLOOKUP($B4084,'Ad Week Dates'!$A:$E,2,FALSE)","v":{"$error":"#N/A"}},{"$f":"VLOOKUP($B4084,'Ad Week Dates'!$A:$E,3,FALSE)","v":{"$error":"#N/A"}},null,null,null,null,null,null,{"$error":"#N/A"}]
[null,null,{"$f":"VLOOKUP($B4085,'Ad Week Dates'!$A:$E,4,FALSE)","v":{"$error":"#N/A"}},{"$f":"VLOOKUP($B4085,'Ad Week Dates'!$A:$E,2,FALSE)","v":{"$error":"#N/A"}},{"$f":"VLOOKUP($B4085,'Ad Week Dates'!$A:$E,3,FALSE)","v":{"$error":"#N/A"}},null,null,null,null,null,null,{"$error":"#N/A"}]
[null,null,{"$f":"VLOOKUP($B4086,'Ad Week Dates'!$A:$E,4,FALSE)","v":{"$error":"#N/A"}},{"$f":"VLOOKUP($B4086,'Ad Week Dates'!$A:$E,2,FALSE)","v":{"$error":"#N/A"}},{"$f":"VLOOKUP($B4086,'Ad Week Dates'!$A:$E,3,FALSE)","v":{"$error":"#N/A"}},null,null,null,null,null,null,{"$error":"#N/A"}]
[null,null,{"$f":"VLOOKUP($B4087,'Ad Week Dates'!$A:$E,4,FALSE)","v":{"$error":"#N/A"}},{"$f":"VLOOKUP($B4087,'Ad Week Dates'!$A:$E,2,FALSE)","v":{"$error":"#N/A"}},{"$f":"VLOOKUP($B4087,'Ad Week Dates'!$A:$E,3,FALSE)","v":{"$error":"#N/A"}},null,null,null,null,null,null,{"$error":"#N/A"}]
[null,null,{"$f":"VLOOKUP($B4088,'Ad Week Dates'!$A:$E,4,FALSE)","v":{"$error":"#N/A"}},{"$f":"VLOOKUP($B4088,'Ad Week Dates'!$A:$E,2,FALSE)","v":{"$error":"#N/A"}},{"$f":"VLOOKUP($B4088,'Ad Week Dates'!$A:$E,3,FALSE)","v":{"$error":"#N/A"}},null,null,null,null,null,null,{"$error":"#N/A"}]
[null,null,{"$f":"VLOOKUP($B4089,'Ad Week Dates'!$A:$E,4,FALSE)","v":{"$error":"#N/A"}},{"$f":"VLOOKUP($B4089,'Ad Week Dates'!$A:$E,2,FALSE)","v":{"$error":"#N/A"}},{"$f":"VLOOKUP($B4089,'Ad Week Dates'!$A:$E,3,FALSE)","v":{"$error":"#N/A"}},null,null,null,null,null,null,{"$error":"#N/A"}]
[null,null,{"$f":"VLOOKUP($B4090,'Ad Week Dates'!$A:$E,4,FALSE)","v":{"$error":"#N/A"}},{"$f":"VLOOKUP($B4090,'Ad Week Dates'!$A:$E,2,FALSE)","v":{"$error":"#N/A"}},{"$f":"VLOOKUP($B4090,'Ad Week Dates'!$A:$E,3,FALSE)","v":{"$error":"#N/A"}},null,null,null,null,null,null,{"$error":"#N/A"}]
[null,null,{"$f":"VLOOKUP($B4091,'Ad Week Dates'!$A:$E,4,FALSE)","v":{"$error":"#N/A"}},{"$f":"VLOOKUP($B4091,'Ad Week Dates'!$A:$E,2,FALSE)","v":{"$error":"#N/A"}},{"$f":"VLOOKUP($B4091,'Ad Week Dates'!$A:$E,3,FALSE)","v":{"$error":"#N/A"}},null,null,null,null,null,null,{"$error":"#N/A"}]
[null,null,{"$f":"VLOOKUP($B4092,'Ad Week Dates'!$A:$E,4,FALSE)","v":{"$error":"#N/A"}},{"$f":"VLOOKUP($B4092,'Ad Week Dates'!$A:$E,2,FALSE)","v":{"$error":"#N/A"}},{"$f":"VLOOKUP($B4092,'Ad Week Dates'!$A:$E,3,FALSE)","v":{"$error":"#N/A"}},null,null,null,null,null,null,{"$error":"#N/A"}]
[null,null,{"$f":"VLOOKUP($B4093,'Ad Week Dates'!$A:$E,4,FALSE)","v":{"$error":"#N/A"}},{"$f":"VLOOKUP($B4093,'Ad Week Dates'!$A:$E,2,FALSE)","v":{"$error":"#N/A"}},{"$f":"VLOOKUP($B4093,'Ad Week Dates'!$A:$E,3,FALSE)","v":{"$error":"#N/A"}},null,null,null,null,null,null,{"$error":"#N/A"}]
[null,null,{"$f":"VLOOKUP($B4094,'Ad Week Dates'!$A:$E,4,FALSE)","v":{"$error":"#N/A"}},{"$f":"VLOOKUP($B4094,'Ad Week Dates'!$A:$E,2,FALSE)","v":{"$error":"#N/A"}},{"$f":"VLOOKUP($B4094,'Ad Week Dates'!$A:$E,3,FALSE)","v":{"$error":"#N/A"}},null,null,null,null,null,null,{"$error":"#N/A"}]
[null,null,{"$f":"VLOOKUP($B4095,'Ad Week Dates'!$A:$E,4,FALSE)","v":{"$error":"#N/A"}},{"$f":"VLOOKUP($B4095,'Ad Week Dates'!$A:$E,2,FALSE)","v":{"$error":"#N/A"}},{"$f":"VLOOKUP($B4095,'Ad Week Dates'!$A:$E,3,FALSE)","v":{"$error":"#N/A"}},null,null,null,null,null,null,{"$error":"#N/A"}]
[null,null,{"$f":"VLOOKUP($B4096,'Ad Week Dates'!$A:$E,4,FALSE)","v":{"$error":"#N/A"}},{"$f":"VLOOKUP($B4096,'Ad Week Dates'!$A:$E,2,FALSE)","v":{"$error":"#N/A"}},{"$f":"VLOOKUP($B4096,'Ad Week Dates'!$A:$E,3,FALSE)","v":{"$error":"#N/A"}},null,null,null,null,null,null,{"$error":"#N/A"}]
[null,null,{"$f":"VLOOKUP($B4097,'Ad Week Dates'!$A:$E,4,FALSE)","v":{"$error":"#N/A"}},{"$f":"VLOOKUP($B4097,'Ad Week Dates'!$A:$E,2,FALSE)","v":{"$error":"#N/A"}},{"$f":"VLOOKUP($B4097,'Ad Week Dates'!$A:$E,3,FALSE)","v":{"$error":"#N/A"}},null,null,null,null,null,null,{"$error":"#N/A"}]
[null,null,{"$f":"VLOOKUP($B4098,'Ad Week Dates'!$A:$E,4,FALSE)","v":{"$error":"#N/A"}},{"$f":"VLOOKUP($B4098,'Ad Week Dates'!$A:$E,2,FALSE)","v":{"$error":"#N/A"}},{"$f":"VLOOKUP($B4098,'Ad Week Dates'!$A:$E,3,FALSE)","v":{"$error":"#N/A"}},null,null,null,null,null,null,{"$error":"#N/A"}]
[null,null,{"$f":"VLOOKUP($B4099,'Ad Week Dates'!$A:$E,4,FALSE)","v":{"$error":"#N/A"}},{"$f":"VLOOKUP($B4099,'Ad Week Dates'!$A:$E,2,FALSE)","v":{"$error":"#N/A"}},{"$f":"VLOOKUP($B4099,'Ad Week Dates'!$A:$E,3,FALSE)","v":{"$error":"#N/A"}},null,null,null,null,null,null,{"$error":"#N/A"}]
[null,null,{"$f":"VLOOKUP($B4100,'Ad Week Dates'!$A:$E,4,FALSE)","v":{"$error":"#N/A"}},{"$f":"VLOOKUP($B4100,'Ad Week Dates'!$A:$E,2,FALSE)","v":{"$error":"#N/A"}},{"$f":"VLOOKUP($B4100,'Ad Week Dates'!$A:$E,3,FALSE)","v":{"$error":"#N/A"}},null,null,null,null,null,null,{"$error":"#N/A"}]
[null,null,{"$f":"VLOOKUP($B4101,'Ad Week Dates'!$A:$E,4,FALSE)","v":{"$error":"#N/A"}},{"$f":"VLOOKUP($B4101,'Ad Week Dates'!$A:$E,2,FALSE)","v":{"$error":"#N/A"}},{"$f":"VLOOKUP($B4101,'Ad Week Dates'!$A:$E,3,FALSE)","v":{"$error":"#N/A"}},null,null,null,null,null,null,{"$error":"#N/A"}]
[null,null,{"$f":"VLOOKUP($B4102,'Ad Week Dates'!$A:$E,4,FALSE)","v":{"$error":"#N/A"}},{"$f":"VLOOKUP($B4102,'Ad Week Dates'!$A:$E,2,FALSE)","v":{"$error":"#N/A"}},{"$f":"VLOOKUP($B4102,'Ad Week Dates'!$A:$E,3,FALSE)","v":{"$error":"#N/A"}},null,null,null,null,null,null,{"$f":"IF(ISNUMBER(J4102), J4102 - K4102, VALUE(_xlfn.TEXTBEFORE(J4102, \"-\")) - VALUE(_xlfn.TEXTBEFORE(K4102, \"-\")))","v":{"$error":"#N/A"}}]
[null,null,{"$f":"VLOOKUP($B4103,'Ad Week Dates'!$A:$E,4,FALSE)","v":{"$error":"#N/A"}},{"$f":"VLOOKUP($B4103,'Ad Week Dates'!$A:$E,2,FALSE)","v":{"$error":"#N/A"}},{"$f":"VLOOKUP($B4103,'Ad Week Dates'!$A:$E,3,FALSE)","v":{"$error":"#N/A"}},null,null,null,null,null,null,{"$error":"#N/A"}]
[null,null,{"$f":"VLOOKUP($B4104,'Ad Week Dates'!$A:$E,4,FALSE)","v":{"$error":"#N/A"}},{"$f":"VLOOKUP($B4104,'Ad Week Dates'!$A:$E,2,FALSE)","v":{"$error":"#N/A"}},{"$f":"VLOOKUP($B4104,'Ad Week Dates'!$A:$E,3,FALSE)","v":{"$error":"#N/A"}},null,null,null,null,null,null,{"$error":"#N/A"}]
[null,null,{"$f":"VLOOKUP($B4105,'Ad Week Dates'!$A:$E,4,FALSE)","v":{"$error":"#N/A"}},{"$f":"VLOOKUP($B4105,'Ad Week Dates'!$A:$E,2,FALSE)","v":{"$error":"#N/A"}},{"$f":"VLOOKUP($B4105,'Ad Week Dates'!$A:$E,3,FALSE)","v":{"$error":"#N/A"}},null,null,null,null,null,null,{"$error":"#N/A"}]
[null,null,{"$f":"VLOOKUP($B4106,'Ad Week Dates'!$A:$E,4,FALSE)","v":{"$error":"#N/A"}},{"$f":"VLOOKUP($B4106,'Ad Week Dates'!$A:$E,2,FALSE)","v":{"$error":"#N/A"}},{"$f":"VLOOKUP($B4106,'Ad Week Dates'!$A:$E,3,FALSE)","v":{"$error":"#N/A"}},null,null,null,null,null,null,{"$error":"#N/A"}]
[null,null,{"$f":"VLOOKUP($B4107,'Ad Week Dates'!$A:$E,4,FALSE)","v":{"$error":"#N/A"}},{"$f":"VLOOKUP($B4107,'Ad Week Dates'!$A:$E,2,FALSE)","v":{"$error":"#N/A"}},{"$f":"VLOOKUP($B4107,'Ad Week Dates'!$A:$E,3,FALSE)","v":{"$error":"#N/A"}},null,null,null,null,null,null,{"$error":"#N/A"}]
[null,null,{"$f":"VLOOKUP($B4108,'Ad Week Dates'!$A:$E,4,FALSE)","v":{"$error":"#N/A"}},{"$f":"VLOOKUP($B4108,'Ad Week Dates'!$A:$E,2,FALSE)","v":{"$error":"#N/A"}},{"$f":"VLOOKUP($B4108,'Ad Week Dates'!$A:$E,3,FALSE)","v":{"$error":"#N/A"}},null,null,null,null,null,null,{"$error":"#N/A"}]
[null,null,{"$f":"VLOOKUP($B4109,'Ad Week Dates'!$A:$E,4,FALSE)","v":{"$error":"#N/A"}},{"$f":"VLOOKUP($B4109,'Ad Week Dates'!$A:$E,2,FALSE)","v":{"$error":"#N/A"}},{"$f":"VLOOKUP($B4109,'Ad Week Dates'!$A:$E,3,FALSE)","v":{"$error":"#N/A"}},null,null,null,null,null,null,{"$error":"#N/A"}]
[null,null,{"$f":"VLOOKUP($B4110,'Ad Week Dates'!$A:$E,4,FALSE)","v":{"$error":"#N/A"}},{"$f":"VLOOKUP($B4110,'Ad Week Dates'!$A:$E,2,FALSE)","v":{"$error":"#N/A"}},{"$f":"VLOOKUP($B4110,'Ad Week Dates'!$A:$E,3,FALSE)","v":{"$error":"#N/A"}},null,null,null,null,null,null,{"$error":"#N/A"}]
[null,null,{"$f":"VLOOKUP($B4111,'Ad Week Dates'!$A:$E,4,FALSE)","v":{"$error":"#N/A"}},{"$f":"VLOOKUP($B4111,'Ad Week Dates'!$A:$E,2,FALSE)","v":{"$error":"#N/A"}},{"$f":"VLOOKUP($B4111,'Ad Week Dates'!$A:$E,3,FALSE)","v":{"$error":"#N/A"}},null,null,null,null,null,null,{"$error":"#N/A"}]
[null,null,{"$f":"VLOOKUP($B4112,'Ad Week Dates'!$A:$E,4,FALSE)","v":{"$error":"#N/A"}},{"$f":"VLOOKUP($B4112,'Ad Week Dates'!$A:$E,2,FALSE)","v":{"$error":"#N/A"}},{"$f":"VLOOKUP($B4112,'Ad Week Dates'!$A:$E,3,FALSE)","v":{"$error":"#N/A"}},null,null,null,null,null,null,{"$error":"#N/A"}]
[null,null,{"$f":"VLOOKUP($B4113,'Ad Week Dates'!$A:$E,4,FALSE)","v":{"$error":"#N/A"}},{"$f":"VLOOKUP($B4113,'Ad Week Dates'!$A:$E,2,FALSE)","v":{"$error":"#N/A"}},{"$f":"VLOOKUP($B4113,'Ad Week Dates'!$A:$E,3,FALSE)","v":{"$error":"#N/A"}},null,null,null,null,null,null,{"$error":"#N/A"}]
[null,null,{"$f":"VLOOKUP($B4114,'Ad Week Dates'!$A:$E,4,FALSE)","v":{"$error":"#N/A"}},{"$f":"VLOOKUP($B4114,'Ad Week Dates'!$A:$E,2,FALSE)","v":{"$error":"#N/A"}},{"$f":"VLOOKUP($B4114,'Ad Week Dates'!$A:$E,3,FALSE)","v":{"$error":"#N/A"}},null,null,null,null,null,null,{"$error":"#N/A"}]
[null,null,{"$f":"VLOOKUP($B4115,'Ad Week Dates'!$A:$E,4,FALSE)","v":{"$error":"#N/A"}},{"$f":"VLOOKUP($B4115,'Ad Week Dates'!$A:$E,2,FALSE)","v":{"$error":"#N/A"}},{"$f":"VLOOKUP($B4115,'Ad Week Dates'!$A:$E,3,FALSE)","v":{"$error":"#N/A"}},null,null,null,null,null,null,{"$error":"#N/A"}]
[null,null,{"$f":"VLOOKUP($B4116,'Ad Week Dates'!$A:$E,4,FALSE)","v":{"$error":"#N/A"}},{"$f":"VLOOKUP($B4116,'Ad Week Dates'!$A:$E,2,FALSE)","v":{"$error":"#N/A"}},{"$f":"VLOOKUP($B4116,'Ad Week Dates'!$A:$E,3,FALSE)","v":{"$error":"#N/A"}},null,null,null,null,null,null,{"$error":"#N/A"}]
[null,null,{"$f":"VLOOKUP($B4117,'Ad Week Dates'!$A:$E,4,FALSE)","v":{"$error":"#N/A"}},{"$f":"VLOOKUP($B4117,'Ad Week Dates'!$A:$E,2,FALSE)","v":{"$error":"#N/A"}},{"$f":"VLOOKUP($B4117,'Ad Week Dates'!$A:$E,3,FALSE)","v":{"$error":"#N/A"}},null,null,null,null,null,null,{"$error":"#N/A"}]
[null,null,{"$f":"VLOOKUP($B4118,'Ad Week Dates'!$A:$E,4,FALSE)","v":{"$error":"#N/A"}},{"$f":"VLOOKUP($B4118,'Ad Week Dates'!$A:$E,2,FALSE)","v":{"$error":"#N/A"}},{"$f":"VLOOKUP($B4118,'Ad Week Dates'!$A:$E,3,FALSE)","v":{"$error":"#N/A"}},null,null,null,null,null,null,{"$error":"#N/A"}]
[null,null,{"$f":"VLOOKUP($B4119,'Ad Week Dates'!$A:$E,4,FALSE)","v":{"$error":"#N/A"}},{"$f":"VLOOKUP($B4119,'Ad Week Dates'!$A:$E,2,FALSE)","v":{"$error":"#N/A"}},{"$f":"VLOOKUP($B4119,'Ad Week Dates'!$A:$E,3,FALSE)","v":{"$error":"#N/A"}},null,null,null,null,null,null,{"$error":"#N/A"}]
[null,null,{"$f":"VLOOKUP($B4120,'Ad Week Dates'!$A:$E,4,FALSE)","v":{"$error":"#N/A"}},{"$f":"VLOOKUP($B4120,'Ad Week Dates'!$A:$E,2,FALSE)","v":{"$error":"#N/A"}},{"$f":"VLOOKUP($B4120,'Ad Week Dates'!$A:$E,3,FALSE)","v":{"$error":"#N/A"}},null,null,null,null,null,null,{"$error":"#N/A"}]
[null,null,{"$f":"VLOOKUP($B4121,'Ad Week Dates'!$A:$E,4,FALSE)","v":{"$error":"#N/A"}},{"$f":"VLOOKUP($B4121,'Ad Week Dates'!$A:$E,2,FALSE)","v":{"$error":"#N/A"}},{"$f":"VLOOKUP($B4121,'Ad Week Dates'!$A:$E,3,FALSE)","v":{"$error":"#N/A"}},null,null,null,null,null,null,{"$error":"#N/A"}]
[null,null,{"$f":"VLOOKUP($B4122,'Ad Week Dates'!$A:$E,4,FALSE)","v":{"$error":"#N/A"}},{"$f":"VLOOKUP($B4122,'Ad Week Dates'!$A:$E,2,FALSE)","v":{"$error":"#N/A"}},{"$f":"VLOOKUP($B4122,'Ad Week Dates'!$A:$E,3,FALSE)","v":{"$error":"#N/A"}},null,null,null,null,null,null,{"$error":"#N/A"}]
[null,null,{"$f":"VLOOKUP($B4123,'Ad Week Dates'!$A:$E,4,FALSE)","v":{"$error":"#N/A"}},{"$f":"VLOOKUP($B4123,'Ad Week Dates'!$A:$E,2,FALSE)","v":{"$error":"#N/A"}},{"$f":"VLOOKUP($B4123,'Ad Week Dates'!$A:$E,3,FALSE)","v":{"$error":"#N/A"}},null,null,null,null,null,null,{"$error":"#N/A"}]
[null,null,{"$f":"VLOOKUP($B4124,'Ad Week Dates'!$A:$E,4,FALSE)","v":{"$error":"#N/A"}},{"$f":"VLOOKUP($B4124,'Ad Week Dates'!$A:$E,2,FALSE)","v":{"$error":"#N/A"}},{"$f":"VLOOKUP($B4124,'Ad Week Dates'!$A:$E,3,FALSE)","v":{"$error":"#N/A"}},null,null,null,null,null,null,{"$error":"#N/A"}]
[null,null,{"$f":"VLOOKUP($B4125,'Ad Week Dates'!$A:$E,4,FALSE)","v":{"$error":"#N/A"}},{"$f":"VLOOKUP($B4125,'Ad Week Dates'!$A:$E,2,FALSE)","v":{"$error":"#N/A"}},{"$f":"VLOOKUP($B4125,'Ad Week Dates'!$A:$E,3,FALSE)","v":{"$error":"#N/A"}},null,null,null,null,null,null,{"$error":"#N/A"}]
[null,null,{"$f":"VLOOKUP($B4126,'Ad Week Dates'!$A:$E,4,FALSE)","v":{"$error":"#N/A"}},{"$f":"VLOOKUP($B4126,'Ad Week Dates'!$A:$E,2,FALSE)","v":{"$error":"#N/A"}},{"$f":"VLOOKUP($B4126,'Ad Week Dates'!$A:$E,3,FALSE)","v":{"$error":"#N/A"}},null,null,null,null,null,null,{"$error":"#N/A"}]
[null,null,{"$f":"VLOOKUP($B4127,'Ad Week Dates'!$A:$E,4,FALSE)","v":{"$error":"#N/A"}},{"$f":"VLOOKUP($B4127,'Ad Week Dates'!$A:$E,2,FALSE)","v":{"$error":"#N/A"}},{"$f":"VLOOKUP($B4127,'Ad Week Dates'!$A:$E,3,FALSE)","v":{"$error":"#N/A"}},null,null,null,null,null,null,{"$error":"#N/A"}]
[null,null,{"$f":"VLOOKUP($B4128,'Ad Week Dates'!$A:$E,4,FALSE)","v":{"$error":"#N/A"}},{"$f":"VLOOKUP($B4128,'Ad Week Dates'!$A:$E,2,FALSE)","v":{"$error":"#N/A"}},{"$f":"VLOOKUP($B4128,'Ad Week Dates'!$A:$E,3,FALSE)","v":{"$error":"#N/A"}},null,null,null,null,null,null,{"$error":"#N/A"}]
[null,null,{"$f":"VLOOKUP($B4129,'Ad Week Dates'!$A:$E,4,FALSE)","v":{"$error":"#N/A"}},{"$f":"VLOOKUP($B4129,'Ad Week Dates'!$A:$E,2,FALSE)","v":{"$error":"#N/A"}},{"$f":"VLOOKUP($B4129,'Ad Week Dates'!$A:$E,3,FALSE)","v":{"$error":"#N/A"}},null,null,null,null,null,null,{"$error":"#N/A"}]
[null,null,{"$f":"VLOOKUP($B4130,'Ad Week Dates'!$A:$E,4,FALSE)","v":{"$error":"#N/A"}},{"$f":"VLOOKUP($B4130,'Ad Week Dates'!$A:$E,2,FALSE)","v":{"$error":"#N/A"}},{"$f":"VLOOKUP($B4130,'Ad Week Dates'!$A:$E,3,FALSE)","v":{"$error":"#N/A"}},null,null,null,null,null,null,{"$error":"#N/A"}]
[null,null,{"$f":"VLOOKUP($B4131,'Ad Week Dates'!$A:$E,4,FALSE)","v":{"$error":"#N/A"}},{"$f":"VLOOKUP($B4131,'Ad Week Dates'!$A:$E,2,FALSE)","v":{"$error":"#N/A"}},{"$f":"VLOOKUP($B4131,'Ad Week Dates'!$A:$E,3,FALSE)","v":{"$error":"#N/A"}},null,null,null,null,null,null,{"$error":"#N/A"}]
[null,null,{"$f":"VLOOKUP($B4132,'Ad Week Dates'!$A:$E,4,FALSE)","v":{"$error":"#N/A"}},{"$f":"VLOOKUP($B4132,'Ad Week Dates'!$A:$E,2,FALSE)","v":{"$error":"#N/A"}},{"$f":"VLOOKUP($B4132,'Ad Week Dates'!$A:$E,3,FALSE)","v":{"$error":"#N/A"}},null,null,null,null,null,null,{"$error":"#N/A"}]
[null,null,{"$f":"VLOOKUP($B4133,'Ad Week Dates'!$A:$E,4,FALSE)","v":{"$error":"#N/A"}},{"$f":"VLOOKUP($B4133,'Ad Week Dates'!$A:$E,2,FALSE)","v":{"$error":"#N/A"}},{"$f":"VLOOKUP($B4133,'Ad Week Dates'!$A:$E,3,FALSE)","v":{"$error":"#N/A"}},null,null,null,null,null,null,{"$error":"#N/A"}]
[null,null,{"$f":"VLOOKUP($B4134,'Ad Week Dates'!$A:$E,4,FALSE)","v":{"$error":"#N/A"}},{"$f":"VLOOKUP($B4134,'Ad Week Dates'!$A:$E,2,FALSE)","v":{"$error":"#N/A"}},{"$f":"VLOOKUP($B4134,'Ad Week Dates'!$A:$E,3,FALSE)","v":{"$error":"#N/A"}},null,null,null,null,null,null,{"$error":"#N/A"}]
[null,null,{"$f":"VLOOKUP($B4135,'Ad Week Dates'!$A:$E,4,FALSE)","v":{"$error":"#N/A"}},{"$f":"VLOOKUP($B4135,'Ad Week Dates'!$A:$E,2,FALSE)","v":{"$error":"#N/A"}},{"$f":"VLOOKUP($B4135,'Ad Week Dates'!$A:$E,3,FALSE)","v":{"$error":"#N/A"}},null,null,null,null,null,null,{"$error":"#N/A"}]
[null,null,{"$f":"VLOOKUP($B4136,'Ad Week Dates'!$A:$E,4,FALSE)","v":{"$error":"#N/A"}},{"$f":"VLOOKUP($B4136,'Ad Week Dates'!$A:$E,2,FALSE)","v":{"$error":"#N/A"}},{"$f":"VLOOKUP($B4136,'Ad Week Dates'!$A:$E,3,FALSE)","v":{"$error":"#N/A"}},null,null,null,null,null,null,{"$error":"#N/A"}]
[null,null,{"$f":"VLOOKUP($B4137,'Ad Week Dates'!$A:$E,4,FALSE)","v":{"$error":"#N/A"}},{"$f":"VLOOKUP($B4137,'Ad Week Dates'!$A:$E,2,FALSE)","v":{"$error":"#N/A"}},{"$f":"VLOOKUP($B4137,'Ad Week Dates'!$A:$E,3,FALSE)","v":{"$error":"#N/A"}},null,null,null,null,null,null,{"$error":"#N/A"}]
[null,null,{"$f":"VLOOKUP($B4138,'Ad Week Dates'!$A:$E,4,FALSE)","v":{"$error":"#N/A"}},{"$f":"VLOOKUP($B4138,'Ad Week Dates'!$A:$E,2,FALSE)","v":{"$error":"#N/A"}},{"$f":"VLOOKUP($B4138,'Ad Week Dates'!$A:$E,3,FALSE)","v":{"$error":"#N/A"}},null,null,null,null,null,null,{"$error":"#N/A"}]
[null,null,{"$f":"VLOOKUP($B4139,'Ad Week Dates'!$A:$E,4,FALSE)","v":{"$error":"#N/A"}},{"$f":"VLOOKUP($B4139,'Ad Week Dates'!$A:$E,2,FALSE)","v":{"$error":"#N/A"}},{"$f":"VLOOKUP($B4139,'Ad Week Dates'!$A:$E,3,FALSE)","v":{"$error":"#N/A"}},null,null,null,null,null,null,{"$error":"#N/A"}]
[null,null,{"$f":"VLOOKUP($B4140,'Ad Week Dates'!$A:$E,4,FALSE)","v":{"$error":"#N/A"}},{"$f":"VLOOKUP($B4140,'Ad Week Dates'!$A:$E,2,FALSE)","v":{"$error":"#N/A"}},{"$f":"VLOOKUP($B4140,'Ad Week Dates'!$A:$E,3,FALSE)","v":{"$error":"#N/A"}},null,null,null,null,null,null,{"$error":"#N/A"}]
[null,null,{"$f":"VLOOKUP($B4141,'Ad Week Dates'!$A:$E,4,FALSE)","v":{"$error":"#N/A"}},{"$f":"VLOOKUP($B4141,'Ad Week Dates'!$A:$E,2,FALSE)","v":{"$error":"#N/A"}},{"$f":"VLOOKUP($B4141,'Ad Week Dates'!$A:$E,3,FALSE)","v":{"$error":"#N/A"}},null,null,null,null,null,null,{"$error":"#N/A"}]
[null,null,{"$f":"VLOOKUP($B4142,'Ad Week Dates'!$A:$E,4,FALSE)","v":{"$error":"#N/A"}},{"$f":"VLOOKUP($B4142,'Ad Week Dates'!$A:$E,2,FALSE)","v":{"$error":"#N/A"}},{"$f":"VLOOKUP($B4142,'Ad Week Dates'!$A:$E,3,FALSE)","v":{"$error":"#N/A"}},null,null,null,null,null,null,{"$error":"#N/A"}]
[null,null,{"$f":"VLOOKUP($B4143,'Ad Week Dates'!$A:$E,4,FALSE)","v":{"$error":"#N/A"}},{"$f":"VLOOKUP($B4143,'Ad Week Dates'!$A:$E,2,FALSE)","v":{"$error":"#N/A"}},{"$f":"VLOOKUP($B4143,'Ad Week Dates'!$A:$E,3,FALSE)","v":{"$error":"#N/A"}},null,null,null,null,null,null,{"$error":"#N/A"}]
[null,null,{"$f":"VLOOKUP($B4144,'Ad Week Dates'!$A:$E,4,FALSE)","v":{"$error":"#N/A"}},{"$f":"VLOOKUP($B4144,'Ad Week Dates'!$A:$E,2,FALSE)","v":{"$error":"#N/A"}},{"$f":"VLOOKUP($B4144,'Ad Week Dates'!$A:$E,3,FALSE)","v":{"$error":"#N/A"}},null,null,null,null,null,null,{"$error":"#N/A"}]
[null,null,{"$f":"VLOOKUP($B4145,'Ad Week Dates'!$A:$E,4,FALSE)","v":{"$error":"#N/A"}},{"$f":"VLOOKUP($B4145,'Ad Week Dates'!$A:$E,2,FALSE)","v":{"$error":"#N/A"}},{"$f":"VLOOKUP($B4145,'Ad Week Dates'!$A:$E,3,FALSE)","v":{"$error":"#N/A"}},null,null,null,null,null,null,{"$error":"#N/A"}]
[null,null,{"$f":"VLOOKUP($B4146,'Ad Week Dates'!$A:$E,4,FALSE)","v":{"$error":"#N/A"}},{"$f":"VLOOKUP($B4146,'Ad Week Dates'!$A:$E,2,FALSE)","v":{"$error":"#N/A"}},{"$f":"VLOOKUP($B4146,'Ad Week Dates'!$A:$E,3,FALSE)","v":{"$error":"#N/A"}},null,null,null,null,null,null,{"$error":"#N/A"}]
[null,null,{"$f":"VLOOKUP($B4147,'Ad Week Dates'!$A:$E,4,FALSE)","v":{"$error":"#N/A"}},{"$f":"VLOOKUP($B4147,'Ad Week Dates'!$A:$E,2,FALSE)","v":{"$error":"#N/A"}},{"$f":"VLOOKUP($B4147,'Ad Week Dates'!$A:$E,3,FALSE)","v":{"$error":"#N/A"}},null,null,null,null,null,null,{"$error":"#N/A"}]
[null,null,{"$f":"VLOOKUP($B4148,'Ad Week Dates'!$A:$E,4,FALSE)","v":{"$error":"#N/A"}},{"$f":"VLOOKUP($B4148,'Ad Week Dates'!$A:$E,2,FALSE)","v":{"$error":"#N/A"}},{"$f":"VLOOKUP($B4148,'Ad Week Dates'!$A:$E,3,FALSE)","v":{"$error":"#N/A"}},null,null,null,null,null,null,{"$error":"#N/A"}]
[null,null,{"$f":"VLOOKUP($B4149,'Ad Week Dates'!$A:$E,4,FALSE)","v":{"$error":"#N/A"}},{"$f":"VLOOKUP($B4149,'Ad Week Dates'!$A:$E,2,FALSE)","v":{"$error":"#N/A"}},{"$f":"VLOOKUP($B4149,'Ad Week Dates'!$A:$E,3,FALSE)","v":{"$error":"#N/A"}},null,null,null,null,null,null,{"$error":"#N/A"}]
[null,null,{"$f":"VLOOKUP($B4150,'Ad Week Dates'!$A:$E,4,FALSE)","v":{"$error":"#N/A"}},{"$f":"VLOOKUP($B4150,'Ad Week Dates'!$A:$E,2,FALSE)","v":{"$error":"#N/A"}},{"$f":"VLOOKUP($B4150,'Ad Week Dates'!$A:$E,3,FALSE)","v":{"$error":"#N/A"}},null,null,null,null,null,null,{"$error":"#N/A"}]
[null,null,{"$f":"VLOOKUP($B4151,'Ad Week Dates'!$A:$E,4,FALSE)","v":{"$error":"#N/A"}},{"$f":"VLOOKUP($B4151,'Ad Week Dates'!$A:$E,2,FALSE)","v":{"$error":"#N/A"}},{"$f":"VLOOKUP($B4151,'Ad Week Dates'!$A:$E,3,FALSE)","v":{"$error":"#N/A"}},null,null,null,null,null,null,{"$error":"#N/A"}]
[null,null,{"$f":"VLOOKUP($B4152,'Ad Week Dates'!$A:$E,4,FALSE)","v":{"$error":"#N/A"}},{"$f":"VLOOKUP($B4152,'Ad Week Dates'!$A:$E,2,FALSE)","v":{"$error":"#N/A"}},{"$f":"VLOOKUP($B4152,'Ad Week Dates'!$A:$E,3,FALSE)","v":{"$error":"#N/A"}},null,null,null,null,null,null,{"$error":"#N/A"}]
[null,null,{"$f":"VLOOKUP($B4153,'Ad Week Dates'!$A:$E,4,FALSE)","v":{"$error":"#N/A"}},{"$f":"VLOOKUP($B4153,'Ad Week Dates'!$A:$E,2,FALSE)","v":{"$error":"#N/A"}},{"$f":"VLOOKUP($B4153,'Ad Week Dates'!$A:$E,3,FALSE)","v":{"$error":"#N/A"}},null,null,null,null,null,null,{"$error":"#N/A"}]
[null,null,{"$f":"VLOOKUP($B4154,'Ad Week Dates'!$A:$E,4,FALSE)","v":{"$error":"#N/A"}},{"$f":"VLOOKUP($B4154,'Ad Week Dates'!$A:$E,2,FALSE)","v":{"$error":"#N/A"}},{"$f":"VLOOKUP($B4154,'Ad Week Dates'!$A:$E,3,FALSE)","v":{"$error":"#N/A"}},null,null,null,null,null,null,{"$error":"#N/A"}]
[null,null,{"$f":"VLOOKUP($B4155,'Ad Week Dates'!$A:$E,4,FALSE)","v":{"$error":"#N/A"}},{"$f":"VLOOKUP($B4155,'Ad Week Dates'!$A:$E,2,FALSE)","v":{"$error":"#N/A"}},{"$f":"VLOOKUP($B4155,'Ad Week Dates'!$A:$E,3,FALSE)","v":{"$error":"#N/A"}},null,null,null,null,null,null,{"$error":"#N/A"}]
[null,null,{"$f":"VLOOKUP($B4156,'Ad Week Dates'!$A:$E,4,FALSE)","v":{"$error":"#N/A"}},{"$f":"VLOOKUP($B4156,'Ad Week Dates'!$A:$E,2,FALSE)","v":{"$error":"#N/A"}},{"$f":"VLOOKUP($B4156,'Ad Week Dates'!$A:$E,3,FALSE)","v":{"$error":"#N/A"}},null,null,null,null,null,null,{"$error":"#N/A"}]
[null,null,{"$f":"VLOOKUP($B4157,'Ad Week Dates'!$A:$E,4,FALSE)","v":{"$error":"#N/A"}},{"$f":"VLOOKUP($B4157,'Ad Week Dates'!$A:$E,2,FALSE)","v":{"$error":"#N/A"}},{"$f":"VLOOKUP($B4157,'Ad Week Dates'!$A:$E,3,FALSE)","v":{"$error":"#N/A"}},null,null,null,null,null,null,{"$error":"#N/A"}]
[null,null,{"$f":"VLOOKUP($B4158,'Ad Week Dates'!$A:$E,4,FALSE)","v":{"$error":"#N/A"}},{"$f":"VLOOKUP($B4158,'Ad Week Dates'!$A:$E,2,FALSE)","v":{"$error":"#N/A"}},{"$f":"VLOOKUP($B4158,'Ad Week Dates'!$A:$E,3,FALSE)","v":{"$error":"#N/A"}},null,null,null,null,null,null,{"$error":"#N/A"}]
[null,null,{"$f":"VLOOKUP($B4159,'Ad Week Dates'!$A:$E,4,FALSE)","v":{"$error":"#N/A"}},{"$f":"VLOOKUP($B4159,'Ad Week Dates'!$A:$E,2,FALSE)","v":{"$error":"#N/A"}},{"$f":"VLOOKUP($B4159,'Ad Week Dates'!$A:$E,3,FALSE)","v":{"$error":"#N/A"}},null,null,null,null,null,null,{"$error":"#N/A"}]
[null,null,{"$f":"VLOOKUP($B4160,'Ad Week Dates'!$A:$E,4,FALSE)","v":{"$error":"#N/A"}},{"$f":"VLOOKUP($B4160,'Ad Week Dates'!$A:$E,2,FALSE)","v":{"$error":"#N/A"}},{"$f":"VLOOKUP($B4160,'Ad Week Dates'!$A:$E,3,FALSE)","v":{"$error":"#N/A"}},null,null,null,null,null,null,{"$error":"#N/A"}]
[null,null,{"$f":"VLOOKUP($B4161,'Ad Week Dates'!$A:$E,4,FALSE)","v":{"$error":"#N/A"}},{"$f":"VLOOKUP($B4161,'Ad Week Dates'!$A:$E,2,FALSE)","v":{"$error":"#N/A"}},{"$f":"VLOOKUP($B4161,'Ad Week Dates'!$A:$E,3,FALSE)","v":{"$error":"#N/A"}},null,null,null,null,null,null,{"$error":"#N/A"}]
[null,null,{"$f":"VLOOKUP($B4162,'Ad Week Dates'!$A:$E,4,FALSE)","v":{"$error":"#N/A"}},{"$f":"VLOOKUP($B4162,'Ad Week Dates'!$A:$E,2,FALSE)","v":{"$error":"#N/A"}},{"$f":"VLOOKUP($B4162,'Ad Week Dates'!$A:$E,3,FALSE)","v":{"$error":"#N/A"}},null,null,null,null,null,null,{"$error":"#N/A"}]
[null,null,{"$f":"VLOOKUP($B4163,'Ad Week Dates'!$A:$E,4,FALSE)","v":{"$error":"#N/A"}},{"$f":"VLOOKUP($B4163,'Ad Week Dates'!$A:$E,2,FALSE)","v":{"$error":"#N/A"}},{"$f":"VLOOKUP($B4163,'Ad Week Dates'!$A:$E,3,FALSE)","v":{"$error":"#N/A"}},null,null,null,null,null,null,{"$error":"#N/A"}]
[null,null,{"$f":"VLOOKUP($B4164,'Ad Week Dates'!$A:$E,4,FALSE)","v":{"$error":"#N/A"}},{"$f":"VLOOKUP($B4164,'Ad Week Dates'!$A:$E,2,FALSE)","v":{"$error":"#N/A"}},{"$f":"VLOOKUP($B4164,'Ad Week Dates'!$A:$E,3,FALSE)","v":{"$error":"#N/A"}},null,null,null,null,null,null,{"$error":"#N/A"}]
[null,null,{"$f":"VLOOKUP($B4165,'Ad Week Dates'!$A:$E,4,FALSE)","v":{"$error":"#N/A"}},{"$f":"VLOOKUP($B4165,'Ad Week Dates'!$A:$E,2,FALSE)","v":{"$error":"#N/A"}},{"$f":"VLOOKUP($B4165,'Ad Week Dates'!$A:$E,3,FALSE)","v":{"$error":"#N/A"}},null,null,null,null,null,null,{"$error":"#N/A"}]
[null,null,{"$f":"VLOOKUP($B4166,'Ad Week Dates'!$A:$E,4,FALSE)","v":{"$error":"#N/A"}},{"$f":"VLOOKUP($B4166,'Ad Week Dates'!$A:$E,2,FALSE)","v":{"$error":"#N/A"}},{"$f":"VLOOKUP($B4166,'Ad Week Dates'!$A:$E,3,FALSE)","v":{"$error":"#N/A"}},null,null,null,null,null,null,{"$f":"IF(ISNUMBER(J4166), J4166 - K4166, VALUE(_xlfn.TEXTBEFORE(J4166, \"-\")) - VALUE(_xlfn.TEXTBEFORE(K4166, \"-\")))","v":{"$error":"#N/A"}}]
[null,null,{"$f":"VLOOKUP($B4167,'Ad Week Dates'!$A:$E,4,FALSE)","v":{"$error":"#N/A"}},{"$f":"VLOOKUP($B4167,'Ad Week Dates'!$A:$E,2,FALSE)","v":{"$error":"#N/A"}},{"$f":"VLOOKUP($B4167,'Ad Week Dates'!$A:$E,3,FALSE)","v":{"$error":"#N/A"}},null,null,null,null,null,null,{"$error":"#N/A"}]
[null,null,{"$f":"VLOOKUP($B4168,'Ad Week Dates'!$A:$E,4,FALSE)","v":{"$error":"#N/A"}},{"$f":"VLOOKUP($B4168,'Ad Week Dates'!$A:$E,2,FALSE)","v":{"$error":"#N/A"}},{"$f":"VLOOKUP($B4168,'Ad Week Dates'!$A:$E,3,FALSE)","v":{"$error":"#N/A"}},null,null,null,null,null,null,{"$error":"#N/A"}]
[null,null,{"$f":"VLOOKUP($B4169,'Ad Week Dates'!$A:$E,4,FALSE)","v":{"$error":"#N/A"}},{"$f":"VLOOKUP($B4169,'Ad Week Dates'!$A:$E,2,FALSE)","v":{"$error":"#N/A"}},{"$f":"VLOOKUP($B4169,'Ad Week Dates'!$A:$E,3,FALSE)","v":{"$error":"#N/A"}},null,null,null,null,null,null,{"$error":"#N/A"}]
[null,null,{"$f":"VLOOKUP($B4170,'Ad Week Dates'!$A:$E,4,FALSE)","v":{"$error":"#N/A"}},{"$f":"VLOOKUP($B4170,'Ad Week Dates'!$A:$E,2,FALSE)","v":{"$error":"#N/A"}},{"$f":"VLOOKUP($B4170,'Ad Week Dates'!$A:$E,3,FALSE)","v":{"$error":"#N/A"}},null,null,null,null,null,null,{"$error":"#N/A"}]
[null,null,{"$f":"VLOOKUP($B4171,'Ad Week Dates'!$A:$E,4,FALSE)","v":{"$error":"#N/A"}},{"$f":"VLOOKUP($B4171,'Ad Week Dates'!$A:$E,2,FALSE)","v":{"$error":"#N/A"}},{"$f":"VLOOKUP($B4171,'Ad Week Dates'!$A:$E,3,FALSE)","v":{"$error":"#N/A"}},null,null,null,null,null,null,{"$error":"#N/A"}]
[null,null,{"$f":"VLOOKUP($B4172,'Ad Week Dates'!$A:$E,4,FALSE)","v":{"$error":"#N/A"}},{"$f":"VLOOKUP($B4172,'Ad Week Dates'!$A:$E,2,FALSE)","v":{"$error":"#N/A"}},{"$f":"VLOOKUP($B4172,'Ad Week Dates'!$A:$E,3,FALSE)","v":{"$error":"#N/A"}},null,null,null,null,null,null,{"$error":"#N/A"}]
[null,null,{"$f":"VLOOKUP($B4173,'Ad Week Dates'!$A:$E,4,FALSE)","v":{"$error":"#N/A"}},{"$f":"VLOOKUP($B4173,'Ad Week Dates'!$A:$E,2,FALSE)","v":{"$error":"#N/A"}},{"$f":"VLOOKUP($B4173,'Ad Week Dates'!$A:$E,3,FALSE)","v":{"$error":"#N/A"}},null,null,null,null,null,null,{"$error":"#N/A"}]
[null,null,{"$f":"VLOOKUP($B4174,'Ad Week Dates'!$A:$E,4,FALSE)","v":{"$error":"#N/A"}},{"$f":"VLOOKUP($B4174,'Ad Week Dates'!$A:$E,2,FALSE)","v":{"$error":"#N/A"}},{"$f":"VLOOKUP($B4174,'Ad Week Dates'!$A:$E,3,FALSE)","v":{"$error":"#N/A"}},null,null,null,null,null,null,{"$error":"#N/A"}]
[null,null,{"$f":"VLOOKUP($B4175,'Ad Week Dates'!$A:$E,4,FALSE)","v":{"$error":"#N/A"}},{"$f":"VLOOKUP($B4175,'Ad Week Dates'!$A:$E,2,FALSE)","v":{"$error":"#N/A"}},{"$f":"VLOOKUP($B4175,'Ad Week Dates'!$A:$E,3,FALSE)","v":{"$error":"#N/A"}},null,null,null,null,null,null,{"$error":"#N/A"}]
[null,null,{"$f":"VLOOKUP($B4176,'Ad Week Dates'!$A:$E,4,FALSE)","v":{"$error":"#N/A"}},{"$f":"VLOOKUP($B4176,'Ad Week Dates'!$A:$E,2,FALSE)","v":{"$error":"#N/A"}},{"$f":"VLOOKUP($B4176,'Ad Week Dates'!$A:$E,3,FALSE)","v":{"$error":"#N/A"}},null,null,null,null,null,null,{"$error":"#N/A"}]
[null,null,{"$f":"VLOOKUP($B4177,'Ad Week Dates'!$A:$E,4,FALSE)","v":{"$error":"#N/A"}},{"$f":"VLOOKUP($B4177,'Ad Week Dates'!$A:$E,2,FALSE)","v":{"$error":"#N/A"}},{"$f":"VLOOKUP($B4177,'Ad Week Dates'!$A:$E,3,FALSE)","v":{"$error":"#N/A"}},null,null,null,null,null,null,{"$error":"#N/A"}]
[null,null,{"$f":"VLOOKUP($B4178,'Ad Week Dates'!$A:$E,4,FALSE)","v":{"$error":"#N/A"}},{"$f":"VLOOKUP($B4178,'Ad Week Dates'!$A:$E,2,FALSE)","v":{"$error":"#N/A"}},{"$f":"VLOOKUP($B4178,'Ad Week Dates'!$A:$E,3,FALSE)","v":{"$error":"#N/A"}},null,null,null,null,null,null,{"$error":"#N/A"}]
[null,null,{"$f":"VLOOKUP($B4179,'Ad Week Dates'!$A:$E,4,FALSE)","v":{"$error":"#N/A"}},{"$f":"VLOOKUP($B4179,'Ad Week Dates'!$A:$E,2,FALSE)","v":{"$error":"#N/A"}},{"$f":"VLOOKUP($B4179,'Ad Week Dates'!$A:$E,3,FALSE)","v":{"$error":"#N/A"}},null,null,null,null,null,null,{"$error":"#N/A"}]
[null,null,{"$f":"VLOOKUP($B4180,'Ad Week Dates'!$A:$E,4,FALSE)","v":{"$error":"#N/A"}},{"$f":"VLOOKUP($B4180,'Ad Week Dates'!$A:$E,2,FALSE)","v":{"$error":"#N/A"}},{"$f":"VLOOKUP($B4180,'Ad Week Dates'!$A:$E,3,FALSE)","v":{"$error":"#N/A"}},null,null,null,null,null,null,{"$error":"#N/A"}]
[null,null,{"$f":"VLOOKUP($B4181,'Ad Week Dates'!$A:$E,4,FALSE)","v":{"$error":"#N/A"}},{"$f":"VLOOKUP($B4181,'Ad Week Dates'!$A:$E,2,FALSE)","v":{"$error":"#N/A"}},{"$f":"VLOOKUP($B4181,'Ad Week Dates'!$A:$E,3,FALSE)","v":{"$error":"#N/A"}},null,null,null,null,null,null,{"$error":"#N/A"}]
[null,null,{"$f":"VLOOKUP($B4182,'Ad Week Dates'!$A:$E,4,FALSE)","v":{"$error":"#N/A"}},{"$f":"VLOOKUP($B4182,'Ad Week Dates'!$A:$E,2,FALSE)","v":{"$error":"#N/A"}},{"$f":"VLOOKUP($B4182,'Ad Week Dates'!$A:$E,3,FALSE)","v":{"$error":"#N/A"}},null,null,null,null,null,null,{"$error":"#N/A"}]
[null,null,{"$f":"VLOOKUP($B4183,'Ad Week Dates'!$A:$E,4,FALSE)","v":{"$error":"#N/A"}},{"$f":"VLOOKUP($B4183,'Ad Week Dates'!$A:$E,2,FALSE)","v":{"$error":"#N/A"}},{"$f":"VLOOKUP($B4183,'Ad Week Dates'!$A:$E,3,FALSE)","v":{"$error":"#N/A"}},null,null,null,null,null,null,{"$error":"#N/A"}]
[null,null,{"$f":"VLOOKUP($B4184,'Ad Week Dates'!$A:$E,4,FALSE)","v":{"$error":"#N/A"}},{"$f":"VLOOKUP($B4184,'Ad Week Dates'!$A:$E,2,FALSE)","v":{"$error":"#N/A"}},{"$f":"VLOOKUP($B4184,'Ad Week Dates'!$A:$E,3,FALSE)","v":{"$error":"#N/A"}},null,null,null,null,null,null,{"$error":"#N/A"}]
[null,null,{"$f":"VLOOKUP($B4185,'Ad Week Dates'!$A:$E,4,FALSE)","v":{"$error":"#N/A"}},{"$f":"VLOOKUP($B4185,'Ad Week Dates'!$A:$E,2,FALSE)","v":{"$error":"#N/A"}},{"$f":"VLOOKUP($B4185,'Ad Week Dates'!$A:$E,3,FALSE)","v":{"$error":"#N/A"}},null,null,null,null,null,null,{"$error":"#N/A"}]
[null,null,{"$f":"VLOOKUP($B4186,'Ad Week Dates'!$A:$E,4,FALSE)","v":{"$error":"#N/A"}},{"$f":"VLOOKUP($B4186,'Ad Week Dates'!$A:$E,2,FALSE)","v":{"$error":"#N/A"}},{"$f":"VLOOKUP($B4186,'Ad Week Dates'!$A:$E,3,FALSE)","v":{"$error":"#N/A"}},null,null,null,null,null,null,{"$error":"#N/A"}]
[null,null,{"$f":"VLOOKUP($B4187,'Ad Week Dates'!$A:$E,4,FALSE)","v":{"$error":"#N/A"}},{"$f":"VLOOKUP($B4187,'Ad Week Dates'!$A:$E,2,FALSE)","v":{"$error":"#N/A"}},{"$f":"VLOOKUP($B4187,'Ad Week Dates'!$A:$E,3,FALSE)","v":{"$error":"#N/A"}},null,null,null,null,null,null,{"$error":"#N/A"}]
[null,null,{"$f":"VLOOKUP($B4188,'Ad Week Dates'!$A:$E,4,FALSE)","v":{"$error":"#N/A"}},{"$f":"VLOOKUP($B4188,'Ad Week Dates'!$A:$E,2,FALSE)","v":{"$error":"#N/A"}},{"$f":"VLOOKUP($B4188,'Ad Week Dates'!$A:$E,3,FALSE)","v":{"$error":"#N/A"}},null,null,null,null,null,null,{"$error":"#N/A"}]
[null,null,{"$f":"VLOOKUP($B4189,'Ad Week Dates'!$A:$E,4,FALSE)","v":{"$error":"#N/A"}},{"$f":"VLOOKUP($B4189,'Ad Week Dates'!$A:$E,2,FALSE)","v":{"$error":"#N/A"}},{"$f":"VLOOKUP($B4189,'Ad Week Dates'!$A:$E,3,FALSE)","v":{"$error":"#N/A"}},null,null,null,null,null,null,{"$error":"#N/A"}]
[null,null,{"$f":"VLOOKUP($B4190,'Ad Week Dates'!$A:$E,4,FALSE)","v":{"$error":"#N/A"}},{"$f":"VLOOKUP($B4190,'Ad Week Dates'!$A:$E,2,FALSE)","v":{"$error":"#N/A"}},{"$f":"VLOOKUP($B4190,'Ad Week Dates'!$A:$E,3,FALSE)","v":{"$error":"#N/A"}},null,null,null,null,null,null,{"$error":"#N/A"}]
[null,null,{"$f":"VLOOKUP($B4191,'Ad Week Dates'!$A:$E,4,FALSE)","v":{"$error":"#N/A"}},{"$f":"VLOOKUP($B4191,'Ad Week Dates'!$A:$E,2,FALSE)","v":{"$error":"#N/A"}},{"$f":"VLOOKUP($B4191,'Ad Week Dates'!$A:$E,3,FALSE)","v":{"$error":"#N/A"}},null,null,null,null,null,null,{"$error":"#N/A"}]
[null,null,{"$f":"VLOOKUP($B4192,'Ad Week Dates'!$A:$E,4,FALSE)","v":{"$error":"#N/A"}},{"$f":"VLOOKUP($B4192,'Ad Week Dates'!$A:$E,2,FALSE)","v":{"$error":"#N/A"}},{"$f":"VLOOKUP($B4192,'Ad Week Dates'!$A:$E,3,FALSE)","v":{"$error":"#N/A"}},null,null,null,null,null,null,{"$error":"#N/A"}]
[null,null,{"$f":"VLOOKUP($B4193,'Ad Week Dates'!$A:$E,4,FALSE)","v":{"$error":"#N/A"}},{"$f":"VLOOKUP($B4193,'Ad Week Dates'!$A:$E,2,FALSE)","v":{"$error":"#N/A"}},{"$f":"VLOOKUP($B4193,'Ad Week Dates'!$A:$E,3,FALSE)","v":{"$error":"#N/A"}},null,null,null,null,null,null,{"$error":"#N/A"}]
[null,null,{"$f":"VLOOKUP($B4194,'Ad Week Dates'!$A:$E,4,FALSE)","v":{"$error":"#N/A"}},{"$f":"VLOOKUP($B4194,'Ad Week Dates'!$A:$E,2,FALSE)","v":{"$error":"#N/A"}},{"$f":"VLOOKUP($B4194,'Ad Week Dates'!$A:$E,3,FALSE)","v":{"$error":"#N/A"}},null,null,null,null,null,null,{"$error":"#N/A"}]
[null,null,{"$f":"VLOOKUP($B4195,'Ad Week Dates'!$A:$E,4,FALSE)","v":{"$error":"#N/A"}},{"$f":"VLOOKUP($B4195,'Ad Week Dates'!$A:$E,2,FALSE)","v":{"$error":"#N/A"}},{"$f":"VLOOKUP($B4195,'Ad Week Dates'!$A:$E,3,FALSE)","v":{"$error":"#N/A"}},null,null,null,null,null,null,{"$error":"#N/A"}]
[null,null,{"$f":"VLOOKUP($B4196,'Ad Week Dates'!$A:$E,4,FALSE)","v":{"$error":"#N/A"}},{"$f":"VLOOKUP($B4196,'Ad Week Dates'!$A:$E,2,FALSE)","v":{"$error":"#N/A"}},{"$f":"VLOOKUP($B4196,'Ad Week Dates'!$A:$E,3,FALSE)","v":{"$error":"#N/A"}},null,null,null,null,null,null,{"$error":"#N/A"}]
[null,null,{"$f":"VLOOKUP($B4197,'Ad Week Dates'!$A:$E,4,FALSE)","v":{"$error":"#N/A"}},{"$f":"VLOOKUP($B4197,'Ad Week Dates'!$A:$E,2,FALSE)","v":{"$error":"#N/A"}},{"$f":"VLOOKUP($B4197,'Ad Week Dates'!$A:$E,3,FALSE)","v":{"$error":"#N/A"}},null,null,null,null,null,null,{"$error":"#N/A"}]
[null,null,{"$f":"VLOOKUP($B4198,'Ad Week Dates'!$A:$E,4,FALSE)","v":{"$error":"#N/A"}},{"$f":"VLOOKUP($B4198,'Ad Week Dates'!$A:$E,2,FALSE)","v":{"$error":"#N/A"}},{"$f":"VLOOKUP($B4198,'Ad Week Dates'!$A:$E,3,FALSE)","v":{"$error":"#N/A"}},null,null,null,null,null,null,{"$error":"#N/A"}]
[null,null,{"$f":"VLOOKUP($B4199,'Ad Week Dates'!$A:$E,4,FALSE)","v":{"$error":"#N/A"}},{"$f":"VLOOKUP($B4199,'Ad Week Dates'!$A:$E,2,FALSE)","v":{"$error":"#N/A"}},{"$f":"VLOOKUP($B4199,'Ad Week Dates'!$A:$E,3,FALSE)","v":{"$error":"#N/A"}},null,null,null,null,null,null,{"$error":"#N/A"}]
[null,null,{"$f":"VLOOKUP($B4200,'Ad Week Dates'!$A:$E,4,FALSE)","v":{"$error":"#N/A"}},{"$f":"VLOOKUP($B4200,'Ad Week Dates'!$A:$E,2,FALSE)","v":{"$error":"#N/A"}},{"$f":"VLOOKUP($B4200,'Ad Week Dates'!$A:$E,3,FALSE)","v":{"$error":"#N/A"}},null,null,null,null,null,null,{"$error":"#N/A"}]
[null,null,{"$f":"VLOOKUP($B4201,'Ad Week Dates'!$A:$E,4,FALSE)","v":{"$error":"#N/A"}},{"$f":"VLOOKUP($B4201,'Ad Week Dates'!$A:$E,2,FALSE)","v":{"$error":"#N/A"}},{"$f":"VLOOKUP($B4201,'Ad Week Dates'!$A:$E,3,FALSE)","v":{"$error":"#N/A"}},null,null,null,null,null,null,{"$error":"#N/A"}]
[null,null,{"$f":"VLOOKUP($B4202,'Ad Week Dates'!$A:$E,4,FALSE)","v":{"$error":"#N/A"}},{"$f":"VLOOKUP($B4202,'Ad Week Dates'!$A:$E,2,FALSE)","v":{"$error":"#N/A"}},{"$f":"VLOOKUP($B4202,'Ad Week Dates'!$A:$E,3,FALSE)","v":{"$error":"#N/A"}},null,null,null,null,null,null,{"$error":"#N/A"}]
[null,null,{"$f":"VLOOKUP($B4203,'Ad Week Dates'!$A:$E,4,FALSE)","v":{"$error":"#N/A"}},{"$f":"VLOOKUP($B4203,'Ad Week Dates'!$A:$E,2,FALSE)","v":{"$error":"#N/A"}},{"$f":"VLOOKUP($B4203,'Ad Week Dates'!$A:$E,3,FALSE)","v":{"$error":"#N/A"}},null,null,null,null,null,null,{"$error":"#N/A"}]
[null,null,{"$f":"VLOOKUP($B4204,'Ad Week Dates'!$A:$E,4,FALSE)","v":{"$error":"#N/A"}},{"$f":"VLOOKUP($B4204,'Ad Week Dates'!$A:$E,2,FALSE)","v":{"$error":"#N/A"}},{"$f":"VLOOKUP($B4204,'Ad Week Dates'!$A:$E,3,FALSE)","v":{"$error":"#N/A"}},null,null,null,null,null,null,{"$error":"#N/A"}]
[null,null,{"$f":"VLOOKUP($B4205,'Ad Week Dates'!$A:$E,4,FALSE)","v":{"$error":"#N/A"}},{"$f":"VLOOKUP($B4205,'Ad Week Dates'!$A:$E,2,FALSE)","v":{"$error":"#N/A"}},{"$f":"VLOOKUP($B4205,'Ad Week Dates'!$A:$E,3,FALSE)","v":{"$error":"#N/A"}},null,null,null,null,null,null,{"$error":"#N/A"}]
[null,null,{"$f":"VLOOKUP($B4206,'Ad Week Dates'!$A:$E,4,FALSE)","v":{"$error":"#N/A"}},{"$f":"VLOOKUP($B4206,'Ad Week Dates'!$A:$E,2,FALSE)","v":{"$error":"#N/A"}},{"$f":"VLOOKUP($B4206,'Ad Week Dates'!$A:$E,3,FALSE)","v":{"$error":"#N/A"}},null,null,null,null,null,null,{"$error":"#N/A"}]
[null,null,{"$f":"VLOOKUP($B4207,'Ad Week Dates'!$A:$E,4,FALSE)","v":{"$error":"#N/A"}},{"$f":"VLOOKUP($B4207,'Ad Week Dates'!$A:$E,2,FALSE)","v":{"$error":"#N/A"}},{"$f":"VLOOKUP($B4207,'Ad Week Dates'!$A:$E,3,FALSE)","v":{"$error":"#N/A"}},null,null,null,null,null,null,{"$error":"#N/A"}]
[null,null,{"$f":"VLOOKUP($B4208,'Ad Week Dates'!$A:$E,4,FALSE)","v":{"$error":"#N/A"}},{"$f":"VLOOKUP($B4208,'Ad Week Dates'!$A:$E,2,FALSE)","v":{"$error":"#N/A"}},{"$f":"VLOOKUP($B4208,'Ad Week Dates'!$A:$E,3,FALSE)","v":{"$error":"#N/A"}},null,null,null,null,null,null,{"$error":"#N/A"}]
[null,null,{"$f":"VLOOKUP($B4209,'Ad Week Dates'!$A:$E,4,FALSE)","v":{"$error":"#N/A"}},{"$f":"VLOOKUP($B4209,'Ad Week Dates'!$A:$E,2,FALSE)","v":{"$error":"#N/A"}},{"$f":"VLOOKUP($B4209,'Ad Week Dates'!$A:$E,3,FALSE)","v":{"$error":"#N/A"}},null,null,null,null,null,null,{"$error":"#N/A"}]
[null,null,{"$f":"VLOOKUP($B4210,'Ad Week Dates'!$A:$E,4,FALSE)","v":{"$error":"#N/A"}},{"$f":"VLOOKUP($B4210,'Ad Week Dates'!$A:$E,2,FALSE)","v":{"$error":"#N/A"}},{"$f":"VLOOKUP($B4210,'Ad Week Dates'!$A:$E,3,FALSE)","v":{"$error":"#N/A"}},null,null,null,null,null,null,{"$error":"#N/A"}]
[null,null,{"$f":"VLOOKUP($B4211,'Ad Week Dates'!$A:$E,4,FALSE)","v":{"$error":"#N/A"}},{"$f":"VLOOKUP($B4211,'Ad Week Dates'!$A:$E,2,FALSE)","v":{"$error":"#N/A"}},{"$f":"VLOOKUP($B4211,'Ad Week Dates'!$A:$E,3,FALSE)","v":{"$error":"#N/A"}},null,null,null,null,null,null,{"$error":"#N/A"}]
[null,null,{"$f":"VLOOKUP($B4212,'Ad Week Dates'!$A:$E,4,FALSE)","v":{"$error":"#N/A"}},{"$f":"VLOOKUP($B4212,'Ad Week Dates'!$A:$E,2,FALSE)","v":{"$error":"#N/A"}},{"$f":"VLOOKUP($B4212,'Ad Week Dates'!$A:$E,3,FALSE)","v":{"$error":"#N/A"}},null,null,null,null,null,null,{"$error":"#N/A"}]
[null,null,{"$f":"VLOOKUP($B4213,'Ad Week Dates'!$A:$E,4,FALSE)","v":{"$error":"#N/A"}},{"$f":"VLOOKUP($B4213,'Ad Week Dates'!$A:$E,2,FALSE)","v":{"$error":"#N/A"}},{"$f":"VLOOKUP($B4213,'Ad Week Dates'!$A:$E,3,FALSE)","v":{"$error":"#N/A"}},null,null,null,null,null,null,{"$error":"#N/A"}]
[null,null,{"$f":"VLOOKUP($B4214,'Ad Week Dates'!$A:$E,4,FALSE)","v":{"$error":"#N/A"}},{"$f":"VLOOKUP($B4214,'Ad Week Dates'!$A:$E,2,FALSE)","v":{"$error":"#N/A"}},{"$f":"VLOOKUP($B4214,'Ad Week Dates'!$A:$E,3,FALSE)","v":{"$error":"#N/A"}},null,null,null,null,null,null,{"$error":"#N/A"}]
[null,null,{"$f":"VLOOKUP($B4215,'Ad Week Dates'!$A:$E,4,FALSE)","v":{"$error":"#N/A"}},{"$f":"VLOOKUP($B4215,'Ad Week Dates'!$A:$E,2,FALSE)","v":{"$error":"#N/A"}},{"$f":"VLOOKUP($B4215,'Ad Week Dates'!$A:$E,3,FALSE)","v":{"$error":"#N/A"}},null,null,null,null,null,null,{"$error":"#N/A"}]
[null,null,{"$f":"VLOOKUP($B4216,'Ad Week Dates'!$A:$E,4,FALSE)","v":{"$error":"#N/A"}},{"$f":"VLOOKUP($B4216,'Ad Week Dates'!$A:$E,2,FALSE)","v":{"$error":"#N/A"}},{"$f":"VLOOKUP($B4216,'Ad Week Dates'!$A:$E,3,FALSE)","v":{"$error":"#N/A"}},null,null,null,null,null,null,{"$error":"#N/A"}]
[null,null,{"$f":"VLOOKUP($B4217,'Ad Week Dates'!$A:$E,4,FALSE)","v":{"$error":"#N/A"}},{"$f":"VLOOKUP($B4217,'Ad Week Dates'!$A:$E,2,FALSE)","v":{"$error":"#N/A"}},{"$f":"VLOOKUP($B4217,'Ad Week Dates'!$A:$E,3,FALSE)","v":{"$error":"#N/A"}},null,null,null,null,null,null,{"$error":"#N/A"}]
[null,null,{"$f":"VLOOKUP($B4218,'Ad Week Dates'!$A:$E,4,FALSE)","v":{"$error":"#N/A"}},{"$f":"VLOOKUP($B4218,'Ad Week Dates'!$A:$E,2,FALSE)","v":{"$error":"#N/A"}},{"$f":"VLOOKUP($B4218,'Ad Week Dates'!$A:$E,3,FALSE)","v":{"$error":"#N/A"}},null,null,null,null,null,null,{"$error":"#N/A"}]
[null,null,{"$f":"VLOOKUP($B4219,'Ad Week Dates'!$A:$E,4,FALSE)","v":{"$error":"#N/A"}},{"$f":"VLOOKUP($B4219,'Ad Week Dates'!$A:$E,2,FALSE)","v":{"$error":"#N/A"}},{"$f":"VLOOKUP($B4219,'Ad Week Dates'!$A:$E,3,FALSE)","v":{"$error":"#N/A"}},null,null,null,null,null,null,{"$error":"#N/A"}]
[null,null,{"$f":"VLOOKUP($B4220,'Ad Week Dates'!$A:$E,4,FALSE)","v":{"$error":"#N/A"}},{"$f":"VLOOKUP($B4220,'Ad Week Dates'!$A:$E,2,FALSE)","v":{"$error":"#N/A"}},{"$f":"VLOOKUP($B4220,'Ad Week Dates'!$A:$E,3,FALSE)","v":{"$error":"#N/A"}},null,null,null,null,null,null,{"$error":"#N/A"}]
[null,null,{"$f":"VLOOKUP($B4221,'Ad Week Dates'!$A:$E,4,FALSE)","v":{"$error":"#N/A"}},{"$f":"VLOOKUP($B4221,'Ad Week Dates'!$A:$E,2,FALSE)","v":{"$error":"#N/A"}},{"$f":"VLOOKUP($B4221,'Ad Week Dates'!$A:$E,3,FALSE)","v":{"$error":"#N/A"}},null,null,null,null,null,null,{"$error":"#N/A"}]
[null,null,{"$f":"VLOOKUP($B4222,'Ad Week Dates'!$A:$E,4,FALSE)","v":{"$error":"#N/A"}},{"$f":"VLOOKUP($B4222,'Ad Week Dates'!$A:$E,2,FALSE)","v":{"$error":"#N/A"}},{"$f":"VLOOKUP($B4222,'Ad Week Dates'!$A:$E,3,FALSE)","v":{"$error":"#N/A"}},null,null,null,null,null,null,{"$error":"#N/A"}]
[null,null,{"$f":"VLOOKUP($B4223,'Ad Week Dates'!$A:$E,4,FALSE)","v":{"$error":"#N/A"}},{"$f":"VLOOKUP($B4223,'Ad Week Dates'!$A:$E,2,FALSE)","v":{"$error":"#N/A"}},{"$f":"VLOOKUP($B4223,'Ad Week Dates'!$A:$E,3,FALSE)","v":{"$error":"#N/A"}},null,null,null,null,null,null,{"$error":"#N/A"}]
[null,null,{"$f":"VLOOKUP($B4224,'Ad Week Dates'!$A:$E,4,FALSE)","v":{"$error":"#N/A"}},{"$f":"VLOOKUP($B4224,'Ad Week Dates'!$A:$E,2,FALSE)","v":{"$error":"#N/A"}},{"$f":"VLOOKUP($B4224,'Ad Week Dates'!$A:$E,3,FALSE)","v":{"$error":"#N/A"}},null,null,null,null,null,null,{"$error":"#N/A"}]
[null,null,{"$f":"VLOOKUP($B4225,'Ad Week Dates'!$A:$E,4,FALSE)","v":{"$error":"#N/A"}},{"$f":"VLOOKUP($B4225,'Ad Week Dates'!$A:$E,2,FALSE)","v":{"$error":"#N/A"}},{"$f":"VLOOKUP($B4225,'Ad Week Dates'!$A:$E,3,FALSE)","v":{"$error":"#N/A"}},null,null,null,null,null,null,{"$error":"#N/A"}]
[null,null,{"$f":"VLOOKUP($B4226,'Ad Week Dates'!$A:$E,4,FALSE)","v":{"$error":"#N/A"}},{"$f":"VLOOKUP($B4226,'Ad Week Dates'!$A:$E,2,FALSE)","v":{"$error":"#N/A"}},{"$f":"VLOOKUP($B4226,'Ad Week Dates'!$A:$E,3,FALSE)","v":{"$error":"#N/A"}},null,null,null,null,null,null,{"$error":"#N/A"}]
[null,null,{"$f":"VLOOKUP($B4227,'Ad Week Dates'!$A:$E,4,FALSE)","v":{"$error":"#N/A"}},{"$f":"VLOOKUP($B4227,'Ad Week Dates'!$A:$E,2,FALSE)","v":{"$error":"#N/A"}},{"$f":"VLOOKUP($B4227,'Ad Week Dates'!$A:$E,3,FALSE)","v":{"$error":"#N/A"}},null,null,null,null,null,null,{"$error":"#N/A"}]
[null,null,{"$f":"VLOOKUP($B4228,'Ad Week Dates'!$A:$E,4,FALSE)","v":{"$error":"#N/A"}},{"$f":"VLOOKUP($B4228,'Ad Week Dates'!$A:$E,2,FALSE)","v":{"$error":"#N/A"}},{"$f":"VLOOKUP($B4228,'Ad Week Dates'!$A:$E,3,FALSE)","v":{"$error":"#N/A"}},null,null,null,null,null,null,{"$error":"#N/A"}]
[null,null,{"$f":"VLOOKUP($B4229,'Ad Week Dates'!$A:$E,4,FALSE)","v":{"$error":"#N/A"}},{"$f":"VLOOKUP($B4229,'Ad Week Dates'!$A:$E,2,FALSE)","v":{"$error":"#N/A"}},{"$f":"VLOOKUP($B4229,'Ad Week Dates'!$A:$E,3,FALSE)","v":{"$error":"#N/A"}},null,null,null,null,null,null,{"$error":"#N/A"}]
[null,null,{"$f":"VLOOKUP($B4230,'Ad Week Dates'!$A:$E,4,FALSE)","v":{"$error":"#N/A"}},{"$f":"VLOOKUP($B4230,'Ad Week Dates'!$A:$E,2,FALSE)","v":{"$error":"#N/A"}},{"$f":"VLOOKUP($B4230,'Ad Week Dates'!$A:$E,3,FALSE)","v":{"$error":"#N/A"}},null,null,null,null,null,null,{"$f":"IF(ISNUMBER(J4230), J4230 - K4230, VALUE(_xlfn.TEXTBEFORE(J4230, \"-\")) - VALUE(_xlfn.TEXTBEFORE(K4230, \"-\")))","v":{"$error":"#N/A"}}]
[null,null,{"$f":"VLOOKUP($B4231,'Ad Week Dates'!$A:$E,4,FALSE)","v":{"$error":"#N/A"}},{"$f":"VLOOKUP($B4231,'Ad Week Dates'!$A:$E,2,FALSE)","v":{"$error":"#N/A"}},{"$f":"VLOOKUP($B4231,'Ad Week Dates'!$A:$E,3,FALSE)","v":{"$error":"#N/A"}},null,null,null,null,null,null,{"$error":"#N/A"}]
[null,null,{"$f":"VLOOKUP($B4232,'Ad Week Dates'!$A:$E,4,FALSE)","v":{"$error":"#N/A"}},{"$f":"VLOOKUP($B4232,'Ad Week Dates'!$A:$E,2,FALSE)","v":{"$error":"#N/A"}},{"$f":"VLOOKUP($B4232,'Ad Week Dates'!$A:$E,3,FALSE)","v":{"$error":"#N/A"}},null,null,null,null,null,null,{"$error":"#N/A"}]
[null,null,{"$f":"VLOOKUP($B4233,'Ad Week Dates'!$A:$E,4,FALSE)","v":{"$error":"#N/A"}},{"$f":"VLOOKUP($B4233,'Ad Week Dates'!$A:$E,2,FALSE)","v":{"$error":"#N/A"}},{"$f":"VLOOKUP($B4233,'Ad Week Dates'!$A:$E,3,FALSE)","v":{"$error":"#N/A"}},null,null,null,null,null,null,{"$error":"#N/A"}]
[null,null,{"$f":"VLOOKUP($B4234,'Ad Week Dates'!$A:$E,4,FALSE)","v":{"$error":"#N/A"}},{"$f":"VLOOKUP($B4234,'Ad Week Dates'!$A:$E,2,FALSE)","v":{"$error":"#N/A"}},{"$f":"VLOOKUP($B4234,'Ad Week Dates'!$A:$E,3,FALSE)","v":{"$error":"#N/A"}},null,null,null,null,null,null,{"$error":"#N/A"}]
[null,null,{"$f":"VLOOKUP($B4235,'Ad Week Dates'!$A:$E,4,FALSE)","v":{"$error":"#N/A"}},{"$f":"VLOOKUP($B4235,'Ad Week Dates'!$A:$E,2,FALSE)","v":{"$error":"#N/A"}},{"$f":"VLOOKUP($B4235,'Ad Week Dates'!$A:$E,3,FALSE)","v":{"$error":"#N/A"}},null,null,null,null,null,null,{"$error":"#N/A"}]
[null,null,{"$f":"VLOOKUP($B4236,'Ad Week Dates'!$A:$E,4,FALSE)","v":{"$error":"#N/A"}},{"$f":"VLOOKUP($B4236,'Ad Week Dates'!$A:$E,2,FALSE)","v":{"$error":"#N/A"}},{"$f":"VLOOKUP($B4236,'Ad Week Dates'!$A:$E,3,FALSE)","v":{"$error":"#N/A"}},null,null,null,null,null,null,{"$error":"#N/A"}]
[null,null,{"$f":"VLOOKUP($B4237,'Ad Week Dates'!$A:$E,4,FALSE)","v":{"$error":"#N/A"}},{"$f":"VLOOKUP($B4237,'Ad Week Dates'!$A:$E,2,FALSE)","v":{"$error":"#N/A"}},{"$f":"VLOOKUP($B4237,'Ad Week Dates'!$A:$E,3,FALSE)","v":{"$error":"#N/A"}},null,null,null,null,null,null,{"$error":"#N/A"}]
[null,null,{"$f":"VLOOKUP($B4238,'Ad Week Dates'!$A:$E,4,FALSE)","v":{"$error":"#N/A"}},{"$f":"VLOOKUP($B4238,'Ad Week Dates'!$A:$E,2,FALSE)","v":{"$error":"#N/A"}},{"$f":"VLOOKUP($B4238,'Ad Week Dates'!$A:$E,3,FALSE)","v":{"$error":"#N/A"}},null,null,null,null,null,null,{"$error":"#N/A"}]
[null,null,{"$f":"VLOOKUP($B4239,'Ad Week Dates'!$A:$E,4,FALSE)","v":{"$error":"#N/A"}},{"$f":"VLOOKUP($B4239,'Ad Week Dates'!$A:$E,2,FALSE)","v":{"$error":"#N/A"}},{"$f":"VLOOKUP($B4239,'Ad Week Dates'!$A:$E,3,FALSE)","v":{"$error":"#N/A"}},null,null,null,null,null,null,{"$error":"#N/A"}]
[null,null,{"$f":"VLOOKUP($B4240,'Ad Week Dates'!$A:$E,4,FALSE)","v":{"$error":"#N/A"}},{"$f":"VLOOKUP($B4240,'Ad Week Dates'!$A:$E,2,FALSE)","v":{"$error":"#N/A"}},{"$f":"VLOOKUP($B4240,'Ad Week Dates'!$A:$E,3,FALSE)","v":{"$error":"#N/A"}},null,null,null,null,null,null,{"$error":"#N/A"}]
[null,null,{"$f":"VLOOKUP($B4241,'Ad Week Dates'!$A:$E,4,FALSE)","v":{"$error":"#N/A"}},{"$f":"VLOOKUP($B4241,'Ad Week Dates'!$A:$E,2,FALSE)","v":{"$error":"#N/A"}},{"$f":"VLOOKUP($B4241,'Ad Week Dates'!$A:$E,3,FALSE)","v":{"$error":"#N/A"}},null,null,null,null,null,null,{"$error":"#N/A"}]
[null,null,{"$f":"VLOOKUP($B4242,'Ad Week Dates'!$A:$E,4,FALSE)","v":{"$error":"#N/A"}},{"$f":"VLOOKUP($B4242,'Ad Week Dates'!$A:$E,2,FALSE)","v":{"$error":"#N/A"}},{"$f":"VLOOKUP($B4242,'Ad Week Dates'!$A:$E,3,FALSE)","v":{"$error":"#N/A"}},null,null,null,null,null,null,{"$error":"#N/A"}]
[null,null,{"$f":"VLOOKUP($B4243,'Ad Week Dates'!$A:$E,4,FALSE)","v":{"$error":"#N/A"}},{"$f":"VLOOKUP($B4243,'Ad Week Dates'!$A:$E,2,FALSE)","v":{"$error":"#N/A"}},{"$f":"VLOOKUP($B4243,'Ad Week Dates'!$A:$E,3,FALSE)","v":{"$error":"#N/A"}},null,null,null,null,null,null,{"$error":"#N/A"}]
[null,null,{"$f":"VLOOKUP($B4244,'Ad Week Dates'!$A:$E,4,FALSE)","v":{"$error":"#N/A"}},{"$f":"VLOOKUP($B4244,'Ad Week Dates'!$A:$E,2,FALSE)","v":{"$error":"#N/A"}},{"$f":"VLOOKUP($B4244,'Ad Week Dates'!$A:$E,3,FALSE)","v":{"$error":"#N/A"}},null,null,null,null,null,null,{"$error":"#N/A"}]
[null,null,{"$f":"VLOOKUP($B4245,'Ad Week Dates'!$A:$E,4,FALSE)","v":{"$error":"#N/A"}},{"$f":"VLOOKUP($B4245,'Ad Week Dates'!$A:$E,2,FALSE)","v":{"$error":"#N/A"}},{"$f":"VLOOKUP($B4245,'Ad Week Dates'!$A:$E,3,FALSE)","v":{"$error":"#N/A"}},null,null,null,null,null,null,{"$error":"#N/A"}]
[null,null,{"$f":"VLOOKUP($B4246,'Ad Week Dates'!$A:$E,4,FALSE)","v":{"$error":"#N/A"}},{"$f":"VLOOKUP($B4246,'Ad Week Dates'!$A:$E,2,FALSE)","v":{"$error":"#N/A"}},{"$f":"VLOOKUP($B4246,'Ad Week Dates'!$A:$E,3,FALSE)","v":{"$error":"#N/A"}},null,null,null,null,null,null,{"$error":"#N/A"}]
[null,null,{"$f":"VLOOKUP($B4247,'Ad Week Dates'!$A:$E,4,FALSE)","v":{"$error":"#N/A"}},{"$f":"VLOOKUP($B4247,'Ad Week Dates'!$A:$E,2,FALSE)","v":{"$error":"#N/A"}},{"$f":"VLOOKUP($B4247,'Ad Week Dates'!$A:$E,3,FALSE)","v":{"$error":"#N/A"}},null,null,null,null,null,null,{"$error":"#N/A"}]
[null,null,{"$f":"VLOOKUP($B4248,'Ad Week Dates'!$A:$E,4,FALSE)","v":{"$error":"#N/A"}},{"$f":"VLOOKUP($B4248,'Ad Week Dates'!$A:$E,2,FALSE)","v":{"$error":"#N/A"}},{"$f":"VLOOKUP($B4248,'Ad Week Dates'!$A:$E,3,FALSE)","v":{"$error":"#N/A"}},null,null,null,null,null,null,{"$error":"#N/A"}]
[null,null,{"$f":"VLOOKUP($B4249,'Ad Week Dates'!$A:$E,4,FALSE)","v":{"$error":"#N/A"}},{"$f":"VLOOKUP($B4249,'Ad Week Dates'!$A:$E,2,FALSE)","v":{"$error":"#N/A"}},{"$f":"VLOOKUP($B4249,'Ad Week Dates'!$A:$E,3,FALSE)","v":{"$error":"#N/A"}},null,null,null,null,null,null,{"$error":"#N/A"}]
[null,null,{"$f":"VLOOKUP($B4250,'Ad Week Dates'!$A:$E,4,FALSE)","v":{"$error":"#N/A"}},{"$f":"VLOOKUP($B4250,'Ad Week Dates'!$A:$E,2,FALSE)","v":{"$error":"#N/A"}},{"$f":"VLOOKUP($B4250,'Ad Week Dates'!$A:$E,3,FALSE)","v":{"$error":"#N/A"}},null,null,null,null,null,null,{"$error":"#N/A"}]
[null,null,{"$f":"VLOOKUP($B4251,'Ad Week Dates'!$A:$E,4,FALSE)","v":{"$error":"#N/A"}},{"$f":"VLOOKUP($B4251,'Ad Week Dates'!$A:$E,2,FALSE)","v":{"$error":"#N/A"}},{"$f":"VLOOKUP($B4251,'Ad Week Dates'!$A:$E,3,FALSE)","v":{"$error":"#N/A"}},null,null,null,null,null,null,{"$error":"#N/A"}]
[null,null,{"$f":"VLOOKUP($B4252,'Ad Week Dates'!$A:$E,4,FALSE)","v":{"$error":"#N/A"}},{"$f":"VLOOKUP($B4252,'Ad Week Dates'!$A:$E,2,FALSE)","v":{"$error":"#N/A"}},{"$f":"VLOOKUP($B4252,'Ad Week Dates'!$A:$E,3,FALSE)","v":{"$error":"#N/A"}},null,null,null,null,null,null,{"$error":"#N/A"}]
[null,null,{"$f":"VLOOKUP($B4253,'Ad Week Dates'!$A:$E,4,FALSE)","v":{"$error":"#N/A"}},{"$f":"VLOOKUP($B4253,'Ad Week Dates'!$A:$E,2,FALSE)","v":{"$error":"#N/A"}},{"$f":"VLOOKUP($B4253,'Ad Week Dates'!$A:$E,3,FALSE)","v":{"$error":"#N/A"}},null,null,null,null,null,null,{"$error":"#N/A"}]
[null,null,{"$f":"VLOOKUP($B4254,'Ad Week Dates'!$A:$E,4,FALSE)","v":{"$error":"#N/A"}},{"$f":"VLOOKUP($B4254,'Ad Week Dates'!$A:$E,2,FALSE)","v":{"$error":"#N/A"}},{"$f":"VLOOKUP($B4254,'Ad Week Dates'!$A:$E,3,FALSE)","v":{"$error":"#N/A"}},null,null,null,null,null,null,{"$error":"#N/A"}]
[null,null,{"$f":"VLOOKUP($B4255,'Ad Week Dates'!$A:$E,4,FALSE)","v":{"$error":"#N/A"}},{"$f":"VLOOKUP($B4255,'Ad Week Dates'!$A:$E,2,FALSE)","v":{"$error":"#N/A"}},{"$f":"VLOOKUP($B4255,'Ad Week Dates'!$A:$E,3,FALSE)","v":{"$error":"#N/A"}},null,null,null,null,null,null,{"$error":"#N/A"}]
[null,null,{"$f":"VLOOKUP($B4256,'Ad Week Dates'!$A:$E,4,FALSE)","v":{"$error":"#N/A"}},{"$f":"VLOOKUP($B4256,'Ad Week Dates'!$A:$E,2,FALSE)","v":{"$error":"#N/A"}},{"$f":"VLOOKUP($B4256,'Ad Week Dates'!$A:$E,3,FALSE)","v":{"$error":"#N/A"}},null,null,null,null,null,null,{"$error":"#N/A"}]
[null,null,{"$f":"VLOOKUP($B4257,'Ad Week Dates'!$A:$E,4,FALSE)","v":{"$error":"#N/A"}},{"$f":"VLOOKUP($B4257,'Ad Week Dates'!$A:$E,2,FALSE)","v":{"$error":"#N/A"}},{"$f":"VLOOKUP($B4257,'Ad Week Dates'!$A:$E,3,FALSE)","v":{"$error":"#N/A"}},null,null,null,null,null,null,{"$error":"#N/A"}]
[null,null,{"$f":"VLOOKUP($B4258,'Ad Week Dates'!$A:$E,4,FALSE)","v":{"$error":"#N/A"}},{"$f":"VLOOKUP($B4258,'Ad Week Dates'!$A:$E,2,FALSE)","v":{"$error":"#N/A"}},{"$f":"VLOOKUP($B4258,'Ad Week Dates'!$A:$E,3,FALSE)","v":{"$error":"#N/A"}},null,null,null,null,null,null,{"$error":"#N/A"}]
[null,null,{"$f":"VLOOKUP($B4259,'Ad Week Dates'!$A:$E,4,FALSE)","v":{"$error":"#N/A"}},{"$f":"VLOOKUP($B4259,'Ad Week Dates'!$A:$E,2,FALSE)","v":{"$error":"#N/A"}},{"$f":"VLOOKUP($B4259,'Ad Week Dates'!$A:$E,3,FALSE)","v":{"$error":"#N/A"}},null,null,null,null,null,null,{"$error":"#N/A"}]
[null,null,{"$f":"VLOOKUP($B4260,'Ad Week Dates'!$A:$E,4,FALSE)","v":{"$error":"#N/A"}},{"$f":"VLOOKUP($B4260,'Ad Week Dates'!$A:$E,2,FALSE)","v":{"$error":"#N/A"}},{"$f":"VLOOKUP($B4260,'Ad Week Dates'!$A:$E,3,FALSE)","v":{"$error":"#N/A"}},null,null,null,null,null,null,{"$error":"#N/A"}]
[null,null,{"$f":"VLOOKUP($B4261,'Ad Week Dates'!$A:$E,4,FALSE)","v":{"$error":"#N/A"}},{"$f":"VLOOKUP($B4261,'Ad Week Dates'!$A:$E,2,FALSE)","v":{"$error":"#N/A"}},{"$f":"VLOOKUP($B4261,'Ad Week Dates'!$A:$E,3,FALSE)","v":{"$error":"#N/A"}},null,null,null,null,null,null,{"$error":"#N/A"}]
[null,null,{"$f":"VLOOKUP($B4262,'Ad Week Dates'!$A:$E,4,FALSE)","v":{"$error":"#N/A"}},{"$f":"VLOOKUP($B4262,'Ad Week Dates'!$A:$E,2,FALSE)","v":{"$error":"#N/A"}},{"$f":"VLOOKUP($B4262,'Ad Week Dates'!$A:$E,3,FALSE)","v":{"$error":"#N/A"}},null,null,null,null,null,null,{"$error":"#N/A"}]
[null,null,{"$f":"VLOOKUP($B4263,'Ad Week Dates'!$A:$E,4,FALSE)","v":{"$error":"#N/A"}},{"$f":"VLOOKUP($B4263,'Ad Week Dates'!$A:$E,2,FALSE)","v":{"$error":"#N/A"}},{"$f":"VLOOKUP($B4263,'Ad Week Dates'!$A:$E,3,FALSE)","v":{"$error":"#N/A"}},null,null,null,null,null,null,{"$error":"#N/A"}]
[null,null,{"$f":"VLOOKUP($B4264,'Ad Week Dates'!$A:$E,4,FALSE)","v":{"$error":"#N/A"}},{"$f":"VLOOKUP($B4264,'Ad Week Dates'!$A:$E,2,FALSE)","v":{"$error":"#N/A"}},{"$f":"VLOOKUP($B4264,'Ad Week Dates'!$A:$E,3,FALSE)","v":{"$error":"#N/A"}},null,null,null,null,null,null,{"$error":"#N/A"}]
[null,null,{"$f":"VLOOKUP($B4265,'Ad Week Dates'!$A:$E,4,FALSE)","v":{"$error":"#N/A"}},{"$f":"VLOOKUP($B4265,'Ad Week Dates'!$A:$E,2,FALSE)","v":{"$error":"#N/A"}},{"$f":"VLOOKUP($B4265,'Ad Week Dates'!$A:$E,3,FALSE)","v":{"$error":"#N/A"}},null,null,null,null,null,null,{"$error":"#N/A"}]
[null,null,{"$f":"VLOOKUP($B4266,'Ad Week Dates'!$A:$E,4,FALSE)","v":{"$error":"#N/A"}},{"$f":"VLOOKUP($B4266,'Ad Week Dates'!$A:$E,2,FALSE)","v":{"$error":"#N/A"}},{"$f":"VLOOKUP($B4266,'Ad Week Dates'!$A:$E,3,FALSE)","v":{"$error":"#N/A"}},null,null,null,null,null,null,{"$error":"#N/A"}]
[null,null,{"$f":"VLOOKUP($B4267,'Ad Week Dates'!$A:$E,4,FALSE)","v":{"$error":"#N/A"}},{"$f":"VLOOKUP($B4267,'Ad Week Dates'!$A:$E,2,FALSE)","v":{"$error":"#N/A"}},{"$f":"VLOOKUP($B4267,'Ad Week Dates'!$A:$E,3,FALSE)","v":{"$error":"#N/A"}},null,null,null,null,null,null,{"$error":"#N/A"}]
[null,null,{"$f":"VLOOKUP($B4268,'Ad Week Dates'!$A:$E,4,FALSE)","v":{"$error":"#N/A"}},{"$f":"VLOOKUP($B4268,'Ad Week Dates'!$A:$E,2,FALSE)","v":{"$error":"#N/A"}},{"$f":"VLOOKUP($B4268,'Ad Week Dates'!$A:$E,3,FALSE)","v":{"$error":"#N/A"}},null,null,null,null,null,null,{"$error":"#N/A"}]
[null,null,{"$f":"VLOOKUP($B4269,'Ad Week Dates'!$A:$E,4,FALSE)","v":{"$error":"#N/A"}},{"$f":"VLOOKUP($B4269,'Ad Week Dates'!$A:$E,2,FALSE)","v":{"$error":"#N/A"}},{"$f":"VLOOKUP($B4269,'Ad Week Dates'!$A:$E,3,FALSE)","v":{"$error":"#N/A"}},null,null,null,null,null,null,{"$error":"#N/A"}]
[null,null,{"$f":"VLOOKUP($B4270,'Ad Week Dates'!$A:$E,4,FALSE)","v":{"$error":"#N/A"}},{"$f":"VLOOKUP($B4270,'Ad Week Dates'!$A:$E,2,FALSE)","v":{"$error":"#N/A"}},{"$f":"VLOOKUP($B4270,'Ad Week Dates'!$A:$E,3,FALSE)","v":{"$error":"#N/A"}},null,null,null,null,null,null,{"$error":"#N/A"}]
[null,null,{"$f":"VLOOKUP($B4271,'Ad Week Dates'!$A:$E,4,FALSE)","v":{"$error":"#N/A"}},{"$f":"VLOOKUP($B4271,'Ad Week Dates'!$A:$E,2,FALSE)","v":{"$error":"#N/A"}},{"$f":"VLOOKUP($B4271,'Ad Week Dates'!$A:$E,3,FALSE)","v":{"$error":"#N/A"}},null,null,null,null,null,null,{"$error":"#N/A"}]
[null,null,{"$f":"VLOOKUP($B4272,'Ad Week Dates'!$A:$E,4,FALSE)","v":{"$error":"#N/A"}},{"$f":"VLOOKUP($B4272,'Ad Week Dates'!$A:$E,2,FALSE)","v":{"$error":"#N/A"}},{"$f":"VLOOKUP($B4272,'Ad Week Dates'!$A:$E,3,FALSE)","v":{"$error":"#N/A"}},null,null,null,null,null,null,{"$error":"#N/A"}]
[null,null,{"$f":"VLOOKUP($B4273,'Ad Week Dates'!$A:$E,4,FALSE)","v":{"$error":"#N/A"}},{"$f":"VLOOKUP($B4273,'Ad Week Dates'!$A:$E,2,FALSE)","v":{"$error":"#N/A"}},{"$f":"VLOOKUP($B4273,'Ad Week Dates'!$A:$E,3,FALSE)","v":{"$error":"#N/A"}},null,null,null,null,null,null,{"$error":"#N/A"}]
[null,null,{"$f":"VLOOKUP($B4274,'Ad Week Dates'!$A:$E,4,FALSE)","v":{"$error":"#N/A"}},{"$f":"VLOOKUP($B4274,'Ad Week Dates'!$A:$E,2,FALSE)","v":{"$error":"#N/A"}},{"$f":"VLOOKUP($B4274,'Ad Week Dates'!$A:$E,3,FALSE)","v":{"$error":"#N/A"}},null,null,null,null,null,null,{"$error":"#N/A"}]
[null,null,{"$f":"VLOOKUP($B4275,'Ad Week Dates'!$A:$E,4,FALSE)","v":{"$error":"#N/A"}},{"$f":"VLOOKUP($B4275,'Ad Week Dates'!$A:$E,2,FALSE)","v":{"$error":"#N/A"}},{"$f":"VLOOKUP($B4275,'Ad Week Dates'!$A:$E,3,FALSE)","v":{"$error":"#N/A"}},null,null,null,null,null,null,{"$error":"#N/A"}]
[null,null,{"$f":"VLOOKUP($B4276,'Ad Week Dates'!$A:$E,4,FALSE)","v":{"$error":"#N/A"}},{"$f":"VLOOKUP($B4276,'Ad Week Dates'!$A:$E,2,FALSE)","v":{"$error":"#N/A"}},{"$f":"VLOOKUP($B4276,'Ad Week Dates'!$A:$E,3,FALSE)","v":{"$error":"#N/A"}},null,null,null,null,null,null,{"$error":"#N/A"}]
[null,null,{"$f":"VLOOKUP($B4277,'Ad Week Dates'!$A:$E,4,FALSE)","v":{"$error":"#N/A"}},{"$f":"VLOOKUP($B4277,'Ad Week Dates'!$A:$E,2,FALSE)","v":{"$error":"#N/A"}},{"$f":"VLOOKUP($B4277,'Ad Week Dates'!$A:$E,3,FALSE)","v":{"$error":"#N/A"}},null,null,null,null,null,null,{"$error":"#N/A"}]
[null,null,{"$f":"VLOOKUP($B4278,'Ad Week Dates'!$A:$E,4,FALSE)","v":{"$error":"#N/A"}},{"$f":"VLOOKUP($B4278,'Ad Week Dates'!$A:$E,2,FALSE)","v":{"$error":"#N/A"}},{"$f":"VLOOKUP($B4278,'Ad Week Dates'!$A:$E,3,FALSE)","v":{"$error":"#N/A"}},null,null,null,null,null,null,{"$error":"#N/A"}]
[null,null,{"$f":"VLOOKUP($B4279,'Ad Week Dates'!$A:$E,4,FALSE)","v":{"$error":"#N/A"}},{"$f":"VLOOKUP($B4279,'Ad Week Dates'!$A:$E,2,FALSE)","v":{"$error":"#N/A"}},{"$f":"VLOOKUP($B4279,'Ad Week Dates'!$A:$E,3,FALSE)","v":{"$error":"#N/A"}},null,null,null,null,null,null,{"$error":"#N/A"}]
[null,null,{"$f":"VLOOKUP($B4280,'Ad Week Dates'!$A:$E,4,FALSE)","v":{"$error":"#N/A"}},{"$f":"VLOOKUP($B4280,'Ad Week Dates'!$A:$E,2,FALSE)","v":{"$error":"#N/A"}},{"$f":"VLOOKUP($B4280,'Ad Week Dates'!$A:$E,3,FALSE)","v":{"$error":"#N/A"}},null,null,null,null,null,null,{"$error":"#N/A"}]
[null,null,{"$f":"VLOOKUP($B4281,'Ad Week Dates'!$A:$E,4,FALSE)","v":{"$error":"#N/A"}},{"$f":"VLOOKUP($B4281,'Ad Week Dates'!$A:$E,2,FALSE)","v":{"$error":"#N/A"}},{"$f":"VLOOKUP($B4281,'Ad Week Dates'!$A:$E,3,FALSE)","v":{"$error":"#N/A"}},null,null,null,null,null,null,{"$error":"#N/A"}]
[null,null,{"$f":"VLOOKUP($B4282,'Ad Week Dates'!$A:$E,4,FALSE)","v":{"$error":"#N/A"}},{"$f":"VLOOKUP($B4282,'Ad Week Dates'!$A:$E,2,FALSE)","v":{"$error":"#N/A"}},{"$f":"VLOOKUP($B4282,'Ad Week Dates'!$A:$E,3,FALSE)","v":{"$error":"#N/A"}},null,null,null,null,null,null,{"$error":"#N/A"}]
[null,null,{"$f":"VLOOKUP($B4283,'Ad Week Dates'!$A:$E,4,FALSE)","v":{"$error":"#N/A"}},{"$f":"VLOOKUP($B4283,'Ad Week Dates'!$A:$E,2,FALSE)","v":{"$error":"#N/A"}},{"$f":"VLOOKUP($B4283,'Ad Week Dates'!$A:$E,3,FALSE)","v":{"$error":"#N/A"}},null,null,null,null,null,null,{"$error":"#N/A"}]
[null,null,{"$f":"VLOOKUP($B4284,'Ad Week Dates'!$A:$E,4,FALSE)","v":{"$error":"#N/A"}},{"$f":"VLOOKUP($B4284,'Ad Week Dates'!$A:$E,2,FALSE)","v":{"$error":"#N/A"}},{"$f":"VLOOKUP($B4284,'Ad Week Dates'!$A:$E,3,FALSE)","v":{"$error":"#N/A"}},null,null,null,null,null,null,{"$error":"#N/A"}]
[null,null,{"$f":"VLOOKUP($B4285,'Ad Week Dates'!$A:$E,4,FALSE)","v":{"$error":"#N/A"}},{"$f":"VLOOKUP($B4285,'Ad Week Dates'!$A:$E,2,FALSE)","v":{"$error":"#N/A"}},{"$f":"VLOOKUP($B4285,'Ad Week Dates'!$A:$E,3,FALSE)","v":{"$error":"#N/A"}},null,null,null,null,null,null,{"$error":"#N/A"}]
[null,null,{"$f":"VLOOKUP($B4286,'Ad Week Dates'!$A:$E,4,FALSE)","v":{"$error":"#N/A"}},{"$f":"VLOOKUP($B4286,'Ad Week Dates'!$A:$E,2,FALSE)","v":{"$error":"#N/A"}},{"$f":"VLOOKUP($B4286,'Ad Week Dates'!$A:$E,3,FALSE)","v":{"$error":"#N/A"}},null,null,null,null,null,null,{"$error":"#N/A"}]
[null,null,{"$f":"VLOOKUP($B4287,'Ad Week Dates'!$A:$E,4,FALSE)","v":{"$error":"#N/A"}},{"$f":"VLOOKUP($B4287,'Ad Week Dates'!$A:$E,2,FALSE)","v":{"$error":"#N/A"}},{"$f":"VLOOKUP($B4287,'Ad Week Dates'!$A:$E,3,FALSE)","v":{"$error":"#N/A"}},null,null,null,null,null,null,{"$error":"#N/A"}]
[null,null,{"$f":"VLOOKUP($B4288,'Ad Week Dates'!$A:$E,4,FALSE)","v":{"$error":"#N/A"}},{"$f":"VLOOKUP($B4288,'Ad Week Dates'!$A:$E,2,FALSE)","v":{"$error":"#N/A"}},{"$f":"VLOOKUP($B4288,'Ad Week Dates'!$A:$E,3,FALSE)","v":{"$error":"#N/A"}},null,null,null,null,null,null,{"$error":"#N/A"}]
[null,null,{"$f":"VLOOKUP($B4289,'Ad Week Dates'!$A:$E,4,FALSE)","v":{"$error":"#N/A"}},{"$f":"VLOOKUP($B4289,'Ad Week Dates'!$A:$E,2,FALSE)","v":{"$error":"#N/A"}},{"$f":"VLOOKUP($B4289,'Ad Week Dates'!$A:$E,3,FALSE)","v":{"$error":"#N/A"}},null,null,null,null,null,null,{"$error":"#N/A"}]
[null,null,{"$f":"VLOOKUP($B4290,'Ad Week Dates'!$A:$E,4,FALSE)","v":{"$error":"#N/A"}},{"$f":"VLOOKUP($B4290,'Ad Week Dates'!$A:$E,2,FALSE)","v":{"$error":"#N/A"}},{"$f":"VLOOKUP($B4290,'Ad Week Dates'!$A:$E,3,FALSE)","v":{"$error":"#N/A"}},null,null,null,null,null,null,{"$error":"#N/A"}]
[null,null,{"$f":"VLOOKUP($B4291,'Ad Week Dates'!$A:$E,4,FALSE)","v":{"$error":"#N/A"}},{"$f":"VLOOKUP($B4291,'Ad Week Dates'!$A:$E,2,FALSE)","v":{"$error":"#N/A"}},{"$f":"VLOOKUP($B4291,'Ad Week Dates'!$A:$E,3,FALSE)","v":{"$error":"#N/A"}},null,null,null,null,null,null,{"$error":"#N/A"}]
[null,null,{"$f":"VLOOKUP($B4292,'Ad Week Dates'!$A:$E,4,FALSE)","v":{"$error":"#N/A"}},{"$f":"VLOOKUP($B4292,'Ad Week Dates'!$A:$E,2,FALSE)","v":{"$error":"#N/A"}},{"$f":"VLOOKUP($B4292,'Ad Week Dates'!$A:$E,3,FALSE)","v":{"$error":"#N/A"}},null,null,null,null,null,null,{"$error":"#N/A"}]
[null,null,{"$f":"VLOOKUP($B4293,'Ad Week Dates'!$A:$E,4,FALSE)","v":{"$error":"#N/A"}},{"$f":"VLOOKUP($B4293,'Ad Week Dates'!$A:$E,2,FALSE)","v":{"$error":"#N/A"}},{"$f":"VLOOKUP($B4293,'Ad Week Dates'!$A:$E,3,FALSE)","v":{"$error":"#N/A"}},null,null,null,null,null,null,{"$error":"#N/A"}]
[null,null,{"$f":"VLOOKUP($B4294,'Ad Week Dates'!$A:$E,4,FALSE)","v":{"$error":"#N/A"}},{"$f":"VLOOKUP($B4294,'Ad Week Dates'!$A:$E,2,FALSE)","v":{"$error":"#N/A"}},{"$f":"VLOOKUP($B4294,'Ad Week Dates'!$A:$E,3,FALSE)","v":{"$error":"#N/A"}},null,null,null,null,null,null,{"$f":"IF(ISNUMBER(J4294), J4294 - K4294, VALUE(_xlfn.TEXTBEFORE(J4294, \"-\")) - VALUE(_xlfn.TEXTBEFORE(K4294, \"-\")))","v":{"$error":"#N/A"}}]
[null,null,{"$f":"VLOOKUP($B4295,'Ad Week Dates'!$A:$E,4,FALSE)","v":{"$error":"#N/A"}},{"$f":"VLOOKUP($B4295,'Ad Week Dates'!$A:$E,2,FALSE)","v":{"$error":"#N/A"}},{"$f":"VLOOKUP($B4295,'Ad Week Dates'!$A:$E,3,FALSE)","v":{"$error":"#N/A"}},null,null,null,null,null,null,{"$error":"#N/A"}]
[null,null,{"$f":"VLOOKUP($B4296,'Ad Week Dates'!$A:$E,4,FALSE)","v":{"$error":"#N/A"}},{"$f":"VLOOKUP($B4296,'Ad Week Dates'!$A:$E,2,FALSE)","v":{"$error":"#N/A"}},{"$f":"VLOOKUP($B4296,'Ad Week Dates'!$A:$E,3,FALSE)","v":{"$error":"#N/A"}},null,null,null,null,null,null,{"$error":"#N/A"}]
[null,null,{"$f":"VLOOKUP($B4297,'Ad Week Dates'!$A:$E,4,FALSE)","v":{"$error":"#N/A"}},{"$f":"VLOOKUP($B4297,'Ad Week Dates'!$A:$E,2,FALSE)","v":{"$error":"#N/A"}},{"$f":"VLOOKUP($B4297,'Ad Week Dates'!$A:$E,3,FALSE)","v":{"$error":"#N/A"}},null,null,null,null,null,null,{"$error":"#N/A"}]
[null,null,{"$f":"VLOOKUP($B4298,'Ad Week Dates'!$A:$E,4,FALSE)","v":{"$error":"#N/A"}},{"$f":"VLOOKUP($B4298,'Ad Week Dates'!$A:$E,2,FALSE)","v":{"$error":"#N/A"}},{"$f":"VLOOKUP($B4298,'Ad Week Dates'!$A:$E,3,FALSE)","v":{"$error":"#N/A"}},null,null,null,null,null,null,{"$error":"#N/A"}]
[null,null,{"$f":"VLOOKUP($B4299,'Ad Week Dates'!$A:$E,4,FALSE)","v":{"$error":"#N/A"}},{"$f":"VLOOKUP($B4299,'Ad Week Dates'!$A:$E,2,FALSE)","v":{"$error":"#N/A"}},{"$f":"VLOOKUP($B4299,'Ad Week Dates'!$A:$E,3,FALSE)","v":{"$error":"#N/A"}},null,null,null,null,null,null,{"$error":"#N/A"}]
[null,null,{"$f":"VLOOKUP($B4300,'Ad Week Dates'!$A:$E,4,FALSE)","v":{"$error":"#N/A"}},{"$f":"VLOOKUP($B4300,'Ad Week Dates'!$A:$E,2,FALSE)","v":{"$error":"#N/A"}},{"$f":"VLOOKUP($B4300,'Ad Week Dates'!$A:$E,3,FALSE)","v":{"$error":"#N/A"}},null,null,null,null,null,null,{"$error":"#N/A"}]
[null,null,{"$f":"VLOOKUP($B4301,'Ad Week Dates'!$A:$E,4,FALSE)","v":{"$error":"#N/A"}},{"$f":"VLOOKUP($B4301,'Ad Week Dates'!$A:$E,2,FALSE)","v":{"$error":"#N/A"}},{"$f":"VLOOKUP($B4301,'Ad Week Dates'!$A:$E,3,FALSE)","v":{"$error":"#N/A"}},null,null,null,null,null,null,{"$error":"#N/A"}]
[null,null,{"$f":"VLOOKUP($B4302,'Ad Week Dates'!$A:$E,4,FALSE)","v":{"$error":"#N/A"}},{"$f":"VLOOKUP($B4302,'Ad Week Dates'!$A:$E,2,FALSE)","v":{"$error":"#N/A"}},{"$f":"VLOOKUP($B4302,'Ad Week Dates'!$A:$E,3,FALSE)","v":{"$error":"#N/A"}},null,null,null,null,null,null,{"$error":"#N/A"}]
[null,null,{"$f":"VLOOKUP($B4303,'Ad Week Dates'!$A:$E,4,FALSE)","v":{"$error":"#N/A"}},{"$f":"VLOOKUP($B4303,'Ad Week Dates'!$A:$E,2,FALSE)","v":{"$error":"#N/A"}},{"$f":"VLOOKUP($B4303,'Ad Week Dates'!$A:$E,3,FALSE)","v":{"$error":"#N/A"}},null,null,null,null,null,null,{"$error":"#N/A"}]
[null,null,{"$f":"VLOOKUP($B4304,'Ad Week Dates'!$A:$E,4,FALSE)","v":{"$error":"#N/A"}},{"$f":"VLOOKUP($B4304,'Ad Week Dates'!$A:$E,2,FALSE)","v":{"$error":"#N/A"}},{"$f":"VLOOKUP($B4304,'Ad Week Dates'!$A:$E,3,FALSE)","v":{"$error":"#N/A"}},null,null,null,null,null,null,{"$error":"#N/A"}]
[null,null,{"$f":"VLOOKUP($B4305,'Ad Week Dates'!$A:$E,4,FALSE)","v":{"$error":"#N/A"}},{"$f":"VLOOKUP($B4305,'Ad Week Dates'!$A:$E,2,FALSE)","v":{"$error":"#N/A"}},{"$f":"VLOOKUP($B4305,'Ad Week Dates'!$A:$E,3,FALSE)","v":{"$error":"#N/A"}},null,null,null,null,null,null,{"$error":"#N/A"}]
[null,null,{"$f":"VLOOKUP($B4306,'Ad Week Dates'!$A:$E,4,FALSE)","v":{"$error":"#N/A"}},{"$f":"VLOOKUP($B4306,'Ad Week Dates'!$A:$E,2,FALSE)","v":{"$error":"#N/A"}},{"$f":"VLOOKUP($B4306,'Ad Week Dates'!$A:$E,3,FALSE)","v":{"$error":"#N/A"}},null,null,null,null,null,null,{"$error":"#N/A"}]
[null,null,{"$f":"VLOOKUP($B4307,'Ad Week Dates'!$A:$E,4,FALSE)","v":{"$error":"#N/A"}},{"$f":"VLOOKUP($B4307,'Ad Week Dates'!$A:$E,2,FALSE)","v":{"$error":"#N/A"}},{"$f":"VLOOKUP($B4307,'Ad Week Dates'!$A:$E,3,FALSE)","v":{"$error":"#N/A"}},null,null,null,null,null,null,{"$error":"#N/A"}]
[null,null,{"$f":"VLOOKUP($B4308,'Ad Week Dates'!$A:$E,4,FALSE)","v":{"$error":"#N/A"}},{"$f":"VLOOKUP($B4308,'Ad Week Dates'!$A:$E,2,FALSE)","v":{"$error":"#N/A"}},{"$f":"VLOOKUP($B4308,'Ad Week Dates'!$A:$E,3,FALSE)","v":{"$error":"#N/A"}},null,null,null,null,null,null,{"$error":"#N/A"}]
[null,null,{"$f":"VLOOKUP($B4309,'Ad Week Dates'!$A:$E,4,FALSE)","v":{"$error":"#N/A"}},{"$f":"VLOOKUP($B4309,'Ad Week Dates'!$A:$E,2,FALSE)","v":{"$error":"#N/A"}},{"$f":"VLOOKUP($B4309,'Ad Week Dates'!$A:$E,3,FALSE)","v":{"$error":"#N/A"}},null,null,null,null,null,null,{"$error":"#N/A"}]
[null,null,{"$f":"VLOOKUP($B4310,'Ad Week Dates'!$A:$E,4,FALSE)","v":{"$error":"#N/A"}},{"$f":"VLOOKUP($B4310,'Ad Week Dates'!$A:$E,2,FALSE)","v":{"$error":"#N/A"}},{"$f":"VLOOKUP($B4310,'Ad Week Dates'!$A:$E,3,FALSE)","v":{"$error":"#N/A"}},null,null,null,null,null,null,{"$error":"#N/A"}]
[null,null,{"$f":"VLOOKUP($B4311,'Ad Week Dates'!$A:$E,4,FALSE)","v":{"$error":"#N/A"}},{"$f":"VLOOKUP($B4311,'Ad Week Dates'!$A:$E,2,FALSE)","v":{"$error":"#N/A"}},{"$f":"VLOOKUP($B4311,'Ad Week Dates'!$A:$E,3,FALSE)","v":{"$error":"#N/A"}},null,null,null,null,null,null,{"$error":"#N/A"}]
[null,null,{"$f":"VLOOKUP($B4312,'Ad Week Dates'!$A:$E,4,FALSE)","v":{"$error":"#N/A"}},{"$f":"VLOOKUP($B4312,'Ad Week Dates'!$A:$E,2,FALSE)","v":{"$error":"#N/A"}},{"$f":"VLOOKUP($B4312,'Ad Week Dates'!$A:$E,3,FALSE)","v":{"$error":"#N/A"}},null,null,null,null,null,null,{"$error":"#N/A"}]
[null,null,{"$f":"VLOOKUP($B4313,'Ad Week Dates'!$A:$E,4,FALSE)","v":{"$error":"#N/A"}},{"$f":"VLOOKUP($B4313,'Ad Week Dates'!$A:$E,2,FALSE)","v":{"$error":"#N/A"}},{"$f":"VLOOKUP($B4313,'Ad Week Dates'!$A:$E,3,FALSE)","v":{"$error":"#N/A"}},null,null,null,null,null,null,{"$error":"#N/A"}]
[null,null,{"$f":"VLOOKUP($B4314,'Ad Week Dates'!$A:$E,4,FALSE)","v":{"$error":"#N/A"}},{"$f":"VLOOKUP($B4314,'Ad Week Dates'!$A:$E,2,FALSE)","v":{"$error":"#N/A"}},{"$f":"VLOOKUP($B4314,'Ad Week Dates'!$A:$E,3,FALSE)","v":{"$error":"#N/A"}},null,null,null,null,null,null,{"$error":"#N/A"}]
[null,null,{"$f":"VLOOKUP($B4315,'Ad Week Dates'!$A:$E,4,FALSE)","v":{"$error":"#N/A"}},{"$f":"VLOOKUP($B4315,'Ad Week Dates'!$A:$E,2,FALSE)","v":{"$error":"#N/A"}},{"$f":"VLOOKUP($B4315,'Ad Week Dates'!$A:$E,3,FALSE)","v":{"$error":"#N/A"}},null,null,null,null,null,null,{"$error":"#N/A"}]
[null,null,{"$f":"VLOOKUP($B4316,'Ad Week Dates'!$A:$E,4,FALSE)","v":{"$error":"#N/A"}},{"$f":"VLOOKUP($B4316,'Ad Week Dates'!$A:$E,2,FALSE)","v":{"$error":"#N/A"}},{"$f":"VLOOKUP($B4316,'Ad Week Dates'!$A:$E,3,FALSE)","v":{"$error":"#N/A"}},null,null,null,null,null,null,{"$error":"#N/A"}]
[null,null,{"$f":"VLOOKUP($B4317,'Ad Week Dates'!$A:$E,4,FALSE)","v":{"$error":"#N/A"}},{"$f":"VLOOKUP($B4317,'Ad Week Dates'!$A:$E,2,FALSE)","v":{"$error":"#N/A"}},{"$f":"VLOOKUP($B4317,'Ad Week Dates'!$A:$E,3,FALSE)","v":{"$error":"#N/A"}},null,null,null,null,null,null,{"$error":"#N/A"}]
[null,null,{"$f":"VLOOKUP($B4318,'Ad Week Dates'!$A:$E,4,FALSE)","v":{"$error":"#N/A"}},{"$f":"VLOOKUP($B4318,'Ad Week Dates'!$A:$E,2,FALSE)","v":{"$error":"#N/A"}},{"$f":"VLOOKUP($B4318,'Ad Week Dates'!$A:$E,3,FALSE)","v":{"$error":"#N/A"}},null,null,null,null,null,null,{"$error":"#N/A"}]
[null,null,{"$f":"VLOOKUP($B4319,'Ad Week Dates'!$A:$E,4,FALSE)","v":{"$error":"#N/A"}},{"$f":"VLOOKUP($B4319,'Ad Week Dates'!$A:$E,2,FALSE)","v":{"$error":"#N/A"}},{"$f":"VLOOKUP($B4319,'Ad Week Dates'!$A:$E,3,FALSE)","v":{"$error":"#N/A"}},null,null,null,null,null,null,{"$error":"#N/A"}]
[null,null,{"$f":"VLOOKUP($B4320,'Ad Week Dates'!$A:$E,4,FALSE)","v":{"$error":"#N/A"}},{"$f":"VLOOKUP($B4320,'Ad Week Dates'!$A:$E,2,FALSE)","v":{"$error":"#N/A"}},{"$f":"VLOOKUP($B4320,'Ad Week Dates'!$A:$E,3,FALSE)","v":{"$error":"#N/A"}},null,null,null,null,null,null,{"$error":"#N/A"}]
[null,null,{"$f":"VLOOKUP($B4321,'Ad Week Dates'!$A:$E,4,FALSE)","v":{"$error":"#N/A"}},{"$f":"VLOOKUP($B4321,'Ad Week Dates'!$A:$E,2,FALSE)","v":{"$error":"#N/A"}},{"$f":"VLOOKUP($B4321,'Ad Week Dates'!$A:$E,3,FALSE)","v":{"$error":"#N/A"}},null,null,null,null,null,null,{"$error":"#N/A"}]
[null,null,{"$f":"VLOOKUP($B4322,'Ad Week Dates'!$A:$E,4,FALSE)","v":{"$error":"#N/A"}},{"$f":"VLOOKUP($B4322,'Ad Week Dates'!$A:$E,2,FALSE)","v":{"$error":"#N/A"}},{"$f":"VLOOKUP($B4322,'Ad Week Dates'!$A:$E,3,FALSE)","v":{"$error":"#N/A"}},null,null,null,null,null,null,{"$error":"#N/A"}]
[null,null,{"$f":"VLOOKUP($B4323,'Ad Week Dates'!$A:$E,4,FALSE)","v":{"$error":"#N/A"}},{"$f":"VLOOKUP($B4323,'Ad Week Dates'!$A:$E,2,FALSE)","v":{"$error":"#N/A"}},{"$f":"VLOOKUP($B4323,'Ad Week Dates'!$A:$E,3,FALSE)","v":{"$error":"#N/A"}},null,null,null,null,null,null,{"$error":"#N/A"}]
[null,null,{"$f":"VLOOKUP($B4324,'Ad Week Dates'!$A:$E,4,FALSE)","v":{"$error":"#N/A"}},{"$f":"VLOOKUP($B4324,'Ad Week Dates'!$A:$E,2,FALSE)","v":{"$error":"#N/A"}},{"$f":"VLOOKUP($B4324,'Ad Week Dates'!$A:$E,3,FALSE)","v":{"$error":"#N/A"}},null,null,null,null,null,null,{"$error":"#N/A"}]
[null,null,{"$f":"VLOOKUP($B4325,'Ad Week Dates'!$A:$E,4,FALSE)","v":{"$error":"#N/A"}},{"$f":"VLOOKUP($B4325,'Ad Week Dates'!$A:$E,2,FALSE)","v":{"$error":"#N/A"}},{"$f":"VLOOKUP($B4325,'Ad Week Dates'!$A:$E,3,FALSE)","v":{"$error":"#N/A"}},null,null,null,null,null,null,{"$error":"#N/A"}]
[null,null,{"$f":"VLOOKUP($B4326,'Ad Week Dates'!$A:$E,4,FALSE)","v":{"$error":"#N/A"}},{"$f":"VLOOKUP($B4326,'Ad Week Dates'!$A:$E,2,FALSE)","v":{"$error":"#N/A"}},{"$f":"VLOOKUP($B4326,'Ad Week Dates'!$A:$E,3,FALSE)","v":{"$error":"#N/A"}},null,null,null,null,null,null,{"$error":"#N/A"}]
[null,null,{"$f":"VLOOKUP($B4327,'Ad Week Dates'!$A:$E,4,FALSE)","v":{"$error":"#N/A"}},{"$f":"VLOOKUP($B4327,'Ad Week Dates'!$A:$E,2,FALSE)","v":{"$error":"#N/A"}},{"$f":"VLOOKUP($B4327,'Ad Week Dates'!$A:$E,3,FALSE)","v":{"$error":"#N/A"}},null,null,null,null,null,null,{"$error":"#N/A"}]
[null,null,{"$f":"VLOOKUP($B4328,'Ad Week Dates'!$A:$E,4,FALSE)","v":{"$error":"#N/A"}},{"$f":"VLOOKUP($B4328,'Ad Week Dates'!$A:$E,2,FALSE)","v":{"$error":"#N/A"}},{"$f":"VLOOKUP($B4328,'Ad Week Dates'!$A:$E,3,FALSE)","v":{"$error":"#N/A"}},null,null,null,null,null,null,{"$error":"#N/A"}]
[null,null,{"$f":"VLOOKUP($B4329,'Ad Week Dates'!$A:$E,4,FALSE)","v":{"$error":"#N/A"}},{"$f":"VLOOKUP($B4329,'Ad Week Dates'!$A:$E,2,FALSE)","v":{"$error":"#N/A"}},{"$f":"VLOOKUP($B4329,'Ad Week Dates'!$A:$E,3,FALSE)","v":{"$error":"#N/A"}},null,null,null,null,null,null,{"$error":"#N/A"}]
[null,null,{"$f":"VLOOKUP($B4330,'Ad Week Dates'!$A:$E,4,FALSE)","v":{"$error":"#N/A"}},{"$f":"VLOOKUP($B4330,'Ad Week Dates'!$A:$E,2,FALSE)","v":{"$error":"#N/A"}},{"$f":"VLOOKUP($B4330,'Ad Week Dates'!$A:$E,3,FALSE)","v":{"$error":"#N/A"}},null,null,null,null,null,null,{"$error":"#N/A"}]
[null,null,{"$f":"VLOOKUP($B4331,'Ad Week Dates'!$A:$E,4,FALSE)","v":{"$error":"#N/A"}},{"$f":"VLOOKUP($B4331,'Ad Week Dates'!$A:$E,2,FALSE)","v":{"$error":"#N/A"}},{"$f":"VLOOKUP($B4331,'Ad Week Dates'!$A:$E,3,FALSE)","v":{"$error":"#N/A"}},null,null,null,null,null,null,{"$error":"#N/A"}]
[null,null,{"$f":"VLOOKUP($B4332,'Ad Week Dates'!$A:$E,4,FALSE)","v":{"$error":"#N/A"}},{"$f":"VLOOKUP($B4332,'Ad Week Dates'!$A:$E,2,FALSE)","v":{"$error":"#N/A"}},{"$f":"VLOOKUP($B4332,'Ad Week Dates'!$A:$E,3,FALSE)","v":{"$error":"#N/A"}},null,null,null,null,null,null,{"$error":"#N/A"}]
[null,null,{"$f":"VLOOKUP($B4333,'Ad Week Dates'!$A:$E,4,FALSE)","v":{"$error":"#N/A"}},{"$f":"VLOOKUP($B4333,'Ad Week Dates'!$A:$E,2,FALSE)","v":{"$error":"#N/A"}},{"$f":"VLOOKUP($B4333,'Ad Week Dates'!$A:$E,3,FALSE)","v":{"$error":"#N/A"}},null,null,null,null,null,null,{"$error":"#N/A"}]
[null,null,{"$f":"VLOOKUP($B4334,'Ad Week Dates'!$A:$E,4,FALSE)","v":{"$error":"#N/A"}},{"$f":"VLOOKUP($B4334,'Ad Week Dates'!$A:$E,2,FALSE)","v":{"$error":"#N/A"}},{"$f":"VLOOKUP($B4334,'Ad Week Dates'!$A:$E,3,FALSE)","v":{"$error":"#N/A"}},null,null,null,null,null,null,{"$error":"#N/A"}]
[null,null,{"$f":"VLOOKUP($B4335,'Ad Week Dates'!$A:$E,4,FALSE)","v":{"$error":"#N/A"}},{"$f":"VLOOKUP($B4335,'Ad Week Dates'!$A:$E,2,FALSE)","v":{"$error":"#N/A"}},{"$f":"VLOOKUP($B4335,'Ad Week Dates'!$A:$E,3,FALSE)","v":{"$error":"#N/A"}},null,null,null,null,null,null,{"$error":"#N/A"}]
[null,null,{"$f":"VLOOKUP($B4336,'Ad Week Dates'!$A:$E,4,FALSE)","v":{"$error":"#N/A"}},{"$f":"VLOOKUP($B4336,'Ad Week Dates'!$A:$E,2,FALSE)","v":{"$error":"#N/A"}},{"$f":"VLOOKUP($B4336,'Ad Week Dates'!$A:$E,3,FALSE)","v":{"$error":"#N/A"}},null,null,null,null,null,null,{"$error":"#N/A"}]
[null,null,{"$f":"VLOOKUP($B4337,'Ad Week Dates'!$A:$E,4,FALSE)","v":{"$error":"#N/A"}},{"$f":"VLOOKUP($B4337,'Ad Week Dates'!$A:$E,2,FALSE)","v":{"$error":"#N/A"}},{"$f":"VLOOKUP($B4337,'Ad Week Dates'!$A:$E,3,FALSE)","v":{"$error":"#N/A"}},null,null,null,null,null,null,{"$error":"#N/A"}]
[null,null,{"$f":"VLOOKUP($B4338,'Ad Week Dates'!$A:$E,4,FALSE)","v":{"$error":"#N/A"}},{"$f":"VLOOKUP($B4338,'Ad Week Dates'!$A:$E,2,FALSE)","v":{"$error":"#N/A"}},{"$f":"VLOOKUP($B4338,'Ad Week Dates'!$A:$E,3,FALSE)","v":{"$error":"#N/A"}},null,null,null,null,null,null,{"$error":"#N/A"}]
[null,null,{"$f":"VLOOKUP($B4339,'Ad Week Dates'!$A:$E,4,FALSE)","v":{"$error":"#N/A"}},{"$f":"VLOOKUP($B4339,'Ad Week Dates'!$A:$E,2,FALSE)","v":{"$error":"#N/A"}},{"$f":"VLOOKUP($B4339,'Ad Week Dates'!$A:$E,3,FALSE)","v":{"$error":"#N/A"}},null,null,null,null,null,null,{"$error":"#N/A"}]
[null,null,{"$f":"VLOOKUP($B4340,'Ad Week Dates'!$A:$E,4,FALSE)","v":{"$error":"#N/A"}},{"$f":"VLOOKUP($B4340,'Ad Week Dates'!$A:$E,2,FALSE)","v":{"$error":"#N/A"}},{"$f":"VLOOKUP($B4340,'Ad Week Dates'!$A:$E,3,FALSE)","v":{"$error":"#N/A"}},null,null,null,null,null,null,{"$error":"#N/A"}]
[null,null,{"$f":"VLOOKUP($B4341,'Ad Week Dates'!$A:$E,4,FALSE)","v":{"$error":"#N/A"}},{"$f":"VLOOKUP($B4341,'Ad Week Dates'!$A:$E,2,FALSE)","v":{"$error":"#N/A"}},{"$f":"VLOOKUP($B4341,'Ad Week Dates'!$A:$E,3,FALSE)","v":{"$error":"#N/A"}},null,null,null,null,null,null,{"$error":"#N/A"}]
[null,null,{"$f":"VLOOKUP($B4342,'Ad Week Dates'!$A:$E,4,FALSE)","v":{"$error":"#N/A"}},{"$f":"VLOOKUP($B4342,'Ad Week Dates'!$A:$E,2,FALSE)","v":{"$error":"#N/A"}},{"$f":"VLOOKUP($B4342,'Ad Week Dates'!$A:$E,3,FALSE)","v":{"$error":"#N/A"}},null,null,null,null,null,null,{"$error":"#N/A"}]
[null,null,{"$f":"VLOOKUP($B4343,'Ad Week Dates'!$A:$E,4,FALSE)","v":{"$error":"#N/A"}},{"$f":"VLOOKUP($B4343,'Ad Week Dates'!$A:$E,2,FALSE)","v":{"$error":"#N/A"}},{"$f":"VLOOKUP($B4343,'Ad Week Dates'!$A:$E,3,FALSE)","v":{"$error":"#N/A"}},null,null,null,null,null,null,{"$error":"#N/A"}]
[null,null,{"$f":"VLOOKUP($B4344,'Ad Week Dates'!$A:$E,4,FALSE)","v":{"$error":"#N/A"}},{"$f":"VLOOKUP($B4344,'Ad Week Dates'!$A:$E,2,FALSE)","v":{"$error":"#N/A"}},{"$f":"VLOOKUP($B4344,'Ad Week Dates'!$A:$E,3,FALSE)","v":{"$error":"#N/A"}},null,null,null,null,null,null,{"$error":"#N/A"}]
[null,null,{"$f":"VLOOKUP($B4345,'Ad Week Dates'!$A:$E,4,FALSE)","v":{"$error":"#N/A"}},{"$f":"VLOOKUP($B4345,'Ad Week Dates'!$A:$E,2,FALSE)","v":{"$error":"#N/A"}},{"$f":"VLOOKUP($B4345,'Ad Week Dates'!$A:$E,3,FALSE)","v":{"$error":"#N/A"}},null,null,null,null,null,null,{"$error":"#N/A"}]
[null,null,{"$f":"VLOOKUP($B4346,'Ad Week Dates'!$A:$E,4,FALSE)","v":{"$error":"#N/A"}},{"$f":"VLOOKUP($B4346,'Ad Week Dates'!$A:$E,2,FALSE)","v":{"$error":"#N/A"}},{"$f":"VLOOKUP($B4346,'Ad Week Dates'!$A:$E,3,FALSE)","v":{"$error":"#N/A"}},null,null,null,null,null,null,{"$error":"#N/A"}]
[null,null,{"$f":"VLOOKUP($B4347,'Ad Week Dates'!$A:$E,4,FALSE)","v":{"$error":"#N/A"}},{"$f":"VLOOKUP($B4347,'Ad Week Dates'!$A:$E,2,FALSE)","v":{"$error":"#N/A"}},{"$f":"VLOOKUP($B4347,'Ad Week Dates'!$A:$E,3,FALSE)","v":{"$error":"#N/A"}},null,null,null,null,null,null,{"$error":"#N/A"}]
[null,null,{"$f":"VLOOKUP($B4348,'Ad Week Dates'!$A:$E,4,FALSE)","v":{"$error":"#N/A"}},{"$f":"VLOOKUP($B4348,'Ad Week Dates'!$A:$E,2,FALSE)","v":{"$error":"#N/A"}},{"$f":"VLOOKUP($B4348,'Ad Week Dates'!$A:$E,3,FALSE)","v":{"$error":"#N/A"}},null,null,null,null,null,null,{"$error":"#N/A"}]
[null,null,{"$f":"VLOOKUP($B4349,'Ad Week Dates'!$A:$E,4,FALSE)","v":{"$error":"#N/A"}},{"$f":"VLOOKUP($B4349,'Ad Week Dates'!$A:$E,2,FALSE)","v":{"$error":"#N/A"}},{"$f":"VLOOKUP($B4349,'Ad Week Dates'!$A:$E,3,FALSE)","v":{"$error":"#N/A"}},null,null,null,null,null,null,{"$error":"#N/A"}]
[null,null,{"$f":"VLOOKUP($B4350,'Ad Week Dates'!$A:$E,4,FALSE)","v":{"$error":"#N/A"}},{"$f":"VLOOKUP($B4350,'Ad Week Dates'!$A:$E,2,FALSE)","v":{"$error":"#N/A"}},{"$f":"VLOOKUP($B4350,'Ad Week Dates'!$A:$E,3,FALSE)","v":{"$error":"#N/A"}},null,null,null,null,null,null,{"$error":"#N/A"}]
[null,null,{"$f":"VLOOKUP($B4351,'Ad Week Dates'!$A:$E,4,FALSE)","v":{"$error":"#N/A"}},{"$f":"VLOOKUP($B4351,'Ad Week Dates'!$A:$E,2,FALSE)","v":{"$error":"#N/A"}},{"$f":"VLOOKUP($B4351,'Ad Week Dates'!$A:$E,3,FALSE)","v":{"$error":"#N/A"}},null,null,null,null,null,null,{"$error":"#N/A"}]
[null,null,{"$f":"VLOOKUP($B4352,'Ad Week Dates'!$A:$E,4,FALSE)","v":{"$error":"#N/A"}},{"$f":"VLOOKUP($B4352,'Ad Week Dates'!$A:$E,2,FALSE)","v":{"$error":"#N/A"}},{"$f":"VLOOKUP($B4352,'Ad Week Dates'!$A:$E,3,FALSE)","v":{"$error":"#N/A"}},null,null,null,null,null,null,{"$error":"#N/A"}]
[null,null,{"$f":"VLOOKUP($B4353,'Ad Week Dates'!$A:$E,4,FALSE)","v":{"$error":"#N/A"}},{"$f":"VLOOKUP($B4353,'Ad Week Dates'!$A:$E,2,FALSE)","v":{"$error":"#N/A"}},{"$f":"VLOOKUP($B4353,'Ad Week Dates'!$A:$E,3,FALSE)","v":{"$error":"#N/A"}},null,null,null,null,null,null,{"$error":"#N/A"}]
[null,null,{"$f":"VLOOKUP($B4354,'Ad Week Dates'!$A:$E,4,FALSE)","v":{"$error":"#N/A"}},{"$f":"VLOOKUP($B4354,'Ad Week Dates'!$A:$E,2,FALSE)","v":{"$error":"#N/A"}},{"$f":"VLOOKUP($B4354,'Ad Week Dates'!$A:$E,3,FALSE)","v":{"$error":"#N/A"}},null,null,null,null,null,null,{"$error":"#N/A"}]
[null,null,{"$f":"VLOOKUP($B4355,'Ad Week Dates'!$A:$E,4,FALSE)","v":{"$error":"#N/A"}},{"$f":"VLOOKUP($B4355,'Ad Week Dates'!$A:$E,2,FALSE)","v":{"$error":"#N/A"}},{"$f":"VLOOKUP($B4355,'Ad Week Dates'!$A:$E,3,FALSE)","v":{"$error":"#N/A"}},null,null,null,null,null,null,{"$error":"#N/A"}]
[null,null,{"$f":"VLOOKUP($B4356,'Ad Week Dates'!$A:$E,4,FALSE)","v":{"$error":"#N/A"}},{"$f":"VLOOKUP($B4356,'Ad Week Dates'!$A:$E,2,FALSE)","v":{"$error":"#N/A"}},{"$f":"VLOOKUP($B4356,'Ad Week Dates'!$A:$E,3,FALSE)","v":{"$error":"#N/A"}},null,null,null,null,null,null,{"$error":"#N/A"}]
[null,null,{"$f":"VLOOKUP($B4357,'Ad Week Dates'!$A:$E,4,FALSE)","v":{"$error":"#N/A"}},{"$f":"VLOOKUP($B4357,'Ad Week Dates'!$A:$E,2,FALSE)","v":{"$error":"#N/A"}},{"$f":"VLOOKUP($B4357,'Ad Week Dates'!$A:$E,3,FALSE)","v":{"$error":"#N/A"}},null,null,null,null,null,null,{"$error":"#N/A"}]
[null,null,{"$f":"VLOOKUP($B4358,'Ad Week Dates'!$A:$E,4,FALSE)","v":{"$error":"#N/A"}},{"$f":"VLOOKUP($B4358,'Ad Week Dates'!$A:$E,2,FALSE)","v":{"$error":"#N/A"}},{"$f":"VLOOKUP($B4358,'Ad Week Dates'!$A:$E,3,FALSE)","v":{"$error":"#N/A"}},null,null,null,null,null,null,{"$f":"IF(ISNUMBER(J4358), J4358 - K4358, VALUE(_xlfn.TEXTBEFORE(J4358, \"-\")) - VALUE(_xlfn.TEXTBEFORE(K4358, \"-\")))","v":{"$error":"#N/A"}}]
[null,null,{"$f":"VLOOKUP($B4359,'Ad Week Dates'!$A:$E,4,FALSE)","v":{"$error":"#N/A"}},{"$f":"VLOOKUP($B4359,'Ad Week Dates'!$A:$E,2,FALSE)","v":{"$error":"#N/A"}},{"$f":"VLOOKUP($B4359,'Ad Week Dates'!$A:$E,3,FALSE)","v":{"$error":"#N/A"}},null,null,null,null,null,null,{"$error":"#N/A"}]
[null,null,{"$f":"VLOOKUP($B4360,'Ad Week Dates'!$A:$E,4,FALSE)","v":{"$error":"#N/A"}},{"$f":"VLOOKUP($B4360,'Ad Week Dates'!$A:$E,2,FALSE)","v":{"$error":"#N/A"}},{"$f":"VLOOKUP($B4360,'Ad Week Dates'!$A:$E,3,FALSE)","v":{"$error":"#N/A"}},null,null,null,null,null,null,{"$error":"#N/A"}]
[null,null,{"$f":"VLOOKUP($B4361,'Ad Week Dates'!$A:$E,4,FALSE)","v":{"$error":"#N/A"}},{"$f":"VLOOKUP($B4361,'Ad Week Dates'!$A:$E,2,FALSE)","v":{"$error":"#N/A"}},{"$f":"VLOOKUP($B4361,'Ad Week Dates'!$A:$E,3,FALSE)","v":{"$error":"#N/A"}},null,null,null,null,null,null,{"$error":"#N/A"}]
[null,null,{"$f":"VLOOKUP($B4362,'Ad Week Dates'!$A:$E,4,FALSE)","v":{"$error":"#N/A"}},{"$f":"VLOOKUP($B4362,'Ad Week Dates'!$A:$E,2,FALSE)","v":{"$error":"#N/A"}},{"$f":"VLOOKUP($B4362,'Ad Week Dates'!$A:$E,3,FALSE)","v":{"$error":"#N/A"}},null,null,null,null,null,null,{"$error":"#N/A"}]
[null,null,{"$f":"VLOOKUP($B4363,'Ad Week Dates'!$A:$E,4,FALSE)","v":{"$error":"#N/A"}},{"$f":"VLOOKUP($B4363,'Ad Week Dates'!$A:$E,2,FALSE)","v":{"$error":"#N/A"}},{"$f":"VLOOKUP($B4363,'Ad Week Dates'!$A:$E,3,FALSE)","v":{"$error":"#N/A"}},null,null,null,null,null,null,{"$error":"#N/A"}]
[null,null,{"$f":"VLOOKUP($B4364,'Ad Week Dates'!$A:$E,4,FALSE)","v":{"$error":"#N/A"}},{"$f":"VLOOKUP($B4364,'Ad Week Dates'!$A:$E,2,FALSE)","v":{"$error":"#N/A"}},{"$f":"VLOOKUP($B4364,'Ad Week Dates'!$A:$E,3,FALSE)","v":{"$error":"#N/A"}},null,null,null,null,null,null,{"$error":"#N/A"}]
[null,null,{"$f":"VLOOKUP($B4365,'Ad Week Dates'!$A:$E,4,FALSE)","v":{"$error":"#N/A"}},{"$f":"VLOOKUP($B4365,'Ad Week Dates'!$A:$E,2,FALSE)","v":{"$error":"#N/A"}},{"$f":"VLOOKUP($B4365,'Ad Week Dates'!$A:$E,3,FALSE)","v":{"$error":"#N/A"}},null,null,null,null,null,null,{"$error":"#N/A"}]
[null,null,{"$f":"VLOOKUP($B4366,'Ad Week Dates'!$A:$E,4,FALSE)","v":{"$error":"#N/A"}},{"$f":"VLOOKUP($B4366,'Ad Week Dates'!$A:$E,2,FALSE)","v":{"$error":"#N/A"}},{"$f":"VLOOKUP($B4366,'Ad Week Dates'!$A:$E,3,FALSE)","v":{"$error":"#N/A"}},null,null,null,null,null,null,{"$error":"#N/A"}]
[null,null,{"$f":"VLOOKUP($B4367,'Ad Week Dates'!$A:$E,4,FALSE)","v":{"$error":"#N/A"}},{"$f":"VLOOKUP($B4367,'Ad Week Dates'!$A:$E,2,FALSE)","v":{"$error":"#N/A"}},{"$f":"VLOOKUP($B4367,'Ad Week Dates'!$A:$E,3,FALSE)","v":{"$error":"#N/A"}},null,null,null,null,null,null,{"$error":"#N/A"}]
[null,null,{"$f":"VLOOKUP($B4368,'Ad Week Dates'!$A:$E,4,FALSE)","v":{"$error":"#N/A"}},{"$f":"VLOOKUP($B4368,'Ad Week Dates'!$A:$E,2,FALSE)","v":{"$error":"#N/A"}},{"$f":"VLOOKUP($B4368,'Ad Week Dates'!$A:$E,3,FALSE)","v":{"$error":"#N/A"}},null,null,null,null,null,null,{"$error":"#N/A"}]
[null,null,{"$f":"VLOOKUP($B4369,'Ad Week Dates'!$A:$E,4,FALSE)","v":{"$error":"#N/A"}},{"$f":"VLOOKUP($B4369,'Ad Week Dates'!$A:$E,2,FALSE)","v":{"$error":"#N/A"}},{"$f":"VLOOKUP($B4369,'Ad Week Dates'!$A:$E,3,FALSE)","v":{"$error":"#N/A"}},null,null,null,null,null,null,{"$error":"#N/A"}]
[null,null,{"$f":"VLOOKUP($B4370,'Ad Week Dates'!$A:$E,4,FALSE)","v":{"$error":"#N/A"}},{"$f":"VLOOKUP($B4370,'Ad Week Dates'!$A:$E,2,FALSE)","v":{"$error":"#N/A"}},{"$f":"VLOOKUP($B4370,'Ad Week Dates'!$A:$E,3,FALSE)","v":{"$error":"#N/A"}},null,null,null,null,null,null,{"$error":"#N/A"}]
[null,null,{"$f":"VLOOKUP($B4371,'Ad Week Dates'!$A:$E,4,FALSE)","v":{"$error":"#N/A"}},{"$f":"VLOOKUP($B4371,'Ad Week Dates'!$A:$E,2,FALSE)","v":{"$error":"#N/A"}},{"$f":"VLOOKUP($B4371,'Ad Week Dates'!$A:$E,3,FALSE)","v":{"$error":"#N/A"}},null,null,null,null,null,null,{"$error":"#N/A"}]
[null,null,{"$f":"VLOOKUP($B4372,'Ad Week Dates'!$A:$E,4,FALSE)","v":{"$error":"#N/A"}},{"$f":"VLOOKUP($B4372,'Ad Week Dates'!$A:$E,2,FALSE)","v":{"$error":"#N/A"}},{"$f":"VLOOKUP($B4372,'Ad Week Dates'!$A:$E,3,FALSE)","v":{"$error":"#N/A"}},null,null,null,null,null,null,{"$error":"#N/A"}]
[null,null,{"$f":"VLOOKUP($B4373,'Ad Week Dates'!$A:$E,4,FALSE)","v":{"$error":"#N/A"}},{"$f":"VLOOKUP($B4373,'Ad Week Dates'!$A:$E,2,FALSE)","v":{"$error":"#N/A"}},{"$f":"VLOOKUP($B4373,'Ad Week Dates'!$A:$E,3,FALSE)","v":{"$error":"#N/A"}},null,null,null,null,null,null,{"$error":"#N/A"}]
[null,null,{"$f":"VLOOKUP($B4374,'Ad Week Dates'!$A:$E,4,FALSE)","v":{"$error":"#N/A"}},{"$f":"VLOOKUP($B4374,'Ad Week Dates'!$A:$E,2,FALSE)","v":{"$error":"#N/A"}},{"$f":"VLOOKUP($B4374,'Ad Week Dates'!$A:$E,3,FALSE)","v":{"$error":"#N/A"}},null,null,null,null,null,null,{"$error":"#N/A"}]
[null,null,{"$f":"VLOOKUP($B4375,'Ad Week Dates'!$A:$E,4,FALSE)","v":{"$error":"#N/A"}},{"$f":"VLOOKUP($B4375,'Ad Week Dates'!$A:$E,2,FALSE)","v":{"$error":"#N/A"}},{"$f":"VLOOKUP($B4375,'Ad Week Dates'!$A:$E,3,FALSE)","v":{"$error":"#N/A"}},null,null,null,null,null,null,{"$error":"#N/A"}]
[null,null,{"$f":"VLOOKUP($B4376,'Ad Week Dates'!$A:$E,4,FALSE)","v":{"$error":"#N/A"}},{"$f":"VLOOKUP($B4376,'Ad Week Dates'!$A:$E,2,FALSE)","v":{"$error":"#N/A"}},{"$f":"VLOOKUP($B4376,'Ad Week Dates'!$A:$E,3,FALSE)","v":{"$error":"#N/A"}},null,null,null,null,null,null,{"$error":"#N/A"}]
[null,null,{"$f":"VLOOKUP($B4377,'Ad Week Dates'!$A:$E,4,FALSE)","v":{"$error":"#N/A"}},{"$f":"VLOOKUP($B4377,'Ad Week Dates'!$A:$E,2,FALSE)","v":{"$error":"#N/A"}},{"$f":"VLOOKUP($B4377,'Ad Week Dates'!$A:$E,3,FALSE)","v":{"$error":"#N/A"}},null,null,null,null,null,null,{"$error":"#N/A"}]
[null,null,{"$f":"VLOOKUP($B4378,'Ad Week Dates'!$A:$E,4,FALSE)","v":{"$error":"#N/A"}},{"$f":"VLOOKUP($B4378,'Ad Week Dates'!$A:$E,2,FALSE)","v":{"$error":"#N/A"}},{"$f":"VLOOKUP($B4378,'Ad Week Dates'!$A:$E,3,FALSE)","v":{"$error":"#N/A"}},null,null,null,null,null,null,{"$error":"#N/A"}]
[null,null,{"$f":"VLOOKUP($B4379,'Ad Week Dates'!$A:$E,4,FALSE)","v":{"$error":"#N/A"}},{"$f":"VLOOKUP($B4379,'Ad Week Dates'!$A:$E,2,FALSE)","v":{"$error":"#N/A"}},{"$f":"VLOOKUP($B4379,'Ad Week Dates'!$A:$E,3,FALSE)","v":{"$error":"#N/A"}},null,null,null,null,null,null,{"$error":"#N/A"}]
[null,null,{"$f":"VLOOKUP($B4380,'Ad Week Dates'!$A:$E,4,FALSE)","v":{"$error":"#N/A"}},{"$f":"VLOOKUP($B4380,'Ad Week Dates'!$A:$E,2,FALSE)","v":{"$error":"#N/A"}},{"$f":"VLOOKUP($B4380,'Ad Week Dates'!$A:$E,3,FALSE)","v":{"$error":"#N/A"}},null,null,null,null,null,null,{"$error":"#N/A"}]
[null,null,{"$f":"VLOOKUP($B4381,'Ad Week Dates'!$A:$E,4,FALSE)","v":{"$error":"#N/A"}},{"$f":"VLOOKUP($B4381,'Ad Week Dates'!$A:$E,2,FALSE)","v":{"$error":"#N/A"}},{"$f":"VLOOKUP($B4381,'Ad Week Dates'!$A:$E,3,FALSE)","v":{"$error":"#N/A"}},null,null,null,null,null,null,{"$error":"#N/A"}]
[null,null,{"$f":"VLOOKUP($B4382,'Ad Week Dates'!$A:$E,4,FALSE)","v":{"$error":"#N/A"}},{"$f":"VLOOKUP($B4382,'Ad Week Dates'!$A:$E,2,FALSE)","v":{"$error":"#N/A"}},{"$f":"VLOOKUP($B4382,'Ad Week Dates'!$A:$E,3,FALSE)","v":{"$error":"#N/A"}},null,null,null,null,null,null,{"$error":"#N/A"}]
[null,null,{"$f":"VLOOKUP($B4383,'Ad Week Dates'!$A:$E,4,FALSE)","v":{"$error":"#N/A"}},{"$f":"VLOOKUP($B4383,'Ad Week Dates'!$A:$E,2,FALSE)","v":{"$error":"#N/A"}},{"$f":"VLOOKUP($B4383,'Ad Week Dates'!$A:$E,3,FALSE)","v":{"$error":"#N/A"}},null,null,null,null,null,null,{"$error":"#N/A"}]
[null,null,{"$f":"VLOOKUP($B4384,'Ad Week Dates'!$A:$E,4,FALSE)","v":{"$error":"#N/A"}},{"$f":"VLOOKUP($B4384,'Ad Week Dates'!$A:$E,2,FALSE)","v":{"$error":"#N/A"}},{"$f":"VLOOKUP($B4384,'Ad Week Dates'!$A:$E,3,FALSE)","v":{"$error":"#N/A"}},null,null,null,null,null,null,{"$error":"#N/A"}]
[null,null,{"$f":"VLOOKUP($B4385,'Ad Week Dates'!$A:$E,4,FALSE)","v":{"$error":"#N/A"}},{"$f":"VLOOKUP($B4385,'Ad Week Dates'!$A:$E,2,FALSE)","v":{"$error":"#N/A"}},{"$f":"VLOOKUP($B4385,'Ad Week Dates'!$A:$E,3,FALSE)","v":{"$error":"#N/A"}},null,null,null,null,null,null,{"$error":"#N/A"}]
[null,null,{"$f":"VLOOKUP($B4386,'Ad Week Dates'!$A:$E,4,FALSE)","v":{"$error":"#N/A"}},{"$f":"VLOOKUP($B4386,'Ad Week Dates'!$A:$E,2,FALSE)","v":{"$error":"#N/A"}},{"$f":"VLOOKUP($B4386,'Ad Week Dates'!$A:$E,3,FALSE)","v":{"$error":"#N/A"}},null,null,null,null,null,null,{"$error":"#N/A"}]
[null,null,{"$f":"VLOOKUP($B4387,'Ad Week Dates'!$A:$E,4,FALSE)","v":{"$error":"#N/A"}},{"$f":"VLOOKUP($B4387,'Ad Week Dates'!$A:$E,2,FALSE)","v":{"$error":"#N/A"}},{"$f":"VLOOKUP($B4387,'Ad Week Dates'!$A:$E,3,FALSE)","v":{"$error":"#N/A"}},null,null,null,null,null,null,{"$error":"#N/A"}]
[null,null,{"$f":"VLOOKUP($B4388,'Ad Week Dates'!$A:$E,4,FALSE)","v":{"$error":"#N/A"}},{"$f":"VLOOKUP($B4388,'Ad Week Dates'!$A:$E,2,FALSE)","v":{"$error":"#N/A"}},{"$f":"VLOOKUP($B4388,'Ad Week Dates'!$A:$E,3,FALSE)","v":{"$error":"#N/A"}},null,null,null,null,null,null,{"$error":"#N/A"}]
[null,null,{"$f":"VLOOKUP($B4389,'Ad Week Dates'!$A:$E,4,FALSE)","v":{"$error":"#N/A"}},{"$f":"VLOOKUP($B4389,'Ad Week Dates'!$A:$E,2,FALSE)","v":{"$error":"#N/A"}},{"$f":"VLOOKUP($B4389,'Ad Week Dates'!$A:$E,3,FALSE)","v":{"$error":"#N/A"}},null,null,null,null,null,null,{"$error":"#N/A"}]
[null,null,{"$f":"VLOOKUP($B4390,'Ad Week Dates'!$A:$E,4,FALSE)","v":{"$error":"#N/A"}},{"$f":"VLOOKUP($B4390,'Ad Week Dates'!$A:$E,2,FALSE)","v":{"$error":"#N/A"}},{"$f":"VLOOKUP($B4390,'Ad Week Dates'!$A:$E,3,FALSE)","v":{"$error":"#N/A"}},null,null,null,null,null,null,{"$error":"#N/A"}]
[null,null,{"$f":"VLOOKUP($B4391,'Ad Week Dates'!$A:$E,4,FALSE)","v":{"$error":"#N/A"}},{"$f":"VLOOKUP($B4391,'Ad Week Dates'!$A:$E,2,FALSE)","v":{"$error":"#N/A"}},{"$f":"VLOOKUP($B4391,'Ad Week Dates'!$A:$E,3,FALSE)","v":{"$error":"#N/A"}},null,null,null,null,null,null,{"$error":"#N/A"}]
[null,null,{"$f":"VLOOKUP($B4392,'Ad Week Dates'!$A:$E,4,FALSE)","v":{"$error":"#N/A"}},{"$f":"VLOOKUP($B4392,'Ad Week Dates'!$A:$E,2,FALSE)","v":{"$error":"#N/A"}},{"$f":"VLOOKUP($B4392,'Ad Week Dates'!$A:$E,3,FALSE)","v":{"$error":"#N/A"}},null,null,null,null,null,null,{"$error":"#N/A"}]
[null,null,{"$f":"VLOOKUP($B4393,'Ad Week Dates'!$A:$E,4,FALSE)","v":{"$error":"#N/A"}},{"$f":"VLOOKUP($B4393,'Ad Week Dates'!$A:$E,2,FALSE)","v":{"$error":"#N/A"}},{"$f":"VLOOKUP($B4393,'Ad Week Dates'!$A:$E,3,FALSE)","v":{"$error":"#N/A"}},null,null,null,null,null,null,{"$error":"#N/A"}]
[null,null,{"$f":"VLOOKUP($B4394,'Ad Week Dates'!$A:$E,4,FALSE)","v":{"$error":"#N/A"}},{"$f":"VLOOKUP($B4394,'Ad Week Dates'!$A:$E,2,FALSE)","v":{"$error":"#N/A"}},{"$f":"VLOOKUP($B4394,'Ad Week Dates'!$A:$E,3,FALSE)","v":{"$error":"#N/A"}},null,null,null,null,null,null,{"$error":"#N/A"}]
[null,null,{"$f":"VLOOKUP($B4395,'Ad Week Dates'!$A:$E,4,FALSE)","v":{"$error":"#N/A"}},{"$f":"VLOOKUP($B4395,'Ad Week Dates'!$A:$E,2,FALSE)","v":{"$error":"#N/A"}},{"$f":"VLOOKUP($B4395,'Ad Week Dates'!$A:$E,3,FALSE)","v":{"$error":"#N/A"}},null,null,null,null,null,null,{"$error":"#N/A"}]
[null,null,{"$f":"VLOOKUP($B4396,'Ad Week Dates'!$A:$E,4,FALSE)","v":{"$error":"#N/A"}},{"$f":"VLOOKUP($B4396,'Ad Week Dates'!$A:$E,2,FALSE)","v":{"$error":"#N/A"}},{"$f":"VLOOKUP($B4396,'Ad Week Dates'!$A:$E,3,FALSE)","v":{"$error":"#N/A"}},null,null,null,null,null,null,{"$error":"#N/A"}]
[null,null,{"$f":"VLOOKUP($B4397,'Ad Week Dates'!$A:$E,4,FALSE)","v":{"$error":"#N/A"}},{"$f":"VLOOKUP($B4397,'Ad Week Dates'!$A:$E,2,FALSE)","v":{"$error":"#N/A"}},{"$f":"VLOOKUP($B4397,'Ad Week Dates'!$A:$E,3,FALSE)","v":{"$error":"#N/A"}},null,null,null,null,null,null,{"$error":"#N/A"}]
[null,null,{"$f":"VLOOKUP($B4398,'Ad Week Dates'!$A:$E,4,FALSE)","v":{"$error":"#N/A"}},{"$f":"VLOOKUP($B4398,'Ad Week Dates'!$A:$E,2,FALSE)","v":{"$error":"#N/A"}},{"$f":"VLOOKUP($B4398,'Ad Week Dates'!$A:$E,3,FALSE)","v":{"$error":"#N/A"}},null,null,null,null,null,null,{"$error":"#N/A"}]
[null,null,{"$f":"VLOOKUP($B4399,'Ad Week Dates'!$A:$E,4,FALSE)","v":{"$error":"#N/A"}},{"$f":"VLOOKUP($B4399,'Ad Week Dates'!$A:$E,2,FALSE)","v":{"$error":"#N/A"}},{"$f":"VLOOKUP($B4399,'Ad Week Dates'!$A:$E,3,FALSE)","v":{"$error":"#N/A"}},null,null,null,null,null,null,{"$error":"#N/A"}]
[null,null,{"$f":"VLOOKUP($B4400,'Ad Week Dates'!$A:$E,4,FALSE)","v":{"$error":"#N/A"}},{"$f":"VLOOKUP($B4400,'Ad Week Dates'!$A:$E,2,FALSE)","v":{"$error":"#N/A"}},{"$f":"VLOOKUP($B4400,'Ad Week Dates'!$A:$E,3,FALSE)","v":{"$error":"#N/A"}},null,null,null,null,null,null,{"$error":"#N/A"}]
[null,null,{"$f":"VLOOKUP($B4401,'Ad Week Dates'!$A:$E,4,FALSE)","v":{"$error":"#N/A"}},{"$f":"VLOOKUP($B4401,'Ad Week Dates'!$A:$E,2,FALSE)","v":{"$error":"#N/A"}},{"$f":"VLOOKUP($B4401,'Ad Week Dates'!$A:$E,3,FALSE)","v":{"$error":"#N/A"}},null,null,null,null,null,null,{"$error":"#N/A"}]
[null,null,{"$f":"VLOOKUP($B4402,'Ad Week Dates'!$A:$E,4,FALSE)","v":{"$error":"#N/A"}},{"$f":"VLOOKUP($B4402,'Ad Week Dates'!$A:$E,2,FALSE)","v":{"$error":"#N/A"}},{"$f":"VLOOKUP($B4402,'Ad Week Dates'!$A:$E,3,FALSE)","v":{"$error":"#N/A"}},null,null,null,null,null,null,{"$error":"#N/A"}]
[null,null,{"$f":"VLOOKUP($B4403,'Ad Week Dates'!$A:$E,4,FALSE)","v":{"$error":"#N/A"}},{"$f":"VLOOKUP($B4403,'Ad Week Dates'!$A:$E,2,FALSE)","v":{"$error":"#N/A"}},{"$f":"VLOOKUP($B4403,'Ad Week Dates'!$A:$E,3,FALSE)","v":{"$error":"#N/A"}},null,null,null,null,null,null,{"$error":"#N/A"}]
[null,null,{"$f":"VLOOKUP($B4404,'Ad Week Dates'!$A:$E,4,FALSE)","v":{"$error":"#N/A"}},{"$f":"VLOOKUP($B4404,'Ad Week Dates'!$A:$E,2,FALSE)","v":{"$error":"#N/A"}},{"$f":"VLOOKUP($B4404,'Ad Week Dates'!$A:$E,3,FALSE)","v":{"$error":"#N/A"}},null,null,null,null,null,null,{"$error":"#N/A"}]
[null,null,{"$f":"VLOOKUP($B4405,'Ad Week Dates'!$A:$E,4,FALSE)","v":{"$error":"#N/A"}},{"$f":"VLOOKUP($B4405,'Ad Week Dates'!$A:$E,2,FALSE)","v":{"$error":"#N/A"}},{"$f":"VLOOKUP($B4405,'Ad Week Dates'!$A:$E,3,FALSE)","v":{"$error":"#N/A"}},null,null,null,null,null,null,{"$error":"#N/A"}]
[null,null,{"$f":"VLOOKUP($B4406,'Ad Week Dates'!$A:$E,4,FALSE)","v":{"$error":"#N/A"}},{"$f":"VLOOKUP($B4406,'Ad Week Dates'!$A:$E,2,FALSE)","v":{"$error":"#N/A"}},{"$f":"VLOOKUP($B4406,'Ad Week Dates'!$A:$E,3,FALSE)","v":{"$error":"#N/A"}},null,null,null,null,null,null,{"$error":"#N/A"}]
[null,null,{"$f":"VLOOKUP($B4407,'Ad Week Dates'!$A:$E,4,FALSE)","v":{"$error":"#N/A"}},{"$f":"VLOOKUP($B4407,'Ad Week Dates'!$A:$E,2,FALSE)","v":{"$error":"#N/A"}},{"$f":"VLOOKUP($B4407,'Ad Week Dates'!$A:$E,3,FALSE)","v":{"$error":"#N/A"}},null,null,null,null,null,null,{"$error":"#N/A"}]
[null,null,{"$f":"VLOOKUP($B4408,'Ad Week Dates'!$A:$E,4,FALSE)","v":{"$error":"#N/A"}},{"$f":"VLOOKUP($B4408,'Ad Week Dates'!$A:$E,2,FALSE)","v":{"$error":"#N/A"}},{"$f":"VLOOKUP($B4408,'Ad Week Dates'!$A:$E,3,FALSE)","v":{"$error":"#N/A"}},null,null,null,null,null,null,{"$error":"#N/A"}]
[null,null,{"$f":"VLOOKUP($B4409,'Ad Week Dates'!$A:$E,4,FALSE)","v":{"$error":"#N/A"}},{"$f":"VLOOKUP($B4409,'Ad Week Dates'!$A:$E,2,FALSE)","v":{"$error":"#N/A"}},{"$f":"VLOOKUP($B4409,'Ad Week Dates'!$A:$E,3,FALSE)","v":{"$error":"#N/A"}},null,null,null,null,null,null,{"$error":"#N/A"}]
[null,null,{"$f":"VLOOKUP($B4410,'Ad Week Dates'!$A:$E,4,FALSE)","v":{"$error":"#N/A"}},{"$f":"VLOOKUP($B4410,'Ad Week Dates'!$A:$E,2,FALSE)","v":{"$error":"#N/A"}},{"$f":"VLOOKUP($B4410,'Ad Week Dates'!$A:$E,3,FALSE)","v":{"$error":"#N/A"}},null,null,null,null,null,null,{"$error":"#N/A"}]
[null,null,{"$f":"VLOOKUP($B4411,'Ad Week Dates'!$A:$E,4,FALSE)","v":{"$error":"#N/A"}},{"$f":"VLOOKUP($B4411,'Ad Week Dates'!$A:$E,2,FALSE)","v":{"$error":"#N/A"}},{"$f":"VLOOKUP($B4411,'Ad Week Dates'!$A:$E,3,FALSE)","v":{"$error":"#N/A"}},null,null,null,null,null,null,{"$error":"#N/A"}]
[null,null,{"$f":"VLOOKUP($B4412,'Ad Week Dates'!$A:$E,4,FALSE)","v":{"$error":"#N/A"}},{"$f":"VLOOKUP($B4412,'Ad Week Dates'!$A:$E,2,FALSE)","v":{"$error":"#N/A"}},{"$f":"VLOOKUP($B4412,'Ad Week Dates'!$A:$E,3,FALSE)","v":{"$error":"#N/A"}},null,null,null,null,null,null,{"$error":"#N/A"}]
[null,null,{"$f":"VLOOKUP($B4413,'Ad Week Dates'!$A:$E,4,FALSE)","v":{"$error":"#N/A"}},{"$f":"VLOOKUP($B4413,'Ad Week Dates'!$A:$E,2,FALSE)","v":{"$error":"#N/A"}},{"$f":"VLOOKUP($B4413,'Ad Week Dates'!$A:$E,3,FALSE)","v":{"$error":"#N/A"}},null,null,null,null,null,null,{"$error":"#N/A"}]
[null,null,{"$f":"VLOOKUP($B4414,'Ad Week Dates'!$A:$E,4,FALSE)","v":{"$error":"#N/A"}},{"$f":"VLOOKUP($B4414,'Ad Week Dates'!$A:$E,2,FALSE)","v":{"$error":"#N/A"}},{"$f":"VLOOKUP($B4414,'Ad Week Dates'!$A:$E,3,FALSE)","v":{"$error":"#N/A"}},null,null,null,null,null,null,{"$error":"#N/A"}]
[null,null,{"$f":"VLOOKUP($B4415,'Ad Week Dates'!$A:$E,4,FALSE)","v":{"$error":"#N/A"}},{"$f":"VLOOKUP($B4415,'Ad Week Dates'!$A:$E,2,FALSE)","v":{"$error":"#N/A"}},{"$f":"VLOOKUP($B4415,'Ad Week Dates'!$A:$E,3,FALSE)","v":{"$error":"#N/A"}},null,null,null,null,null,null,{"$error":"#N/A"}]
[null,null,{"$f":"VLOOKUP($B4416,'Ad Week Dates'!$A:$E,4,FALSE)","v":{"$error":"#N/A"}},{"$f":"VLOOKUP($B4416,'Ad Week Dates'!$A:$E,2,FALSE)","v":{"$error":"#N/A"}},{"$f":"VLOOKUP($B4416,'Ad Week Dates'!$A:$E,3,FALSE)","v":{"$error":"#N/A"}},null,null,null,null,null,null,{"$error":"#N/A"}]
[null,null,{"$f":"VLOOKUP($B4417,'Ad Week Dates'!$A:$E,4,FALSE)","v":{"$error":"#N/A"}},{"$f":"VLOOKUP($B4417,'Ad Week Dates'!$A:$E,2,FALSE)","v":{"$error":"#N/A"}},{"$f":"VLOOKUP($B4417,'Ad Week Dates'!$A:$E,3,FALSE)","v":{"$error":"#N/A"}},null,null,null,null,null,null,{"$error":"#N/A"}]
[null,null,{"$f":"VLOOKUP($B4418,'Ad Week Dates'!$A:$E,4,FALSE)","v":{"$error":"#N/A"}},{"$f":"VLOOKUP($B4418,'Ad Week Dates'!$A:$E,2,FALSE)","v":{"$error":"#N/A"}},{"$f":"VLOOKUP($B4418,'Ad Week Dates'!$A:$E,3,FALSE)","v":{"$error":"#N/A"}},null,null,null,null,null,null,{"$error":"#N/A"}]
[null,null,{"$f":"VLOOKUP($B4419,'Ad Week Dates'!$A:$E,4,FALSE)","v":{"$error":"#N/A"}},{"$f":"VLOOKUP($B4419,'Ad Week Dates'!$A:$E,2,FALSE)","v":{"$error":"#N/A"}},{"$f":"VLOOKUP($B4419,'Ad Week Dates'!$A:$E,3,FALSE)","v":{"$error":"#N/A"}},null,null,null,null,null,null,{"$error":"#N/A"}]
[null,null,{"$f":"VLOOKUP($B4420,'Ad Week Dates'!$A:$E,4,FALSE)","v":{"$error":"#N/A"}},{"$f":"VLOOKUP($B4420,'Ad Week Dates'!$A:$E,2,FALSE)","v":{"$error":"#N/A"}},{"$f":"VLOOKUP($B4420,'Ad Week Dates'!$A:$E,3,FALSE)","v":{"$error":"#N/A"}},null,null,null,null,null,null,{"$error":"#N/A"}]
[null,null,{"$f":"VLOOKUP($B4421,'Ad Week Dates'!$A:$E,4,FALSE)","v":{"$error":"#N/A"}},{"$f":"VLOOKUP($B4421,'Ad Week Dates'!$A:$E,2,FALSE)","v":{"$error":"#N/A"}},{"$f":"VLOOKUP($B4421,'Ad Week Dates'!$A:$E,3,FALSE)","v":{"$error":"#N/A"}},null,null,null,null,null,null,{"$error":"#N/A"}]
[null,null,{"$f":"VLOOKUP($B4422,'Ad Week Dates'!$A:$E,4,FALSE)","v":{"$error":"#N/A"}},{"$f":"VLOOKUP($B4422,'Ad Week Dates'!$A:$E,2,FALSE)","v":{"$error":"#N/A"}},{"$f":"VLOOKUP($B4422,'Ad Week Dates'!$A:$E,3,FALSE)","v":{"$error":"#N/A"}},null,null,null,null,null,null,{"$f":"IF(ISNUMBER(J4422), J4422 - K4422, VALUE(_xlfn.TEXTBEFORE(J4422, \"-\")) - VALUE(_xlfn.TEXTBEFORE(K4422, \"-\")))","v":{"$error":"#N/A"}}]
[null,null,{"$f":"VLOOKUP($B4423,'Ad Week Dates'!$A:$E,4,FALSE)","v":{"$error":"#N/A"}},{"$f":"VLOOKUP($B4423,'Ad Week Dates'!$A:$E,2,FALSE)","v":{"$error":"#N/A"}},{"$f":"VLOOKUP($B4423,'Ad Week Dates'!$A:$E,3,FALSE)","v":{"$error":"#N/A"}},null,null,null,null,null,null,{"$error":"#N/A"}]
[null,null,{"$f":"VLOOKUP($B4424,'Ad Week Dates'!$A:$E,4,FALSE)","v":{"$error":"#N/A"}},{"$f":"VLOOKUP($B4424,'Ad Week Dates'!$A:$E,2,FALSE)","v":{"$error":"#N/A"}},{"$f":"VLOOKUP($B4424,'Ad Week Dates'!$A:$E,3,FALSE)","v":{"$error":"#N/A"}},null,null,null,null,null,null,{"$error":"#N/A"}]
[null,null,{"$f":"VLOOKUP($B4425,'Ad Week Dates'!$A:$E,4,FALSE)","v":{"$error":"#N/A"}},{"$f":"VLOOKUP($B4425,'Ad Week Dates'!$A:$E,2,FALSE)","v":{"$error":"#N/A"}},{"$f":"VLOOKUP($B4425,'Ad Week Dates'!$A:$E,3,FALSE)","v":{"$error":"#N/A"}},null,null,null,null,null,null,{"$error":"#N/A"}]
[null,null,{"$f":"VLOOKUP($B4426,'Ad Week Dates'!$A:$E,4,FALSE)","v":{"$error":"#N/A"}},{"$f":"VLOOKUP($B4426,'Ad Week Dates'!$A:$E,2,FALSE)","v":{"$error":"#N/A"}},{"$f":"VLOOKUP($B4426,'Ad Week Dates'!$A:$E,3,FALSE)","v":{"$error":"#N/A"}},null,null,null,null,null,null,{"$error":"#N/A"}]
[null,null,{"$f":"VLOOKUP($B4427,'Ad Week Dates'!$A:$E,4,FALSE)","v":{"$error":"#N/A"}},{"$f":"VLOOKUP($B4427,'Ad Week Dates'!$A:$E,2,FALSE)","v":{"$error":"#N/A"}},{"$f":"VLOOKUP($B4427,'Ad Week Dates'!$A:$E,3,FALSE)","v":{"$error":"#N/A"}},null,null,null,null,null,null,{"$error":"#N/A"}]
[null,null,{"$f":"VLOOKUP($B4428,'Ad Week Dates'!$A:$E,4,FALSE)","v":{"$error":"#N/A"}},{"$f":"VLOOKUP($B4428,'Ad Week Dates'!$A:$E,2,FALSE)","v":{"$error":"#N/A"}},{"$f":"VLOOKUP($B4428,'Ad Week Dates'!$A:$E,3,FALSE)","v":{"$error":"#N/A"}},null,null,null,null,null,null,{"$error":"#N/A"}]
[null,null,{"$f":"VLOOKUP($B4429,'Ad Week Dates'!$A:$E,4,FALSE)","v":{"$error":"#N/A"}},{"$f":"VLOOKUP($B4429,'Ad Week Dates'!$A:$E,2,FALSE)","v":{"$error":"#N/A"}},{"$f":"VLOOKUP($B4429,'Ad Week Dates'!$A:$E,3,FALSE)","v":{"$error":"#N/A"}},null,null,null,null,null,null,{"$error":"#N/A"}]
[null,null,{"$f":"VLOOKUP($B4430,'Ad Week Dates'!$A:$E,4,FALSE)","v":{"$error":"#N/A"}},{"$f":"VLOOKUP($B4430,'Ad Week Dates'!$A:$E,2,FALSE)","v":{"$error":"#N/A"}},{"$f":"VLOOKUP($B4430,'Ad Week Dates'!$A:$E,3,FALSE)","v":{"$error":"#N/A"}},null,null,null,null,null,null,{"$error":"#N/A"}]
[null,null,{"$f":"VLOOKUP($B4431,'Ad Week Dates'!$A:$E,4,FALSE)","v":{"$error":"#N/A"}},{"$f":"VLOOKUP($B4431,'Ad Week Dates'!$A:$E,2,FALSE)","v":{"$error":"#N/A"}},{"$f":"VLOOKUP($B4431,'Ad Week Dates'!$A:$E,3,FALSE)","v":{"$error":"#N/A"}},null,null,null,null,null,null,{"$error":"#N/A"}]
[null,null,{"$f":"VLOOKUP($B4432,'Ad Week Dates'!$A:$E,4,FALSE)","v":{"$error":"#N/A"}},{"$f":"VLOOKUP($B4432,'Ad Week Dates'!$A:$E,2,FALSE)","v":{"$error":"#N/A"}},{"$f":"VLOOKUP($B4432,'Ad Week Dates'!$A:$E,3,FALSE)","v":{"$error":"#N/A"}},null,null,null,null,null,null,{"$error":"#N/A"}]
[null,null,{"$f":"VLOOKUP($B4433,'Ad Week Dates'!$A:$E,4,FALSE)","v":{"$error":"#N/A"}},{"$f":"VLOOKUP($B4433,'Ad Week Dates'!$A:$E,2,FALSE)","v":{"$error":"#N/A"}},{"$f":"VLOOKUP($B4433,'Ad Week Dates'!$A:$E,3,FALSE)","v":{"$error":"#N/A"}},null,null,null,null,null,null,{"$error":"#N/A"}]
[null,null,{"$f":"VLOOKUP($B4434,'Ad Week Dates'!$A:$E,4,FALSE)","v":{"$error":"#N/A"}},{"$f":"VLOOKUP($B4434,'Ad Week Dates'!$A:$E,2,FALSE)","v":{"$error":"#N/A"}},{"$f":"VLOOKUP($B4434,'Ad Week Dates'!$A:$E,3,FALSE)","v":{"$error":"#N/A"}},null,null,null,null,null,null,{"$error":"#N/A"}]
[null,null,{"$f":"VLOOKUP($B4435,'Ad Week Dates'!$A:$E,4,FALSE)","v":{"$error":"#N/A"}},{"$f":"VLOOKUP($B4435,'Ad Week Dates'!$A:$E,2,FALSE)","v":{"$error":"#N/A"}},{"$f":"VLOOKUP($B4435,'Ad Week Dates'!$A:$E,3,FALSE)","v":{"$error":"#N/A"}},null,null,null,null,null,null,{"$error":"#N/A"}]
[null,null,{"$f":"VLOOKUP($B4436,'Ad Week Dates'!$A:$E,4,FALSE)","v":{"$error":"#N/A"}},{"$f":"VLOOKUP($B4436,'Ad Week Dates'!$A:$E,2,FALSE)","v":{"$error":"#N/A"}},{"$f":"VLOOKUP($B4436,'Ad Week Dates'!$A:$E,3,FALSE)","v":{"$error":"#N/A"}},null,null,null,null,null,null,{"$error":"#N/A"}]
[null,null,{"$f":"VLOOKUP($B4437,'Ad Week Dates'!$A:$E,4,FALSE)","v":{"$error":"#N/A"}},{"$f":"VLOOKUP($B4437,'Ad Week Dates'!$A:$E,2,FALSE)","v":{"$error":"#N/A"}},{"$f":"VLOOKUP($B4437,'Ad Week Dates'!$A:$E,3,FALSE)","v":{"$error":"#N/A"}},null,null,null,null,null,null,{"$error":"#N/A"}]
[null,null,{"$f":"VLOOKUP($B4438,'Ad Week Dates'!$A:$E,4,FALSE)","v":{"$error":"#N/A"}},{"$f":"VLOOKUP($B4438,'Ad Week Dates'!$A:$E,2,FALSE)","v":{"$error":"#N/A"}},{"$f":"VLOOKUP($B4438,'Ad Week Dates'!$A:$E,3,FALSE)","v":{"$error":"#N/A"}},null,null,null,null,null,null,{"$error":"#N/A"}]
[null,null,{"$f":"VLOOKUP($B4439,'Ad Week Dates'!$A:$E,4,FALSE)","v":{"$error":"#N/A"}},{"$f":"VLOOKUP($B4439,'Ad Week Dates'!$A:$E,2,FALSE)","v":{"$error":"#N/A"}},{"$f":"VLOOKUP($B4439,'Ad Week Dates'!$A:$E,3,FALSE)","v":{"$error":"#N/A"}},null,null,null,null,null,null,{"$error":"#N/A"}]
[null,null,{"$f":"VLOOKUP($B4440,'Ad Week Dates'!$A:$E,4,FALSE)","v":{"$error":"#N/A"}},{"$f":"VLOOKUP($B4440,'Ad Week Dates'!$A:$E,2,FALSE)","v":{"$error":"#N/A"}},{"$f":"VLOOKUP($B4440,'Ad Week Dates'!$A:$E,3,FALSE)","v":{"$error":"#N/A"}},null,null,null,null,null,null,{"$error":"#N/A"}]
[null,null,{"$f":"VLOOKUP($B4441,'Ad Week Dates'!$A:$E,4,FALSE)","v":{"$error":"#N/A"}},{"$f":"VLOOKUP($B4441,'Ad Week Dates'!$A:$E,2,FALSE)","v":{"$error":"#N/A"}},{"$f":"VLOOKUP($B4441,'Ad Week Dates'!$A:$E,3,FALSE)","v":{"$error":"#N/A"}},null,null,null,null,null,null,{"$error":"#N/A"}]
[null,null,{"$f":"VLOOKUP($B4442,'Ad Week Dates'!$A:$E,4,FALSE)","v":{"$error":"#N/A"}},{"$f":"VLOOKUP($B4442,'Ad Week Dates'!$A:$E,2,FALSE)","v":{"$error":"#N/A"}},{"$f":"VLOOKUP($B4442,'Ad Week Dates'!$A:$E,3,FALSE)","v":{"$error":"#N/A"}},null,null,null,null,null,null,{"$error":"#N/A"}]
[null,null,{"$f":"VLOOKUP($B4443,'Ad Week Dates'!$A:$E,4,FALSE)","v":{"$error":"#N/A"}},{"$f":"VLOOKUP($B4443,'Ad Week Dates'!$A:$E,2,FALSE)","v":{"$error":"#N/A"}},{"$f":"VLOOKUP($B4443,'Ad Week Dates'!$A:$E,3,FALSE)","v":{"$error":"#N/A"}},null,null,null,null,null,null,{"$error":"#N/A"}]
[null,null,{"$f":"VLOOKUP($B4444,'Ad Week Dates'!$A:$E,4,FALSE)","v":{"$error":"#N/A"}},{"$f":"VLOOKUP($B4444,'Ad Week Dates'!$A:$E,2,FALSE)","v":{"$error":"#N/A"}},{"$f":"VLOOKUP($B4444,'Ad Week Dates'!$A:$E,3,FALSE)","v":{"$error":"#N/A"}},null,null,null,null,null,null,{"$error":"#N/A"}]
[null,null,{"$f":"VLOOKUP($B4445,'Ad Week Dates'!$A:$E,4,FALSE)","v":{"$error":"#N/A"}},{"$f":"VLOOKUP($B4445,'Ad Week Dates'!$A:$E,2,FALSE)","v":{"$error":"#N/A"}},{"$f":"VLOOKUP($B4445,'Ad Week Dates'!$A:$E,3,FALSE)","v":{"$error":"#N/A"}},null,null,null,null,null,null,{"$error":"#N/A"}]
[null,null,{"$f":"VLOOKUP($B4446,'Ad Week Dates'!$A:$E,4,FALSE)","v":{"$error":"#N/A"}},{"$f":"VLOOKUP($B4446,'Ad Week Dates'!$A:$E,2,FALSE)","v":{"$error":"#N/A"}},{"$f":"VLOOKUP($B4446,'Ad Week Dates'!$A:$E,3,FALSE)","v":{"$error":"#N/A"}},null,null,null,null,null,null,{"$error":"#N/A"}]
[null,null,{"$f":"VLOOKUP($B4447,'Ad Week Dates'!$A:$E,4,FALSE)","v":{"$error":"#N/A"}},{"$f":"VLOOKUP($B4447,'Ad Week Dates'!$A:$E,2,FALSE)","v":{"$error":"#N/A"}},{"$f":"VLOOKUP($B4447,'Ad Week Dates'!$A:$E,3,FALSE)","v":{"$error":"#N/A"}},null,null,null,null,null,null,{"$error":"#N/A"}]
[null,null,{"$f":"VLOOKUP($B4448,'Ad Week Dates'!$A:$E,4,FALSE)","v":{"$error":"#N/A"}},{"$f":"VLOOKUP($B4448,'Ad Week Dates'!$A:$E,2,FALSE)","v":{"$error":"#N/A"}},{"$f":"VLOOKUP($B4448,'Ad Week Dates'!$A:$E,3,FALSE)","v":{"$error":"#N/A"}},null,null,null,null,null,null,{"$error":"#N/A"}]
[null,null,{"$f":"VLOOKUP($B4449,'Ad Week Dates'!$A:$E,4,FALSE)","v":{"$error":"#N/A"}},{"$f":"VLOOKUP($B4449,'Ad Week Dates'!$A:$E,2,FALSE)","v":{"$error":"#N/A"}},{"$f":"VLOOKUP($B4449,'Ad Week Dates'!$A:$E,3,FALSE)","v":{"$error":"#N/A"}},null,null,null,null,null,null,{"$error":"#N/A"}]
[null,null,{"$f":"VLOOKUP($B4450,'Ad Week Dates'!$A:$E,4,FALSE)","v":{"$error":"#N/A"}},{"$f":"VLOOKUP($B4450,'Ad Week Dates'!$A:$E,2,FALSE)","v":{"$error":"#N/A"}},{"$f":"VLOOKUP($B4450,'Ad Week Dates'!$A:$E,3,FALSE)","v":{"$error":"#N/A"}},null,null,null,null,null,null,{"$error":"#N/A"}]
[null,null,{"$f":"VLOOKUP($B4451,'Ad Week Dates'!$A:$E,4,FALSE)","v":{"$error":"#N/A"}},{"$f":"VLOOKUP($B4451,'Ad Week Dates'!$A:$E,2,FALSE)","v":{"$error":"#N/A"}},{"$f":"VLOOKUP($B4451,'Ad Week Dates'!$A:$E,3,FALSE)","v":{"$error":"#N/A"}},null,null,null,null,null,null,{"$error":"#N/A"}]
[null,null,{"$f":"VLOOKUP($B4452,'Ad Week Dates'!$A:$E,4,FALSE)","v":{"$error":"#N/A"}},{"$f":"VLOOKUP($B4452,'Ad Week Dates'!$A:$E,2,FALSE)","v":{"$error":"#N/A"}},{"$f":"VLOOKUP($B4452,'Ad Week Dates'!$A:$E,3,FALSE)","v":{"$error":"#N/A"}},null,null,null,null,null,null,{"$error":"#N/A"}]
[null,null,{"$f":"VLOOKUP($B4453,'Ad Week Dates'!$A:$E,4,FALSE)","v":{"$error":"#N/A"}},{"$f":"VLOOKUP($B4453,'Ad Week Dates'!$A:$E,2,FALSE)","v":{"$error":"#N/A"}},{"$f":"VLOOKUP($B4453,'Ad Week Dates'!$A:$E,3,FALSE)","v":{"$error":"#N/A"}},null,null,null,null,null,null,{"$error":"#N/A"}]
[null,null,{"$f":"VLOOKUP($B4454,'Ad Week Dates'!$A:$E,4,FALSE)","v":{"$error":"#N/A"}},{"$f":"VLOOKUP($B4454,'Ad Week Dates'!$A:$E,2,FALSE)","v":{"$error":"#N/A"}},{"$f":"VLOOKUP($B4454,'Ad Week Dates'!$A:$E,3,FALSE)","v":{"$error":"#N/A"}},null,null,null,null,null,null,{"$error":"#N/A"}]
[null,null,{"$f":"VLOOKUP($B4455,'Ad Week Dates'!$A:$E,4,FALSE)","v":{"$error":"#N/A"}},{"$f":"VLOOKUP($B4455,'Ad Week Dates'!$A:$E,2,FALSE)","v":{"$error":"#N/A"}},{"$f":"VLOOKUP($B4455,'Ad Week Dates'!$A:$E,3,FALSE)","v":{"$error":"#N/A"}},null,null,null,null,null,null,{"$error":"#N/A"}]
[null,null,{"$f":"VLOOKUP($B4456,'Ad Week Dates'!$A:$E,4,FALSE)","v":{"$error":"#N/A"}},{"$f":"VLOOKUP($B4456,'Ad Week Dates'!$A:$E,2,FALSE)","v":{"$error":"#N/A"}},{"$f":"VLOOKUP($B4456,'Ad Week Dates'!$A:$E,3,FALSE)","v":{"$error":"#N/A"}},null,null,null,null,null,null,{"$error":"#N/A"}]
[null,null,{"$f":"VLOOKUP($B4457,'Ad Week Dates'!$A:$E,4,FALSE)","v":{"$error":"#N/A"}},{"$f":"VLOOKUP($B4457,'Ad Week Dates'!$A:$E,2,FALSE)","v":{"$error":"#N/A"}},{"$f":"VLOOKUP($B4457,'Ad Week Dates'!$A:$E,3,FALSE)","v":{"$error":"#N/A"}},null,null,null,null,null,null,{"$error":"#N/A"}]
[null,null,{"$f":"VLOOKUP($B4458,'Ad Week Dates'!$A:$E,4,FALSE)","v":{"$error":"#N/A"}},{"$f":"VLOOKUP($B4458,'Ad Week Dates'!$A:$E,2,FALSE)","v":{"$error":"#N/A"}},{"$f":"VLOOKUP($B4458,'Ad Week Dates'!$A:$E,3,FALSE)","v":{"$error":"#N/A"}},null,null,null,null,null,null,{"$error":"#N/A"}]
[null,null,{"$f":"VLOOKUP($B4459,'Ad Week Dates'!$A:$E,4,FALSE)","v":{"$error":"#N/A"}},{"$f":"VLOOKUP($B4459,'Ad Week Dates'!$A:$E,2,FALSE)","v":{"$error":"#N/A"}},{"$f":"VLOOKUP($B4459,'Ad Week Dates'!$A:$E,3,FALSE)","v":{"$error":"#N/A"}},null,null,null,null,null,null,{"$error":"#N/A"}]
[null,null,{"$f":"VLOOKUP($B4460,'Ad Week Dates'!$A:$E,4,FALSE)","v":{"$error":"#N/A"}},{"$f":"VLOOKUP($B4460,'Ad Week Dates'!$A:$E,2,FALSE)","v":{"$error":"#N/A"}},{"$f":"VLOOKUP($B4460,'Ad Week Dates'!$A:$E,3,FALSE)","v":{"$error":"#N/A"}},null,null,null,null,null,null,{"$error":"#N/A"}]
[null,null,{"$f":"VLOOKUP($B4461,'Ad Week Dates'!$A:$E,4,FALSE)","v":{"$error":"#N/A"}},{"$f":"VLOOKUP($B4461,'Ad Week Dates'!$A:$E,2,FALSE)","v":{"$error":"#N/A"}},{"$f":"VLOOKUP($B4461,'Ad Week Dates'!$A:$E,3,FALSE)","v":{"$error":"#N/A"}},null,null,null,null,null,null,{"$error":"#N/A"}]
[null,null,{"$f":"VLOOKUP($B4462,'Ad Week Dates'!$A:$E,4,FALSE)","v":{"$error":"#N/A"}},{"$f":"VLOOKUP($B4462,'Ad Week Dates'!$A:$E,2,FALSE)","v":{"$error":"#N/A"}},{"$f":"VLOOKUP($B4462,'Ad Week Dates'!$A:$E,3,FALSE)","v":{"$error":"#N/A"}},null,null,null,null,null,null,{"$error":"#N/A"}]
[null,null,{"$f":"VLOOKUP($B4463,'Ad Week Dates'!$A:$E,4,FALSE)","v":{"$error":"#N/A"}},{"$f":"VLOOKUP($B4463,'Ad Week Dates'!$A:$E,2,FALSE)","v":{"$error":"#N/A"}},{"$f":"VLOOKUP($B4463,'Ad Week Dates'!$A:$E,3,FALSE)","v":{"$error":"#N/A"}},null,null,null,null,null,null,{"$error":"#N/A"}]
[null,null,{"$f":"VLOOKUP($B4464,'Ad Week Dates'!$A:$E,4,FALSE)","v":{"$error":"#N/A"}},{"$f":"VLOOKUP($B4464,'Ad Week Dates'!$A:$E,2,FALSE)","v":{"$error":"#N/A"}},{"$f":"VLOOKUP($B4464,'Ad Week Dates'!$A:$E,3,FALSE)","v":{"$error":"#N/A"}},null,null,null,null,null,null,{"$error":"#N/A"}]
[null,null,{"$f":"VLOOKUP($B4465,'Ad Week Dates'!$A:$E,4,FALSE)","v":{"$error":"#N/A"}},{"$f":"VLOOKUP($B4465,'Ad Week Dates'!$A:$E,2,FALSE)","v":{"$error":"#N/A"}},{"$f":"VLOOKUP($B4465,'Ad Week Dates'!$A:$E,3,FALSE)","v":{"$error":"#N/A"}},null,null,null,null,null,null,{"$error":"#N/A"}]
[null,null,{"$f":"VLOOKUP($B4466,'Ad Week Dates'!$A:$E,4,FALSE)","v":{"$error":"#N/A"}},{"$f":"VLOOKUP($B4466,'Ad Week Dates'!$A:$E,2,FALSE)","v":{"$error":"#N/A"}},{"$f":"VLOOKUP($B4466,'Ad Week Dates'!$A:$E,3,FALSE)","v":{"$error":"#N/A"}},null,null,null,null,null,null,{"$error":"#N/A"}]
[null,null,{"$f":"VLOOKUP($B4467,'Ad Week Dates'!$A:$E,4,FALSE)","v":{"$error":"#N/A"}},{"$f":"VLOOKUP($B4467,'Ad Week Dates'!$A:$E,2,FALSE)","v":{"$error":"#N/A"}},{"$f":"VLOOKUP($B4467,'Ad Week Dates'!$A:$E,3,FALSE)","v":{"$error":"#N/A"}},null,null,null,null,null,null,{"$error":"#N/A"}]
[null,null,{"$f":"VLOOKUP($B4468,'Ad Week Dates'!$A:$E,4,FALSE)","v":{"$error":"#N/A"}},{"$f":"VLOOKUP($B4468,'Ad Week Dates'!$A:$E,2,FALSE)","v":{"$error":"#N/A"}},{"$f":"VLOOKUP($B4468,'Ad Week Dates'!$A:$E,3,FALSE)","v":{"$error":"#N/A"}},null,null,null,null,null,null,{"$error":"#N/A"}]
[null,null,{"$f":"VLOOKUP($B4469,'Ad Week Dates'!$A:$E,4,FALSE)","v":{"$error":"#N/A"}},{"$f":"VLOOKUP($B4469,'Ad Week Dates'!$A:$E,2,FALSE)","v":{"$error":"#N/A"}},{"$f":"VLOOKUP($B4469,'Ad Week Dates'!$A:$E,3,FALSE)","v":{"$error":"#N/A"}},null,null,null,null,null,null,{"$error":"#N/A"}]
[null,null,{"$f":"VLOOKUP($B4470,'Ad Week Dates'!$A:$E,4,FALSE)","v":{"$error":"#N/A"}},{"$f":"VLOOKUP($B4470,'Ad Week Dates'!$A:$E,2,FALSE)","v":{"$error":"#N/A"}},{"$f":"VLOOKUP($B4470,'Ad Week Dates'!$A:$E,3,FALSE)","v":{"$error":"#N/A"}},null,null,null,null,null,null,{"$error":"#N/A"}]
[null,null,{"$f":"VLOOKUP($B4471,'Ad Week Dates'!$A:$E,4,FALSE)","v":{"$error":"#N/A"}},{"$f":"VLOOKUP($B4471,'Ad Week Dates'!$A:$E,2,FALSE)","v":{"$error":"#N/A"}},{"$f":"VLOOKUP($B4471,'Ad Week Dates'!$A:$E,3,FALSE)","v":{"$error":"#N/A"}},null,null,null,null,null,null,{"$error":"#N/A"}]
[null,null,{"$f":"VLOOKUP($B4472,'Ad Week Dates'!$A:$E,4,FALSE)","v":{"$error":"#N/A"}},{"$f":"VLOOKUP($B4472,'Ad Week Dates'!$A:$E,2,FALSE)","v":{"$error":"#N/A"}},{"$f":"VLOOKUP($B4472,'Ad Week Dates'!$A:$E,3,FALSE)","v":{"$error":"#N/A"}},null,null,null,null,null,null,{"$error":"#N/A"}]
[null,null,{"$f":"VLOOKUP($B4473,'Ad Week Dates'!$A:$E,4,FALSE)","v":{"$error":"#N/A"}},{"$f":"VLOOKUP($B4473,'Ad Week Dates'!$A:$E,2,FALSE)","v":{"$error":"#N/A"}},{"$f":"VLOOKUP($B4473,'Ad Week Dates'!$A:$E,3,FALSE)","v":{"$error":"#N/A"}},null,null,null,null,null,null,{"$error":"#N/A"}]
[null,null,{"$f":"VLOOKUP($B4474,'Ad Week Dates'!$A:$E,4,FALSE)","v":{"$error":"#N/A"}},{"$f":"VLOOKUP($B4474,'Ad Week Dates'!$A:$E,2,FALSE)","v":{"$error":"#N/A"}},{"$f":"VLOOKUP($B4474,'Ad Week Dates'!$A:$E,3,FALSE)","v":{"$error":"#N/A"}},null,null,null,null,null,null,{"$error":"#N/A"}]
[null,null,{"$f":"VLOOKUP($B4475,'Ad Week Dates'!$A:$E,4,FALSE)","v":{"$error":"#N/A"}},{"$f":"VLOOKUP($B4475,'Ad Week Dates'!$A:$E,2,FALSE)","v":{"$error":"#N/A"}},{"$f":"VLOOKUP($B4475,'Ad Week Dates'!$A:$E,3,FALSE)","v":{"$error":"#N/A"}},null,null,null,null,null,null,{"$error":"#N/A"}]
[null,null,{"$f":"VLOOKUP($B4476,'Ad Week Dates'!$A:$E,4,FALSE)","v":{"$error":"#N/A"}},{"$f":"VLOOKUP($B4476,'Ad Week Dates'!$A:$E,2,FALSE)","v":{"$error":"#N/A"}},{"$f":"VLOOKUP($B4476,'Ad Week Dates'!$A:$E,3,FALSE)","v":{"$error":"#N/A"}},null,null,null,null,null,null,{"$error":"#N/A"}]
[null,null,{"$f":"VLOOKUP($B4477,'Ad Week Dates'!$A:$E,4,FALSE)","v":{"$error":"#N/A"}},{"$f":"VLOOKUP($B4477,'Ad Week Dates'!$A:$E,2,FALSE)","v":{"$error":"#N/A"}},{"$f":"VLOOKUP($B4477,'Ad Week Dates'!$A:$E,3,FALSE)","v":{"$error":"#N/A"}},null,null,null,null,null,null,{"$error":"#N/A"}]
[null,null,{"$f":"VLOOKUP($B4478,'Ad Week Dates'!$A:$E,4,FALSE)","v":{"$error":"#N/A"}},{"$f":"VLOOKUP($B4478,'Ad Week Dates'!$A:$E,2,FALSE)","v":{"$error":"#N/A"}},{"$f":"VLOOKUP($B4478,'Ad Week Dates'!$A:$E,3,FALSE)","v":{"$error":"#N/A"}},null,null,null,null,null,null,{"$error":"#N/A"}]
[null,null,{"$f":"VLOOKUP($B4479,'Ad Week Dates'!$A:$E,4,FALSE)","v":{"$error":"#N/A"}},{"$f":"VLOOKUP($B4479,'Ad Week Dates'!$A:$E,2,FALSE)","v":{"$error":"#N/A"}},{"$f":"VLOOKUP($B4479,'Ad Week Dates'!$A:$E,3,FALSE)","v":{"$error":"#N/A"}},null,null,null,null,null,null,{"$error":"#N/A"}]
[null,null,{"$f":"VLOOKUP($B4480,'Ad Week Dates'!$A:$E,4,FALSE)","v":{"$error":"#N/A"}},{"$f":"VLOOKUP($B4480,'Ad Week Dates'!$A:$E,2,FALSE)","v":{"$error":"#N/A"}},{"$f":"VLOOKUP($B4480,'Ad Week Dates'!$A:$E,3,FALSE)","v":{"$error":"#N/A"}},null,null,null,null,null,null,{"$error":"#N/A"}]
[null,null,{"$f":"VLOOKUP($B4481,'Ad Week Dates'!$A:$E,4,FALSE)","v":{"$error":"#N/A"}},{"$f":"VLOOKUP($B4481,'Ad Week Dates'!$A:$E,2,FALSE)","v":{"$error":"#N/A"}},{"$f":"VLOOKUP($B4481,'Ad Week Dates'!$A:$E,3,FALSE)","v":{"$error":"#N/A"}},null,null,null,null,null,null,{"$error":"#N/A"}]
[null,null,{"$f":"VLOOKUP($B4482,'Ad Week Dates'!$A:$E,4,FALSE)","v":{"$error":"#N/A"}},{"$f":"VLOOKUP($B4482,'Ad Week Dates'!$A:$E,2,FALSE)","v":{"$error":"#N/A"}},{"$f":"VLOOKUP($B4482,'Ad Week Dates'!$A:$E,3,FALSE)","v":{"$error":"#N/A"}},null,null,null,null,null,null,{"$error":"#N/A"}]
[null,null,{"$f":"VLOOKUP($B4483,'Ad Week Dates'!$A:$E,4,FALSE)","v":{"$error":"#N/A"}},{"$f":"VLOOKUP($B4483,'Ad Week Dates'!$A:$E,2,FALSE)","v":{"$error":"#N/A"}},{"$f":"VLOOKUP($B4483,'Ad Week Dates'!$A:$E,3,FALSE)","v":{"$error":"#N/A"}},null,null,null,null,null,null,{"$error":"#N/A"}]
[null,null,{"$f":"VLOOKUP($B4484,'Ad Week Dates'!$A:$E,4,FALSE)","v":{"$error":"#N/A"}},{"$f":"VLOOKUP($B4484,'Ad Week Dates'!$A:$E,2,FALSE)","v":{"$error":"#N/A"}},{"$f":"VLOOKUP($B4484,'Ad Week Dates'!$A:$E,3,FALSE)","v":{"$error":"#N/A"}},null,null,null,null,null,null,{"$error":"#N/A"}]
[null,null,{"$f":"VLOOKUP($B4485,'Ad Week Dates'!$A:$E,4,FALSE)","v":{"$error":"#N/A"}},{"$f":"VLOOKUP($B4485,'Ad Week Dates'!$A:$E,2,FALSE)","v":{"$error":"#N/A"}},{"$f":"VLOOKUP($B4485,'Ad Week Dates'!$A:$E,3,FALSE)","v":{"$error":"#N/A"}},null,null,null,null,null,null,{"$error":"#N/A"}]
[null,null,{"$f":"VLOOKUP($B4486,'Ad Week Dates'!$A:$E,4,FALSE)","v":{"$error":"#N/A"}},{"$f":"VLOOKUP($B4486,'Ad Week Dates'!$A:$E,2,FALSE)","v":{"$error":"#N/A"}},{"$f":"VLOOKUP($B4486,'Ad Week Dates'!$A:$E,3,FALSE)","v":{"$error":"#N/A"}},null,null,null,null,null,null,{"$f":"IF(ISNUMBER(J4486), J4486 - K4486, VALUE(_xlfn.TEXTBEFORE(J4486, \"-\")) - VALUE(_xlfn.TEXTBEFORE(K4486, \"-\")))","v":{"$error":"#N/A"}}]
[null,null,{"$f":"VLOOKUP($B4487,'Ad Week Dates'!$A:$E,4,FALSE)","v":{"$error":"#N/A"}},{"$f":"VLOOKUP($B4487,'Ad Week Dates'!$A:$E,2,FALSE)","v":{"$error":"#N/A"}},{"$f":"VLOOKUP($B4487,'Ad Week Dates'!$A:$E,3,FALSE)","v":{"$error":"#N/A"}},null,null,null,null,null,null,{"$error":"#N/A"}]
[null,null,{"$f":"VLOOKUP($B4488,'Ad Week Dates'!$A:$E,4,FALSE)","v":{"$error":"#N/A"}},{"$f":"VLOOKUP($B4488,'Ad Week Dates'!$A:$E,2,FALSE)","v":{"$error":"#N/A"}},{"$f":"VLOOKUP($B4488,'Ad Week Dates'!$A:$E,3,FALSE)","v":{"$error":"#N/A"}},null,null,null,null,null,null,{"$error":"#N/A"}]
[null,null,{"$f":"VLOOKUP($B4489,'Ad Week Dates'!$A:$E,4,FALSE)","v":{"$error":"#N/A"}},{"$f":"VLOOKUP($B4489,'Ad Week Dates'!$A:$E,2,FALSE)","v":{"$error":"#N/A"}},{"$f":"VLOOKUP($B4489,'Ad Week Dates'!$A:$E,3,FALSE)","v":{"$error":"#N/A"}},null,null,null,null,null,null,{"$error":"#N/A"}]
[null,null,{"$f":"VLOOKUP($B4490,'Ad Week Dates'!$A:$E,4,FALSE)","v":{"$error":"#N/A"}},{"$f":"VLOOKUP($B4490,'Ad Week Dates'!$A:$E,2,FALSE)","v":{"$error":"#N/A"}},{"$f":"VLOOKUP($B4490,'Ad Week Dates'!$A:$E,3,FALSE)","v":{"$error":"#N/A"}},null,null,null,null,null,null,{"$error":"#N/A"}]
[null,null,{"$f":"VLOOKUP($B4491,'Ad Week Dates'!$A:$E,4,FALSE)","v":{"$error":"#N/A"}},{"$f":"VLOOKUP($B4491,'Ad Week Dates'!$A:$E,2,FALSE)","v":{"$error":"#N/A"}},{"$f":"VLOOKUP($B4491,'Ad Week Dates'!$A:$E,3,FALSE)","v":{"$error":"#N/A"}},null,null,null,null,null,null,{"$error":"#N/A"}]
[null,null,{"$f":"VLOOKUP($B4492,'Ad Week Dates'!$A:$E,4,FALSE)","v":{"$error":"#N/A"}},{"$f":"VLOOKUP($B4492,'Ad Week Dates'!$A:$E,2,FALSE)","v":{"$error":"#N/A"}},{"$f":"VLOOKUP($B4492,'Ad Week Dates'!$A:$E,3,FALSE)","v":{"$error":"#N/A"}},null,null,null,null,null,null,{"$error":"#N/A"}]
[null,null,{"$f":"VLOOKUP($B4493,'Ad Week Dates'!$A:$E,4,FALSE)","v":{"$error":"#N/A"}},{"$f":"VLOOKUP($B4493,'Ad Week Dates'!$A:$E,2,FALSE)","v":{"$error":"#N/A"}},{"$f":"VLOOKUP($B4493,'Ad Week Dates'!$A:$E,3,FALSE)","v":{"$error":"#N/A"}},null,null,null,null,null,null,{"$error":"#N/A"}]
[null,null,{"$f":"VLOOKUP($B4494,'Ad Week Dates'!$A:$E,4,FALSE)","v":{"$error":"#N/A"}},{"$f":"VLOOKUP($B4494,'Ad Week Dates'!$A:$E,2,FALSE)","v":{"$error":"#N/A"}},{"$f":"VLOOKUP($B4494,'Ad Week Dates'!$A:$E,3,FALSE)","v":{"$error":"#N/A"}},null,null,null,null,null,null,{"$error":"#N/A"}]
[null,null,{"$f":"VLOOKUP($B4495,'Ad Week Dates'!$A:$E,4,FALSE)","v":{"$error":"#N/A"}},{"$f":"VLOOKUP($B4495,'Ad Week Dates'!$A:$E,2,FALSE)","v":{"$error":"#N/A"}},{"$f":"VLOOKUP($B4495,'Ad Week Dates'!$A:$E,3,FALSE)","v":{"$error":"#N/A"}},null,null,null,null,null,null,{"$error":"#N/A"}]
[null,null,{"$f":"VLOOKUP($B4496,'Ad Week Dates'!$A:$E,4,FALSE)","v":{"$error":"#N/A"}},{"$f":"VLOOKUP($B4496,'Ad Week Dates'!$A:$E,2,FALSE)","v":{"$error":"#N/A"}},{"$f":"VLOOKUP($B4496,'Ad Week Dates'!$A:$E,3,FALSE)","v":{"$error":"#N/A"}},null,null,null,null,null,null,{"$error":"#N/A"}]
[null,null,{"$f":"VLOOKUP($B4497,'Ad Week Dates'!$A:$E,4,FALSE)","v":{"$error":"#N/A"}},{"$f":"VLOOKUP($B4497,'Ad Week Dates'!$A:$E,2,FALSE)","v":{"$error":"#N/A"}},{"$f":"VLOOKUP($B4497,'Ad Week Dates'!$A:$E,3,FALSE)","v":{"$error":"#N/A"}},null,null,null,null,null,null,{"$error":"#N/A"}]
[null,null,{"$f":"VLOOKUP($B4498,'Ad Week Dates'!$A:$E,4,FALSE)","v":{"$error":"#N/A"}},{"$f":"VLOOKUP($B4498,'Ad Week Dates'!$A:$E,2,FALSE)","v":{"$error":"#N/A"}},{"$f":"VLOOKUP($B4498,'Ad Week Dates'!$A:$E,3,FALSE)","v":{"$error":"#N/A"}},null,null,null,null,null,null,{"$error":"#N/A"}]
[null,null,{"$f":"VLOOKUP($B4499,'Ad Week Dates'!$A:$E,4,FALSE)","v":{"$error":"#N/A"}},{"$f":"VLOOKUP($B4499,'Ad Week Dates'!$A:$E,2,FALSE)","v":{"$error":"#N/A"}},{"$f":"VLOOKUP($B4499,'Ad Week Dates'!$A:$E,3,FALSE)","v":{"$error":"#N/A"}},null,null,null,null,null,null,{"$error":"#N/A"}]
[null,null,{"$f":"VLOOKUP($B4500,'Ad Week Dates'!$A:$E,4,FALSE)","v":{"$error":"#N/A"}},{"$f":"VLOOKUP($B4500,'Ad Week Dates'!$A:$E,2,FALSE)","v":{"$error":"#N/A"}},{"$f":"VLOOKUP($B4500,'Ad Week Dates'!$A:$E,3,FALSE)","v":{"$error":"#N/A"}},null,null,null,null,null,null,{"$error":"#N/A"}]
[null,null,{"$f":"VLOOKUP($B4501,'Ad Week Dates'!$A:$E,4,FALSE)","v":{"$error":"#N/A"}},{"$f":"VLOOKUP($B4501,'Ad Week Dates'!$A:$E,2,FALSE)","v":{"$error":"#N/A"}},{"$f":"VLOOKUP($B4501,'Ad Week Dates'!$A:$E,3,FALSE)","v":{"$error":"#N/A"}},null,null,null,null,null,null,{"$error":"#N/A"}]
[null,null,{"$f":"VLOOKUP($B4502,'Ad Week Dates'!$A:$E,4,FALSE)","v":{"$error":"#N/A"}},{"$f":"VLOOKUP($B4502,'Ad Week Dates'!$A:$E,2,FALSE)","v":{"$error":"#N/A"}},{"$f":"VLOOKUP($B4502,'Ad Week Dates'!$A:$E,3,FALSE)","v":{"$error":"#N/A"}},null,null,null,null,null,null,{"$error":"#N/A"}]
[null,null,{"$f":"VLOOKUP($B4503,'Ad Week Dates'!$A:$E,4,FALSE)","v":{"$error":"#N/A"}},{"$f":"VLOOKUP($B4503,'Ad Week Dates'!$A:$E,2,FALSE)","v":{"$error":"#N/A"}},{"$f":"VLOOKUP($B4503,'Ad Week Dates'!$A:$E,3,FALSE)","v":{"$error":"#N/A"}},null,null,null,null,null,null,{"$error":"#N/A"}]
[null,null,{"$f":"VLOOKUP($B4504,'Ad Week Dates'!$A:$E,4,FALSE)","v":{"$error":"#N/A"}},{"$f":"VLOOKUP($B4504,'Ad Week Dates'!$A:$E,2,FALSE)","v":{"$error":"#N/A"}},{"$f":"VLOOKUP($B4504,'Ad Week Dates'!$A:$E,3,FALSE)","v":{"$error":"#N/A"}},null,null,null,null,null,null,{"$error":"#N/A"}]
[null,null,{"$f":"VLOOKUP($B4505,'Ad Week Dates'!$A:$E,4,FALSE)","v":{"$error":"#N/A"}},{"$f":"VLOOKUP($B4505,'Ad Week Dates'!$A:$E,2,FALSE)","v":{"$error":"#N/A"}},{"$f":"VLOOKUP($B4505,'Ad Week Dates'!$A:$E,3,FALSE)","v":{"$error":"#N/A"}},null,null,null,null,null,null,{"$error":"#N/A"}]
[null,null,{"$f":"VLOOKUP($B4506,'Ad Week Dates'!$A:$E,4,FALSE)","v":{"$error":"#N/A"}},{"$f":"VLOOKUP($B4506,'Ad Week Dates'!$A:$E,2,FALSE)","v":{"$error":"#N/A"}},{"$f":"VLOOKUP($B4506,'Ad Week Dates'!$A:$E,3,FALSE)","v":{"$error":"#N/A"}},null,null,null,null,null,null,{"$error":"#N/A"}]
[null,null,{"$f":"VLOOKUP($B4507,'Ad Week Dates'!$A:$E,4,FALSE)","v":{"$error":"#N/A"}},{"$f":"VLOOKUP($B4507,'Ad Week Dates'!$A:$E,2,FALSE)","v":{"$error":"#N/A"}},{"$f":"VLOOKUP($B4507,'Ad Week Dates'!$A:$E,3,FALSE)","v":{"$error":"#N/A"}},null,null,null,null,null,null,{"$error":"#N/A"}]
[null,null,{"$f":"VLOOKUP($B4508,'Ad Week Dates'!$A:$E,4,FALSE)","v":{"$error":"#N/A"}},{"$f":"VLOOKUP($B4508,'Ad Week Dates'!$A:$E,2,FALSE)","v":{"$error":"#N/A"}},{"$f":"VLOOKUP($B4508,'Ad Week Dates'!$A:$E,3,FALSE)","v":{"$error":"#N/A"}},null,null,null,null,null,null,{"$error":"#N/A"}]
[null,null,{"$f":"VLOOKUP($B4509,'Ad Week Dates'!$A:$E,4,FALSE)","v":{"$error":"#N/A"}},{"$f":"VLOOKUP($B4509,'Ad Week Dates'!$A:$E,2,FALSE)","v":{"$error":"#N/A"}},{"$f":"VLOOKUP($B4509,'Ad Week Dates'!$A:$E,3,FALSE)","v":{"$error":"#N/A"}},null,null,null,null,null,null,{"$error":"#N/A"}]
[null,null,{"$f":"VLOOKUP($B4510,'Ad Week Dates'!$A:$E,4,FALSE)","v":{"$error":"#N/A"}},{"$f":"VLOOKUP($B4510,'Ad Week Dates'!$A:$E,2,FALSE)","v":{"$error":"#N/A"}},{"$f":"VLOOKUP($B4510,'Ad Week Dates'!$A:$E,3,FALSE)","v":{"$error":"#N/A"}},null,null,null,null,null,null,{"$error":"#N/A"}]
[null,null,{"$f":"VLOOKUP($B4511,'Ad Week Dates'!$A:$E,4,FALSE)","v":{"$error":"#N/A"}},{"$f":"VLOOKUP($B4511,'Ad Week Dates'!$A:$E,2,FALSE)","v":{"$error":"#N/A"}},{"$f":"VLOOKUP($B4511,'Ad Week Dates'!$A:$E,3,FALSE)","v":{"$error":"#N/A"}},null,null,null,null,null,null,{"$error":"#N/A"}]
[null,null,{"$f":"VLOOKUP($B4512,'Ad Week Dates'!$A:$E,4,FALSE)","v":{"$error":"#N/A"}},{"$f":"VLOOKUP($B4512,'Ad Week Dates'!$A:$E,2,FALSE)","v":{"$error":"#N/A"}},{"$f":"VLOOKUP($B4512,'Ad Week Dates'!$A:$E,3,FALSE)","v":{"$error":"#N/A"}},null,null,null,null,null,null,{"$error":"#N/A"}]
[null,null,{"$f":"VLOOKUP($B4513,'Ad Week Dates'!$A:$E,4,FALSE)","v":{"$error":"#N/A"}},{"$f":"VLOOKUP($B4513,'Ad Week Dates'!$A:$E,2,FALSE)","v":{"$error":"#N/A"}},{"$f":"VLOOKUP($B4513,'Ad Week Dates'!$A:$E,3,FALSE)","v":{"$error":"#N/A"}},null,null,null,null,null,null,{"$error":"#N/A"}]
[null,null,{"$f":"VLOOKUP($B4514,'Ad Week Dates'!$A:$E,4,FALSE)","v":{"$error":"#N/A"}},{"$f":"VLOOKUP($B4514,'Ad Week Dates'!$A:$E,2,FALSE)","v":{"$error":"#N/A"}},{"$f":"VLOOKUP($B4514,'Ad Week Dates'!$A:$E,3,FALSE)","v":{"$error":"#N/A"}},null,null,null,null,null,null,{"$error":"#N/A"}]
[null,null,{"$f":"VLOOKUP($B4515,'Ad Week Dates'!$A:$E,4,FALSE)","v":{"$error":"#N/A"}},{"$f":"VLOOKUP($B4515,'Ad Week Dates'!$A:$E,2,FALSE)","v":{"$error":"#N/A"}},{"$f":"VLOOKUP($B4515,'Ad Week Dates'!$A:$E,3,FALSE)","v":{"$error":"#N/A"}},null,null,null,null,null,null,{"$error":"#N/A"}]
[null,null,{"$f":"VLOOKUP($B4516,'Ad Week Dates'!$A:$E,4,FALSE)","v":{"$error":"#N/A"}},{"$f":"VLOOKUP($B4516,'Ad Week Dates'!$A:$E,2,FALSE)","v":{"$error":"#N/A"}},{"$f":"VLOOKUP($B4516,'Ad Week Dates'!$A:$E,3,FALSE)","v":{"$error":"#N/A"}},null,null,null,null,null,null,{"$error":"#N/A"}]
[null,null,{"$f":"VLOOKUP($B4517,'Ad Week Dates'!$A:$E,4,FALSE)","v":{"$error":"#N/A"}},{"$f":"VLOOKUP($B4517,'Ad Week Dates'!$A:$E,2,FALSE)","v":{"$error":"#N/A"}},{"$f":"VLOOKUP($B4517,'Ad Week Dates'!$A:$E,3,FALSE)","v":{"$error":"#N/A"}},null,null,null,null,null,null,{"$error":"#N/A"}]
[null,null,{"$f":"VLOOKUP($B4518,'Ad Week Dates'!$A:$E,4,FALSE)","v":{"$error":"#N/A"}},{"$f":"VLOOKUP($B4518,'Ad Week Dates'!$A:$E,2,FALSE)","v":{"$error":"#N/A"}},{"$f":"VLOOKUP($B4518,'Ad Week Dates'!$A:$E,3,FALSE)","v":{"$error":"#N/A"}},null,null,null,null,null,null,{"$error":"#N/A"}]
[null,null,{"$f":"VLOOKUP($B4519,'Ad Week Dates'!$A:$E,4,FALSE)","v":{"$error":"#N/A"}},{"$f":"VLOOKUP($B4519,'Ad Week Dates'!$A:$E,2,FALSE)","v":{"$error":"#N/A"}},{"$f":"VLOOKUP($B4519,'Ad Week Dates'!$A:$E,3,FALSE)","v":{"$error":"#N/A"}},null,null,null,null,null,null,{"$error":"#N/A"}]
[null,null,{"$f":"VLOOKUP($B4520,'Ad Week Dates'!$A:$E,4,FALSE)","v":{"$error":"#N/A"}},{"$f":"VLOOKUP($B4520,'Ad Week Dates'!$A:$E,2,FALSE)","v":{"$error":"#N/A"}},{"$f":"VLOOKUP($B4520,'Ad Week Dates'!$A:$E,3,FALSE)","v":{"$error":"#N/A"}},null,null,null,null,null,null,{"$error":"#N/A"}]
[null,null,{"$f":"VLOOKUP($B4521,'Ad Week Dates'!$A:$E,4,FALSE)","v":{"$error":"#N/A"}},{"$f":"VLOOKUP($B4521,'Ad Week Dates'!$A:$E,2,FALSE)","v":{"$error":"#N/A"}},{"$f":"VLOOKUP($B4521,'Ad Week Dates'!$A:$E,3,FALSE)","v":{"$error":"#N/A"}},null,null,null,null,null,null,{"$error":"#N/A"}]
[null,null,{"$f":"VLOOKUP($B4522,'Ad Week Dates'!$A:$E,4,FALSE)","v":{"$error":"#N/A"}},{"$f":"VLOOKUP($B4522,'Ad Week Dates'!$A:$E,2,FALSE)","v":{"$error":"#N/A"}},{"$f":"VLOOKUP($B4522,'Ad Week Dates'!$A:$E,3,FALSE)","v":{"$error":"#N/A"}},null,null,null,null,null,null,{"$error":"#N/A"}]
[null,null,{"$f":"VLOOKUP($B4523,'Ad Week Dates'!$A:$E,4,FALSE)","v":{"$error":"#N/A"}},{"$f":"VLOOKUP($B4523,'Ad Week Dates'!$A:$E,2,FALSE)","v":{"$error":"#N/A"}},{"$f":"VLOOKUP($B4523,'Ad Week Dates'!$A:$E,3,FALSE)","v":{"$error":"#N/A"}},null,null,null,null,null,null,{"$error":"#N/A"}]
[null,null,{"$f":"VLOOKUP($B4524,'Ad Week Dates'!$A:$E,4,FALSE)","v":{"$error":"#N/A"}},{"$f":"VLOOKUP($B4524,'Ad Week Dates'!$A:$E,2,FALSE)","v":{"$error":"#N/A"}},{"$f":"VLOOKUP($B4524,'Ad Week Dates'!$A:$E,3,FALSE)","v":{"$error":"#N/A"}},null,null,null,null,null,null,{"$error":"#N/A"}]
[null,null,{"$f":"VLOOKUP($B4525,'Ad Week Dates'!$A:$E,4,FALSE)","v":{"$error":"#N/A"}},{"$f":"VLOOKUP($B4525,'Ad Week Dates'!$A:$E,2,FALSE)","v":{"$error":"#N/A"}},{"$f":"VLOOKUP($B4525,'Ad Week Dates'!$A:$E,3,FALSE)","v":{"$error":"#N/A"}},null,null,null,null,null,null,{"$error":"#N/A"}]
[null,null,{"$f":"VLOOKUP($B4526,'Ad Week Dates'!$A:$E,4,FALSE)","v":{"$error":"#N/A"}},{"$f":"VLOOKUP($B4526,'Ad Week Dates'!$A:$E,2,FALSE)","v":{"$error":"#N/A"}},{"$f":"VLOOKUP($B4526,'Ad Week Dates'!$A:$E,3,FALSE)","v":{"$error":"#N/A"}},null,null,null,null,null,null,{"$error":"#N/A"}]
[null,null,{"$f":"VLOOKUP($B4527,'Ad Week Dates'!$A:$E,4,FALSE)","v":{"$error":"#N/A"}},{"$f":"VLOOKUP($B4527,'Ad Week Dates'!$A:$E,2,FALSE)","v":{"$error":"#N/A"}},{"$f":"VLOOKUP($B4527,'Ad Week Dates'!$A:$E,3,FALSE)","v":{"$error":"#N/A"}},null,null,null,null,null,null,{"$error":"#N/A"}]
[null,null,{"$f":"VLOOKUP($B4528,'Ad Week Dates'!$A:$E,4,FALSE)","v":{"$error":"#N/A"}},{"$f":"VLOOKUP($B4528,'Ad Week Dates'!$A:$E,2,FALSE)","v":{"$error":"#N/A"}},{"$f":"VLOOKUP($B4528,'Ad Week Dates'!$A:$E,3,FALSE)","v":{"$error":"#N/A"}},null,null,null,null,null,null,{"$error":"#N/A"}]
[null,null,{"$f":"VLOOKUP($B4529,'Ad Week Dates'!$A:$E,4,FALSE)","v":{"$error":"#N/A"}},{"$f":"VLOOKUP($B4529,'Ad Week Dates'!$A:$E,2,FALSE)","v":{"$error":"#N/A"}},{"$f":"VLOOKUP($B4529,'Ad Week Dates'!$A:$E,3,FALSE)","v":{"$error":"#N/A"}},null,null,null,null,null,null,{"$error":"#N/A"}]
[null,null,{"$f":"VLOOKUP($B4530,'Ad Week Dates'!$A:$E,4,FALSE)","v":{"$error":"#N/A"}},{"$f":"VLOOKUP($B4530,'Ad Week Dates'!$A:$E,2,FALSE)","v":{"$error":"#N/A"}},{"$f":"VLOOKUP($B4530,'Ad Week Dates'!$A:$E,3,FALSE)","v":{"$error":"#N/A"}},null,null,null,null,null,null,{"$error":"#N/A"}]
[null,null,{"$f":"VLOOKUP($B4531,'Ad Week Dates'!$A:$E,4,FALSE)","v":{"$error":"#N/A"}},{"$f":"VLOOKUP($B4531,'Ad Week Dates'!$A:$E,2,FALSE)","v":{"$error":"#N/A"}},{"$f":"VLOOKUP($B4531,'Ad Week Dates'!$A:$E,3,FALSE)","v":{"$error":"#N/A"}},null,null,null,null,null,null,{"$error":"#N/A"}]
[null,null,{"$f":"VLOOKUP($B4532,'Ad Week Dates'!$A:$E,4,FALSE)","v":{"$error":"#N/A"}},{"$f":"VLOOKUP($B4532,'Ad Week Dates'!$A:$E,2,FALSE)","v":{"$error":"#N/A"}},{"$f":"VLOOKUP($B4532,'Ad Week Dates'!$A:$E,3,FALSE)","v":{"$error":"#N/A"}},null,null,null,null,null,null,{"$error":"#N/A"}]
[null,null,{"$f":"VLOOKUP($B4533,'Ad Week Dates'!$A:$E,4,FALSE)","v":{"$error":"#N/A"}},{"$f":"VLOOKUP($B4533,'Ad Week Dates'!$A:$E,2,FALSE)","v":{"$error":"#N/A"}},{"$f":"VLOOKUP($B4533,'Ad Week Dates'!$A:$E,3,FALSE)","v":{"$error":"#N/A"}},null,null,null,null,null,null,{"$error":"#N/A"}]
[null,null,{"$f":"VLOOKUP($B4534,'Ad Week Dates'!$A:$E,4,FALSE)","v":{"$error":"#N/A"}},{"$f":"VLOOKUP($B4534,'Ad Week Dates'!$A:$E,2,FALSE)","v":{"$error":"#N/A"}},{"$f":"VLOOKUP($B4534,'Ad Week Dates'!$A:$E,3,FALSE)","v":{"$error":"#N/A"}},null,null,null,null,null,null,{"$error":"#N/A"}]
[null,null,{"$f":"VLOOKUP($B4535,'Ad Week Dates'!$A:$E,4,FALSE)","v":{"$error":"#N/A"}},{"$f":"VLOOKUP($B4535,'Ad Week Dates'!$A:$E,2,FALSE)","v":{"$error":"#N/A"}},{"$f":"VLOOKUP($B4535,'Ad Week Dates'!$A:$E,3,FALSE)","v":{"$error":"#N/A"}},null,null,null,null,null,null,{"$error":"#N/A"}]
[null,null,{"$f":"VLOOKUP($B4536,'Ad Week Dates'!$A:$E,4,FALSE)","v":{"$error":"#N/A"}},{"$f":"VLOOKUP($B4536,'Ad Week Dates'!$A:$E,2,FALSE)","v":{"$error":"#N/A"}},{"$f":"VLOOKUP($B4536,'Ad Week Dates'!$A:$E,3,FALSE)","v":{"$error":"#N/A"}},null,null,null,null,null,null,{"$error":"#N/A"}]
[null,null,{"$f":"VLOOKUP($B4537,'Ad Week Dates'!$A:$E,4,FALSE)","v":{"$error":"#N/A"}},{"$f":"VLOOKUP($B4537,'Ad Week Dates'!$A:$E,2,FALSE)","v":{"$error":"#N/A"}},{"$f":"VLOOKUP($B4537,'Ad Week Dates'!$A:$E,3,FALSE)","v":{"$error":"#N/A"}},null,null,null,null,null,null,{"$error":"#N/A"}]
[null,null,{"$f":"VLOOKUP($B4538,'Ad Week Dates'!$A:$E,4,FALSE)","v":{"$error":"#N/A"}},{"$f":"VLOOKUP($B4538,'Ad Week Dates'!$A:$E,2,FALSE)","v":{"$error":"#N/A"}},{"$f":"VLOOKUP($B4538,'Ad Week Dates'!$A:$E,3,FALSE)","v":{"$error":"#N/A"}},null,null,null,null,null,null,{"$error":"#N/A"}]
[null,null,{"$f":"VLOOKUP($B4539,'Ad Week Dates'!$A:$E,4,FALSE)","v":{"$error":"#N/A"}},{"$f":"VLOOKUP($B4539,'Ad Week Dates'!$A:$E,2,FALSE)","v":{"$error":"#N/A"}},{"$f":"VLOOKUP($B4539,'Ad Week Dates'!$A:$E,3,FALSE)","v":{"$error":"#N/A"}},null,null,null,null,null,null,{"$error":"#N/A"}]
[null,null,{"$f":"VLOOKUP($B4540,'Ad Week Dates'!$A:$E,4,FALSE)","v":{"$error":"#N/A"}},{"$f":"VLOOKUP($B4540,'Ad Week Dates'!$A:$E,2,FALSE)","v":{"$error":"#N/A"}},{"$f":"VLOOKUP($B4540,'Ad Week Dates'!$A:$E,3,FALSE)","v":{"$error":"#N/A"}},null,null,null,null,null,null,{"$error":"#N/A"}]
[null,null,{"$f":"VLOOKUP($B4541,'Ad Week Dates'!$A:$E,4,FALSE)","v":{"$error":"#N/A"}},{"$f":"VLOOKUP($B4541,'Ad Week Dates'!$A:$E,2,FALSE)","v":{"$error":"#N/A"}},{"$f":"VLOOKUP($B4541,'Ad Week Dates'!$A:$E,3,FALSE)","v":{"$error":"#N/A"}},null,null,null,null,null,null,{"$error":"#N/A"}]
[null,null,{"$f":"VLOOKUP($B4542,'Ad Week Dates'!$A:$E,4,FALSE)","v":{"$error":"#N/A"}},{"$f":"VLOOKUP($B4542,'Ad Week Dates'!$A:$E,2,FALSE)","v":{"$error":"#N/A"}},{"$f":"VLOOKUP($B4542,'Ad Week Dates'!$A:$E,3,FALSE)","v":{"$error":"#N/A"}},null,null,null,null,null,null,{"$error":"#N/A"}]
[null,null,{"$f":"VLOOKUP($B4543,'Ad Week Dates'!$A:$E,4,FALSE)","v":{"$error":"#N/A"}},{"$f":"VLOOKUP($B4543,'Ad Week Dates'!$A:$E,2,FALSE)","v":{"$error":"#N/A"}},{"$f":"VLOOKUP($B4543,'Ad Week Dates'!$A:$E,3,FALSE)","v":{"$error":"#N/A"}},null,null,null,null,null,null,{"$error":"#N/A"}]
[null,null,{"$f":"VLOOKUP($B4544,'Ad Week Dates'!$A:$E,4,FALSE)","v":{"$error":"#N/A"}},{"$f":"VLOOKUP($B4544,'Ad Week Dates'!$A:$E,2,FALSE)","v":{"$error":"#N/A"}},{"$f":"VLOOKUP($B4544,'Ad Week Dates'!$A:$E,3,FALSE)","v":{"$error":"#N/A"}},null,null,null,null,null,null,{"$error":"#N/A"}]
[null,null,{"$f":"VLOOKUP($B4545,'Ad Week Dates'!$A:$E,4,FALSE)","v":{"$error":"#N/A"}},{"$f":"VLOOKUP($B4545,'Ad Week Dates'!$A:$E,2,FALSE)","v":{"$error":"#N/A"}},{"$f":"VLOOKUP($B4545,'Ad Week Dates'!$A:$E,3,FALSE)","v":{"$error":"#N/A"}},null,null,null,null,null,null,{"$error":"#N/A"}]
[null,null,{"$f":"VLOOKUP($B4546,'Ad Week Dates'!$A:$E,4,FALSE)","v":{"$error":"#N/A"}},{"$f":"VLOOKUP($B4546,'Ad Week Dates'!$A:$E,2,FALSE)","v":{"$error":"#N/A"}},{"$f":"VLOOKUP($B4546,'Ad Week Dates'!$A:$E,3,FALSE)","v":{"$error":"#N/A"}},null,null,null,null,null,null,{"$error":"#N/A"}]
[null,null,{"$f":"VLOOKUP($B4547,'Ad Week Dates'!$A:$E,4,FALSE)","v":{"$error":"#N/A"}},{"$f":"VLOOKUP($B4547,'Ad Week Dates'!$A:$E,2,FALSE)","v":{"$error":"#N/A"}},{"$f":"VLOOKUP($B4547,'Ad Week Dates'!$A:$E,3,FALSE)","v":{"$error":"#N/A"}},null,null,null,null,null,null,{"$error":"#N/A"}]
[null,null,{"$f":"VLOOKUP($B4548,'Ad Week Dates'!$A:$E,4,FALSE)","v":{"$error":"#N/A"}},{"$f":"VLOOKUP($B4548,'Ad Week Dates'!$A:$E,2,FALSE)","v":{"$error":"#N/A"}},{"$f":"VLOOKUP($B4548,'Ad Week Dates'!$A:$E,3,FALSE)","v":{"$error":"#N/A"}},null,null,null,null,null,null,{"$error":"#N/A"}]
[null,null,{"$f":"VLOOKUP($B4549,'Ad Week Dates'!$A:$E,4,FALSE)","v":{"$error":"#N/A"}},{"$f":"VLOOKUP($B4549,'Ad Week Dates'!$A:$E,2,FALSE)","v":{"$error":"#N/A"}},{"$f":"VLOOKUP($B4549,'Ad Week Dates'!$A:$E,3,FALSE)","v":{"$error":"#N/A"}},null,null,null,null,null,null,{"$error":"#N/A"}]
[null,null,{"$f":"VLOOKUP($B4550,'Ad Week Dates'!$A:$E,4,FALSE)","v":{"$error":"#N/A"}},{"$f":"VLOOKUP($B4550,'Ad Week Dates'!$A:$E,2,FALSE)","v":{"$error":"#N/A"}},{"$f":"VLOOKUP($B4550,'Ad Week Dates'!$A:$E,3,FALSE)","v":{"$error":"#N/A"}},null,null,null,null,null,null,{"$f":"IF(ISNUMBER(J4550), J4550 - K4550, VALUE(_xlfn.TEXTBEFORE(J4550, \"-\")) - VALUE(_xlfn.TEXTBEFORE(K4550, \"-\")))","v":{"$error":"#N/A"}}]
[null,null,{"$f":"VLOOKUP($B4551,'Ad Week Dates'!$A:$E,4,FALSE)","v":{"$error":"#N/A"}},{"$f":"VLOOKUP($B4551,'Ad Week Dates'!$A:$E,2,FALSE)","v":{"$error":"#N/A"}},{"$f":"VLOOKUP($B4551,'Ad Week Dates'!$A:$E,3,FALSE)","v":{"$error":"#N/A"}},null,null,null,null,null,null,{"$error":"#N/A"}]
[null,null,{"$f":"VLOOKUP($B4552,'Ad Week Dates'!$A:$E,4,FALSE)","v":{"$error":"#N/A"}},{"$f":"VLOOKUP($B4552,'Ad Week Dates'!$A:$E,2,FALSE)","v":{"$error":"#N/A"}},{"$f":"VLOOKUP($B4552,'Ad Week Dates'!$A:$E,3,FALSE)","v":{"$error":"#N/A"}},null,null,null,null,null,null,{"$error":"#N/A"}]
[null,null,{"$f":"VLOOKUP($B4553,'Ad Week Dates'!$A:$E,4,FALSE)","v":{"$error":"#N/A"}},{"$f":"VLOOKUP($B4553,'Ad Week Dates'!$A:$E,2,FALSE)","v":{"$error":"#N/A"}},{"$f":"VLOOKUP($B4553,'Ad Week Dates'!$A:$E,3,FALSE)","v":{"$error":"#N/A"}},null,null,null,null,null,null,{"$error":"#N/A"}]
[null,null,{"$f":"VLOOKUP($B4554,'Ad Week Dates'!$A:$E,4,FALSE)","v":{"$error":"#N/A"}},{"$f":"VLOOKUP($B4554,'Ad Week Dates'!$A:$E,2,FALSE)","v":{"$error":"#N/A"}},{"$f":"VLOOKUP($B4554,'Ad Week Dates'!$A:$E,3,FALSE)","v":{"$error":"#N/A"}},null,null,null,null,null,null,{"$error":"#N/A"}]
[null,null,{"$f":"VLOOKUP($B4555,'Ad Week Dates'!$A:$E,4,FALSE)","v":{"$error":"#N/A"}},{"$f":"VLOOKUP($B4555,'Ad Week Dates'!$A:$E,2,FALSE)","v":{"$error":"#N/A"}},{"$f":"VLOOKUP($B4555,'Ad Week Dates'!$A:$E,3,FALSE)","v":{"$error":"#N/A"}},null,null,null,null,null,null,{"$error":"#N/A"}]
[null,null,{"$f":"VLOOKUP($B4556,'Ad Week Dates'!$A:$E,4,FALSE)","v":{"$error":"#N/A"}},{"$f":"VLOOKUP($B4556,'Ad Week Dates'!$A:$E,2,FALSE)","v":{"$error":"#N/A"}},{"$f":"VLOOKUP($B4556,'Ad Week Dates'!$A:$E,3,FALSE)","v":{"$error":"#N/A"}},null,null,null,null,null,null,{"$error":"#N/A"}]
[null,null,{"$f":"VLOOKUP($B4557,'Ad Week Dates'!$A:$E,4,FALSE)","v":{"$error":"#N/A"}},{"$f":"VLOOKUP($B4557,'Ad Week Dates'!$A:$E,2,FALSE)","v":{"$error":"#N/A"}},{"$f":"VLOOKUP($B4557,'Ad Week Dates'!$A:$E,3,FALSE)","v":{"$error":"#N/A"}},null,null,null,null,null,null,{"$error":"#N/A"}]
[null,null,{"$f":"VLOOKUP($B4558,'Ad Week Dates'!$A:$E,4,FALSE)","v":{"$error":"#N/A"}},{"$f":"VLOOKUP($B4558,'Ad Week Dates'!$A:$E,2,FALSE)","v":{"$error":"#N/A"}},{"$f":"VLOOKUP($B4558,'Ad Week Dates'!$A:$E,3,FALSE)","v":{"$error":"#N/A"}},null,null,null,null,null,null,{"$error":"#N/A"}]
[null,null,{"$f":"VLOOKUP($B4559,'Ad Week Dates'!$A:$E,4,FALSE)","v":{"$error":"#N/A"}},{"$f":"VLOOKUP($B4559,'Ad Week Dates'!$A:$E,2,FALSE)","v":{"$error":"#N/A"}},{"$f":"VLOOKUP($B4559,'Ad Week Dates'!$A:$E,3,FALSE)","v":{"$error":"#N/A"}},null,null,null,null,null,null,{"$error":"#N/A"}]
[null,null,{"$f":"VLOOKUP($B4560,'Ad Week Dates'!$A:$E,4,FALSE)","v":{"$error":"#N/A"}},{"$f":"VLOOKUP($B4560,'Ad Week Dates'!$A:$E,2,FALSE)","v":{"$error":"#N/A"}},{"$f":"VLOOKUP($B4560,'Ad Week Dates'!$A:$E,3,FALSE)","v":{"$error":"#N/A"}},null,null,null,null,null,null,{"$error":"#N/A"}]
[null,null,{"$f":"VLOOKUP($B4561,'Ad Week Dates'!$A:$E,4,FALSE)","v":{"$error":"#N/A"}},{"$f":"VLOOKUP($B4561,'Ad Week Dates'!$A:$E,2,FALSE)","v":{"$error":"#N/A"}},{"$f":"VLOOKUP($B4561,'Ad Week Dates'!$A:$E,3,FALSE)","v":{"$error":"#N/A"}},null,null,null,null,null,null,{"$error":"#N/A"}]
[null,null,{"$f":"VLOOKUP($B4562,'Ad Week Dates'!$A:$E,4,FALSE)","v":{"$error":"#N/A"}},{"$f":"VLOOKUP($B4562,'Ad Week Dates'!$A:$E,2,FALSE)","v":{"$error":"#N/A"}},{"$f":"VLOOKUP($B4562,'Ad Week Dates'!$A:$E,3,FALSE)","v":{"$error":"#N/A"}},null,null,null,null,null,null,{"$error":"#N/A"}]
[null,null,{"$f":"VLOOKUP($B4563,'Ad Week Dates'!$A:$E,4,FALSE)","v":{"$error":"#N/A"}},{"$f":"VLOOKUP($B4563,'Ad Week Dates'!$A:$E,2,FALSE)","v":{"$error":"#N/A"}},{"$f":"VLOOKUP($B4563,'Ad Week Dates'!$A:$E,3,FALSE)","v":{"$error":"#N/A"}},null,null,null,null,null,null,{"$error":"#N/A"}]
[null,null,{"$f":"VLOOKUP($B4564,'Ad Week Dates'!$A:$E,4,FALSE)","v":{"$error":"#N/A"}},{"$f":"VLOOKUP($B4564,'Ad Week Dates'!$A:$E,2,FALSE)","v":{"$error":"#N/A"}},{"$f":"VLOOKUP($B4564,'Ad Week Dates'!$A:$E,3,FALSE)","v":{"$error":"#N/A"}},null,null,null,null,null,null,{"$error":"#N/A"}]
[null,null,{"$f":"VLOOKUP($B4565,'Ad Week Dates'!$A:$E,4,FALSE)","v":{"$error":"#N/A"}},{"$f":"VLOOKUP($B4565,'Ad Week Dates'!$A:$E,2,FALSE)","v":{"$error":"#N/A"}},{"$f":"VLOOKUP($B4565,'Ad Week Dates'!$A:$E,3,FALSE)","v":{"$error":"#N/A"}},null,null,null,null,null,null,{"$error":"#N/A"}]
[null,null,{"$f":"VLOOKUP($B4566,'Ad Week Dates'!$A:$E,4,FALSE)","v":{"$error":"#N/A"}},{"$f":"VLOOKUP($B4566,'Ad Week Dates'!$A:$E,2,FALSE)","v":{"$error":"#N/A"}},{"$f":"VLOOKUP($B4566,'Ad Week Dates'!$A:$E,3,FALSE)","v":{"$error":"#N/A"}},null,null,null,null,null,null,{"$error":"#N/A"}]
[null,null,{"$f":"VLOOKUP($B4567,'Ad Week Dates'!$A:$E,4,FALSE)","v":{"$error":"#N/A"}},{"$f":"VLOOKUP($B4567,'Ad Week Dates'!$A:$E,2,FALSE)","v":{"$error":"#N/A"}},{"$f":"VLOOKUP($B4567,'Ad Week Dates'!$A:$E,3,FALSE)","v":{"$error":"#N/A"}},null,null,null,null,null,null,{"$error":"#N/A"}]
[null,null,{"$f":"VLOOKUP($B4568,'Ad Week Dates'!$A:$E,4,FALSE)","v":{"$error":"#N/A"}},{"$f":"VLOOKUP($B4568,'Ad Week Dates'!$A:$E,2,FALSE)","v":{"$error":"#N/A"}},{"$f":"VLOOKUP($B4568,'Ad Week Dates'!$A:$E,3,FALSE)","v":{"$error":"#N/A"}},null,null,null,null,null,null,{"$error":"#N/A"}]
[null,null,{"$f":"VLOOKUP($B4569,'Ad Week Dates'!$A:$E,4,FALSE)","v":{"$error":"#N/A"}},{"$f":"VLOOKUP($B4569,'Ad Week Dates'!$A:$E,2,FALSE)","v":{"$error":"#N/A"}},{"$f":"VLOOKUP($B4569,'Ad Week Dates'!$A:$E,3,FALSE)","v":{"$error":"#N/A"}},null,null,null,null,null,null,{"$error":"#N/A"}]
[null,null,{"$f":"VLOOKUP($B4570,'Ad Week Dates'!$A:$E,4,FALSE)","v":{"$error":"#N/A"}},{"$f":"VLOOKUP($B4570,'Ad Week Dates'!$A:$E,2,FALSE)","v":{"$error":"#N/A"}},{"$f":"VLOOKUP($B4570,'Ad Week Dates'!$A:$E,3,FALSE)","v":{"$error":"#N/A"}},null,null,null,null,null,null,{"$error":"#N/A"}]
[null,null,{"$f":"VLOOKUP($B4571,'Ad Week Dates'!$A:$E,4,FALSE)","v":{"$error":"#N/A"}},{"$f":"VLOOKUP($B4571,'Ad Week Dates'!$A:$E,2,FALSE)","v":{"$error":"#N/A"}},{"$f":"VLOOKUP($B4571,'Ad Week Dates'!$A:$E,3,FALSE)","v":{"$error":"#N/A"}},null,null,null,null,null,null,{"$error":"#N/A"}]
[null,null,{"$f":"VLOOKUP($B4572,'Ad Week Dates'!$A:$E,4,FALSE)","v":{"$error":"#N/A"}},{"$f":"VLOOKUP($B4572,'Ad Week Dates'!$A:$E,2,FALSE)","v":{"$error":"#N/A"}},{"$f":"VLOOKUP($B4572,'Ad Week Dates'!$A:$E,3,FALSE)","v":{"$error":"#N/A"}},null,null,null,null,null,null,{"$error":"#N/A"}]
[null,null,{"$f":"VLOOKUP($B4573,'Ad Week Dates'!$A:$E,4,FALSE)","v":{"$error":"#N/A"}},{"$f":"VLOOKUP($B4573,'Ad Week Dates'!$A:$E,2,FALSE)","v":{"$error":"#N/A"}},{"$f":"VLOOKUP($B4573,'Ad Week Dates'!$A:$E,3,FALSE)","v":{"$error":"#N/A"}},null,null,null,null,null,null,{"$error":"#N/A"}]
[null,null,{"$f":"VLOOKUP($B4574,'Ad Week Dates'!$A:$E,4,FALSE)","v":{"$error":"#N/A"}},{"$f":"VLOOKUP($B4574,'Ad Week Dates'!$A:$E,2,FALSE)","v":{"$error":"#N/A"}},{"$f":"VLOOKUP($B4574,'Ad Week Dates'!$A:$E,3,FALSE)","v":{"$error":"#N/A"}},null,null,null,null,null,null,{"$error":"#N/A"}]
[null,null,{"$f":"VLOOKUP($B4575,'Ad Week Dates'!$A:$E,4,FALSE)","v":{"$error":"#N/A"}},{"$f":"VLOOKUP($B4575,'Ad Week Dates'!$A:$E,2,FALSE)","v":{"$error":"#N/A"}},{"$f":"VLOOKUP($B4575,'Ad Week Dates'!$A:$E,3,FALSE)","v":{"$error":"#N/A"}},null,null,null,null,null,null,{"$error":"#N/A"}]
[null,null,{"$f":"VLOOKUP($B4576,'Ad Week Dates'!$A:$E,4,FALSE)","v":{"$error":"#N/A"}},{"$f":"VLOOKUP($B4576,'Ad Week Dates'!$A:$E,2,FALSE)","v":{"$error":"#N/A"}},{"$f":"VLOOKUP($B4576,'Ad Week Dates'!$A:$E,3,FALSE)","v":{"$error":"#N/A"}},null,null,null,null,null,null,{"$error":"#N/A"}]
[null,null,{"$f":"VLOOKUP($B4577,'Ad Week Dates'!$A:$E,4,FALSE)","v":{"$error":"#N/A"}},{"$f":"VLOOKUP($B4577,'Ad Week Dates'!$A:$E,2,FALSE)","v":{"$error":"#N/A"}},{"$f":"VLOOKUP($B4577,'Ad Week Dates'!$A:$E,3,FALSE)","v":{"$error":"#N/A"}},null,null,null,null,null,null,{"$error":"#N/A"}]
[null,null,{"$f":"VLOOKUP($B4578,'Ad Week Dates'!$A:$E,4,FALSE)","v":{"$error":"#N/A"}},{"$f":"VLOOKUP($B4578,'Ad Week Dates'!$A:$E,2,FALSE)","v":{"$error":"#N/A"}},{"$f":"VLOOKUP($B4578,'Ad Week Dates'!$A:$E,3,FALSE)","v":{"$error":"#N/A"}},null,null,null,null,null,null,{"$error":"#N/A"}]
[null,null,{"$f":"VLOOKUP($B4579,'Ad Week Dates'!$A:$E,4,FALSE)","v":{"$error":"#N/A"}},{"$f":"VLOOKUP($B4579,'Ad Week Dates'!$A:$E,2,FALSE)","v":{"$error":"#N/A"}},{"$f":"VLOOKUP($B4579,'Ad Week Dates'!$A:$E,3,FALSE)","v":{"$error":"#N/A"}},null,null,null,null,null,null,{"$error":"#N/A"}]
[null,null,{"$f":"VLOOKUP($B4580,'Ad Week Dates'!$A:$E,4,FALSE)","v":{"$error":"#N/A"}},{"$f":"VLOOKUP($B4580,'Ad Week Dates'!$A:$E,2,FALSE)","v":{"$error":"#N/A"}},{"$f":"VLOOKUP($B4580,'Ad Week Dates'!$A:$E,3,FALSE)","v":{"$error":"#N/A"}},null,null,null,null,null,null,{"$error":"#N/A"}]
[null,null,{"$f":"VLOOKUP($B4581,'Ad Week Dates'!$A:$E,4,FALSE)","v":{"$error":"#N/A"}},{"$f":"VLOOKUP($B4581,'Ad Week Dates'!$A:$E,2,FALSE)","v":{"$error":"#N/A"}},{"$f":"VLOOKUP($B4581,'Ad Week Dates'!$A:$E,3,FALSE)","v":{"$error":"#N/A"}},null,null,null,null,null,null,{"$error":"#N/A"}]
[null,null,{"$f":"VLOOKUP($B4582,'Ad Week Dates'!$A:$E,4,FALSE)","v":{"$error":"#N/A"}},{"$f":"VLOOKUP($B4582,'Ad Week Dates'!$A:$E,2,FALSE)","v":{"$error":"#N/A"}},{"$f":"VLOOKUP($B4582,'Ad Week Dates'!$A:$E,3,FALSE)","v":{"$error":"#N/A"}},null,null,null,null,null,null,{"$error":"#N/A"}]
[null,null,{"$f":"VLOOKUP($B4583,'Ad Week Dates'!$A:$E,4,FALSE)","v":{"$error":"#N/A"}},{"$f":"VLOOKUP($B4583,'Ad Week Dates'!$A:$E,2,FALSE)","v":{"$error":"#N/A"}},{"$f":"VLOOKUP($B4583,'Ad Week Dates'!$A:$E,3,FALSE)","v":{"$error":"#N/A"}},null,null,null,null,null,null,{"$error":"#N/A"}]
[null,null,{"$f":"VLOOKUP($B4584,'Ad Week Dates'!$A:$E,4,FALSE)","v":{"$error":"#N/A"}},{"$f":"VLOOKUP($B4584,'Ad Week Dates'!$A:$E,2,FALSE)","v":{"$error":"#N/A"}},{"$f":"VLOOKUP($B4584,'Ad Week Dates'!$A:$E,3,FALSE)","v":{"$error":"#N/A"}},null,null,null,null,null,null,{"$error":"#N/A"}]
[null,null,{"$f":"VLOOKUP($B4585,'Ad Week Dates'!$A:$E,4,FALSE)","v":{"$error":"#N/A"}},{"$f":"VLOOKUP($B4585,'Ad Week Dates'!$A:$E,2,FALSE)","v":{"$error":"#N/A"}},{"$f":"VLOOKUP($B4585,'Ad Week Dates'!$A:$E,3,FALSE)","v":{"$error":"#N/A"}},null,null,null,null,null,null,{"$error":"#N/A"}]
[null,null,{"$f":"VLOOKUP($B4586,'Ad Week Dates'!$A:$E,4,FALSE)","v":{"$error":"#N/A"}},{"$f":"VLOOKUP($B4586,'Ad Week Dates'!$A:$E,2,FALSE)","v":{"$error":"#N/A"}},{"$f":"VLOOKUP($B4586,'Ad Week Dates'!$A:$E,3,FALSE)","v":{"$error":"#N/A"}},null,null,null,null,null,null,{"$error":"#N/A"}]
[null,null,{"$f":"VLOOKUP($B4587,'Ad Week Dates'!$A:$E,4,FALSE)","v":{"$error":"#N/A"}},{"$f":"VLOOKUP($B4587,'Ad Week Dates'!$A:$E,2,FALSE)","v":{"$error":"#N/A"}},{"$f":"VLOOKUP($B4587,'Ad Week Dates'!$A:$E,3,FALSE)","v":{"$error":"#N/A"}},null,null,null,null,null,null,{"$error":"#N/A"}]
[null,null,{"$f":"VLOOKUP($B4588,'Ad Week Dates'!$A:$E,4,FALSE)","v":{"$error":"#N/A"}},{"$f":"VLOOKUP($B4588,'Ad Week Dates'!$A:$E,2,FALSE)","v":{"$error":"#N/A"}},{"$f":"VLOOKUP($B4588,'Ad Week Dates'!$A:$E,3,FALSE)","v":{"$error":"#N/A"}},null,null,null,null,null,null,{"$error":"#N/A"}]
[null,null,{"$f":"VLOOKUP($B4589,'Ad Week Dates'!$A:$E,4,FALSE)","v":{"$error":"#N/A"}},{"$f":"VLOOKUP($B4589,'Ad Week Dates'!$A:$E,2,FALSE)","v":{"$error":"#N/A"}},{"$f":"VLOOKUP($B4589,'Ad Week Dates'!$A:$E,3,FALSE)","v":{"$error":"#N/A"}},null,null,null,null,null,null,{"$error":"#N/A"}]
[null,null,{"$f":"VLOOKUP($B4590,'Ad Week Dates'!$A:$E,4,FALSE)","v":{"$error":"#N/A"}},{"$f":"VLOOKUP($B4590,'Ad Week Dates'!$A:$E,2,FALSE)","v":{"$error":"#N/A"}},{"$f":"VLOOKUP($B4590,'Ad Week Dates'!$A:$E,3,FALSE)","v":{"$error":"#N/A"}},null,null,null,null,null,null,{"$error":"#N/A"}]
[null,null,{"$f":"VLOOKUP($B4591,'Ad Week Dates'!$A:$E,4,FALSE)","v":{"$error":"#N/A"}},{"$f":"VLOOKUP($B4591,'Ad Week Dates'!$A:$E,2,FALSE)","v":{"$error":"#N/A"}},{"$f":"VLOOKUP($B4591,'Ad Week Dates'!$A:$E,3,FALSE)","v":{"$error":"#N/A"}},null,null,null,null,null,null,{"$error":"#N/A"}]
[null,null,{"$f":"VLOOKUP($B4592,'Ad Week Dates'!$A:$E,4,FALSE)","v":{"$error":"#N/A"}},{"$f":"VLOOKUP($B4592,'Ad Week Dates'!$A:$E,2,FALSE)","v":{"$error":"#N/A"}},{"$f":"VLOOKUP($B4592,'Ad Week Dates'!$A:$E,3,FALSE)","v":{"$error":"#N/A"}},null,null,null,null,null,null,{"$error":"#N/A"}]
[null,null,{"$f":"VLOOKUP($B4593,'Ad Week Dates'!$A:$E,4,FALSE)","v":{"$error":"#N/A"}},{"$f":"VLOOKUP($B4593,'Ad Week Dates'!$A:$E,2,FALSE)","v":{"$error":"#N/A"}},{"$f":"VLOOKUP($B4593,'Ad Week Dates'!$A:$E,3,FALSE)","v":{"$error":"#N/A"}},null,null,null,null,null,null,{"$error":"#N/A"}]
[null,null,{"$f":"VLOOKUP($B4594,'Ad Week Dates'!$A:$E,4,FALSE)","v":{"$error":"#N/A"}},{"$f":"VLOOKUP($B4594,'Ad Week Dates'!$A:$E,2,FALSE)","v":{"$error":"#N/A"}},{"$f":"VLOOKUP($B4594,'Ad Week Dates'!$A:$E,3,FALSE)","v":{"$error":"#N/A"}},null,null,null,null,null,null,{"$error":"#N/A"}]
[null,null,{"$f":"VLOOKUP($B4595,'Ad Week Dates'!$A:$E,4,FALSE)","v":{"$error":"#N/A"}},{"$f":"VLOOKUP($B4595,'Ad Week Dates'!$A:$E,2,FALSE)","v":{"$error":"#N/A"}},{"$f":"VLOOKUP($B4595,'Ad Week Dates'!$A:$E,3,FALSE)","v":{"$error":"#N/A"}},null,null,null,null,null,null,{"$error":"#N/A"}]
[null,null,{"$f":"VLOOKUP($B4596,'Ad Week Dates'!$A:$E,4,FALSE)","v":{"$error":"#N/A"}},{"$f":"VLOOKUP($B4596,'Ad Week Dates'!$A:$E,2,FALSE)","v":{"$error":"#N/A"}},{"$f":"VLOOKUP($B4596,'Ad Week Dates'!$A:$E,3,FALSE)","v":{"$error":"#N/A"}},null,null,null,null,null,null,{"$error":"#N/A"}]
[null,null,{"$f":"VLOOKUP($B4597,'Ad Week Dates'!$A:$E,4,FALSE)","v":{"$error":"#N/A"}},{"$f":"VLOOKUP($B4597,'Ad Week Dates'!$A:$E,2,FALSE)","v":{"$error":"#N/A"}},{"$f":"VLOOKUP($B4597,'Ad Week Dates'!$A:$E,3,FALSE)","v":{"$error":"#N/A"}},null,null,null,null,null,null,{"$error":"#N/A"}]
[null,null,{"$f":"VLOOKUP($B4598,'Ad Week Dates'!$A:$E,4,FALSE)","v":{"$error":"#N/A"}},{"$f":"VLOOKUP($B4598,'Ad Week Dates'!$A:$E,2,FALSE)","v":{"$error":"#N/A"}},{"$f":"VLOOKUP($B4598,'Ad Week Dates'!$A:$E,3,FALSE)","v":{"$error":"#N/A"}},null,null,null,null,null,null,{"$error":"#N/A"}]
[null,null,{"$f":"VLOOKUP($B4599,'Ad Week Dates'!$A:$E,4,FALSE)","v":{"$error":"#N/A"}},{"$f":"VLOOKUP($B4599,'Ad Week Dates'!$A:$E,2,FALSE)","v":{"$error":"#N/A"}},{"$f":"VLOOKUP($B4599,'Ad Week Dates'!$A:$E,3,FALSE)","v":{"$error":"#N/A"}},null,null,null,null,null,null,{"$error":"#N/A"}]
[null,null,{"$f":"VLOOKUP($B4600,'Ad Week Dates'!$A:$E,4,FALSE)","v":{"$error":"#N/A"}},{"$f":"VLOOKUP($B4600,'Ad Week Dates'!$A:$E,2,FALSE)","v":{"$error":"#N/A"}},{"$f":"VLOOKUP($B4600,'Ad Week Dates'!$A:$E,3,FALSE)","v":{"$error":"#N/A"}},null,null,null,null,null,null,{"$error":"#N/A"}]
[null,null,{"$f":"VLOOKUP($B4601,'Ad Week Dates'!$A:$E,4,FALSE)","v":{"$error":"#N/A"}},{"$f":"VLOOKUP($B4601,'Ad Week Dates'!$A:$E,2,FALSE)","v":{"$error":"#N/A"}},{"$f":"VLOOKUP($B4601,'Ad Week Dates'!$A:$E,3,FALSE)","v":{"$error":"#N/A"}},null,null,null,null,null,null,{"$error":"#N/A"}]
[null,null,{"$f":"VLOOKUP($B4602,'Ad Week Dates'!$A:$E,4,FALSE)","v":{"$error":"#N/A"}},{"$f":"VLOOKUP($B4602,'Ad Week Dates'!$A:$E,2,FALSE)","v":{"$error":"#N/A"}},{"$f":"VLOOKUP($B4602,'Ad Week Dates'!$A:$E,3,FALSE)","v":{"$error":"#N/A"}},null,null,null,null,null,null,{"$error":"#N/A"}]
[null,null,{"$f":"VLOOKUP($B4603,'Ad Week Dates'!$A:$E,4,FALSE)","v":{"$error":"#N/A"}},{"$f":"VLOOKUP($B4603,'Ad Week Dates'!$A:$E,2,FALSE)","v":{"$error":"#N/A"}},{"$f":"VLOOKUP($B4603,'Ad Week Dates'!$A:$E,3,FALSE)","v":{"$error":"#N/A"}},null,null,null,null,null,null,{"$error":"#N/A"}]
[null,null,{"$f":"VLOOKUP($B4604,'Ad Week Dates'!$A:$E,4,FALSE)","v":{"$error":"#N/A"}},{"$f":"VLOOKUP($B4604,'Ad Week Dates'!$A:$E,2,FALSE)","v":{"$error":"#N/A"}},{"$f":"VLOOKUP($B4604,'Ad Week Dates'!$A:$E,3,FALSE)","v":{"$error":"#N/A"}},null,null,null,null,null,null,{"$error":"#N/A"}]
[null,null,{"$f":"VLOOKUP($B4605,'Ad Week Dates'!$A:$E,4,FALSE)","v":{"$error":"#N/A"}},{"$f":"VLOOKUP($B4605,'Ad Week Dates'!$A:$E,2,FALSE)","v":{"$error":"#N/A"}},{"$f":"VLOOKUP($B4605,'Ad Week Dates'!$A:$E,3,FALSE)","v":{"$error":"#N/A"}},null,null,null,null,null,null,{"$error":"#N/A"}]
[null,null,{"$f":"VLOOKUP($B4606,'Ad Week Dates'!$A:$E,4,FALSE)","v":{"$error":"#N/A"}},{"$f":"VLOOKUP($B4606,'Ad Week Dates'!$A:$E,2,FALSE)","v":{"$error":"#N/A"}},{"$f":"VLOOKUP($B4606,'Ad Week Dates'!$A:$E,3,FALSE)","v":{"$error":"#N/A"}},null,null,null,null,null,null,{"$error":"#N/A"}]
[null,null,{"$f":"VLOOKUP($B4607,'Ad Week Dates'!$A:$E,4,FALSE)","v":{"$error":"#N/A"}},{"$f":"VLOOKUP($B4607,'Ad Week Dates'!$A:$E,2,FALSE)","v":{"$error":"#N/A"}},{"$f":"VLOOKUP($B4607,'Ad Week Dates'!$A:$E,3,FALSE)","v":{"$error":"#N/A"}},null,null,null,null,null,null,{"$error":"#N/A"}]
[null,null,{"$f":"VLOOKUP($B4608,'Ad Week Dates'!$A:$E,4,FALSE)","v":{"$error":"#N/A"}},{"$f":"VLOOKUP($B4608,'Ad Week Dates'!$A:$E,2,FALSE)","v":{"$error":"#N/A"}},{"$f":"VLOOKUP($B4608,'Ad Week Dates'!$A:$E,3,FALSE)","v":{"$error":"#N/A"}},null,null,null,null,null,null,{"$error":"#N/A"}]
[null,null,{"$f":"VLOOKUP($B4609,'Ad Week Dates'!$A:$E,4,FALSE)","v":{"$error":"#N/A"}},{"$f":"VLOOKUP($B4609,'Ad Week Dates'!$A:$E,2,FALSE)","v":{"$error":"#N/A"}},{"$f":"VLOOKUP($B4609,'Ad Week Dates'!$A:$E,3,FALSE)","v":{"$error":"#N/A"}},null,null,null,null,null,null,{"$error":"#N/A"}]
[null,null,{"$f":"VLOOKUP($B4610,'Ad Week Dates'!$A:$E,4,FALSE)","v":{"$error":"#N/A"}},{"$f":"VLOOKUP($B4610,'Ad Week Dates'!$A:$E,2,FALSE)","v":{"$error":"#N/A"}},{"$f":"VLOOKUP($B4610,'Ad Week Dates'!$A:$E,3,FALSE)","v":{"$error":"#N/A"}},null,null,null,null,null,null,{"$error":"#N/A"}]
[null,null,{"$f":"VLOOKUP($B4611,'Ad Week Dates'!$A:$E,4,FALSE)","v":{"$error":"#N/A"}},{"$f":"VLOOKUP($B4611,'Ad Week Dates'!$A:$E,2,FALSE)","v":{"$error":"#N/A"}},{"$f":"VLOOKUP($B4611,'Ad Week Dates'!$A:$E,3,FALSE)","v":{"$error":"#N/A"}},null,null,null,null,null,null,{"$error":"#N/A"}]
[null,null,{"$f":"VLOOKUP($B4612,'Ad Week Dates'!$A:$E,4,FALSE)","v":{"$error":"#N/A"}},{"$f":"VLOOKUP($B4612,'Ad Week Dates'!$A:$E,2,FALSE)","v":{"$error":"#N/A"}},{"$f":"VLOOKUP($B4612,'Ad Week Dates'!$A:$E,3,FALSE)","v":{"$error":"#N/A"}},null,null,null,null,null,null,{"$error":"#N/A"}]
[null,null,{"$f":"VLOOKUP($B4613,'Ad Week Dates'!$A:$E,4,FALSE)","v":{"$error":"#N/A"}},{"$f":"VLOOKUP($B4613,'Ad Week Dates'!$A:$E,2,FALSE)","v":{"$error":"#N/A"}},{"$f":"VLOOKUP($B4613,'Ad Week Dates'!$A:$E,3,FALSE)","v":{"$error":"#N/A"}},null,null,null,null,null,null,{"$error":"#N/A"}]
[null,null,{"$f":"VLOOKUP($B4614,'Ad Week Dates'!$A:$E,4,FALSE)","v":{"$error":"#N/A"}},{"$f":"VLOOKUP($B4614,'Ad Week Dates'!$A:$E,2,FALSE)","v":{"$error":"#N/A"}},{"$f":"VLOOKUP($B4614,'Ad Week Dates'!$A:$E,3,FALSE)","v":{"$error":"#N/A"}},null,null,null,null,null,null,{"$f":"IF(ISNUMBER(J4614), J4614 - K4614, VALUE(_xlfn.TEXTBEFORE(J4614, \"-\")) - VALUE(_xlfn.TEXTBEFORE(K4614, \"-\")))","v":{"$error":"#N/A"}}]
[null,null,{"$f":"VLOOKUP($B4615,'Ad Week Dates'!$A:$E,4,FALSE)","v":{"$error":"#N/A"}},{"$f":"VLOOKUP($B4615,'Ad Week Dates'!$A:$E,2,FALSE)","v":{"$error":"#N/A"}},{"$f":"VLOOKUP($B4615,'Ad Week Dates'!$A:$E,3,FALSE)","v":{"$error":"#N/A"}},null,null,null,null,null,null,{"$error":"#N/A"}]
[null,null,{"$f":"VLOOKUP($B4616,'Ad Week Dates'!$A:$E,4,FALSE)","v":{"$error":"#N/A"}},{"$f":"VLOOKUP($B4616,'Ad Week Dates'!$A:$E,2,FALSE)","v":{"$error":"#N/A"}},{"$f":"VLOOKUP($B4616,'Ad Week Dates'!$A:$E,3,FALSE)","v":{"$error":"#N/A"}},null,null,null,null,null,null,{"$error":"#N/A"}]
[null,null,{"$f":"VLOOKUP($B4617,'Ad Week Dates'!$A:$E,4,FALSE)","v":{"$error":"#N/A"}},{"$f":"VLOOKUP($B4617,'Ad Week Dates'!$A:$E,2,FALSE)","v":{"$error":"#N/A"}},{"$f":"VLOOKUP($B4617,'Ad Week Dates'!$A:$E,3,FALSE)","v":{"$error":"#N/A"}},null,null,null,null,null,null,{"$error":"#N/A"}]
[null,null,{"$f":"VLOOKUP($B4618,'Ad Week Dates'!$A:$E,4,FALSE)","v":{"$error":"#N/A"}},{"$f":"VLOOKUP($B4618,'Ad Week Dates'!$A:$E,2,FALSE)","v":{"$error":"#N/A"}},{"$f":"VLOOKUP($B4618,'Ad Week Dates'!$A:$E,3,FALSE)","v":{"$error":"#N/A"}},null,null,null,null,null,null,{"$error":"#N/A"}]
[null,null,{"$f":"VLOOKUP($B4619,'Ad Week Dates'!$A:$E,4,FALSE)","v":{"$error":"#N/A"}},{"$f":"VLOOKUP($B4619,'Ad Week Dates'!$A:$E,2,FALSE)","v":{"$error":"#N/A"}},{"$f":"VLOOKUP($B4619,'Ad Week Dates'!$A:$E,3,FALSE)","v":{"$error":"#N/A"}},null,null,null,null,null,null,{"$error":"#N/A"}]
[null,null,{"$f":"VLOOKUP($B4620,'Ad Week Dates'!$A:$E,4,FALSE)","v":{"$error":"#N/A"}},{"$f":"VLOOKUP($B4620,'Ad Week Dates'!$A:$E,2,FALSE)","v":{"$error":"#N/A"}},{"$f":"VLOOKUP($B4620,'Ad Week Dates'!$A:$E,3,FALSE)","v":{"$error":"#N/A"}},null,null,null,null,null,null,{"$error":"#N/A"}]
[null,null,{"$f":"VLOOKUP($B4621,'Ad Week Dates'!$A:$E,4,FALSE)","v":{"$error":"#N/A"}},{"$f":"VLOOKUP($B4621,'Ad Week Dates'!$A:$E,2,FALSE)","v":{"$error":"#N/A"}},{"$f":"VLOOKUP($B4621,'Ad Week Dates'!$A:$E,3,FALSE)","v":{"$error":"#N/A"}},null,null,null,null,null,null,{"$error":"#N/A"}]
[null,null,{"$f":"VLOOKUP($B4622,'Ad Week Dates'!$A:$E,4,FALSE)","v":{"$error":"#N/A"}},{"$f":"VLOOKUP($B4622,'Ad Week Dates'!$A:$E,2,FALSE)","v":{"$error":"#N/A"}},{"$f":"VLOOKUP($B4622,'Ad Week Dates'!$A:$E,3,FALSE)","v":{"$error":"#N/A"}},null,null,null,null,null,null,{"$error":"#N/A"}]
[null,null,{"$f":"VLOOKUP($B4623,'Ad Week Dates'!$A:$E,4,FALSE)","v":{"$error":"#N/A"}},{"$f":"VLOOKUP($B4623,'Ad Week Dates'!$A:$E,2,FALSE)","v":{"$error":"#N/A"}},{"$f":"VLOOKUP($B4623,'Ad Week Dates'!$A:$E,3,FALSE)","v":{"$error":"#N/A"}},null,null,null,null,null,null,{"$error":"#N/A"}]
[null,null,{"$f":"VLOOKUP($B4624,'Ad Week Dates'!$A:$E,4,FALSE)","v":{"$error":"#N/A"}},{"$f":"VLOOKUP($B4624,'Ad Week Dates'!$A:$E,2,FALSE)","v":{"$error":"#N/A"}},{"$f":"VLOOKUP($B4624,'Ad Week Dates'!$A:$E,3,FALSE)","v":{"$error":"#N/A"}},null,null,null,null,null,null,{"$error":"#N/A"}]
[null,null,{"$f":"VLOOKUP($B4625,'Ad Week Dates'!$A:$E,4,FALSE)","v":{"$error":"#N/A"}},{"$f":"VLOOKUP($B4625,'Ad Week Dates'!$A:$E,2,FALSE)","v":{"$error":"#N/A"}},{"$f":"VLOOKUP($B4625,'Ad Week Dates'!$A:$E,3,FALSE)","v":{"$error":"#N/A"}},null,null,null,null,null,null,{"$error":"#N/A"}]
[null,null,{"$f":"VLOOKUP($B4626,'Ad Week Dates'!$A:$E,4,FALSE)","v":{"$error":"#N/A"}},{"$f":"VLOOKUP($B4626,'Ad Week Dates'!$A:$E,2,FALSE)","v":{"$error":"#N/A"}},{"$f":"VLOOKUP($B4626,'Ad Week Dates'!$A:$E,3,FALSE)","v":{"$error":"#N/A"}},null,null,null,null,null,null,{"$error":"#N/A"}]
[null,null,{"$f":"VLOOKUP($B4627,'Ad Week Dates'!$A:$E,4,FALSE)","v":{"$error":"#N/A"}},{"$f":"VLOOKUP($B4627,'Ad Week Dates'!$A:$E,2,FALSE)","v":{"$error":"#N/A"}},{"$f":"VLOOKUP($B4627,'Ad Week Dates'!$A:$E,3,FALSE)","v":{"$error":"#N/A"}},null,null,null,null,null,null,{"$error":"#N/A"}]
[null,null,{"$f":"VLOOKUP($B4628,'Ad Week Dates'!$A:$E,4,FALSE)","v":{"$error":"#N/A"}},{"$f":"VLOOKUP($B4628,'Ad Week Dates'!$A:$E,2,FALSE)","v":{"$error":"#N/A"}},{"$f":"VLOOKUP($B4628,'Ad Week Dates'!$A:$E,3,FALSE)","v":{"$error":"#N/A"}},null,null,null,null,null,null,{"$error":"#N/A"}]
[null,null,{"$f":"VLOOKUP($B4629,'Ad Week Dates'!$A:$E,4,FALSE)","v":{"$error":"#N/A"}},{"$f":"VLOOKUP($B4629,'Ad Week Dates'!$A:$E,2,FALSE)","v":{"$error":"#N/A"}},{"$f":"VLOOKUP($B4629,'Ad Week Dates'!$A:$E,3,FALSE)","v":{"$error":"#N/A"}},null,null,null,null,null,null,{"$error":"#N/A"}]
[null,null,{"$f":"VLOOKUP($B4630,'Ad Week Dates'!$A:$E,4,FALSE)","v":{"$error":"#N/A"}},{"$f":"VLOOKUP($B4630,'Ad Week Dates'!$A:$E,2,FALSE)","v":{"$error":"#N/A"}},{"$f":"VLOOKUP($B4630,'Ad Week Dates'!$A:$E,3,FALSE)","v":{"$error":"#N/A"}},null,null,null,null,null,null,{"$error":"#N/A"}]
[null,null,{"$f":"VLOOKUP($B4631,'Ad Week Dates'!$A:$E,4,FALSE)","v":{"$error":"#N/A"}},{"$f":"VLOOKUP($B4631,'Ad Week Dates'!$A:$E,2,FALSE)","v":{"$error":"#N/A"}},{"$f":"VLOOKUP($B4631,'Ad Week Dates'!$A:$E,3,FALSE)","v":{"$error":"#N/A"}},null,null,null,null,null,null,{"$error":"#N/A"}]
[null,null,{"$f":"VLOOKUP($B4632,'Ad Week Dates'!$A:$E,4,FALSE)","v":{"$error":"#N/A"}},{"$f":"VLOOKUP($B4632,'Ad Week Dates'!$A:$E,2,FALSE)","v":{"$error":"#N/A"}},{"$f":"VLOOKUP($B4632,'Ad Week Dates'!$A:$E,3,FALSE)","v":{"$error":"#N/A"}},null,null,null,null,null,null,{"$error":"#N/A"}]
[null,null,{"$f":"VLOOKUP($B4633,'Ad Week Dates'!$A:$E,4,FALSE)","v":{"$error":"#N/A"}},{"$f":"VLOOKUP($B4633,'Ad Week Dates'!$A:$E,2,FALSE)","v":{"$error":"#N/A"}},{"$f":"VLOOKUP($B4633,'Ad Week Dates'!$A:$E,3,FALSE)","v":{"$error":"#N/A"}},null,null,null,null,null,null,{"$error":"#N/A"}]
[null,null,{"$f":"VLOOKUP($B4634,'Ad Week Dates'!$A:$E,4,FALSE)","v":{"$error":"#N/A"}},{"$f":"VLOOKUP($B4634,'Ad Week Dates'!$A:$E,2,FALSE)","v":{"$error":"#N/A"}},{"$f":"VLOOKUP($B4634,'Ad Week Dates'!$A:$E,3,FALSE)","v":{"$error":"#N/A"}},null,null,null,null,null,null,{"$error":"#N/A"}]
[null,null,{"$f":"VLOOKUP($B4635,'Ad Week Dates'!$A:$E,4,FALSE)","v":{"$error":"#N/A"}},{"$f":"VLOOKUP($B4635,'Ad Week Dates'!$A:$E,2,FALSE)","v":{"$error":"#N/A"}},{"$f":"VLOOKUP($B4635,'Ad Week Dates'!$A:$E,3,FALSE)","v":{"$error":"#N/A"}},null,null,null,null,null,null,{"$error":"#N/A"}]
[null,null,{"$f":"VLOOKUP($B4636,'Ad Week Dates'!$A:$E,4,FALSE)","v":{"$error":"#N/A"}},{"$f":"VLOOKUP($B4636,'Ad Week Dates'!$A:$E,2,FALSE)","v":{"$error":"#N/A"}},{"$f":"VLOOKUP($B4636,'Ad Week Dates'!$A:$E,3,FALSE)","v":{"$error":"#N/A"}},null,null,null,null,null,null,{"$error":"#N/A"}]
[null,null,{"$f":"VLOOKUP($B4637,'Ad Week Dates'!$A:$E,4,FALSE)","v":{"$error":"#N/A"}},{"$f":"VLOOKUP($B4637,'Ad Week Dates'!$A:$E,2,FALSE)","v":{"$error":"#N/A"}},{"$f":"VLOOKUP($B4637,'Ad Week Dates'!$A:$E,3,FALSE)","v":{"$error":"#N/A"}},null,null,null,null,null,null,{"$error":"#N/A"}]
[null,null,{"$f":"VLOOKUP($B4638,'Ad Week Dates'!$A:$E,4,FALSE)","v":{"$error":"#N/A"}},{"$f":"VLOOKUP($B4638,'Ad Week Dates'!$A:$E,2,FALSE)","v":{"$error":"#N/A"}},{"$f":"VLOOKUP($B4638,'Ad Week Dates'!$A:$E,3,FALSE)","v":{"$error":"#N/A"}},null,null,null,null,null,null,{"$error":"#N/A"}]
[null,null,{"$f":"VLOOKUP($B4639,'Ad Week Dates'!$A:$E,4,FALSE)","v":{"$error":"#N/A"}},{"$f":"VLOOKUP($B4639,'Ad Week Dates'!$A:$E,2,FALSE)","v":{"$error":"#N/A"}},{"$f":"VLOOKUP($B4639,'Ad Week Dates'!$A:$E,3,FALSE)","v":{"$error":"#N/A"}},null,null,null,null,null,null,{"$error":"#N/A"}]
[null,null,{"$f":"VLOOKUP($B4640,'Ad Week Dates'!$A:$E,4,FALSE)","v":{"$error":"#N/A"}},{"$f":"VLOOKUP($B4640,'Ad Week Dates'!$A:$E,2,FALSE)","v":{"$error":"#N/A"}},{"$f":"VLOOKUP($B4640,'Ad Week Dates'!$A:$E,3,FALSE)","v":{"$error":"#N/A"}},null,null,null,null,null,null,{"$error":"#N/A"}]
[null,null,{"$f":"VLOOKUP($B4641,'Ad Week Dates'!$A:$E,4,FALSE)","v":{"$error":"#N/A"}},{"$f":"VLOOKUP($B4641,'Ad Week Dates'!$A:$E,2,FALSE)","v":{"$error":"#N/A"}},{"$f":"VLOOKUP($B4641,'Ad Week Dates'!$A:$E,3,FALSE)","v":{"$error":"#N/A"}},null,null,null,null,null,null,{"$error":"#N/A"}]
[null,null,{"$f":"VLOOKUP($B4642,'Ad Week Dates'!$A:$E,4,FALSE)","v":{"$error":"#N/A"}},{"$f":"VLOOKUP($B4642,'Ad Week Dates'!$A:$E,2,FALSE)","v":{"$error":"#N/A"}},{"$f":"VLOOKUP($B4642,'Ad Week Dates'!$A:$E,3,FALSE)","v":{"$error":"#N/A"}},null,null,null,null,null,null,{"$error":"#N/A"}]
[null,null,{"$f":"VLOOKUP($B4643,'Ad Week Dates'!$A:$E,4,FALSE)","v":{"$error":"#N/A"}},{"$f":"VLOOKUP($B4643,'Ad Week Dates'!$A:$E,2,FALSE)","v":{"$error":"#N/A"}},{"$f":"VLOOKUP($B4643,'Ad Week Dates'!$A:$E,3,FALSE)","v":{"$error":"#N/A"}},null,null,null,null,null,null,{"$error":"#N/A"}]
[null,null,{"$f":"VLOOKUP($B4644,'Ad Week Dates'!$A:$E,4,FALSE)","v":{"$error":"#N/A"}},{"$f":"VLOOKUP($B4644,'Ad Week Dates'!$A:$E,2,FALSE)","v":{"$error":"#N/A"}},{"$f":"VLOOKUP($B4644,'Ad Week Dates'!$A:$E,3,FALSE)","v":{"$error":"#N/A"}},null,null,null,null,null,null,{"$error":"#N/A"}]
[null,null,{"$f":"VLOOKUP($B4645,'Ad Week Dates'!$A:$E,4,FALSE)","v":{"$error":"#N/A"}},{"$f":"VLOOKUP($B4645,'Ad Week Dates'!$A:$E,2,FALSE)","v":{"$error":"#N/A"}},{"$f":"VLOOKUP($B4645,'Ad Week Dates'!$A:$E,3,FALSE)","v":{"$error":"#N/A"}},null,null,null,null,null,null,{"$error":"#N/A"}]
[null,null,{"$f":"VLOOKUP($B4646,'Ad Week Dates'!$A:$E,4,FALSE)","v":{"$error":"#N/A"}},{"$f":"VLOOKUP($B4646,'Ad Week Dates'!$A:$E,2,FALSE)","v":{"$error":"#N/A"}},{"$f":"VLOOKUP($B4646,'Ad Week Dates'!$A:$E,3,FALSE)","v":{"$error":"#N/A"}},null,null,null,null,null,null,{"$error":"#N/A"}]
[null,null,{"$f":"VLOOKUP($B4647,'Ad Week Dates'!$A:$E,4,FALSE)","v":{"$error":"#N/A"}},{"$f":"VLOOKUP($B4647,'Ad Week Dates'!$A:$E,2,FALSE)","v":{"$error":"#N/A"}},{"$f":"VLOOKUP($B4647,'Ad Week Dates'!$A:$E,3,FALSE)","v":{"$error":"#N/A"}},null,null,null,null,null,null,{"$error":"#N/A"}]
[null,null,{"$f":"VLOOKUP($B4648,'Ad Week Dates'!$A:$E,4,FALSE)","v":{"$error":"#N/A"}},{"$f":"VLOOKUP($B4648,'Ad Week Dates'!$A:$E,2,FALSE)","v":{"$error":"#N/A"}},{"$f":"VLOOKUP($B4648,'Ad Week Dates'!$A:$E,3,FALSE)","v":{"$error":"#N/A"}},null,null,null,null,null,null,{"$error":"#N/A"}]
[null,null,{"$f":"VLOOKUP($B4649,'Ad Week Dates'!$A:$E,4,FALSE)","v":{"$error":"#N/A"}},{"$f":"VLOOKUP($B4649,'Ad Week Dates'!$A:$E,2,FALSE)","v":{"$error":"#N/A"}},{"$f":"VLOOKUP($B4649,'Ad Week Dates'!$A:$E,3,FALSE)","v":{"$error":"#N/A"}},null,null,null,null,null,null,{"$error":"#N/A"}]
[null,null,{"$f":"VLOOKUP($B4650,'Ad Week Dates'!$A:$E,4,FALSE)","v":{"$error":"#N/A"}},{"$f":"VLOOKUP($B4650,'Ad Week Dates'!$A:$E,2,FALSE)","v":{"$error":"#N/A"}},{"$f":"VLOOKUP($B4650,'Ad Week Dates'!$A:$E,3,FALSE)","v":{"$error":"#N/A"}},null,null,null,null,null,null,{"$error":"#N/A"}]
[null,null,{"$f":"VLOOKUP($B4651,'Ad Week Dates'!$A:$E,4,FALSE)","v":{"$error":"#N/A"}},{"$f":"VLOOKUP($B4651,'Ad Week Dates'!$A:$E,2,FALSE)","v":{"$error":"#N/A"}},{"$f":"VLOOKUP($B4651,'Ad Week Dates'!$A:$E,3,FALSE)","v":{"$error":"#N/A"}},null,null,null,null,null,null,{"$error":"#N/A"}]
[null,null,{"$f":"VLOOKUP($B4652,'Ad Week Dates'!$A:$E,4,FALSE)","v":{"$error":"#N/A"}},{"$f":"VLOOKUP($B4652,'Ad Week Dates'!$A:$E,2,FALSE)","v":{"$error":"#N/A"}},{"$f":"VLOOKUP($B4652,'Ad Week Dates'!$A:$E,3,FALSE)","v":{"$error":"#N/A"}},null,null,null,null,null,null,{"$error":"#N/A"}]
[null,null,{"$f":"VLOOKUP($B4653,'Ad Week Dates'!$A:$E,4,FALSE)","v":{"$error":"#N/A"}},{"$f":"VLOOKUP($B4653,'Ad Week Dates'!$A:$E,2,FALSE)","v":{"$error":"#N/A"}},{"$f":"VLOOKUP($B4653,'Ad Week Dates'!$A:$E,3,FALSE)","v":{"$error":"#N/A"}},null,null,null,null,null,null,{"$error":"#N/A"}]
[null,null,{"$f":"VLOOKUP($B4654,'Ad Week Dates'!$A:$E,4,FALSE)","v":{"$error":"#N/A"}},{"$f":"VLOOKUP($B4654,'Ad Week Dates'!$A:$E,2,FALSE)","v":{"$error":"#N/A"}},{"$f":"VLOOKUP($B4654,'Ad Week Dates'!$A:$E,3,FALSE)","v":{"$error":"#N/A"}},null,null,null,null,null,null,{"$error":"#N/A"}]
[null,null,{"$f":"VLOOKUP($B4655,'Ad Week Dates'!$A:$E,4,FALSE)","v":{"$error":"#N/A"}},{"$f":"VLOOKUP($B4655,'Ad Week Dates'!$A:$E,2,FALSE)","v":{"$error":"#N/A"}},{"$f":"VLOOKUP($B4655,'Ad Week Dates'!$A:$E,3,FALSE)","v":{"$error":"#N/A"}},null,null,null,null,null,null,{"$error":"#N/A"}]
[null,null,{"$f":"VLOOKUP($B4656,'Ad Week Dates'!$A:$E,4,FALSE)","v":{"$error":"#N/A"}},{"$f":"VLOOKUP($B4656,'Ad Week Dates'!$A:$E,2,FALSE)","v":{"$error":"#N/A"}},{"$f":"VLOOKUP($B4656,'Ad Week Dates'!$A:$E,3,FALSE)","v":{"$error":"#N/A"}},null,null,null,null,null,null,{"$error":"#N/A"}]
[null,null,{"$f":"VLOOKUP($B4657,'Ad Week Dates'!$A:$E,4,FALSE)","v":{"$error":"#N/A"}},{"$f":"VLOOKUP($B4657,'Ad Week Dates'!$A:$E,2,FALSE)","v":{"$error":"#N/A"}},{"$f":"VLOOKUP($B4657,'Ad Week Dates'!$A:$E,3,FALSE)","v":{"$error":"#N/A"}},null,null,null,null,null,null,{"$error":"#N/A"}]
[null,null,{"$f":"VLOOKUP($B4658,'Ad Week Dates'!$A:$E,4,FALSE)","v":{"$error":"#N/A"}},{"$f":"VLOOKUP($B4658,'Ad Week Dates'!$A:$E,2,FALSE)","v":{"$error":"#N/A"}},{"$f":"VLOOKUP($B4658,'Ad Week Dates'!$A:$E,3,FALSE)","v":{"$error":"#N/A"}},null,null,null,null,null,null,{"$error":"#N/A"}]
[null,null,{"$f":"VLOOKUP($B4659,'Ad Week Dates'!$A:$E,4,FALSE)","v":{"$error":"#N/A"}},{"$f":"VLOOKUP($B4659,'Ad Week Dates'!$A:$E,2,FALSE)","v":{"$error":"#N/A"}},{"$f":"VLOOKUP($B4659,'Ad Week Dates'!$A:$E,3,FALSE)","v":{"$error":"#N/A"}},null,null,null,null,null,null,{"$error":"#N/A"}]
[null,null,{"$f":"VLOOKUP($B4660,'Ad Week Dates'!$A:$E,4,FALSE)","v":{"$error":"#N/A"}},{"$f":"VLOOKUP($B4660,'Ad Week Dates'!$A:$E,2,FALSE)","v":{"$error":"#N/A"}},{"$f":"VLOOKUP($B4660,'Ad Week Dates'!$A:$E,3,FALSE)","v":{"$error":"#N/A"}},null,null,null,null,null,null,{"$error":"#N/A"}]
[null,null,{"$f":"VLOOKUP($B4661,'Ad Week Dates'!$A:$E,4,FALSE)","v":{"$error":"#N/A"}},{"$f":"VLOOKUP($B4661,'Ad Week Dates'!$A:$E,2,FALSE)","v":{"$error":"#N/A"}},{"$f":"VLOOKUP($B4661,'Ad Week Dates'!$A:$E,3,FALSE)","v":{"$error":"#N/A"}},null,null,null,null,null,null,{"$error":"#N/A"}]
[null,null,{"$f":"VLOOKUP($B4662,'Ad Week Dates'!$A:$E,4,FALSE)","v":{"$error":"#N/A"}},{"$f":"VLOOKUP($B4662,'Ad Week Dates'!$A:$E,2,FALSE)","v":{"$error":"#N/A"}},{"$f":"VLOOKUP($B4662,'Ad Week Dates'!$A:$E,3,FALSE)","v":{"$error":"#N/A"}},null,null,null,null,null,null,{"$error":"#N/A"}]
[null,null,{"$f":"VLOOKUP($B4663,'Ad Week Dates'!$A:$E,4,FALSE)","v":{"$error":"#N/A"}},{"$f":"VLOOKUP($B4663,'Ad Week Dates'!$A:$E,2,FALSE)","v":{"$error":"#N/A"}},{"$f":"VLOOKUP($B4663,'Ad Week Dates'!$A:$E,3,FALSE)","v":{"$error":"#N/A"}},null,null,null,null,null,null,{"$error":"#N/A"}]
[null,null,{"$f":"VLOOKUP($B4664,'Ad Week Dates'!$A:$E,4,FALSE)","v":{"$error":"#N/A"}},{"$f":"VLOOKUP($B4664,'Ad Week Dates'!$A:$E,2,FALSE)","v":{"$error":"#N/A"}},{"$f":"VLOOKUP($B4664,'Ad Week Dates'!$A:$E,3,FALSE)","v":{"$error":"#N/A"}},null,null,null,null,null,null,{"$error":"#N/A"}]
[null,null,{"$f":"VLOOKUP($B4665,'Ad Week Dates'!$A:$E,4,FALSE)","v":{"$error":"#N/A"}},{"$f":"VLOOKUP($B4665,'Ad Week Dates'!$A:$E,2,FALSE)","v":{"$error":"#N/A"}},{"$f":"VLOOKUP($B4665,'Ad Week Dates'!$A:$E,3,FALSE)","v":{"$error":"#N/A"}},null,null,null,null,null,null,{"$error":"#N/A"}]
[null,null,{"$f":"VLOOKUP($B4666,'Ad Week Dates'!$A:$E,4,FALSE)","v":{"$error":"#N/A"}},{"$f":"VLOOKUP($B4666,'Ad Week Dates'!$A:$E,2,FALSE)","v":{"$error":"#N/A"}},{"$f":"VLOOKUP($B4666,'Ad Week Dates'!$A:$E,3,FALSE)","v":{"$error":"#N/A"}},null,null,null,null,null,null,{"$error":"#N/A"}]
[null,null,{"$f":"VLOOKUP($B4667,'Ad Week Dates'!$A:$E,4,FALSE)","v":{"$error":"#N/A"}},{"$f":"VLOOKUP($B4667,'Ad Week Dates'!$A:$E,2,FALSE)","v":{"$error":"#N/A"}},{"$f":"VLOOKUP($B4667,'Ad Week Dates'!$A:$E,3,FALSE)","v":{"$error":"#N/A"}},null,null,null,null,null,null,{"$error":"#N/A"}]
[null,null,{"$f":"VLOOKUP($B4668,'Ad Week Dates'!$A:$E,4,FALSE)","v":{"$error":"#N/A"}},{"$f":"VLOOKUP($B4668,'Ad Week Dates'!$A:$E,2,FALSE)","v":{"$error":"#N/A"}},{"$f":"VLOOKUP($B4668,'Ad Week Dates'!$A:$E,3,FALSE)","v":{"$error":"#N/A"}},null,null,null,null,null,null,{"$error":"#N/A"}]
[null,null,{"$f":"VLOOKUP($B4669,'Ad Week Dates'!$A:$E,4,FALSE)","v":{"$error":"#N/A"}},{"$f":"VLOOKUP($B4669,'Ad Week Dates'!$A:$E,2,FALSE)","v":{"$error":"#N/A"}},{"$f":"VLOOKUP($B4669,'Ad Week Dates'!$A:$E,3,FALSE)","v":{"$error":"#N/A"}},null,null,null,null,null,null,{"$error":"#N/A"}]
[null,null,{"$f":"VLOOKUP($B4670,'Ad Week Dates'!$A:$E,4,FALSE)","v":{"$error":"#N/A"}},{"$f":"VLOOKUP($B4670,'Ad Week Dates'!$A:$E,2,FALSE)","v":{"$error":"#N/A"}},{"$f":"VLOOKUP($B4670,'Ad Week Dates'!$A:$E,3,FALSE)","v":{"$error":"#N/A"}},null,null,null,null,null,null,{"$error":"#N/A"}]
[null,null,{"$f":"VLOOKUP($B4671,'Ad Week Dates'!$A:$E,4,FALSE)","v":{"$error":"#N/A"}},{"$f":"VLOOKUP($B4671,'Ad Week Dates'!$A:$E,2,FALSE)","v":{"$error":"#N/A"}},{"$f":"VLOOKUP($B4671,'Ad Week Dates'!$A:$E,3,FALSE)","v":{"$error":"#N/A"}},null,null,null,null,null,null,{"$error":"#N/A"}]
[null,null,{"$f":"VLOOKUP($B4672,'Ad Week Dates'!$A:$E,4,FALSE)","v":{"$error":"#N/A"}},{"$f":"VLOOKUP($B4672,'Ad Week Dates'!$A:$E,2,FALSE)","v":{"$error":"#N/A"}},{"$f":"VLOOKUP($B4672,'Ad Week Dates'!$A:$E,3,FALSE)","v":{"$error":"#N/A"}},null,null,null,null,null,null,{"$error":"#N/A"}]
[null,null,{"$f":"VLOOKUP($B4673,'Ad Week Dates'!$A:$E,4,FALSE)","v":{"$error":"#N/A"}},{"$f":"VLOOKUP($B4673,'Ad Week Dates'!$A:$E,2,FALSE)","v":{"$error":"#N/A"}},{"$f":"VLOOKUP($B4673,'Ad Week Dates'!$A:$E,3,FALSE)","v":{"$error":"#N/A"}},null,null,null,null,null,null,{"$error":"#N/A"}]
[null,null,{"$f":"VLOOKUP($B4674,'Ad Week Dates'!$A:$E,4,FALSE)","v":{"$error":"#N/A"}},{"$f":"VLOOKUP($B4674,'Ad Week Dates'!$A:$E,2,FALSE)","v":{"$error":"#N/A"}},{"$f":"VLOOKUP($B4674,'Ad Week Dates'!$A:$E,3,FALSE)","v":{"$error":"#N/A"}},null,null,null,null,null,null,{"$error":"#N/A"}]
[null,null,{"$f":"VLOOKUP($B4675,'Ad Week Dates'!$A:$E,4,FALSE)","v":{"$error":"#N/A"}},{"$f":"VLOOKUP($B4675,'Ad Week Dates'!$A:$E,2,FALSE)","v":{"$error":"#N/A"}},{"$f":"VLOOKUP($B4675,'Ad Week Dates'!$A:$E,3,FALSE)","v":{"$error":"#N/A"}},null,null,null,null,null,null,{"$error":"#N/A"}]
[null,null,{"$f":"VLOOKUP($B4676,'Ad Week Dates'!$A:$E,4,FALSE)","v":{"$error":"#N/A"}},{"$f":"VLOOKUP($B4676,'Ad Week Dates'!$A:$E,2,FALSE)","v":{"$error":"#N/A"}},{"$f":"VLOOKUP($B4676,'Ad Week Dates'!$A:$E,3,FALSE)","v":{"$error":"#N/A"}},null,null,null,null,null,null,{"$error":"#N/A"}]
[null,null,{"$f":"VLOOKUP($B4677,'Ad Week Dates'!$A:$E,4,FALSE)","v":{"$error":"#N/A"}},{"$f":"VLOOKUP($B4677,'Ad Week Dates'!$A:$E,2,FALSE)","v":{"$error":"#N/A"}},{"$f":"VLOOKUP($B4677,'Ad Week Dates'!$A:$E,3,FALSE)","v":{"$error":"#N/A"}},null,null,null,null,null,null,{"$error":"#N/A"}]
[null,null,{"$f":"VLOOKUP($B4678,'Ad Week Dates'!$A:$E,4,FALSE)","v":{"$error":"#N/A"}},{"$f":"VLOOKUP($B4678,'Ad Week Dates'!$A:$E,2,FALSE)","v":{"$error":"#N/A"}},{"$f":"VLOOKUP($B4678,'Ad Week Dates'!$A:$E,3,FALSE)","v":{"$error":"#N/A"}},null,null,null,null,null,null,{"$f":"IF(ISNUMBER(J4678), J4678 - K4678, VALUE(_xlfn.TEXTBEFORE(J4678, \"-\")) - VALUE(_xlfn.TEXTBEFORE(K4678, \"-\")))","v":{"$error":"#N/A"}}]
[null,null,{"$f":"VLOOKUP($B4679,'Ad Week Dates'!$A:$E,4,FALSE)","v":{"$error":"#N/A"}},{"$f":"VLOOKUP($B4679,'Ad Week Dates'!$A:$E,2,FALSE)","v":{"$error":"#N/A"}},{"$f":"VLOOKUP($B4679,'Ad Week Dates'!$A:$E,3,FALSE)","v":{"$error":"#N/A"}},null,null,null,null,null,null,{"$error":"#N/A"}]
[null,null,{"$f":"VLOOKUP($B4680,'Ad Week Dates'!$A:$E,4,FALSE)","v":{"$error":"#N/A"}},{"$f":"VLOOKUP($B4680,'Ad Week Dates'!$A:$E,2,FALSE)","v":{"$error":"#N/A"}},{"$f":"VLOOKUP($B4680,'Ad Week Dates'!$A:$E,3,FALSE)","v":{"$error":"#N/A"}},null,null,null,null,null,null,{"$error":"#N/A"}]
[null,null,{"$f":"VLOOKUP($B4681,'Ad Week Dates'!$A:$E,4,FALSE)","v":{"$error":"#N/A"}},{"$f":"VLOOKUP($B4681,'Ad Week Dates'!$A:$E,2,FALSE)","v":{"$error":"#N/A"}},{"$f":"VLOOKUP($B4681,'Ad Week Dates'!$A:$E,3,FALSE)","v":{"$error":"#N/A"}},null,null,null,null,null,null,{"$error":"#N/A"}]
[null,null,{"$f":"VLOOKUP($B4682,'Ad Week Dates'!$A:$E,4,FALSE)","v":{"$error":"#N/A"}},{"$f":"VLOOKUP($B4682,'Ad Week Dates'!$A:$E,2,FALSE)","v":{"$error":"#N/A"}},{"$f":"VLOOKUP($B4682,'Ad Week Dates'!$A:$E,3,FALSE)","v":{"$error":"#N/A"}},null,null,null,null,null,null,{"$error":"#N/A"}]
[null,null,{"$f":"VLOOKUP($B4683,'Ad Week Dates'!$A:$E,4,FALSE)","v":{"$error":"#N/A"}},{"$f":"VLOOKUP($B4683,'Ad Week Dates'!$A:$E,2,FALSE)","v":{"$error":"#N/A"}},{"$f":"VLOOKUP($B4683,'Ad Week Dates'!$A:$E,3,FALSE)","v":{"$error":"#N/A"}},null,null,null,null,null,null,{"$error":"#N/A"}]
[null,null,{"$f":"VLOOKUP($B4684,'Ad Week Dates'!$A:$E,4,FALSE)","v":{"$error":"#N/A"}},{"$f":"VLOOKUP($B4684,'Ad Week Dates'!$A:$E,2,FALSE)","v":{"$error":"#N/A"}},{"$f":"VLOOKUP($B4684,'Ad Week Dates'!$A:$E,3,FALSE)","v":{"$error":"#N/A"}},null,null,null,null,null,null,{"$error":"#N/A"}]
[null,null,{"$f":"VLOOKUP($B4685,'Ad Week Dates'!$A:$E,4,FALSE)","v":{"$error":"#N/A"}},{"$f":"VLOOKUP($B4685,'Ad Week Dates'!$A:$E,2,FALSE)","v":{"$error":"#N/A"}},{"$f":"VLOOKUP($B4685,'Ad Week Dates'!$A:$E,3,FALSE)","v":{"$error":"#N/A"}},null,null,null,null,null,null,{"$error":"#N/A"}]
[null,null,{"$f":"VLOOKUP($B4686,'Ad Week Dates'!$A:$E,4,FALSE)","v":{"$error":"#N/A"}},{"$f":"VLOOKUP($B4686,'Ad Week Dates'!$A:$E,2,FALSE)","v":{"$error":"#N/A"}},{"$f":"VLOOKUP($B4686,'Ad Week Dates'!$A:$E,3,FALSE)","v":{"$error":"#N/A"}},null,null,null,null,null,null,{"$error":"#N/A"}]
[null,null,{"$f":"VLOOKUP($B4687,'Ad Week Dates'!$A:$E,4,FALSE)","v":{"$error":"#N/A"}},{"$f":"VLOOKUP($B4687,'Ad Week Dates'!$A:$E,2,FALSE)","v":{"$error":"#N/A"}},{"$f":"VLOOKUP($B4687,'Ad Week Dates'!$A:$E,3,FALSE)","v":{"$error":"#N/A"}},null,null,null,null,null,null,{"$error":"#N/A"}]
[null,null,{"$f":"VLOOKUP($B4688,'Ad Week Dates'!$A:$E,4,FALSE)","v":{"$error":"#N/A"}},{"$f":"VLOOKUP($B4688,'Ad Week Dates'!$A:$E,2,FALSE)","v":{"$error":"#N/A"}},{"$f":"VLOOKUP($B4688,'Ad Week Dates'!$A:$E,3,FALSE)","v":{"$error":"#N/A"}},null,null,null,null,null,null,{"$error":"#N/A"}]
[null,null,{"$f":"VLOOKUP($B4689,'Ad Week Dates'!$A:$E,4,FALSE)","v":{"$error":"#N/A"}},{"$f":"VLOOKUP($B4689,'Ad Week Dates'!$A:$E,2,FALSE)","v":{"$error":"#N/A"}},{"$f":"VLOOKUP($B4689,'Ad Week Dates'!$A:$E,3,FALSE)","v":{"$error":"#N/A"}},null,null,null,null,null,null,{"$error":"#N/A"}]
[null,null,{"$f":"VLOOKUP($B4690,'Ad Week Dates'!$A:$E,4,FALSE)","v":{"$error":"#N/A"}},{"$f":"VLOOKUP($B4690,'Ad Week Dates'!$A:$E,2,FALSE)","v":{"$error":"#N/A"}},{"$f":"VLOOKUP($B4690,'Ad Week Dates'!$A:$E,3,FALSE)","v":{"$error":"#N/A"}},null,null,null,null,null,null,{"$error":"#N/A"}]
[null,null,{"$f":"VLOOKUP($B4691,'Ad Week Dates'!$A:$E,4,FALSE)","v":{"$error":"#N/A"}},{"$f":"VLOOKUP($B4691,'Ad Week Dates'!$A:$E,2,FALSE)","v":{"$error":"#N/A"}},{"$f":"VLOOKUP($B4691,'Ad Week Dates'!$A:$E,3,FALSE)","v":{"$error":"#N/A"}},null,null,null,null,null,null,{"$error":"#N/A"}]
[null,null,{"$f":"VLOOKUP($B4692,'Ad Week Dates'!$A:$E,4,FALSE)","v":{"$error":"#N/A"}},{"$f":"VLOOKUP($B4692,'Ad Week Dates'!$A:$E,2,FALSE)","v":{"$error":"#N/A"}},{"$f":"VLOOKUP($B4692,'Ad Week Dates'!$A:$E,3,FALSE)","v":{"$error":"#N/A"}},null,null,null,null,null,null,{"$error":"#N/A"}]
[null,null,{"$f":"VLOOKUP($B4693,'Ad Week Dates'!$A:$E,4,FALSE)","v":{"$error":"#N/A"}},{"$f":"VLOOKUP($B4693,'Ad Week Dates'!$A:$E,2,FALSE)","v":{"$error":"#N/A"}},{"$f":"VLOOKUP($B4693,'Ad Week Dates'!$A:$E,3,FALSE)","v":{"$error":"#N/A"}},null,null,null,null,null,null,{"$error":"#N/A"}]
[null,null,{"$f":"VLOOKUP($B4694,'Ad Week Dates'!$A:$E,4,FALSE)","v":{"$error":"#N/A"}},{"$f":"VLOOKUP($B4694,'Ad Week Dates'!$A:$E,2,FALSE)","v":{"$error":"#N/A"}},{"$f":"VLOOKUP($B4694,'Ad Week Dates'!$A:$E,3,FALSE)","v":{"$error":"#N/A"}},null,null,null,null,null,null,{"$error":"#N/A"}]
[null,null,{"$f":"VLOOKUP($B4695,'Ad Week Dates'!$A:$E,4,FALSE)","v":{"$error":"#N/A"}},{"$f":"VLOOKUP($B4695,'Ad Week Dates'!$A:$E,2,FALSE)","v":{"$error":"#N/A"}},{"$f":"VLOOKUP($B4695,'Ad Week Dates'!$A:$E,3,FALSE)","v":{"$error":"#N/A"}},null,null,null,null,null,null,{"$error":"#N/A"}]
[null,null,{"$f":"VLOOKUP($B4696,'Ad Week Dates'!$A:$E,4,FALSE)","v":{"$error":"#N/A"}},{"$f":"VLOOKUP($B4696,'Ad Week Dates'!$A:$E,2,FALSE)","v":{"$error":"#N/A"}},{"$f":"VLOOKUP($B4696,'Ad Week Dates'!$A:$E,3,FALSE)","v":{"$error":"#N/A"}},null,null,null,null,null,null,{"$error":"#N/A"}]
[null,null,{"$f":"VLOOKUP($B4697,'Ad Week Dates'!$A:$E,4,FALSE)","v":{"$error":"#N/A"}},{"$f":"VLOOKUP($B4697,'Ad Week Dates'!$A:$E,2,FALSE)","v":{"$error":"#N/A"}},{"$f":"VLOOKUP($B4697,'Ad Week Dates'!$A:$E,3,FALSE)","v":{"$error":"#N/A"}},null,null,null,null,null,null,{"$error":"#N/A"}]
[null,null,{"$f":"VLOOKUP($B4698,'Ad Week Dates'!$A:$E,4,FALSE)","v":{"$error":"#N/A"}},{"$f":"VLOOKUP($B4698,'Ad Week Dates'!$A:$E,2,FALSE)","v":{"$error":"#N/A"}},{"$f":"VLOOKUP($B4698,'Ad Week Dates'!$A:$E,3,FALSE)","v":{"$error":"#N/A"}},null,null,null,null,null,null,{"$error":"#N/A"}]
[null,null,{"$f":"VLOOKUP($B4699,'Ad Week Dates'!$A:$E,4,FALSE)","v":{"$error":"#N/A"}},{"$f":"VLOOKUP($B4699,'Ad Week Dates'!$A:$E,2,FALSE)","v":{"$error":"#N/A"}},{"$f":"VLOOKUP($B4699,'Ad Week Dates'!$A:$E,3,FALSE)","v":{"$error":"#N/A"}},null,null,null,null,null,null,{"$error":"#N/A"}]
[null,null,{"$f":"VLOOKUP($B4700,'Ad Week Dates'!$A:$E,4,FALSE)","v":{"$error":"#N/A"}},{"$f":"VLOOKUP($B4700,'Ad Week Dates'!$A:$E,2,FALSE)","v":{"$error":"#N/A"}},{"$f":"VLOOKUP($B4700,'Ad Week Dates'!$A:$E,3,FALSE)","v":{"$error":"#N/A"}},null,null,null,null,null,null,{"$error":"#N/A"}]
[null,null,{"$f":"VLOOKUP($B4701,'Ad Week Dates'!$A:$E,4,FALSE)","v":{"$error":"#N/A"}},{"$f":"VLOOKUP($B4701,'Ad Week Dates'!$A:$E,2,FALSE)","v":{"$error":"#N/A"}},{"$f":"VLOOKUP($B4701,'Ad Week Dates'!$A:$E,3,FALSE)","v":{"$error":"#N/A"}},null,null,null,null,null,null,{"$error":"#N/A"}]
[null,null,{"$f":"VLOOKUP($B4702,'Ad Week Dates'!$A:$E,4,FALSE)","v":{"$error":"#N/A"}},{"$f":"VLOOKUP($B4702,'Ad Week Dates'!$A:$E,2,FALSE)","v":{"$error":"#N/A"}},{"$f":"VLOOKUP($B4702,'Ad Week Dates'!$A:$E,3,FALSE)","v":{"$error":"#N/A"}},null,null,null,null,null,null,{"$error":"#N/A"}]
[null,null,{"$f":"VLOOKUP($B4703,'Ad Week Dates'!$A:$E,4,FALSE)","v":{"$error":"#N/A"}},{"$f":"VLOOKUP($B4703,'Ad Week Dates'!$A:$E,2,FALSE)","v":{"$error":"#N/A"}},{"$f":"VLOOKUP($B4703,'Ad Week Dates'!$A:$E,3,FALSE)","v":{"$error":"#N/A"}},null,null,null,null,null,null,{"$error":"#N/A"}]
[null,null,{"$f":"VLOOKUP($B4704,'Ad Week Dates'!$A:$E,4,FALSE)","v":{"$error":"#N/A"}},{"$f":"VLOOKUP($B4704,'Ad Week Dates'!$A:$E,2,FALSE)","v":{"$error":"#N/A"}},{"$f":"VLOOKUP($B4704,'Ad Week Dates'!$A:$E,3,FALSE)","v":{"$error":"#N/A"}},null,null,null,null,null,null,{"$error":"#N/A"}]
[null,null,{"$f":"VLOOKUP($B4705,'Ad Week Dates'!$A:$E,4,FALSE)","v":{"$error":"#N/A"}},{"$f":"VLOOKUP($B4705,'Ad Week Dates'!$A:$E,2,FALSE)","v":{"$error":"#N/A"}},{"$f":"VLOOKUP($B4705,'Ad Week Dates'!$A:$E,3,FALSE)","v":{"$error":"#N/A"}},null,null,null,null,null,null,{"$error":"#N/A"}]
[null,null,{"$f":"VLOOKUP($B4706,'Ad Week Dates'!$A:$E,4,FALSE)","v":{"$error":"#N/A"}},{"$f":"VLOOKUP($B4706,'Ad Week Dates'!$A:$E,2,FALSE)","v":{"$error":"#N/A"}},{"$f":"VLOOKUP($B4706,'Ad Week Dates'!$A:$E,3,FALSE)","v":{"$error":"#N/A"}},null,null,null,null,null,null,{"$error":"#N/A"}]
[null,null,{"$f":"VLOOKUP($B4707,'Ad Week Dates'!$A:$E,4,FALSE)","v":{"$error":"#N/A"}},{"$f":"VLOOKUP($B4707,'Ad Week Dates'!$A:$E,2,FALSE)","v":{"$error":"#N/A"}},{"$f":"VLOOKUP($B4707,'Ad Week Dates'!$A:$E,3,FALSE)","v":{"$error":"#N/A"}},null,null,null,null,null,null,{"$error":"#N/A"}]
[null,null,{"$f":"VLOOKUP($B4708,'Ad Week Dates'!$A:$E,4,FALSE)","v":{"$error":"#N/A"}},{"$f":"VLOOKUP($B4708,'Ad Week Dates'!$A:$E,2,FALSE)","v":{"$error":"#N/A"}},{"$f":"VLOOKUP($B4708,'Ad Week Dates'!$A:$E,3,FALSE)","v":{"$error":"#N/A"}},null,null,null,null,null,null,{"$error":"#N/A"}]
[null,null,{"$f":"VLOOKUP($B4709,'Ad Week Dates'!$A:$E,4,FALSE)","v":{"$error":"#N/A"}},{"$f":"VLOOKUP($B4709,'Ad Week Dates'!$A:$E,2,FALSE)","v":{"$error":"#N/A"}},{"$f":"VLOOKUP($B4709,'Ad Week Dates'!$A:$E,3,FALSE)","v":{"$error":"#N/A"}},null,null,null,null,null,null,{"$error":"#N/A"}]
[null,null,{"$f":"VLOOKUP($B4710,'Ad Week Dates'!$A:$E,4,FALSE)","v":{"$error":"#N/A"}},{"$f":"VLOOKUP($B4710,'Ad Week Dates'!$A:$E,2,FALSE)","v":{"$error":"#N/A"}},{"$f":"VLOOKUP($B4710,'Ad Week Dates'!$A:$E,3,FALSE)","v":{"$error":"#N/A"}},null,null,null,null,null,null,{"$error":"#N/A"}]
[null,null,{"$f":"VLOOKUP($B4711,'Ad Week Dates'!$A:$E,4,FALSE)","v":{"$error":"#N/A"}},{"$f":"VLOOKUP($B4711,'Ad Week Dates'!$A:$E,2,FALSE)","v":{"$error":"#N/A"}},{"$f":"VLOOKUP($B4711,'Ad Week Dates'!$A:$E,3,FALSE)","v":{"$error":"#N/A"}},null,null,null,null,null,null,{"$error":"#N/A"}]
[null,null,{"$f":"VLOOKUP($B4712,'Ad Week Dates'!$A:$E,4,FALSE)","v":{"$error":"#N/A"}},{"$f":"VLOOKUP($B4712,'Ad Week Dates'!$A:$E,2,FALSE)","v":{"$error":"#N/A"}},{"$f":"VLOOKUP($B4712,'Ad Week Dates'!$A:$E,3,FALSE)","v":{"$error":"#N/A"}},null,null,null,null,null,null,{"$error":"#N/A"}]
[null,null,{"$f":"VLOOKUP($B4713,'Ad Week Dates'!$A:$E,4,FALSE)","v":{"$error":"#N/A"}},{"$f":"VLOOKUP($B4713,'Ad Week Dates'!$A:$E,2,FALSE)","v":{"$error":"#N/A"}},{"$f":"VLOOKUP($B4713,'Ad Week Dates'!$A:$E,3,FALSE)","v":{"$error":"#N/A"}},null,null,null,null,null,null,{"$error":"#N/A"}]
[null,null,{"$f":"VLOOKUP($B4714,'Ad Week Dates'!$A:$E,4,FALSE)","v":{"$error":"#N/A"}},{"$f":"VLOOKUP($B4714,'Ad Week Dates'!$A:$E,2,FALSE)","v":{"$error":"#N/A"}},{"$f":"VLOOKUP($B4714,'Ad Week Dates'!$A:$E,3,FALSE)","v":{"$error":"#N/A"}},null,null,null,null,null,null,{"$error":"#N/A"}]
[null,null,{"$f":"VLOOKUP($B4715,'Ad Week Dates'!$A:$E,4,FALSE)","v":{"$error":"#N/A"}},{"$f":"VLOOKUP($B4715,'Ad Week Dates'!$A:$E,2,FALSE)","v":{"$error":"#N/A"}},{"$f":"VLOOKUP($B4715,'Ad Week Dates'!$A:$E,3,FALSE)","v":{"$error":"#N/A"}},null,null,null,null,null,null,{"$error":"#N/A"}]
[null,null,{"$f":"VLOOKUP($B4716,'Ad Week Dates'!$A:$E,4,FALSE)","v":{"$error":"#N/A"}},{"$f":"VLOOKUP($B4716,'Ad Week Dates'!$A:$E,2,FALSE)","v":{"$error":"#N/A"}},{"$f":"VLOOKUP($B4716,'Ad Week Dates'!$A:$E,3,FALSE)","v":{"$error":"#N/A"}},null,null,null,null,null,null,{"$error":"#N/A"}]
[null,null,{"$f":"VLOOKUP($B4717,'Ad Week Dates'!$A:$E,4,FALSE)","v":{"$error":"#N/A"}},{"$f":"VLOOKUP($B4717,'Ad Week Dates'!$A:$E,2,FALSE)","v":{"$error":"#N/A"}},{"$f":"VLOOKUP($B4717,'Ad Week Dates'!$A:$E,3,FALSE)","v":{"$error":"#N/A"}},null,null,null,null,null,null,{"$error":"#N/A"}]
[null,null,{"$f":"VLOOKUP($B4718,'Ad Week Dates'!$A:$E,4,FALSE)","v":{"$error":"#N/A"}},{"$f":"VLOOKUP($B4718,'Ad Week Dates'!$A:$E,2,FALSE)","v":{"$error":"#N/A"}},{"$f":"VLOOKUP($B4718,'Ad Week Dates'!$A:$E,3,FALSE)","v":{"$error":"#N/A"}},null,null,null,null,null,null,{"$error":"#N/A"}]
[null,null,{"$f":"VLOOKUP($B4719,'Ad Week Dates'!$A:$E,4,FALSE)","v":{"$error":"#N/A"}},{"$f":"VLOOKUP($B4719,'Ad Week Dates'!$A:$E,2,FALSE)","v":{"$error":"#N/A"}},{"$f":"VLOOKUP($B4719,'Ad Week Dates'!$A:$E,3,FALSE)","v":{"$error":"#N/A"}},null,null,null,null,null,null,{"$error":"#N/A"}]
[null,null,{"$f":"VLOOKUP($B4720,'Ad Week Dates'!$A:$E,4,FALSE)","v":{"$error":"#N/A"}},{"$f":"VLOOKUP($B4720,'Ad Week Dates'!$A:$E,2,FALSE)","v":{"$error":"#N/A"}},{"$f":"VLOOKUP($B4720,'Ad Week Dates'!$A:$E,3,FALSE)","v":{"$error":"#N/A"}},null,null,null,null,null,null,{"$error":"#N/A"}]
[null,null,{"$f":"VLOOKUP($B4721,'Ad Week Dates'!$A:$E,4,FALSE)","v":{"$error":"#N/A"}},{"$f":"VLOOKUP($B4721,'Ad Week Dates'!$A:$E,2,FALSE)","v":{"$error":"#N/A"}},{"$f":"VLOOKUP($B4721,'Ad Week Dates'!$A:$E,3,FALSE)","v":{"$error":"#N/A"}},null,null,null,null,null,null,{"$error":"#N/A"}]
[null,null,{"$f":"VLOOKUP($B4722,'Ad Week Dates'!$A:$E,4,FALSE)","v":{"$error":"#N/A"}},{"$f":"VLOOKUP($B4722,'Ad Week Dates'!$A:$E,2,FALSE)","v":{"$error":"#N/A"}},{"$f":"VLOOKUP($B4722,'Ad Week Dates'!$A:$E,3,FALSE)","v":{"$error":"#N/A"}},null,null,null,null,null,null,{"$error":"#N/A"}]
[null,null,{"$f":"VLOOKUP($B4723,'Ad Week Dates'!$A:$E,4,FALSE)","v":{"$error":"#N/A"}},{"$f":"VLOOKUP($B4723,'Ad Week Dates'!$A:$E,2,FALSE)","v":{"$error":"#N/A"}},{"$f":"VLOOKUP($B4723,'Ad Week Dates'!$A:$E,3,FALSE)","v":{"$error":"#N/A"}},null,null,null,null,null,null,{"$error":"#N/A"}]
[null,null,{"$f":"VLOOKUP($B4724,'Ad Week Dates'!$A:$E,4,FALSE)","v":{"$error":"#N/A"}},{"$f":"VLOOKUP($B4724,'Ad Week Dates'!$A:$E,2,FALSE)","v":{"$error":"#N/A"}},{"$f":"VLOOKUP($B4724,'Ad Week Dates'!$A:$E,3,FALSE)","v":{"$error":"#N/A"}},null,null,null,null,null,null,{"$error":"#N/A"}]
[null,null,{"$f":"VLOOKUP($B4725,'Ad Week Dates'!$A:$E,4,FALSE)","v":{"$error":"#N/A"}},{"$f":"VLOOKUP($B4725,'Ad Week Dates'!$A:$E,2,FALSE)","v":{"$error":"#N/A"}},{"$f":"VLOOKUP($B4725,'Ad Week Dates'!$A:$E,3,FALSE)","v":{"$error":"#N/A"}},null,null,null,null,null,null,{"$error":"#N/A"}]
[null,null,{"$f":"VLOOKUP($B4726,'Ad Week Dates'!$A:$E,4,FALSE)","v":{"$error":"#N/A"}},{"$f":"VLOOKUP($B4726,'Ad Week Dates'!$A:$E,2,FALSE)","v":{"$error":"#N/A"}},{"$f":"VLOOKUP($B4726,'Ad Week Dates'!$A:$E,3,FALSE)","v":{"$error":"#N/A"}},null,null,null,null,null,null,{"$error":"#N/A"}]
[null,null,{"$f":"VLOOKUP($B4727,'Ad Week Dates'!$A:$E,4,FALSE)","v":{"$error":"#N/A"}},{"$f":"VLOOKUP($B4727,'Ad Week Dates'!$A:$E,2,FALSE)","v":{"$error":"#N/A"}},{"$f":"VLOOKUP($B4727,'Ad Week Dates'!$A:$E,3,FALSE)","v":{"$error":"#N/A"}},null,null,null,null,null,null,{"$error":"#N/A"}]
[null,null,{"$f":"VLOOKUP($B4728,'Ad Week Dates'!$A:$E,4,FALSE)","v":{"$error":"#N/A"}},{"$f":"VLOOKUP($B4728,'Ad Week Dates'!$A:$E,2,FALSE)","v":{"$error":"#N/A"}},{"$f":"VLOOKUP($B4728,'Ad Week Dates'!$A:$E,3,FALSE)","v":{"$error":"#N/A"}},null,null,null,null,null,null,{"$error":"#N/A"}]
[null,null,{"$f":"VLOOKUP($B4729,'Ad Week Dates'!$A:$E,4,FALSE)","v":{"$error":"#N/A"}},{"$f":"VLOOKUP($B4729,'Ad Week Dates'!$A:$E,2,FALSE)","v":{"$error":"#N/A"}},{"$f":"VLOOKUP($B4729,'Ad Week Dates'!$A:$E,3,FALSE)","v":{"$error":"#N/A"}},null,null,null,null,null,null,{"$error":"#N/A"}]
[null,null,{"$f":"VLOOKUP($B4730,'Ad Week Dates'!$A:$E,4,FALSE)","v":{"$error":"#N/A"}},{"$f":"VLOOKUP($B4730,'Ad Week Dates'!$A:$E,2,FALSE)","v":{"$error":"#N/A"}},{"$f":"VLOOKUP($B4730,'Ad Week Dates'!$A:$E,3,FALSE)","v":{"$error":"#N/A"}},null,null,null,null,null,null,{"$error":"#N/A"}]
[null,null,{"$f":"VLOOKUP($B4731,'Ad Week Dates'!$A:$E,4,FALSE)","v":{"$error":"#N/A"}},{"$f":"VLOOKUP($B4731,'Ad Week Dates'!$A:$E,2,FALSE)","v":{"$error":"#N/A"}},{"$f":"VLOOKUP($B4731,'Ad Week Dates'!$A:$E,3,FALSE)","v":{"$error":"#N/A"}},null,null,null,null,null,null,{"$error":"#N/A"}]
[null,null,{"$f":"VLOOKUP($B4732,'Ad Week Dates'!$A:$E,4,FALSE)","v":{"$error":"#N/A"}},{"$f":"VLOOKUP($B4732,'Ad Week Dates'!$A:$E,2,FALSE)","v":{"$error":"#N/A"}},{"$f":"VLOOKUP($B4732,'Ad Week Dates'!$A:$E,3,FALSE)","v":{"$error":"#N/A"}},null,null,null,null,null,null,{"$error":"#N/A"}]
[null,null,{"$f":"VLOOKUP($B4733,'Ad Week Dates'!$A:$E,4,FALSE)","v":{"$error":"#N/A"}},{"$f":"VLOOKUP($B4733,'Ad Week Dates'!$A:$E,2,FALSE)","v":{"$error":"#N/A"}},{"$f":"VLOOKUP($B4733,'Ad Week Dates'!$A:$E,3,FALSE)","v":{"$error":"#N/A"}},null,null,null,null,null,null,{"$error":"#N/A"}]
[null,null,{"$f":"VLOOKUP($B4734,'Ad Week Dates'!$A:$E,4,FALSE)","v":{"$error":"#N/A"}},{"$f":"VLOOKUP($B4734,'Ad Week Dates'!$A:$E,2,FALSE)","v":{"$error":"#N/A"}},{"$f":"VLOOKUP($B4734,'Ad Week Dates'!$A:$E,3,FALSE)","v":{"$error":"#N/A"}},null,null,null,null,null,null,{"$error":"#N/A"}]
[null,null,{"$f":"VLOOKUP($B4735,'Ad Week Dates'!$A:$E,4,FALSE)","v":{"$error":"#N/A"}},{"$f":"VLOOKUP($B4735,'Ad Week Dates'!$A:$E,2,FALSE)","v":{"$error":"#N/A"}},{"$f":"VLOOKUP($B4735,'Ad Week Dates'!$A:$E,3,FALSE)","v":{"$error":"#N/A"}},null,null,null,null,null,null,{"$error":"#N/A"}]
[null,null,{"$f":"VLOOKUP($B4736,'Ad Week Dates'!$A:$E,4,FALSE)","v":{"$error":"#N/A"}},{"$f":"VLOOKUP($B4736,'Ad Week Dates'!$A:$E,2,FALSE)","v":{"$error":"#N/A"}},{"$f":"VLOOKUP($B4736,'Ad Week Dates'!$A:$E,3,FALSE)","v":{"$error":"#N/A"}},null,null,null,null,null,null,{"$error":"#N/A"}]
[null,null,{"$f":"VLOOKUP($B4737,'Ad Week Dates'!$A:$E,4,FALSE)","v":{"$error":"#N/A"}},{"$f":"VLOOKUP($B4737,'Ad Week Dates'!$A:$E,2,FALSE)","v":{"$error":"#N/A"}},{"$f":"VLOOKUP($B4737,'Ad Week Dates'!$A:$E,3,FALSE)","v":{"$error":"#N/A"}},null,null,null,null,null,null,{"$error":"#N/A"}]
[null,null,{"$f":"VLOOKUP($B4738,'Ad Week Dates'!$A:$E,4,FALSE)","v":{"$error":"#N/A"}},{"$f":"VLOOKUP($B4738,'Ad Week Dates'!$A:$E,2,FALSE)","v":{"$error":"#N/A"}},{"$f":"VLOOKUP($B4738,'Ad Week Dates'!$A:$E,3,FALSE)","v":{"$error":"#N/A"}},null,null,null,null,null,null,{"$error":"#N/A"}]
[null,null,{"$f":"VLOOKUP($B4739,'Ad Week Dates'!$A:$E,4,FALSE)","v":{"$error":"#N/A"}},{"$f":"VLOOKUP($B4739,'Ad Week Dates'!$A:$E,2,FALSE)","v":{"$error":"#N/A"}},{"$f":"VLOOKUP($B4739,'Ad Week Dates'!$A:$E,3,FALSE)","v":{"$error":"#N/A"}},null,null,null,null,null,null,{"$error":"#N/A"}]
[null,null,{"$f":"VLOOKUP($B4740,'Ad Week Dates'!$A:$E,4,FALSE)","v":{"$error":"#N/A"}},{"$f":"VLOOKUP($B4740,'Ad Week Dates'!$A:$E,2,FALSE)","v":{"$error":"#N/A"}},{"$f":"VLOOKUP($B4740,'Ad Week Dates'!$A:$E,3,FALSE)","v":{"$error":"#N/A"}},null,null,null,null,null,null,{"$error":"#N/A"}]
[null,null,{"$f":"VLOOKUP($B4741,'Ad Week Dates'!$A:$E,4,FALSE)","v":{"$error":"#N/A"}},{"$f":"VLOOKUP($B4741,'Ad Week Dates'!$A:$E,2,FALSE)","v":{"$error":"#N/A"}},{"$f":"VLOOKUP($B4741,'Ad Week Dates'!$A:$E,3,FALSE)","v":{"$error":"#N/A"}},null,null,null,null,null,null,{"$error":"#N/A"}]
[null,null,{"$f":"VLOOKUP($B4742,'Ad Week Dates'!$A:$E,4,FALSE)","v":{"$error":"#N/A"}},{"$f":"VLOOKUP($B4742,'Ad Week Dates'!$A:$E,2,FALSE)","v":{"$error":"#N/A"}},{"$f":"VLOOKUP($B4742,'Ad Week Dates'!$A:$E,3,FALSE)","v":{"$error":"#N/A"}},null,null,null,null,null,null,{"$f":"IF(ISNUMBER(J4742), J4742 - K4742, VALUE(_xlfn.TEXTBEFORE(J4742, \"-\")) - VALUE(_xlfn.TEXTBEFORE(K4742, \"-\")))","v":{"$error":"#N/A"}}]
[null,null,{"$f":"VLOOKUP($B4743,'Ad Week Dates'!$A:$E,4,FALSE)","v":{"$error":"#N/A"}},{"$f":"VLOOKUP($B4743,'Ad Week Dates'!$A:$E,2,FALSE)","v":{"$error":"#N/A"}},{"$f":"VLOOKUP($B4743,'Ad Week Dates'!$A:$E,3,FALSE)","v":{"$error":"#N/A"}},null,null,null,null,null,null,{"$error":"#N/A"}]
[null,null,{"$f":"VLOOKUP($B4744,'Ad Week Dates'!$A:$E,4,FALSE)","v":{"$error":"#N/A"}},{"$f":"VLOOKUP($B4744,'Ad Week Dates'!$A:$E,2,FALSE)","v":{"$error":"#N/A"}},{"$f":"VLOOKUP($B4744,'Ad Week Dates'!$A:$E,3,FALSE)","v":{"$error":"#N/A"}},null,null,null,null,null,null,{"$error":"#N/A"}]
[null,null,{"$f":"VLOOKUP($B4745,'Ad Week Dates'!$A:$E,4,FALSE)","v":{"$error":"#N/A"}},{"$f":"VLOOKUP($B4745,'Ad Week Dates'!$A:$E,2,FALSE)","v":{"$error":"#N/A"}},{"$f":"VLOOKUP($B4745,'Ad Week Dates'!$A:$E,3,FALSE)","v":{"$error":"#N/A"}},null,null,null,null,null,null,{"$error":"#N/A"}]
[null,null,{"$f":"VLOOKUP($B4746,'Ad Week Dates'!$A:$E,4,FALSE)","v":{"$error":"#N/A"}},{"$f":"VLOOKUP($B4746,'Ad Week Dates'!$A:$E,2,FALSE)","v":{"$error":"#N/A"}},{"$f":"VLOOKUP($B4746,'Ad Week Dates'!$A:$E,3,FALSE)","v":{"$error":"#N/A"}},null,null,null,null,null,null,{"$error":"#N/A"}]
[null,null,{"$f":"VLOOKUP($B4747,'Ad Week Dates'!$A:$E,4,FALSE)","v":{"$error":"#N/A"}},{"$f":"VLOOKUP($B4747,'Ad Week Dates'!$A:$E,2,FALSE)","v":{"$error":"#N/A"}},{"$f":"VLOOKUP($B4747,'Ad Week Dates'!$A:$E,3,FALSE)","v":{"$error":"#N/A"}},null,null,null,null,null,null,{"$error":"#N/A"}]
[null,null,{"$f":"VLOOKUP($B4748,'Ad Week Dates'!$A:$E,4,FALSE)","v":{"$error":"#N/A"}},{"$f":"VLOOKUP($B4748,'Ad Week Dates'!$A:$E,2,FALSE)","v":{"$error":"#N/A"}},{"$f":"VLOOKUP($B4748,'Ad Week Dates'!$A:$E,3,FALSE)","v":{"$error":"#N/A"}},null,null,null,null,null,null,{"$error":"#N/A"}]
[null,null,{"$f":"VLOOKUP($B4749,'Ad Week Dates'!$A:$E,4,FALSE)","v":{"$error":"#N/A"}},{"$f":"VLOOKUP($B4749,'Ad Week Dates'!$A:$E,2,FALSE)","v":{"$error":"#N/A"}},{"$f":"VLOOKUP($B4749,'Ad Week Dates'!$A:$E,3,FALSE)","v":{"$error":"#N/A"}},null,null,null,null,null,null,{"$error":"#N/A"}]
[null,null,{"$f":"VLOOKUP($B4750,'Ad Week Dates'!$A:$E,4,FALSE)","v":{"$error":"#N/A"}},{"$f":"VLOOKUP($B4750,'Ad Week Dates'!$A:$E,2,FALSE)","v":{"$error":"#N/A"}},{"$f":"VLOOKUP($B4750,'Ad Week Dates'!$A:$E,3,FALSE)","v":{"$error":"#N/A"}},null,null,null,null,null,null,{"$error":"#N/A"}]
[null,null,{"$f":"VLOOKUP($B4751,'Ad Week Dates'!$A:$E,4,FALSE)","v":{"$error":"#N/A"}},{"$f":"VLOOKUP($B4751,'Ad Week Dates'!$A:$E,2,FALSE)","v":{"$error":"#N/A"}},{"$f":"VLOOKUP($B4751,'Ad Week Dates'!$A:$E,3,FALSE)","v":{"$error":"#N/A"}},null,null,null,null,null,null,{"$error":"#N/A"}]
[null,null,{"$f":"VLOOKUP($B4752,'Ad Week Dates'!$A:$E,4,FALSE)","v":{"$error":"#N/A"}},{"$f":"VLOOKUP($B4752,'Ad Week Dates'!$A:$E,2,FALSE)","v":{"$error":"#N/A"}},{"$f":"VLOOKUP($B4752,'Ad Week Dates'!$A:$E,3,FALSE)","v":{"$error":"#N/A"}},null,null,null,null,null,null,{"$error":"#N/A"}]
[null,null,{"$f":"VLOOKUP($B4753,'Ad Week Dates'!$A:$E,4,FALSE)","v":{"$error":"#N/A"}},{"$f":"VLOOKUP($B4753,'Ad Week Dates'!$A:$E,2,FALSE)","v":{"$error":"#N/A"}},{"$f":"VLOOKUP($B4753,'Ad Week Dates'!$A:$E,3,FALSE)","v":{"$error":"#N/A"}},null,null,null,null,null,null,{"$error":"#N/A"}]
[null,null,{"$f":"VLOOKUP($B4754,'Ad Week Dates'!$A:$E,4,FALSE)","v":{"$error":"#N/A"}},{"$f":"VLOOKUP($B4754,'Ad Week Dates'!$A:$E,2,FALSE)","v":{"$error":"#N/A"}},{"$f":"VLOOKUP($B4754,'Ad Week Dates'!$A:$E,3,FALSE)","v":{"$error":"#N/A"}},null,null,null,null,null,null,{"$error":"#N/A"}]
[null,null,{"$f":"VLOOKUP($B4755,'Ad Week Dates'!$A:$E,4,FALSE)","v":{"$error":"#N/A"}},{"$f":"VLOOKUP($B4755,'Ad Week Dates'!$A:$E,2,FALSE)","v":{"$error":"#N/A"}},{"$f":"VLOOKUP($B4755,'Ad Week Dates'!$A:$E,3,FALSE)","v":{"$error":"#N/A"}},null,null,null,null,null,null,{"$error":"#N/A"}]
[null,null,{"$f":"VLOOKUP($B4756,'Ad Week Dates'!$A:$E,4,FALSE)","v":{"$error":"#N/A"}},{"$f":"VLOOKUP($B4756,'Ad Week Dates'!$A:$E,2,FALSE)","v":{"$error":"#N/A"}},{"$f":"VLOOKUP($B4756,'Ad Week Dates'!$A:$E,3,FALSE)","v":{"$error":"#N/A"}},null,null,null,null,null,null,{"$error":"#N/A"}]
[null,null,{"$f":"VLOOKUP($B4757,'Ad Week Dates'!$A:$E,4,FALSE)","v":{"$error":"#N/A"}},{"$f":"VLOOKUP($B4757,'Ad Week Dates'!$A:$E,2,FALSE)","v":{"$error":"#N/A"}},{"$f":"VLOOKUP($B4757,'Ad Week Dates'!$A:$E,3,FALSE)","v":{"$error":"#N/A"}},null,null,null,null,null,null,{"$error":"#N/A"}]
[null,null,{"$f":"VLOOKUP($B4758,'Ad Week Dates'!$A:$E,4,FALSE)","v":{"$error":"#N/A"}},{"$f":"VLOOKUP($B4758,'Ad Week Dates'!$A:$E,2,FALSE)","v":{"$error":"#N/A"}},{"$f":"VLOOKUP($B4758,'Ad Week Dates'!$A:$E,3,FALSE)","v":{"$error":"#N/A"}},null,null,null,null,null,null,{"$error":"#N/A"}]
[null,null,{"$f":"VLOOKUP($B4759,'Ad Week Dates'!$A:$E,4,FALSE)","v":{"$error":"#N/A"}},{"$f":"VLOOKUP($B4759,'Ad Week Dates'!$A:$E,2,FALSE)","v":{"$error":"#N/A"}},{"$f":"VLOOKUP($B4759,'Ad Week Dates'!$A:$E,3,FALSE)","v":{"$error":"#N/A"}},null,null,null,null,null,null,{"$error":"#N/A"}]
[null,null,{"$f":"VLOOKUP($B4760,'Ad Week Dates'!$A:$E,4,FALSE)","v":{"$error":"#N/A"}},{"$f":"VLOOKUP($B4760,'Ad Week Dates'!$A:$E,2,FALSE)","v":{"$error":"#N/A"}},{"$f":"VLOOKUP($B4760,'Ad Week Dates'!$A:$E,3,FALSE)","v":{"$error":"#N/A"}},null,null,null,null,null,null,{"$error":"#N/A"}]
[null,null,{"$f":"VLOOKUP($B4761,'Ad Week Dates'!$A:$E,4,FALSE)","v":{"$error":"#N/A"}},{"$f":"VLOOKUP($B4761,'Ad Week Dates'!$A:$E,2,FALSE)","v":{"$error":"#N/A"}},{"$f":"VLOOKUP($B4761,'Ad Week Dates'!$A:$E,3,FALSE)","v":{"$error":"#N/A"}},null,null,null,null,null,null,{"$error":"#N/A"}]
[null,null,{"$f":"VLOOKUP($B4762,'Ad Week Dates'!$A:$E,4,FALSE)","v":{"$error":"#N/A"}},{"$f":"VLOOKUP($B4762,'Ad Week Dates'!$A:$E,2,FALSE)","v":{"$error":"#N/A"}},{"$f":"VLOOKUP($B4762,'Ad Week Dates'!$A:$E,3,FALSE)","v":{"$error":"#N/A"}},null,null,null,null,null,null,{"$error":"#N/A"}]
[null,null,{"$f":"VLOOKUP($B4763,'Ad Week Dates'!$A:$E,4,FALSE)","v":{"$error":"#N/A"}},{"$f":"VLOOKUP($B4763,'Ad Week Dates'!$A:$E,2,FALSE)","v":{"$error":"#N/A"}},{"$f":"VLOOKUP($B4763,'Ad Week Dates'!$A:$E,3,FALSE)","v":{"$error":"#N/A"}},null,null,null,null,null,null,{"$error":"#N/A"}]
[null,null,{"$f":"VLOOKUP($B4764,'Ad Week Dates'!$A:$E,4,FALSE)","v":{"$error":"#N/A"}},{"$f":"VLOOKUP($B4764,'Ad Week Dates'!$A:$E,2,FALSE)","v":{"$error":"#N/A"}},{"$f":"VLOOKUP($B4764,'Ad Week Dates'!$A:$E,3,FALSE)","v":{"$error":"#N/A"}},null,null,null,null,null,null,{"$error":"#N/A"}]
[null,null,{"$f":"VLOOKUP($B4765,'Ad Week Dates'!$A:$E,4,FALSE)","v":{"$error":"#N/A"}},{"$f":"VLOOKUP($B4765,'Ad Week Dates'!$A:$E,2,FALSE)","v":{"$error":"#N/A"}},{"$f":"VLOOKUP($B4765,'Ad Week Dates'!$A:$E,3,FALSE)","v":{"$error":"#N/A"}},null,null,null,null,null,null,{"$error":"#N/A"}]
[null,null,{"$f":"VLOOKUP($B4766,'Ad Week Dates'!$A:$E,4,FALSE)","v":{"$error":"#N/A"}},{"$f":"VLOOKUP($B4766,'Ad Week Dates'!$A:$E,2,FALSE)","v":{"$error":"#N/A"}},{"$f":"VLOOKUP($B4766,'Ad Week Dates'!$A:$E,3,FALSE)","v":{"$error":"#N/A"}},null,null,null,null,null,null,{"$error":"#N/A"}]
[null,null,{"$f":"VLOOKUP($B4767,'Ad Week Dates'!$A:$E,4,FALSE)","v":{"$error":"#N/A"}},{"$f":"VLOOKUP($B4767,'Ad Week Dates'!$A:$E,2,FALSE)","v":{"$error":"#N/A"}},{"$f":"VLOOKUP($B4767,'Ad Week Dates'!$A:$E,3,FALSE)","v":{"$error":"#N/A"}},null,null,null,null,null,null,{"$error":"#N/A"}]
[null,null,{"$f":"VLOOKUP($B4768,'Ad Week Dates'!$A:$E,4,FALSE)","v":{"$error":"#N/A"}},{"$f":"VLOOKUP($B4768,'Ad Week Dates'!$A:$E,2,FALSE)","v":{"$error":"#N/A"}},{"$f":"VLOOKUP($B4768,'Ad Week Dates'!$A:$E,3,FALSE)","v":{"$error":"#N/A"}},null,null,null,null,null,null,{"$error":"#N/A"}]
[null,null,{"$f":"VLOOKUP($B4769,'Ad Week Dates'!$A:$E,4,FALSE)","v":{"$error":"#N/A"}},{"$f":"VLOOKUP($B4769,'Ad Week Dates'!$A:$E,2,FALSE)","v":{"$error":"#N/A"}},{"$f":"VLOOKUP($B4769,'Ad Week Dates'!$A:$E,3,FALSE)","v":{"$error":"#N/A"}},null,null,null,null,null,null,{"$error":"#N/A"}]
[null,null,{"$f":"VLOOKUP($B4770,'Ad Week Dates'!$A:$E,4,FALSE)","v":{"$error":"#N/A"}},{"$f":"VLOOKUP($B4770,'Ad Week Dates'!$A:$E,2,FALSE)","v":{"$error":"#N/A"}},{"$f":"VLOOKUP($B4770,'Ad Week Dates'!$A:$E,3,FALSE)","v":{"$error":"#N/A"}},null,null,null,null,null,null,{"$error":"#N/A"}]
[null,null,{"$f":"VLOOKUP($B4771,'Ad Week Dates'!$A:$E,4,FALSE)","v":{"$error":"#N/A"}},{"$f":"VLOOKUP($B4771,'Ad Week Dates'!$A:$E,2,FALSE)","v":{"$error":"#N/A"}},{"$f":"VLOOKUP($B4771,'Ad Week Dates'!$A:$E,3,FALSE)","v":{"$error":"#N/A"}},null,null,null,null,null,null,{"$error":"#N/A"}]
[null,null,{"$f":"VLOOKUP($B4772,'Ad Week Dates'!$A:$E,4,FALSE)","v":{"$error":"#N/A"}},{"$f":"VLOOKUP($B4772,'Ad Week Dates'!$A:$E,2,FALSE)","v":{"$error":"#N/A"}},{"$f":"VLOOKUP($B4772,'Ad Week Dates'!$A:$E,3,FALSE)","v":{"$error":"#N/A"}},null,null,null,null,null,null,{"$error":"#N/A"}]
[null,null,{"$f":"VLOOKUP($B4773,'Ad Week Dates'!$A:$E,4,FALSE)","v":{"$error":"#N/A"}},{"$f":"VLOOKUP($B4773,'Ad Week Dates'!$A:$E,2,FALSE)","v":{"$error":"#N/A"}},{"$f":"VLOOKUP($B4773,'Ad Week Dates'!$A:$E,3,FALSE)","v":{"$error":"#N/A"}},null,null,null,null,null,null,{"$error":"#N/A"}]
[null,null,{"$f":"VLOOKUP($B4774,'Ad Week Dates'!$A:$E,4,FALSE)","v":{"$error":"#N/A"}},{"$f":"VLOOKUP($B4774,'Ad Week Dates'!$A:$E,2,FALSE)","v":{"$error":"#N/A"}},{"$f":"VLOOKUP($B4774,'Ad Week Dates'!$A:$E,3,FALSE)","v":{"$error":"#N/A"}},null,null,null,null,null,null,{"$error":"#N/A"}]
[null,null,{"$f":"VLOOKUP($B4775,'Ad Week Dates'!$A:$E,4,FALSE)","v":{"$error":"#N/A"}},{"$f":"VLOOKUP($B4775,'Ad Week Dates'!$A:$E,2,FALSE)","v":{"$error":"#N/A"}},{"$f":"VLOOKUP($B4775,'Ad Week Dates'!$A:$E,3,FALSE)","v":{"$error":"#N/A"}},null,null,null,null,null,null,{"$error":"#N/A"}]
[null,null,{"$f":"VLOOKUP($B4776,'Ad Week Dates'!$A:$E,4,FALSE)","v":{"$error":"#N/A"}},{"$f":"VLOOKUP($B4776,'Ad Week Dates'!$A:$E,2,FALSE)","v":{"$error":"#N/A"}},{"$f":"VLOOKUP($B4776,'Ad Week Dates'!$A:$E,3,FALSE)","v":{"$error":"#N/A"}},null,null,null,null,null,null,{"$error":"#N/A"}]
[null,null,{"$f":"VLOOKUP($B4777,'Ad Week Dates'!$A:$E,4,FALSE)","v":{"$error":"#N/A"}},{"$f":"VLOOKUP($B4777,'Ad Week Dates'!$A:$E,2,FALSE)","v":{"$error":"#N/A"}},{"$f":"VLOOKUP($B4777,'Ad Week Dates'!$A:$E,3,FALSE)","v":{"$error":"#N/A"}},null,null,null,null,null,null,{"$error":"#N/A"}]
[null,null,{"$f":"VLOOKUP($B4778,'Ad Week Dates'!$A:$E,4,FALSE)","v":{"$error":"#N/A"}},{"$f":"VLOOKUP($B4778,'Ad Week Dates'!$A:$E,2,FALSE)","v":{"$error":"#N/A"}},{"$f":"VLOOKUP($B4778,'Ad Week Dates'!$A:$E,3,FALSE)","v":{"$error":"#N/A"}},null,null,null,null,null,null,{"$error":"#N/A"}]
[null,null,{"$f":"VLOOKUP($B4779,'Ad Week Dates'!$A:$E,4,FALSE)","v":{"$error":"#N/A"}},{"$f":"VLOOKUP($B4779,'Ad Week Dates'!$A:$E,2,FALSE)","v":{"$error":"#N/A"}},{"$f":"VLOOKUP($B4779,'Ad Week Dates'!$A:$E,3,FALSE)","v":{"$error":"#N/A"}},null,null,null,null,null,null,{"$error":"#N/A"}]
[null,null,{"$f":"VLOOKUP($B4780,'Ad Week Dates'!$A:$E,4,FALSE)","v":{"$error":"#N/A"}},{"$f":"VLOOKUP($B4780,'Ad Week Dates'!$A:$E,2,FALSE)","v":{"$error":"#N/A"}},{"$f":"VLOOKUP($B4780,'Ad Week Dates'!$A:$E,3,FALSE)","v":{"$error":"#N/A"}},null,null,null,null,null,null,{"$error":"#N/A"}]
[null,null,{"$f":"VLOOKUP($B4781,'Ad Week Dates'!$A:$E,4,FALSE)","v":{"$error":"#N/A"}},{"$f":"VLOOKUP($B4781,'Ad Week Dates'!$A:$E,2,FALSE)","v":{"$error":"#N/A"}},{"$f":"VLOOKUP($B4781,'Ad Week Dates'!$A:$E,3,FALSE)","v":{"$error":"#N/A"}},null,null,null,null,null,null,{"$error":"#N/A"}]
[null,null,{"$f":"VLOOKUP($B4782,'Ad Week Dates'!$A:$E,4,FALSE)","v":{"$error":"#N/A"}},{"$f":"VLOOKUP($B4782,'Ad Week Dates'!$A:$E,2,FALSE)","v":{"$error":"#N/A"}},{"$f":"VLOOKUP($B4782,'Ad Week Dates'!$A:$E,3,FALSE)","v":{"$error":"#N/A"}},null,null,null,null,null,null,{"$error":"#N/A"}]
[null,null,{"$f":"VLOOKUP($B4783,'Ad Week Dates'!$A:$E,4,FALSE)","v":{"$error":"#N/A"}},{"$f":"VLOOKUP($B4783,'Ad Week Dates'!$A:$E,2,FALSE)","v":{"$error":"#N/A"}},{"$f":"VLOOKUP($B4783,'Ad Week Dates'!$A:$E,3,FALSE)","v":{"$error":"#N/A"}},null,null,null,null,null,null,{"$error":"#N/A"}]
[null,null,{"$f":"VLOOKUP($B4784,'Ad Week Dates'!$A:$E,4,FALSE)","v":{"$error":"#N/A"}},{"$f":"VLOOKUP($B4784,'Ad Week Dates'!$A:$E,2,FALSE)","v":{"$error":"#N/A"}},{"$f":"VLOOKUP($B4784,'Ad Week Dates'!$A:$E,3,FALSE)","v":{"$error":"#N/A"}},null,null,null,null,null,null,{"$error":"#N/A"}]
[null,null,{"$f":"VLOOKUP($B4785,'Ad Week Dates'!$A:$E,4,FALSE)","v":{"$error":"#N/A"}},{"$f":"VLOOKUP($B4785,'Ad Week Dates'!$A:$E,2,FALSE)","v":{"$error":"#N/A"}},{"$f":"VLOOKUP($B4785,'Ad Week Dates'!$A:$E,3,FALSE)","v":{"$error":"#N/A"}},null,null,null,null,null,null,{"$error":"#N/A"}]
[null,null,{"$f":"VLOOKUP($B4786,'Ad Week Dates'!$A:$E,4,FALSE)","v":{"$error":"#N/A"}},{"$f":"VLOOKUP($B4786,'Ad Week Dates'!$A:$E,2,FALSE)","v":{"$error":"#N/A"}},{"$f":"VLOOKUP($B4786,'Ad Week Dates'!$A:$E,3,FALSE)","v":{"$error":"#N/A"}},null,null,null,null,null,null,{"$error":"#N/A"}]
[null,null,{"$f":"VLOOKUP($B4787,'Ad Week Dates'!$A:$E,4,FALSE)","v":{"$error":"#N/A"}},{"$f":"VLOOKUP($B4787,'Ad Week Dates'!$A:$E,2,FALSE)","v":{"$error":"#N/A"}},{"$f":"VLOOKUP($B4787,'Ad Week Dates'!$A:$E,3,FALSE)","v":{"$error":"#N/A"}},null,null,null,null,null,null,{"$error":"#N/A"}]
[null,null,{"$f":"VLOOKUP($B4788,'Ad Week Dates'!$A:$E,4,FALSE)","v":{"$error":"#N/A"}},{"$f":"VLOOKUP($B4788,'Ad Week Dates'!$A:$E,2,FALSE)","v":{"$error":"#N/A"}},{"$f":"VLOOKUP($B4788,'Ad Week Dates'!$A:$E,3,FALSE)","v":{"$error":"#N/A"}},null,null,null,null,null,null,{"$error":"#N/A"}]
[null,null,{"$f":"VLOOKUP($B4789,'Ad Week Dates'!$A:$E,4,FALSE)","v":{"$error":"#N/A"}},{"$f":"VLOOKUP($B4789,'Ad Week Dates'!$A:$E,2,FALSE)","v":{"$error":"#N/A"}},{"$f":"VLOOKUP($B4789,'Ad Week Dates'!$A:$E,3,FALSE)","v":{"$error":"#N/A"}},null,null,null,null,null,null,{"$error":"#N/A"}]
[null,null,{"$f":"VLOOKUP($B4790,'Ad Week Dates'!$A:$E,4,FALSE)","v":{"$error":"#N/A"}},{"$f":"VLOOKUP($B4790,'Ad Week Dates'!$A:$E,2,FALSE)","v":{"$error":"#N/A"}},{"$f":"VLOOKUP($B4790,'Ad Week Dates'!$A:$E,3,FALSE)","v":{"$error":"#N/A"}},null,null,null,null,null,null,{"$error":"#N/A"}]
[null,null,{"$f":"VLOOKUP($B4791,'Ad Week Dates'!$A:$E,4,FALSE)","v":{"$error":"#N/A"}},{"$f":"VLOOKUP($B4791,'Ad Week Dates'!$A:$E,2,FALSE)","v":{"$error":"#N/A"}},{"$f":"VLOOKUP($B4791,'Ad Week Dates'!$A:$E,3,FALSE)","v":{"$error":"#N/A"}},null,null,null,null,null,null,{"$error":"#N/A"}]
[null,null,{"$f":"VLOOKUP($B4792,'Ad Week Dates'!$A:$E,4,FALSE)","v":{"$error":"#N/A"}},{"$f":"VLOOKUP($B4792,'Ad Week Dates'!$A:$E,2,FALSE)","v":{"$error":"#N/A"}},{"$f":"VLOOKUP($B4792,'Ad Week Dates'!$A:$E,3,FALSE)","v":{"$error":"#N/A"}},null,null,null,null,null,null,{"$error":"#N/A"}]
[null,null,{"$f":"VLOOKUP($B4793,'Ad Week Dates'!$A:$E,4,FALSE)","v":{"$error":"#N/A"}},{"$f":"VLOOKUP($B4793,'Ad Week Dates'!$A:$E,2,FALSE)","v":{"$error":"#N/A"}},{"$f":"VLOOKUP($B4793,'Ad Week Dates'!$A:$E,3,FALSE)","v":{"$error":"#N/A"}},null,null,null,null,null,null,{"$error":"#N/A"}]
[null,null,{"$f":"VLOOKUP($B4794,'Ad Week Dates'!$A:$E,4,FALSE)","v":{"$error":"#N/A"}},{"$f":"VLOOKUP($B4794,'Ad Week Dates'!$A:$E,2,FALSE)","v":{"$error":"#N/A"}},{"$f":"VLOOKUP($B4794,'Ad Week Dates'!$A:$E,3,FALSE)","v":{"$error":"#N/A"}},null,null,null,null,null,null,{"$error":"#N/A"}]
[null,null,{"$f":"VLOOKUP($B4795,'Ad Week Dates'!$A:$E,4,FALSE)","v":{"$error":"#N/A"}},{"$f":"VLOOKUP($B4795,'Ad Week Dates'!$A:$E,2,FALSE)","v":{"$error":"#N/A"}},{"$f":"VLOOKUP($B4795,'Ad Week Dates'!$A:$E,3,FALSE)","v":{"$error":"#N/A"}},null,null,null,null,null,null,{"$error":"#N/A"}]
[null,null,{"$f":"VLOOKUP($B4796,'Ad Week Dates'!$A:$E,4,FALSE)","v":{"$error":"#N/A"}},{"$f":"VLOOKUP($B4796,'Ad Week Dates'!$A:$E,2,FALSE)","v":{"$error":"#N/A"}},{"$f":"VLOOKUP($B4796,'Ad Week Dates'!$A:$E,3,FALSE)","v":{"$error":"#N/A"}},null,null,null,null,null,null,{"$error":"#N/A"}]
[null,null,{"$f":"VLOOKUP($B4797,'Ad Week Dates'!$A:$E,4,FALSE)","v":{"$error":"#N/A"}},{"$f":"VLOOKUP($B4797,'Ad Week Dates'!$A:$E,2,FALSE)","v":{"$error":"#N/A"}},{"$f":"VLOOKUP($B4797,'Ad Week Dates'!$A:$E,3,FALSE)","v":{"$error":"#N/A"}},null,null,null,null,null,null,{"$error":"#N/A"}]
[null,null,{"$f":"VLOOKUP($B4798,'Ad Week Dates'!$A:$E,4,FALSE)","v":{"$error":"#N/A"}},{"$f":"VLOOKUP($B4798,'Ad Week Dates'!$A:$E,2,FALSE)","v":{"$error":"#N/A"}},{"$f":"VLOOKUP($B4798,'Ad Week Dates'!$A:$E,3,FALSE)","v":{"$error":"#N/A"}},null,null,null,null,null,null,{"$error":"#N/A"}]
[null,null,{"$f":"VLOOKUP($B4799,'Ad Week Dates'!$A:$E,4,FALSE)","v":{"$error":"#N/A"}},{"$f":"VLOOKUP($B4799,'Ad Week Dates'!$A:$E,2,FALSE)","v":{"$error":"#N/A"}},{"$f":"VLOOKUP($B4799,'Ad Week Dates'!$A:$E,3,FALSE)","v":{"$error":"#N/A"}},null,null,null,null,null,null,{"$error":"#N/A"}]
[null,null,{"$f":"VLOOKUP($B4800,'Ad Week Dates'!$A:$E,4,FALSE)","v":{"$error":"#N/A"}},{"$f":"VLOOKUP($B4800,'Ad Week Dates'!$A:$E,2,FALSE)","v":{"$error":"#N/A"}},{"$f":"VLOOKUP($B4800,'Ad Week Dates'!$A:$E,3,FALSE)","v":{"$error":"#N/A"}},null,null,null,null,null,null,{"$error":"#N/A"}]
[null,null,{"$f":"VLOOKUP($B4801,'Ad Week Dates'!$A:$E,4,FALSE)","v":{"$error":"#N/A"}},{"$f":"VLOOKUP($B4801,'Ad Week Dates'!$A:$E,2,FALSE)","v":{"$error":"#N/A"}},{"$f":"VLOOKUP($B4801,'Ad Week Dates'!$A:$E,3,FALSE)","v":{"$error":"#N/A"}},null,null,null,null,null,null,{"$error":"#N/A"}]
[null,null,{"$f":"VLOOKUP($B4802,'Ad Week Dates'!$A:$E,4,FALSE)","v":{"$error":"#N/A"}},{"$f":"VLOOKUP($B4802,'Ad Week Dates'!$A:$E,2,FALSE)","v":{"$error":"#N/A"}},{"$f":"VLOOKUP($B4802,'Ad Week Dates'!$A:$E,3,FALSE)","v":{"$error":"#N/A"}},null,null,null,null,null,null,{"$error":"#N/A"}]
[null,null,{"$f":"VLOOKUP($B4803,'Ad Week Dates'!$A:$E,4,FALSE)","v":{"$error":"#N/A"}},{"$f":"VLOOKUP($B4803,'Ad Week Dates'!$A:$E,2,FALSE)","v":{"$error":"#N/A"}},{"$f":"VLOOKUP($B4803,'Ad Week Dates'!$A:$E,3,FALSE)","v":{"$error":"#N/A"}},null,null,null,null,null,null,{"$error":"#N/A"}]
[null,null,{"$f":"VLOOKUP($B4804,'Ad Week Dates'!$A:$E,4,FALSE)","v":{"$error":"#N/A"}},{"$f":"VLOOKUP($B4804,'Ad Week Dates'!$A:$E,2,FALSE)","v":{"$error":"#N/A"}},{"$f":"VLOOKUP($B4804,'Ad Week Dates'!$A:$E,3,FALSE)","v":{"$error":"#N/A"}},null,null,null,null,null,null,{"$error":"#N/A"}]
[null,null,{"$f":"VLOOKUP($B4805,'Ad Week Dates'!$A:$E,4,FALSE)","v":{"$error":"#N/A"}},{"$f":"VLOOKUP($B4805,'Ad Week Dates'!$A:$E,2,FALSE)","v":{"$error":"#N/A"}},{"$f":"VLOOKUP($B4805,'Ad Week Dates'!$A:$E,3,FALSE)","v":{"$error":"#N/A"}},null,null,null,null,null,null,{"$error":"#N/A"}]
[null,null,{"$f":"VLOOKUP($B4806,'Ad Week Dates'!$A:$E,4,FALSE)","v":{"$error":"#N/A"}},{"$f":"VLOOKUP($B4806,'Ad Week Dates'!$A:$E,2,FALSE)","v":{"$error":"#N/A"}},{"$f":"VLOOKUP($B4806,'Ad Week Dates'!$A:$E,3,FALSE)","v":{"$error":"#N/A"}},null,null,null,null,null,null,{"$f":"IF(ISNUMBER(J4806), J4806 - K4806, VALUE(_xlfn.TEXTBEFORE(J4806, \"-\")) - VALUE(_xlfn.TEXTBEFORE(K4806, \"-\")))","v":{"$error":"#N/A"}}]
[null,null,{"$f":"VLOOKUP($B4807,'Ad Week Dates'!$A:$E,4,FALSE)","v":{"$error":"#N/A"}},{"$f":"VLOOKUP($B4807,'Ad Week Dates'!$A:$E,2,FALSE)","v":{"$error":"#N/A"}},{"$f":"VLOOKUP($B4807,'Ad Week Dates'!$A:$E,3,FALSE)","v":{"$error":"#N/A"}},null,null,null,null,null,null,{"$error":"#N/A"}]
[null,null,{"$f":"VLOOKUP($B4808,'Ad Week Dates'!$A:$E,4,FALSE)","v":{"$error":"#N/A"}},{"$f":"VLOOKUP($B4808,'Ad Week Dates'!$A:$E,2,FALSE)","v":{"$error":"#N/A"}},{"$f":"VLOOKUP($B4808,'Ad Week Dates'!$A:$E,3,FALSE)","v":{"$error":"#N/A"}},null,null,null,null,null,null,{"$error":"#N/A"}]
[null,null,{"$f":"VLOOKUP($B4809,'Ad Week Dates'!$A:$E,4,FALSE)","v":{"$error":"#N/A"}},{"$f":"VLOOKUP($B4809,'Ad Week Dates'!$A:$E,2,FALSE)","v":{"$error":"#N/A"}},{"$f":"VLOOKUP($B4809,'Ad Week Dates'!$A:$E,3,FALSE)","v":{"$error":"#N/A"}},null,null,null,null,null,null,{"$error":"#N/A"}]
[null,null,{"$f":"VLOOKUP($B4810,'Ad Week Dates'!$A:$E,4,FALSE)","v":{"$error":"#N/A"}},{"$f":"VLOOKUP($B4810,'Ad Week Dates'!$A:$E,2,FALSE)","v":{"$error":"#N/A"}},{"$f":"VLOOKUP($B4810,'Ad Week Dates'!$A:$E,3,FALSE)","v":{"$error":"#N/A"}},null,null,null,null,null,null,{"$error":"#N/A"}]
[null,null,{"$f":"VLOOKUP($B4811,'Ad Week Dates'!$A:$E,4,FALSE)","v":{"$error":"#N/A"}},{"$f":"VLOOKUP($B4811,'Ad Week Dates'!$A:$E,2,FALSE)","v":{"$error":"#N/A"}},{"$f":"VLOOKUP($B4811,'Ad Week Dates'!$A:$E,3,FALSE)","v":{"$error":"#N/A"}},null,null,null,null,null,null,{"$error":"#N/A"}]
[null,null,{"$f":"VLOOKUP($B4812,'Ad Week Dates'!$A:$E,4,FALSE)","v":{"$error":"#N/A"}},{"$f":"VLOOKUP($B4812,'Ad Week Dates'!$A:$E,2,FALSE)","v":{"$error":"#N/A"}},{"$f":"VLOOKUP($B4812,'Ad Week Dates'!$A:$E,3,FALSE)","v":{"$error":"#N/A"}},null,null,null,null,null,null,{"$error":"#N/A"}]
[null,null,{"$f":"VLOOKUP($B4813,'Ad Week Dates'!$A:$E,4,FALSE)","v":{"$error":"#N/A"}},{"$f":"VLOOKUP($B4813,'Ad Week Dates'!$A:$E,2,FALSE)","v":{"$error":"#N/A"}},{"$f":"VLOOKUP($B4813,'Ad Week Dates'!$A:$E,3,FALSE)","v":{"$error":"#N/A"}},null,null,null,null,null,null,{"$error":"#N/A"}]
[null,null,{"$f":"VLOOKUP($B4814,'Ad Week Dates'!$A:$E,4,FALSE)","v":{"$error":"#N/A"}},{"$f":"VLOOKUP($B4814,'Ad Week Dates'!$A:$E,2,FALSE)","v":{"$error":"#N/A"}},{"$f":"VLOOKUP($B4814,'Ad Week Dates'!$A:$E,3,FALSE)","v":{"$error":"#N/A"}},null,null,null,null,null,null,{"$error":"#N/A"}]
[null,null,{"$f":"VLOOKUP($B4815,'Ad Week Dates'!$A:$E,4,FALSE)","v":{"$error":"#N/A"}},{"$f":"VLOOKUP($B4815,'Ad Week Dates'!$A:$E,2,FALSE)","v":{"$error":"#N/A"}},{"$f":"VLOOKUP($B4815,'Ad Week Dates'!$A:$E,3,FALSE)","v":{"$error":"#N/A"}},null,null,null,null,null,null,{"$error":"#N/A"}]
[null,null,{"$f":"VLOOKUP($B4816,'Ad Week Dates'!$A:$E,4,FALSE)","v":{"$error":"#N/A"}},{"$f":"VLOOKUP($B4816,'Ad Week Dates'!$A:$E,2,FALSE)","v":{"$error":"#N/A"}},{"$f":"VLOOKUP($B4816,'Ad Week Dates'!$A:$E,3,FALSE)","v":{"$error":"#N/A"}},null,null,null,null,null,null,{"$error":"#N/A"}]
[null,null,{"$f":"VLOOKUP($B4817,'Ad Week Dates'!$A:$E,4,FALSE)","v":{"$error":"#N/A"}},{"$f":"VLOOKUP($B4817,'Ad Week Dates'!$A:$E,2,FALSE)","v":{"$error":"#N/A"}},{"$f":"VLOOKUP($B4817,'Ad Week Dates'!$A:$E,3,FALSE)","v":{"$error":"#N/A"}},null,null,null,null,null,null,{"$error":"#N/A"}]
[null,null,{"$f":"VLOOKUP($B4818,'Ad Week Dates'!$A:$E,4,FALSE)","v":{"$error":"#N/A"}},{"$f":"VLOOKUP($B4818,'Ad Week Dates'!$A:$E,2,FALSE)","v":{"$error":"#N/A"}},{"$f":"VLOOKUP($B4818,'Ad Week Dates'!$A:$E,3,FALSE)","v":{"$error":"#N/A"}},null,null,null,null,null,null,{"$error":"#N/A"}]
[null,null,{"$f":"VLOOKUP($B4819,'Ad Week Dates'!$A:$E,4,FALSE)","v":{"$error":"#N/A"}},{"$f":"VLOOKUP($B4819,'Ad Week Dates'!$A:$E,2,FALSE)","v":{"$error":"#N/A"}},{"$f":"VLOOKUP($B4819,'Ad Week Dates'!$A:$E,3,FALSE)","v":{"$error":"#N/A"}},null,null,null,null,null,null,{"$error":"#N/A"}]
[null,null,{"$f":"VLOOKUP($B4820,'Ad Week Dates'!$A:$E,4,FALSE)","v":{"$error":"#N/A"}},{"$f":"VLOOKUP($B4820,'Ad Week Dates'!$A:$E,2,FALSE)","v":{"$error":"#N/A"}},{"$f":"VLOOKUP($B4820,'Ad Week Dates'!$A:$E,3,FALSE)","v":{"$error":"#N/A"}},null,null,null,null,null,null,{"$error":"#N/A"}]
[null,null,{"$f":"VLOOKUP($B4821,'Ad Week Dates'!$A:$E,4,FALSE)","v":{"$error":"#N/A"}},{"$f":"VLOOKUP($B4821,'Ad Week Dates'!$A:$E,2,FALSE)","v":{"$error":"#N/A"}},{"$f":"VLOOKUP($B4821,'Ad Week Dates'!$A:$E,3,FALSE)","v":{"$error":"#N/A"}},null,null,null,null,null,null,{"$error":"#N/A"}]
[null,null,{"$f":"VLOOKUP($B4822,'Ad Week Dates'!$A:$E,4,FALSE)","v":{"$error":"#N/A"}},{"$f":"VLOOKUP($B4822,'Ad Week Dates'!$A:$E,2,FALSE)","v":{"$error":"#N/A"}},{"$f":"VLOOKUP($B4822,'Ad Week Dates'!$A:$E,3,FALSE)","v":{"$error":"#N/A"}},null,null,null,null,null,null,{"$error":"#N/A"}]
[null,null,{"$f":"VLOOKUP($B4823,'Ad Week Dates'!$A:$E,4,FALSE)","v":{"$error":"#N/A"}},{"$f":"VLOOKUP($B4823,'Ad Week Dates'!$A:$E,2,FALSE)","v":{"$error":"#N/A"}},{"$f":"VLOOKUP($B4823,'Ad Week Dates'!$A:$E,3,FALSE)","v":{"$error":"#N/A"}},null,null,null,null,null,null,{"$error":"#N/A"}]
[null,null,{"$f":"VLOOKUP($B4824,'Ad Week Dates'!$A:$E,4,FALSE)","v":{"$error":"#N/A"}},{"$f":"VLOOKUP($B4824,'Ad Week Dates'!$A:$E,2,FALSE)","v":{"$error":"#N/A"}},{"$f":"VLOOKUP($B4824,'Ad Week Dates'!$A:$E,3,FALSE)","v":{"$error":"#N/A"}},null,null,null,null,null,null,{"$error":"#N/A"}]
[null,null,{"$f":"VLOOKUP($B4825,'Ad Week Dates'!$A:$E,4,FALSE)","v":{"$error":"#N/A"}},{"$f":"VLOOKUP($B4825,'Ad Week Dates'!$A:$E,2,FALSE)","v":{"$error":"#N/A"}},{"$f":"VLOOKUP($B4825,'Ad Week Dates'!$A:$E,3,FALSE)","v":{"$error":"#N/A"}},null,null,null,null,null,null,{"$error":"#N/A"}]
[null,null,{"$f":"VLOOKUP($B4826,'Ad Week Dates'!$A:$E,4,FALSE)","v":{"$error":"#N/A"}},{"$f":"VLOOKUP($B4826,'Ad Week Dates'!$A:$E,2,FALSE)","v":{"$error":"#N/A"}},{"$f":"VLOOKUP($B4826,'Ad Week Dates'!$A:$E,3,FALSE)","v":{"$error":"#N/A"}},null,null,null,null,null,null,{"$error":"#N/A"}]
[null,null,{"$f":"VLOOKUP($B4827,'Ad Week Dates'!$A:$E,4,FALSE)","v":{"$error":"#N/A"}},{"$f":"VLOOKUP($B4827,'Ad Week Dates'!$A:$E,2,FALSE)","v":{"$error":"#N/A"}},{"$f":"VLOOKUP($B4827,'Ad Week Dates'!$A:$E,3,FALSE)","v":{"$error":"#N/A"}},null,null,null,null,null,null,{"$error":"#N/A"}]
[null,null,{"$f":"VLOOKUP($B4828,'Ad Week Dates'!$A:$E,4,FALSE)","v":{"$error":"#N/A"}},{"$f":"VLOOKUP($B4828,'Ad Week Dates'!$A:$E,2,FALSE)","v":{"$error":"#N/A"}},{"$f":"VLOOKUP($B4828,'Ad Week Dates'!$A:$E,3,FALSE)","v":{"$error":"#N/A"}},null,null,null,null,null,null,{"$error":"#N/A"}]
[null,null,{"$f":"VLOOKUP($B4829,'Ad Week Dates'!$A:$E,4,FALSE)","v":{"$error":"#N/A"}},{"$f":"VLOOKUP($B4829,'Ad Week Dates'!$A:$E,2,FALSE)","v":{"$error":"#N/A"}},{"$f":"VLOOKUP($B4829,'Ad Week Dates'!$A:$E,3,FALSE)","v":{"$error":"#N/A"}},null,null,null,null,null,null,{"$error":"#N/A"}]
[null,null,{"$f":"VLOOKUP($B4830,'Ad Week Dates'!$A:$E,4,FALSE)","v":{"$error":"#N/A"}},{"$f":"VLOOKUP($B4830,'Ad Week Dates'!$A:$E,2,FALSE)","v":{"$error":"#N/A"}},{"$f":"VLOOKUP($B4830,'Ad Week Dates'!$A:$E,3,FALSE)","v":{"$error":"#N/A"}},null,null,null,null,null,null,{"$error":"#N/A"}]
[null,null,{"$f":"VLOOKUP($B4831,'Ad Week Dates'!$A:$E,4,FALSE)","v":{"$error":"#N/A"}},{"$f":"VLOOKUP($B4831,'Ad Week Dates'!$A:$E,2,FALSE)","v":{"$error":"#N/A"}},{"$f":"VLOOKUP($B4831,'Ad Week Dates'!$A:$E,3,FALSE)","v":{"$error":"#N/A"}},null,null,null,null,null,null,{"$error":"#N/A"}]
[null,null,{"$f":"VLOOKUP($B4832,'Ad Week Dates'!$A:$E,4,FALSE)","v":{"$error":"#N/A"}},{"$f":"VLOOKUP($B4832,'Ad Week Dates'!$A:$E,2,FALSE)","v":{"$error":"#N/A"}},{"$f":"VLOOKUP($B4832,'Ad Week Dates'!$A:$E,3,FALSE)","v":{"$error":"#N/A"}},null,null,null,null,null,null,{"$error":"#N/A"}]
[null,null,{"$f":"VLOOKUP($B4833,'Ad Week Dates'!$A:$E,4,FALSE)","v":{"$error":"#N/A"}},{"$f":"VLOOKUP($B4833,'Ad Week Dates'!$A:$E,2,FALSE)","v":{"$error":"#N/A"}},{"$f":"VLOOKUP($B4833,'Ad Week Dates'!$A:$E,3,FALSE)","v":{"$error":"#N/A"}},null,null,null,null,null,null,{"$error":"#N/A"}]
[null,null,{"$f":"VLOOKUP($B4834,'Ad Week Dates'!$A:$E,4,FALSE)","v":{"$error":"#N/A"}},{"$f":"VLOOKUP($B4834,'Ad Week Dates'!$A:$E,2,FALSE)","v":{"$error":"#N/A"}},{"$f":"VLOOKUP($B4834,'Ad Week Dates'!$A:$E,3,FALSE)","v":{"$error":"#N/A"}},null,null,null,null,null,null,{"$error":"#N/A"}]
[null,null,{"$f":"VLOOKUP($B4835,'Ad Week Dates'!$A:$E,4,FALSE)","v":{"$error":"#N/A"}},{"$f":"VLOOKUP($B4835,'Ad Week Dates'!$A:$E,2,FALSE)","v":{"$error":"#N/A"}},{"$f":"VLOOKUP($B4835,'Ad Week Dates'!$A:$E,3,FALSE)","v":{"$error":"#N/A"}},null,null,null,null,null,null,{"$error":"#N/A"}]
[null,null,{"$f":"VLOOKUP($B4836,'Ad Week Dates'!$A:$E,4,FALSE)","v":{"$error":"#N/A"}},{"$f":"VLOOKUP($B4836,'Ad Week Dates'!$A:$E,2,FALSE)","v":{"$error":"#N/A"}},{"$f":"VLOOKUP($B4836,'Ad Week Dates'!$A:$E,3,FALSE)","v":{"$error":"#N/A"}},null,null,null,null,null,null,{"$error":"#N/A"}]
[null,null,{"$f":"VLOOKUP($B4837,'Ad Week Dates'!$A:$E,4,FALSE)","v":{"$error":"#N/A"}},{"$f":"VLOOKUP($B4837,'Ad Week Dates'!$A:$E,2,FALSE)","v":{"$error":"#N/A"}},{"$f":"VLOOKUP($B4837,'Ad Week Dates'!$A:$E,3,FALSE)","v":{"$error":"#N/A"}},null,null,null,null,null,null,{"$error":"#N/A"}]
[null,null,{"$f":"VLOOKUP($B4838,'Ad Week Dates'!$A:$E,4,FALSE)","v":{"$error":"#N/A"}},{"$f":"VLOOKUP($B4838,'Ad Week Dates'!$A:$E,2,FALSE)","v":{"$error":"#N/A"}},{"$f":"VLOOKUP($B4838,'Ad Week Dates'!$A:$E,3,FALSE)","v":{"$error":"#N/A"}},null,null,null,null,null,null,{"$error":"#N/A"}]
[null,null,{"$f":"VLOOKUP($B4839,'Ad Week Dates'!$A:$E,4,FALSE)","v":{"$error":"#N/A"}},{"$f":"VLOOKUP($B4839,'Ad Week Dates'!$A:$E,2,FALSE)","v":{"$error":"#N/A"}},{"$f":"VLOOKUP($B4839,'Ad Week Dates'!$A:$E,3,FALSE)","v":{"$error":"#N/A"}},null,null,null,null,null,null,{"$error":"#N/A"}]
[null,null,{"$f":"VLOOKUP($B4840,'Ad Week Dates'!$A:$E,4,FALSE)","v":{"$error":"#N/A"}},{"$f":"VLOOKUP($B4840,'Ad Week Dates'!$A:$E,2,FALSE)","v":{"$error":"#N/A"}},{"$f":"VLOOKUP($B4840,'Ad Week Dates'!$A:$E,3,FALSE)","v":{"$error":"#N/A"}},null,null,null,null,null,null,{"$error":"#N/A"}]
[null,null,{"$f":"VLOOKUP($B4841,'Ad Week Dates'!$A:$E,4,FALSE)","v":{"$error":"#N/A"}},{"$f":"VLOOKUP($B4841,'Ad Week Dates'!$A:$E,2,FALSE)","v":{"$error":"#N/A"}},{"$f":"VLOOKUP($B4841,'Ad Week Dates'!$A:$E,3,FALSE)","v":{"$error":"#N/A"}},null,null,null,null,null,null,{"$error":"#N/A"}]
[null,null,{"$f":"VLOOKUP($B4842,'Ad Week Dates'!$A:$E,4,FALSE)","v":{"$error":"#N/A"}},{"$f":"VLOOKUP($B4842,'Ad Week Dates'!$A:$E,2,FALSE)","v":{"$error":"#N/A"}},{"$f":"VLOOKUP($B4842,'Ad Week Dates'!$A:$E,3,FALSE)","v":{"$error":"#N/A"}},null,null,null,null,null,null,{"$error":"#N/A"}]
[null,null,{"$f":"VLOOKUP($B4843,'Ad Week Dates'!$A:$E,4,FALSE)","v":{"$error":"#N/A"}},{"$f":"VLOOKUP($B4843,'Ad Week Dates'!$A:$E,2,FALSE)","v":{"$error":"#N/A"}},{"$f":"VLOOKUP($B4843,'Ad Week Dates'!$A:$E,3,FALSE)","v":{"$error":"#N/A"}},null,null,null,null,null,null,{"$error":"#N/A"}]
[null,null,{"$f":"VLOOKUP($B4844,'Ad Week Dates'!$A:$E,4,FALSE)","v":{"$error":"#N/A"}},{"$f":"VLOOKUP($B4844,'Ad Week Dates'!$A:$E,2,FALSE)","v":{"$error":"#N/A"}},{"$f":"VLOOKUP($B4844,'Ad Week Dates'!$A:$E,3,FALSE)","v":{"$error":"#N/A"}},null,null,null,null,null,null,{"$error":"#N/A"}]
[null,null,{"$f":"VLOOKUP($B4845,'Ad Week Dates'!$A:$E,4,FALSE)","v":{"$error":"#N/A"}},{"$f":"VLOOKUP($B4845,'Ad Week Dates'!$A:$E,2,FALSE)","v":{"$error":"#N/A"}},{"$f":"VLOOKUP($B4845,'Ad Week Dates'!$A:$E,3,FALSE)","v":{"$error":"#N/A"}},null,null,null,null,null,null,{"$error":"#N/A"}]
[null,null,{"$f":"VLOOKUP($B4846,'Ad Week Dates'!$A:$E,4,FALSE)","v":{"$error":"#N/A"}},{"$f":"VLOOKUP($B4846,'Ad Week Dates'!$A:$E,2,FALSE)","v":{"$error":"#N/A"}},{"$f":"VLOOKUP($B4846,'Ad Week Dates'!$A:$E,3,FALSE)","v":{"$error":"#N/A"}},null,null,null,null,null,null,{"$error":"#N/A"}]
[null,null,{"$f":"VLOOKUP($B4847,'Ad Week Dates'!$A:$E,4,FALSE)","v":{"$error":"#N/A"}},{"$f":"VLOOKUP($B4847,'Ad Week Dates'!$A:$E,2,FALSE)","v":{"$error":"#N/A"}},{"$f":"VLOOKUP($B4847,'Ad Week Dates'!$A:$E,3,FALSE)","v":{"$error":"#N/A"}},null,null,null,null,null,null,{"$error":"#N/A"}]
[null,null,{"$f":"VLOOKUP($B4848,'Ad Week Dates'!$A:$E,4,FALSE)","v":{"$error":"#N/A"}},{"$f":"VLOOKUP($B4848,'Ad Week Dates'!$A:$E,2,FALSE)","v":{"$error":"#N/A"}},{"$f":"VLOOKUP($B4848,'Ad Week Dates'!$A:$E,3,FALSE)","v":{"$error":"#N/A"}},null,null,null,null,null,null,{"$error":"#N/A"}]
[null,null,{"$f":"VLOOKUP($B4849,'Ad Week Dates'!$A:$E,4,FALSE)","v":{"$error":"#N/A"}},{"$f":"VLOOKUP($B4849,'Ad Week Dates'!$A:$E,2,FALSE)","v":{"$error":"#N/A"}},{"$f":"VLOOKUP($B4849,'Ad Week Dates'!$A:$E,3,FALSE)","v":{"$error":"#N/A"}},null,null,null,null,null,null,{"$error":"#N/A"}]
[null,null,{"$f":"VLOOKUP($B4850,'Ad Week Dates'!$A:$E,4,FALSE)","v":{"$error":"#N/A"}},{"$f":"VLOOKUP($B4850,'Ad Week Dates'!$A:$E,2,FALSE)","v":{"$error":"#N/A"}},{"$f":"VLOOKUP($B4850,'Ad Week Dates'!$A:$E,3,FALSE)","v":{"$error":"#N/A"}},null,null,null,null,null,null,{"$error":"#N/A"}]
[null,null,{"$f":"VLOOKUP($B4851,'Ad Week Dates'!$A:$E,4,FALSE)","v":{"$error":"#N/A"}},{"$f":"VLOOKUP($B4851,'Ad Week Dates'!$A:$E,2,FALSE)","v":{"$error":"#N/A"}},{"$f":"VLOOKUP($B4851,'Ad Week Dates'!$A:$E,3,FALSE)","v":{"$error":"#N/A"}},null,null,null,null,null,null,{"$error":"#N/A"}]
[null,null,{"$f":"VLOOKUP($B4852,'Ad Week Dates'!$A:$E,4,FALSE)","v":{"$error":"#N/A"}},{"$f":"VLOOKUP($B4852,'Ad Week Dates'!$A:$E,2,FALSE)","v":{"$error":"#N/A"}},{"$f":"VLOOKUP($B4852,'Ad Week Dates'!$A:$E,3,FALSE)","v":{"$error":"#N/A"}},null,null,null,null,null,null,{"$error":"#N/A"}]
[null,null,{"$f":"VLOOKUP($B4853,'Ad Week Dates'!$A:$E,4,FALSE)","v":{"$error":"#N/A"}},{"$f":"VLOOKUP($B4853,'Ad Week Dates'!$A:$E,2,FALSE)","v":{"$error":"#N/A"}},{"$f":"VLOOKUP($B4853,'Ad Week Dates'!$A:$E,3,FALSE)","v":{"$error":"#N/A"}},null,null,null,null,null,null,{"$error":"#N/A"}]
[null,null,{"$f":"VLOOKUP($B4854,'Ad Week Dates'!$A:$E,4,FALSE)","v":{"$error":"#N/A"}},{"$f":"VLOOKUP($B4854,'Ad Week Dates'!$A:$E,2,FALSE)","v":{"$error":"#N/A"}},{"$f":"VLOOKUP($B4854,'Ad Week Dates'!$A:$E,3,FALSE)","v":{"$error":"#N/A"}},null,null,null,null,null,null,{"$error":"#N/A"}]
[null,null,{"$f":"VLOOKUP($B4855,'Ad Week Dates'!$A:$E,4,FALSE)","v":{"$error":"#N/A"}},{"$f":"VLOOKUP($B4855,'Ad Week Dates'!$A:$E,2,FALSE)","v":{"$error":"#N/A"}},{"$f":"VLOOKUP($B4855,'Ad Week Dates'!$A:$E,3,FALSE)","v":{"$error":"#N/A"}},null,null,null,null,null,null,{"$error":"#N/A"}]
[null,null,{"$f":"VLOOKUP($B4856,'Ad Week Dates'!$A:$E,4,FALSE)","v":{"$error":"#N/A"}},{"$f":"VLOOKUP($B4856,'Ad Week Dates'!$A:$E,2,FALSE)","v":{"$error":"#N/A"}},{"$f":"VLOOKUP($B4856,'Ad Week Dates'!$A:$E,3,FALSE)","v":{"$error":"#N/A"}},null,null,null,null,null,null,{"$error":"#N/A"}]
[null,null,{"$f":"VLOOKUP($B4857,'Ad Week Dates'!$A:$E,4,FALSE)","v":{"$error":"#N/A"}},{"$f":"VLOOKUP($B4857,'Ad Week Dates'!$A:$E,2,FALSE)","v":{"$error":"#N/A"}},{"$f":"VLOOKUP($B4857,'Ad Week Dates'!$A:$E,3,FALSE)","v":{"$error":"#N/A"}},null,null,null,null,null,null,{"$error":"#N/A"}]
[null,null,{"$f":"VLOOKUP($B4858,'Ad Week Dates'!$A:$E,4,FALSE)","v":{"$error":"#N/A"}},{"$f":"VLOOKUP($B4858,'Ad Week Dates'!$A:$E,2,FALSE)","v":{"$error":"#N/A"}},{"$f":"VLOOKUP($B4858,'Ad Week Dates'!$A:$E,3,FALSE)","v":{"$error":"#N/A"}},null,null,null,null,null,null,{"$error":"#N/A"}]
[null,null,{"$f":"VLOOKUP($B4859,'Ad Week Dates'!$A:$E,4,FALSE)","v":{"$error":"#N/A"}},{"$f":"VLOOKUP($B4859,'Ad Week Dates'!$A:$E,2,FALSE)","v":{"$error":"#N/A"}},{"$f":"VLOOKUP($B4859,'Ad Week Dates'!$A:$E,3,FALSE)","v":{"$error":"#N/A"}},null,null,null,null,null,null,{"$error":"#N/A"}]
[null,null,{"$f":"VLOOKUP($B4860,'Ad Week Dates'!$A:$E,4,FALSE)","v":{"$error":"#N/A"}},{"$f":"VLOOKUP($B4860,'Ad Week Dates'!$A:$E,2,FALSE)","v":{"$error":"#N/A"}},{"$f":"VLOOKUP($B4860,'Ad Week Dates'!$A:$E,3,FALSE)","v":{"$error":"#N/A"}},null,null,null,null,null,null,{"$error":"#N/A"}]
[null,null,{"$f":"VLOOKUP($B4861,'Ad Week Dates'!$A:$E,4,FALSE)","v":{"$error":"#N/A"}},{"$f":"VLOOKUP($B4861,'Ad Week Dates'!$A:$E,2,FALSE)","v":{"$error":"#N/A"}},{"$f":"VLOOKUP($B4861,'Ad Week Dates'!$A:$E,3,FALSE)","v":{"$error":"#N/A"}},null,null,null,null,null,null,{"$error":"#N/A"}]
[null,null,{"$f":"VLOOKUP($B4862,'Ad Week Dates'!$A:$E,4,FALSE)","v":{"$error":"#N/A"}},{"$f":"VLOOKUP($B4862,'Ad Week Dates'!$A:$E,2,FALSE)","v":{"$error":"#N/A"}},{"$f":"VLOOKUP($B4862,'Ad Week Dates'!$A:$E,3,FALSE)","v":{"$error":"#N/A"}},null,null,null,null,null,null,{"$error":"#N/A"}]
[null,null,{"$f":"VLOOKUP($B4863,'Ad Week Dates'!$A:$E,4,FALSE)","v":{"$error":"#N/A"}},{"$f":"VLOOKUP($B4863,'Ad Week Dates'!$A:$E,2,FALSE)","v":{"$error":"#N/A"}},{"$f":"VLOOKUP($B4863,'Ad Week Dates'!$A:$E,3,FALSE)","v":{"$error":"#N/A"}},null,null,null,null,null,null,{"$error":"#N/A"}]
[null,null,{"$f":"VLOOKUP($B4864,'Ad Week Dates'!$A:$E,4,FALSE)","v":{"$error":"#N/A"}},{"$f":"VLOOKUP($B4864,'Ad Week Dates'!$A:$E,2,FALSE)","v":{"$error":"#N/A"}},{"$f":"VLOOKUP($B4864,'Ad Week Dates'!$A:$E,3,FALSE)","v":{"$error":"#N/A"}},null,null,null,null,null,null,{"$error":"#N/A"}]
[null,null,{"$f":"VLOOKUP($B4865,'Ad Week Dates'!$A:$E,4,FALSE)","v":{"$error":"#N/A"}},{"$f":"VLOOKUP($B4865,'Ad Week Dates'!$A:$E,2,FALSE)","v":{"$error":"#N/A"}},{"$f":"VLOOKUP($B4865,'Ad Week Dates'!$A:$E,3,FALSE)","v":{"$error":"#N/A"}},null,null,null,null,null,null,{"$error":"#N/A"}]
[null,null,{"$f":"VLOOKUP($B4866,'Ad Week Dates'!$A:$E,4,FALSE)","v":{"$error":"#N/A"}},{"$f":"VLOOKUP($B4866,'Ad Week Dates'!$A:$E,2,FALSE)","v":{"$error":"#N/A"}},{"$f":"VLOOKUP($B4866,'Ad Week Dates'!$A:$E,3,FALSE)","v":{"$error":"#N/A"}},null,null,null,null,null,null,{"$error":"#N/A"}]
[null,null,{"$f":"VLOOKUP($B4867,'Ad Week Dates'!$A:$E,4,FALSE)","v":{"$error":"#N/A"}},{"$f":"VLOOKUP($B4867,'Ad Week Dates'!$A:$E,2,FALSE)","v":{"$error":"#N/A"}},{"$f":"VLOOKUP($B4867,'Ad Week Dates'!$A:$E,3,FALSE)","v":{"$error":"#N/A"}},null,null,null,null,null,null,{"$error":"#N/A"}]
[null,null,{"$f":"VLOOKUP($B4868,'Ad Week Dates'!$A:$E,4,FALSE)","v":{"$error":"#N/A"}},{"$f":"VLOOKUP($B4868,'Ad Week Dates'!$A:$E,2,FALSE)","v":{"$error":"#N/A"}},{"$f":"VLOOKUP($B4868,'Ad Week Dates'!$A:$E,3,FALSE)","v":{"$error":"#N/A"}},null,null,null,null,null,null,{"$error":"#N/A"}]
[null,null,{"$f":"VLOOKUP($B4869,'Ad Week Dates'!$A:$E,4,FALSE)","v":{"$error":"#N/A"}},{"$f":"VLOOKUP($B4869,'Ad Week Dates'!$A:$E,2,FALSE)","v":{"$error":"#N/A"}},{"$f":"VLOOKUP($B4869,'Ad Week Dates'!$A:$E,3,FALSE)","v":{"$error":"#N/A"}},null,null,null,null,null,null,{"$error":"#N/A"}]
[null,null,{"$f":"VLOOKUP($B4870,'Ad Week Dates'!$A:$E,4,FALSE)","v":{"$error":"#N/A"}},{"$f":"VLOOKUP($B4870,'Ad Week Dates'!$A:$E,2,FALSE)","v":{"$error":"#N/A"}},{"$f":"VLOOKUP($B4870,'Ad Week Dates'!$A:$E,3,FALSE)","v":{"$error":"#N/A"}},null,null,null,null,null,null,{"$f":"IF(ISNUMBER(J4870), J4870 - K4870, VALUE(_xlfn.TEXTBEFORE(J4870, \"-\")) - VALUE(_xlfn.TEXTBEFORE(K4870, \"-\")))","v":{"$error":"#N/A"}}]
[null,null,{"$f":"VLOOKUP($B4871,'Ad Week Dates'!$A:$E,4,FALSE)","v":{"$error":"#N/A"}},{"$f":"VLOOKUP($B4871,'Ad Week Dates'!$A:$E,2,FALSE)","v":{"$error":"#N/A"}},{"$f":"VLOOKUP($B4871,'Ad Week Dates'!$A:$E,3,FALSE)","v":{"$error":"#N/A"}},null,null,null,null,null,null,{"$error":"#N/A"}]
[null,null,{"$f":"VLOOKUP($B4872,'Ad Week Dates'!$A:$E,4,FALSE)","v":{"$error":"#N/A"}},{"$f":"VLOOKUP($B4872,'Ad Week Dates'!$A:$E,2,FALSE)","v":{"$error":"#N/A"}},{"$f":"VLOOKUP($B4872,'Ad Week Dates'!$A:$E,3,FALSE)","v":{"$error":"#N/A"}},null,null,null,null,null,null,{"$error":"#N/A"}]
[null,null,{"$f":"VLOOKUP($B4873,'Ad Week Dates'!$A:$E,4,FALSE)","v":{"$error":"#N/A"}},{"$f":"VLOOKUP($B4873,'Ad Week Dates'!$A:$E,2,FALSE)","v":{"$error":"#N/A"}},{"$f":"VLOOKUP($B4873,'Ad Week Dates'!$A:$E,3,FALSE)","v":{"$error":"#N/A"}},null,null,null,null,null,null,{"$error":"#N/A"}]
[null,null,{"$f":"VLOOKUP($B4874,'Ad Week Dates'!$A:$E,4,FALSE)","v":{"$error":"#N/A"}},{"$f":"VLOOKUP($B4874,'Ad Week Dates'!$A:$E,2,FALSE)","v":{"$error":"#N/A"}},{"$f":"VLOOKUP($B4874,'Ad Week Dates'!$A:$E,3,FALSE)","v":{"$error":"#N/A"}},null,null,null,null,null,null,{"$error":"#N/A"}]
[null,null,{"$f":"VLOOKUP($B4875,'Ad Week Dates'!$A:$E,4,FALSE)","v":{"$error":"#N/A"}},{"$f":"VLOOKUP($B4875,'Ad Week Dates'!$A:$E,2,FALSE)","v":{"$error":"#N/A"}},{"$f":"VLOOKUP($B4875,'Ad Week Dates'!$A:$E,3,FALSE)","v":{"$error":"#N/A"}},null,null,null,null,null,null,{"$error":"#N/A"}]
[null,null,{"$f":"VLOOKUP($B4876,'Ad Week Dates'!$A:$E,4,FALSE)","v":{"$error":"#N/A"}},{"$f":"VLOOKUP($B4876,'Ad Week Dates'!$A:$E,2,FALSE)","v":{"$error":"#N/A"}},{"$f":"VLOOKUP($B4876,'Ad Week Dates'!$A:$E,3,FALSE)","v":{"$error":"#N/A"}},null,null,null,null,null,null,{"$error":"#N/A"}]
[null,null,{"$f":"VLOOKUP($B4877,'Ad Week Dates'!$A:$E,4,FALSE)","v":{"$error":"#N/A"}},{"$f":"VLOOKUP($B4877,'Ad Week Dates'!$A:$E,2,FALSE)","v":{"$error":"#N/A"}},{"$f":"VLOOKUP($B4877,'Ad Week Dates'!$A:$E,3,FALSE)","v":{"$error":"#N/A"}},null,null,null,null,null,null,{"$error":"#N/A"}]
[null,null,{"$f":"VLOOKUP($B4878,'Ad Week Dates'!$A:$E,4,FALSE)","v":{"$error":"#N/A"}},{"$f":"VLOOKUP($B4878,'Ad Week Dates'!$A:$E,2,FALSE)","v":{"$error":"#N/A"}},{"$f":"VLOOKUP($B4878,'Ad Week Dates'!$A:$E,3,FALSE)","v":{"$error":"#N/A"}},null,null,null,null,null,null,{"$error":"#N/A"}]
[null,null,{"$f":"VLOOKUP($B4879,'Ad Week Dates'!$A:$E,4,FALSE)","v":{"$error":"#N/A"}},{"$f":"VLOOKUP($B4879,'Ad Week Dates'!$A:$E,2,FALSE)","v":{"$error":"#N/A"}},{"$f":"VLOOKUP($B4879,'Ad Week Dates'!$A:$E,3,FALSE)","v":{"$error":"#N/A"}},null,null,null,null,null,null,{"$error":"#N/A"}]
[null,null,{"$f":"VLOOKUP($B4880,'Ad Week Dates'!$A:$E,4,FALSE)","v":{"$error":"#N/A"}},{"$f":"VLOOKUP($B4880,'Ad Week Dates'!$A:$E,2,FALSE)","v":{"$error":"#N/A"}},{"$f":"VLOOKUP($B4880,'Ad Week Dates'!$A:$E,3,FALSE)","v":{"$error":"#N/A"}},null,null,null,null,null,null,{"$error":"#N/A"}]
[null,null,{"$f":"VLOOKUP($B4881,'Ad Week Dates'!$A:$E,4,FALSE)","v":{"$error":"#N/A"}},{"$f":"VLOOKUP($B4881,'Ad Week Dates'!$A:$E,2,FALSE)","v":{"$error":"#N/A"}},{"$f":"VLOOKUP($B4881,'Ad Week Dates'!$A:$E,3,FALSE)","v":{"$error":"#N/A"}},null,null,null,null,null,null,{"$error":"#N/A"}]
[null,null,{"$f":"VLOOKUP($B4882,'Ad Week Dates'!$A:$E,4,FALSE)","v":{"$error":"#N/A"}},{"$f":"VLOOKUP($B4882,'Ad Week Dates'!$A:$E,2,FALSE)","v":{"$error":"#N/A"}},{"$f":"VLOOKUP($B4882,'Ad Week Dates'!$A:$E,3,FALSE)","v":{"$error":"#N/A"}},null,null,null,null,null,null,{"$error":"#N/A"}]
[null,null,{"$f":"VLOOKUP($B4883,'Ad Week Dates'!$A:$E,4,FALSE)","v":{"$error":"#N/A"}},{"$f":"VLOOKUP($B4883,'Ad Week Dates'!$A:$E,2,FALSE)","v":{"$error":"#N/A"}},{"$f":"VLOOKUP($B4883,'Ad Week Dates'!$A:$E,3,FALSE)","v":{"$error":"#N/A"}},null,null,null,null,null,null,{"$error":"#N/A"}]
[null,null,{"$f":"VLOOKUP($B4884,'Ad Week Dates'!$A:$E,4,FALSE)","v":{"$error":"#N/A"}},{"$f":"VLOOKUP($B4884,'Ad Week Dates'!$A:$E,2,FALSE)","v":{"$error":"#N/A"}},{"$f":"VLOOKUP($B4884,'Ad Week Dates'!$A:$E,3,FALSE)","v":{"$error":"#N/A"}},null,null,null,null,null,null,{"$error":"#N/A"}]
[null,null,{"$f":"VLOOKUP($B4885,'Ad Week Dates'!$A:$E,4,FALSE)","v":{"$error":"#N/A"}},{"$f":"VLOOKUP($B4885,'Ad Week Dates'!$A:$E,2,FALSE)","v":{"$error":"#N/A"}},{"$f":"VLOOKUP($B4885,'Ad Week Dates'!$A:$E,3,FALSE)","v":{"$error":"#N/A"}},null,null,null,null,null,null,{"$error":"#N/A"}]
[null,null,{"$f":"VLOOKUP($B4886,'Ad Week Dates'!$A:$E,4,FALSE)","v":{"$error":"#N/A"}},{"$f":"VLOOKUP($B4886,'Ad Week Dates'!$A:$E,2,FALSE)","v":{"$error":"#N/A"}},{"$f":"VLOOKUP($B4886,'Ad Week Dates'!$A:$E,3,FALSE)","v":{"$error":"#N/A"}},null,null,null,null,null,null,{"$error":"#N/A"}]
[null,null,{"$f":"VLOOKUP($B4887,'Ad Week Dates'!$A:$E,4,FALSE)","v":{"$error":"#N/A"}},{"$f":"VLOOKUP($B4887,'Ad Week Dates'!$A:$E,2,FALSE)","v":{"$error":"#N/A"}},{"$f":"VLOOKUP($B4887,'Ad Week Dates'!$A:$E,3,FALSE)","v":{"$error":"#N/A"}},null,null,null,null,null,null,{"$error":"#N/A"}]
[null,null,{"$f":"VLOOKUP($B4888,'Ad Week Dates'!$A:$E,4,FALSE)","v":{"$error":"#N/A"}},{"$f":"VLOOKUP($B4888,'Ad Week Dates'!$A:$E,2,FALSE)","v":{"$error":"#N/A"}},{"$f":"VLOOKUP($B4888,'Ad Week Dates'!$A:$E,3,FALSE)","v":{"$error":"#N/A"}},null,null,null,null,null,null,{"$error":"#N/A"}]
[null,null,{"$f":"VLOOKUP($B4889,'Ad Week Dates'!$A:$E,4,FALSE)","v":{"$error":"#N/A"}},{"$f":"VLOOKUP($B4889,'Ad Week Dates'!$A:$E,2,FALSE)","v":{"$error":"#N/A"}},{"$f":"VLOOKUP($B4889,'Ad Week Dates'!$A:$E,3,FALSE)","v":{"$error":"#N/A"}},null,null,null,null,null,null,{"$error":"#N/A"}]
[null,null,{"$f":"VLOOKUP($B4890,'Ad Week Dates'!$A:$E,4,FALSE)","v":{"$error":"#N/A"}},{"$f":"VLOOKUP($B4890,'Ad Week Dates'!$A:$E,2,FALSE)","v":{"$error":"#N/A"}},{"$f":"VLOOKUP($B4890,'Ad Week Dates'!$A:$E,3,FALSE)","v":{"$error":"#N/A"}},null,null,null,null,null,null,{"$error":"#N/A"}]
[null,null,{"$f":"VLOOKUP($B4891,'Ad Week Dates'!$A:$E,4,FALSE)","v":{"$error":"#N/A"}},{"$f":"VLOOKUP($B4891,'Ad Week Dates'!$A:$E,2,FALSE)","v":{"$error":"#N/A"}},{"$f":"VLOOKUP($B4891,'Ad Week Dates'!$A:$E,3,FALSE)","v":{"$error":"#N/A"}},null,null,null,null,null,null,{"$error":"#N/A"}]
[null,null,{"$f":"VLOOKUP($B4892,'Ad Week Dates'!$A:$E,4,FALSE)","v":{"$error":"#N/A"}},{"$f":"VLOOKUP($B4892,'Ad Week Dates'!$A:$E,2,FALSE)","v":{"$error":"#N/A"}},{"$f":"VLOOKUP($B4892,'Ad Week Dates'!$A:$E,3,FALSE)","v":{"$error":"#N/A"}},null,null,null,null,null,null,{"$error":"#N/A"}]
[null,null,{"$f":"VLOOKUP($B4893,'Ad Week Dates'!$A:$E,4,FALSE)","v":{"$error":"#N/A"}},{"$f":"VLOOKUP($B4893,'Ad Week Dates'!$A:$E,2,FALSE)","v":{"$error":"#N/A"}},{"$f":"VLOOKUP($B4893,'Ad Week Dates'!$A:$E,3,FALSE)","v":{"$error":"#N/A"}},null,null,null,null,null,null,{"$error":"#N/A"}]
[null,null,{"$f":"VLOOKUP($B4894,'Ad Week Dates'!$A:$E,4,FALSE)","v":{"$error":"#N/A"}},{"$f":"VLOOKUP($B4894,'Ad Week Dates'!$A:$E,2,FALSE)","v":{"$error":"#N/A"}},{"$f":"VLOOKUP($B4894,'Ad Week Dates'!$A:$E,3,FALSE)","v":{"$error":"#N/A"}},null,null,null,null,null,null,{"$error":"#N/A"}]
[null,null,{"$f":"VLOOKUP($B4895,'Ad Week Dates'!$A:$E,4,FALSE)","v":{"$error":"#N/A"}},{"$f":"VLOOKUP($B4895,'Ad Week Dates'!$A:$E,2,FALSE)","v":{"$error":"#N/A"}},{"$f":"VLOOKUP($B4895,'Ad Week Dates'!$A:$E,3,FALSE)","v":{"$error":"#N/A"}},null,null,null,null,null,null,{"$error":"#N/A"}]
[null,null,{"$f":"VLOOKUP($B4896,'Ad Week Dates'!$A:$E,4,FALSE)","v":{"$error":"#N/A"}},{"$f":"VLOOKUP($B4896,'Ad Week Dates'!$A:$E,2,FALSE)","v":{"$error":"#N/A"}},{"$f":"VLOOKUP($B4896,'Ad Week Dates'!$A:$E,3,FALSE)","v":{"$error":"#N/A"}},null,null,null,null,null,null,{"$error":"#N/A"}]
[null,null,{"$f":"VLOOKUP($B4897,'Ad Week Dates'!$A:$E,4,FALSE)","v":{"$error":"#N/A"}},{"$f":"VLOOKUP($B4897,'Ad Week Dates'!$A:$E,2,FALSE)","v":{"$error":"#N/A"}},{"$f":"VLOOKUP($B4897,'Ad Week Dates'!$A:$E,3,FALSE)","v":{"$error":"#N/A"}},null,null,null,null,null,null,{"$error":"#N/A"}]
[null,null,{"$f":"VLOOKUP($B4898,'Ad Week Dates'!$A:$E,4,FALSE)","v":{"$error":"#N/A"}},{"$f":"VLOOKUP($B4898,'Ad Week Dates'!$A:$E,2,FALSE)","v":{"$error":"#N/A"}},{"$f":"VLOOKUP($B4898,'Ad Week Dates'!$A:$E,3,FALSE)","v":{"$error":"#N/A"}},null,null,null,null,null,null,{"$error":"#N/A"}]
[null,null,{"$f":"VLOOKUP($B4899,'Ad Week Dates'!$A:$E,4,FALSE)","v":{"$error":"#N/A"}},{"$f":"VLOOKUP($B4899,'Ad Week Dates'!$A:$E,2,FALSE)","v":{"$error":"#N/A"}},{"$f":"VLOOKUP($B4899,'Ad Week Dates'!$A:$E,3,FALSE)","v":{"$error":"#N/A"}},null,null,null,null,null,null,{"$error":"#N/A"}]
[null,null,{"$f":"VLOOKUP($B4900,'Ad Week Dates'!$A:$E,4,FALSE)","v":{"$error":"#N/A"}},{"$f":"VLOOKUP($B4900,'Ad Week Dates'!$A:$E,2,FALSE)","v":{"$error":"#N/A"}},{"$f":"VLOOKUP($B4900,'Ad Week Dates'!$A:$E,3,FALSE)","v":{"$error":"#N/A"}},null,null,null,null,null,null,{"$error":"#N/A"}]
[null,null,{"$f":"VLOOKUP($B4901,'Ad Week Dates'!$A:$E,4,FALSE)","v":{"$error":"#N/A"}},{"$f":"VLOOKUP($B4901,'Ad Week Dates'!$A:$E,2,FALSE)","v":{"$error":"#N/A"}},{"$f":"VLOOKUP($B4901,'Ad Week Dates'!$A:$E,3,FALSE)","v":{"$error":"#N/A"}},null,null,null,null,null,null,{"$error":"#N/A"}]
[null,null,{"$f":"VLOOKUP($B4902,'Ad Week Dates'!$A:$E,4,FALSE)","v":{"$error":"#N/A"}},{"$f":"VLOOKUP($B4902,'Ad Week Dates'!$A:$E,2,FALSE)","v":{"$error":"#N/A"}},{"$f":"VLOOKUP($B4902,'Ad Week Dates'!$A:$E,3,FALSE)","v":{"$error":"#N/A"}},null,null,null,null,null,null,{"$error":"#N/A"}]
[null,null,{"$f":"VLOOKUP($B4903,'Ad Week Dates'!$A:$E,4,FALSE)","v":{"$error":"#N/A"}},{"$f":"VLOOKUP($B4903,'Ad Week Dates'!$A:$E,2,FALSE)","v":{"$error":"#N/A"}},{"$f":"VLOOKUP($B4903,'Ad Week Dates'!$A:$E,3,FALSE)","v":{"$error":"#N/A"}},null,null,null,null,null,null,{"$error":"#N/A"}]
[null,null,{"$f":"VLOOKUP($B4904,'Ad Week Dates'!$A:$E,4,FALSE)","v":{"$error":"#N/A"}},{"$f":"VLOOKUP($B4904,'Ad Week Dates'!$A:$E,2,FALSE)","v":{"$error":"#N/A"}},{"$f":"VLOOKUP($B4904,'Ad Week Dates'!$A:$E,3,FALSE)","v":{"$error":"#N/A"}},null,null,null,null,null,null,{"$error":"#N/A"}]
[null,null,{"$f":"VLOOKUP($B4905,'Ad Week Dates'!$A:$E,4,FALSE)","v":{"$error":"#N/A"}},{"$f":"VLOOKUP($B4905,'Ad Week Dates'!$A:$E,2,FALSE)","v":{"$error":"#N/A"}},{"$f":"VLOOKUP($B4905,'Ad Week Dates'!$A:$E,3,FALSE)","v":{"$error":"#N/A"}},null,null,null,null,null,null,{"$error":"#N/A"}]
[null,null,{"$f":"VLOOKUP($B4906,'Ad Week Dates'!$A:$E,4,FALSE)","v":{"$error":"#N/A"}},{"$f":"VLOOKUP($B4906,'Ad Week Dates'!$A:$E,2,FALSE)","v":{"$error":"#N/A"}},{"$f":"VLOOKUP($B4906,'Ad Week Dates'!$A:$E,3,FALSE)","v":{"$error":"#N/A"}},null,null,null,null,null,null,{"$error":"#N/A"}]
[null,null,{"$f":"VLOOKUP($B4907,'Ad Week Dates'!$A:$E,4,FALSE)","v":{"$error":"#N/A"}},{"$f":"VLOOKUP($B4907,'Ad Week Dates'!$A:$E,2,FALSE)","v":{"$error":"#N/A"}},{"$f":"VLOOKUP($B4907,'Ad Week Dates'!$A:$E,3,FALSE)","v":{"$error":"#N/A"}},null,null,null,null,null,null,{"$error":"#N/A"}]
[null,null,{"$f":"VLOOKUP($B4908,'Ad Week Dates'!$A:$E,4,FALSE)","v":{"$error":"#N/A"}},{"$f":"VLOOKUP($B4908,'Ad Week Dates'!$A:$E,2,FALSE)","v":{"$error":"#N/A"}},{"$f":"VLOOKUP($B4908,'Ad Week Dates'!$A:$E,3,FALSE)","v":{"$error":"#N/A"}},null,null,null,null,null,null,{"$error":"#N/A"}]
[null,null,{"$f":"VLOOKUP($B4909,'Ad Week Dates'!$A:$E,4,FALSE)","v":{"$error":"#N/A"}},{"$f":"VLOOKUP($B4909,'Ad Week Dates'!$A:$E,2,FALSE)","v":{"$error":"#N/A"}},{"$f":"VLOOKUP($B4909,'Ad Week Dates'!$A:$E,3,FALSE)","v":{"$error":"#N/A"}},null,null,null,null,null,null,{"$error":"#N/A"}]
[null,null,{"$f":"VLOOKUP($B4910,'Ad Week Dates'!$A:$E,4,FALSE)","v":{"$error":"#N/A"}},{"$f":"VLOOKUP($B4910,'Ad Week Dates'!$A:$E,2,FALSE)","v":{"$error":"#N/A"}},{"$f":"VLOOKUP($B4910,'Ad Week Dates'!$A:$E,3,FALSE)","v":{"$error":"#N/A"}},null,null,null,null,null,null,{"$error":"#N/A"}]
[null,null,{"$f":"VLOOKUP($B4911,'Ad Week Dates'!$A:$E,4,FALSE)","v":{"$error":"#N/A"}},{"$f":"VLOOKUP($B4911,'Ad Week Dates'!$A:$E,2,FALSE)","v":{"$error":"#N/A"}},{"$f":"VLOOKUP($B4911,'Ad Week Dates'!$A:$E,3,FALSE)","v":{"$error":"#N/A"}},null,null,null,null,null,null,{"$error":"#N/A"}]
[null,null,{"$f":"VLOOKUP($B4912,'Ad Week Dates'!$A:$E,4,FALSE)","v":{"$error":"#N/A"}},{"$f":"VLOOKUP($B4912,'Ad Week Dates'!$A:$E,2,FALSE)","v":{"$error":"#N/A"}},{"$f":"VLOOKUP($B4912,'Ad Week Dates'!$A:$E,3,FALSE)","v":{"$error":"#N/A"}},null,null,null,null,null,null,{"$error":"#N/A"}]
[null,null,{"$f":"VLOOKUP($B4913,'Ad Week Dates'!$A:$E,4,FALSE)","v":{"$error":"#N/A"}},{"$f":"VLOOKUP($B4913,'Ad Week Dates'!$A:$E,2,FALSE)","v":{"$error":"#N/A"}},{"$f":"VLOOKUP($B4913,'Ad Week Dates'!$A:$E,3,FALSE)","v":{"$error":"#N/A"}},null,null,null,null,null,null,{"$error":"#N/A"}]
[null,null,{"$f":"VLOOKUP($B4914,'Ad Week Dates'!$A:$E,4,FALSE)","v":{"$error":"#N/A"}},{"$f":"VLOOKUP($B4914,'Ad Week Dates'!$A:$E,2,FALSE)","v":{"$error":"#N/A"}},{"$f":"VLOOKUP($B4914,'Ad Week Dates'!$A:$E,3,FALSE)","v":{"$error":"#N/A"}},null,null,null,null,null,null,{"$error":"#N/A"}]
[null,null,{"$f":"VLOOKUP($B4915,'Ad Week Dates'!$A:$E,4,FALSE)","v":{"$error":"#N/A"}},{"$f":"VLOOKUP($B4915,'Ad Week Dates'!$A:$E,2,FALSE)","v":{"$error":"#N/A"}},{"$f":"VLOOKUP($B4915,'Ad Week Dates'!$A:$E,3,FALSE)","v":{"$error":"#N/A"}},null,null,null,null,null,null,{"$error":"#N/A"}]
[null,null,{"$f":"VLOOKUP($B4916,'Ad Week Dates'!$A:$E,4,FALSE)","v":{"$error":"#N/A"}},{"$f":"VLOOKUP($B4916,'Ad Week Dates'!$A:$E,2,FALSE)","v":{"$error":"#N/A"}},{"$f":"VLOOKUP($B4916,'Ad Week Dates'!$A:$E,3,FALSE)","v":{"$error":"#N/A"}},null,null,null,null,null,null,{"$error":"#N/A"}]
[null,null,{"$f":"VLOOKUP($B4917,'Ad Week Dates'!$A:$E,4,FALSE)","v":{"$error":"#N/A"}},{"$f":"VLOOKUP($B4917,'Ad Week Dates'!$A:$E,2,FALSE)","v":{"$error":"#N/A"}},{"$f":"VLOOKUP($B4917,'Ad Week Dates'!$A:$E,3,FALSE)","v":{"$error":"#N/A"}},null,null,null,null,null,null,{"$error":"#N/A"}]
[null,null,{"$f":"VLOOKUP($B4918,'Ad Week Dates'!$A:$E,4,FALSE)","v":{"$error":"#N/A"}},{"$f":"VLOOKUP($B4918,'Ad Week Dates'!$A:$E,2,FALSE)","v":{"$error":"#N/A"}},{"$f":"VLOOKUP($B4918,'Ad Week Dates'!$A:$E,3,FALSE)","v":{"$error":"#N/A"}},null,null,null,null,null,null,{"$error":"#N/A"}]
[null,null,{"$f":"VLOOKUP($B4919,'Ad Week Dates'!$A:$E,4,FALSE)","v":{"$error":"#N/A"}},{"$f":"VLOOKUP($B4919,'Ad Week Dates'!$A:$E,2,FALSE)","v":{"$error":"#N/A"}},{"$f":"VLOOKUP($B4919,'Ad Week Dates'!$A:$E,3,FALSE)","v":{"$error":"#N/A"}},null,null,null,null,null,null,{"$error":"#N/A"}]
[null,null,{"$f":"VLOOKUP($B4920,'Ad Week Dates'!$A:$E,4,FALSE)","v":{"$error":"#N/A"}},{"$f":"VLOOKUP($B4920,'Ad Week Dates'!$A:$E,2,FALSE)","v":{"$error":"#N/A"}},{"$f":"VLOOKUP($B4920,'Ad Week Dates'!$A:$E,3,FALSE)","v":{"$error":"#N/A"}},null,null,null,null,null,null,{"$error":"#N/A"}]
[null,null,{"$f":"VLOOKUP($B4921,'Ad Week Dates'!$A:$E,4,FALSE)","v":{"$error":"#N/A"}},{"$f":"VLOOKUP($B4921,'Ad Week Dates'!$A:$E,2,FALSE)","v":{"$error":"#N/A"}},{"$f":"VLOOKUP($B4921,'Ad Week Dates'!$A:$E,3,FALSE)","v":{"$error":"#N/A"}},null,null,null,null,null,null,{"$error":"#N/A"}]
[null,null,{"$f":"VLOOKUP($B4922,'Ad Week Dates'!$A:$E,4,FALSE)","v":{"$error":"#N/A"}},{"$f":"VLOOKUP($B4922,'Ad Week Dates'!$A:$E,2,FALSE)","v":{"$error":"#N/A"}},{"$f":"VLOOKUP($B4922,'Ad Week Dates'!$A:$E,3,FALSE)","v":{"$error":"#N/A"}},null,null,null,null,null,null,{"$error":"#N/A"}]
[null,null,{"$f":"VLOOKUP($B4923,'Ad Week Dates'!$A:$E,4,FALSE)","v":{"$error":"#N/A"}},{"$f":"VLOOKUP($B4923,'Ad Week Dates'!$A:$E,2,FALSE)","v":{"$error":"#N/A"}},{"$f":"VLOOKUP($B4923,'Ad Week Dates'!$A:$E,3,FALSE)","v":{"$error":"#N/A"}},null,null,null,null,null,null,{"$error":"#N/A"}]
[null,null,{"$f":"VLOOKUP($B4924,'Ad Week Dates'!$A:$E,4,FALSE)","v":{"$error":"#N/A"}},{"$f":"VLOOKUP($B4924,'Ad Week Dates'!$A:$E,2,FALSE)","v":{"$error":"#N/A"}},{"$f":"VLOOKUP($B4924,'Ad Week Dates'!$A:$E,3,FALSE)","v":{"$error":"#N/A"}},null,null,null,null,null,null,{"$error":"#N/A"}]
[null,null,{"$f":"VLOOKUP($B4925,'Ad Week Dates'!$A:$E,4,FALSE)","v":{"$error":"#N/A"}},{"$f":"VLOOKUP($B4925,'Ad Week Dates'!$A:$E,2,FALSE)","v":{"$error":"#N/A"}},{"$f":"VLOOKUP($B4925,'Ad Week Dates'!$A:$E,3,FALSE)","v":{"$error":"#N/A"}},null,null,null,null,null,null,{"$error":"#N/A"}]
[null,null,{"$f":"VLOOKUP($B4926,'Ad Week Dates'!$A:$E,4,FALSE)","v":{"$error":"#N/A"}},{"$f":"VLOOKUP($B4926,'Ad Week Dates'!$A:$E,2,FALSE)","v":{"$error":"#N/A"}},{"$f":"VLOOKUP($B4926,'Ad Week Dates'!$A:$E,3,FALSE)","v":{"$error":"#N/A"}},null,null,null,null,null,null,{"$error":"#N/A"}]
[null,null,{"$f":"VLOOKUP($B4927,'Ad Week Dates'!$A:$E,4,FALSE)","v":{"$error":"#N/A"}},{"$f":"VLOOKUP($B4927,'Ad Week Dates'!$A:$E,2,FALSE)","v":{"$error":"#N/A"}},{"$f":"VLOOKUP($B4927,'Ad Week Dates'!$A:$E,3,FALSE)","v":{"$error":"#N/A"}},null,null,null,null,null,null,{"$error":"#N/A"}]
[null,null,{"$f":"VLOOKUP($B4928,'Ad Week Dates'!$A:$E,4,FALSE)","v":{"$error":"#N/A"}},{"$f":"VLOOKUP($B4928,'Ad Week Dates'!$A:$E,2,FALSE)","v":{"$error":"#N/A"}},{"$f":"VLOOKUP($B4928,'Ad Week Dates'!$A:$E,3,FALSE)","v":{"$error":"#N/A"}},null,null,null,null,null,null,{"$error":"#N/A"}]
[null,null,{"$f":"VLOOKUP($B4929,'Ad Week Dates'!$A:$E,4,FALSE)","v":{"$error":"#N/A"}},{"$f":"VLOOKUP($B4929,'Ad Week Dates'!$A:$E,2,FALSE)","v":{"$error":"#N/A"}},{"$f":"VLOOKUP($B4929,'Ad Week Dates'!$A:$E,3,FALSE)","v":{"$error":"#N/A"}},null,null,null,null,null,null,{"$error":"#N/A"}]
[null,null,{"$f":"VLOOKUP($B4930,'Ad Week Dates'!$A:$E,4,FALSE)","v":{"$error":"#N/A"}},{"$f":"VLOOKUP($B4930,'Ad Week Dates'!$A:$E,2,FALSE)","v":{"$error":"#N/A"}},{"$f":"VLOOKUP($B4930,'Ad Week Dates'!$A:$E,3,FALSE)","v":{"$error":"#N/A"}},null,null,null,null,null,null,{"$error":"#N/A"}]
[null,null,{"$f":"VLOOKUP($B4931,'Ad Week Dates'!$A:$E,4,FALSE)","v":{"$error":"#N/A"}},{"$f":"VLOOKUP($B4931,'Ad Week Dates'!$A:$E,2,FALSE)","v":{"$error":"#N/A"}},{"$f":"VLOOKUP($B4931,'Ad Week Dates'!$A:$E,3,FALSE)","v":{"$error":"#N/A"}},null,null,null,null,null,null,{"$error":"#N/A"}]
[null,null,{"$f":"VLOOKUP($B4932,'Ad Week Dates'!$A:$E,4,FALSE)","v":{"$error":"#N/A"}},{"$f":"VLOOKUP($B4932,'Ad Week Dates'!$A:$E,2,FALSE)","v":{"$error":"#N/A"}},{"$f":"VLOOKUP($B4932,'Ad Week Dates'!$A:$E,3,FALSE)","v":{"$error":"#N/A"}},null,null,null,null,null,null,{"$error":"#N/A"}]
[null,null,{"$f":"VLOOKUP($B4933,'Ad Week Dates'!$A:$E,4,FALSE)","v":{"$error":"#N/A"}},{"$f":"VLOOKUP($B4933,'Ad Week Dates'!$A:$E,2,FALSE)","v":{"$error":"#N/A"}},{"$f":"VLOOKUP($B4933,'Ad Week Dates'!$A:$E,3,FALSE)","v":{"$error":"#N/A"}},null,null,null,null,null,null,{"$error":"#N/A"}]
[null,null,{"$f":"VLOOKUP($B4934,'Ad Week Dates'!$A:$E,4,FALSE)","v":{"$error":"#N/A"}},{"$f":"VLOOKUP($B4934,'Ad Week Dates'!$A:$E,2,FALSE)","v":{"$error":"#N/A"}},{"$f":"VLOOKUP($B4934,'Ad Week Dates'!$A:$E,3,FALSE)","v":{"$error":"#N/A"}},null,null,null,null,null,null,{"$f":"IF(ISNUMBER(J4934), J4934 - K4934, VALUE(_xlfn.TEXTBEFORE(J4934, \"-\")) - VALUE(_xlfn.TEXTBEFORE(K4934, \"-\")))","v":{"$error":"#N/A"}}]
[null,null,{"$f":"VLOOKUP($B4935,'Ad Week Dates'!$A:$E,4,FALSE)","v":{"$error":"#N/A"}},{"$f":"VLOOKUP($B4935,'Ad Week Dates'!$A:$E,2,FALSE)","v":{"$error":"#N/A"}},{"$f":"VLOOKUP($B4935,'Ad Week Dates'!$A:$E,3,FALSE)","v":{"$error":"#N/A"}},null,null,null,null,null,null,{"$error":"#N/A"}]
[null,null,{"$f":"VLOOKUP($B4936,'Ad Week Dates'!$A:$E,4,FALSE)","v":{"$error":"#N/A"}},{"$f":"VLOOKUP($B4936,'Ad Week Dates'!$A:$E,2,FALSE)","v":{"$error":"#N/A"}},{"$f":"VLOOKUP($B4936,'Ad Week Dates'!$A:$E,3,FALSE)","v":{"$error":"#N/A"}},null,null,null,null,null,null,{"$error":"#N/A"}]
[null,null,{"$f":"VLOOKUP($B4937,'Ad Week Dates'!$A:$E,4,FALSE)","v":{"$error":"#N/A"}},{"$f":"VLOOKUP($B4937,'Ad Week Dates'!$A:$E,2,FALSE)","v":{"$error":"#N/A"}},{"$f":"VLOOKUP($B4937,'Ad Week Dates'!$A:$E,3,FALSE)","v":{"$error":"#N/A"}},null,null,null,null,null,null,{"$error":"#N/A"}]
[null,null,{"$f":"VLOOKUP($B4938,'Ad Week Dates'!$A:$E,4,FALSE)","v":{"$error":"#N/A"}},{"$f":"VLOOKUP($B4938,'Ad Week Dates'!$A:$E,2,FALSE)","v":{"$error":"#N/A"}},{"$f":"VLOOKUP($B4938,'Ad Week Dates'!$A:$E,3,FALSE)","v":{"$error":"#N/A"}},null,null,null,null,null,null,{"$error":"#N/A"}]
[null,null,{"$f":"VLOOKUP($B4939,'Ad Week Dates'!$A:$E,4,FALSE)","v":{"$error":"#N/A"}},{"$f":"VLOOKUP($B4939,'Ad Week Dates'!$A:$E,2,FALSE)","v":{"$error":"#N/A"}},{"$f":"VLOOKUP($B4939,'Ad Week Dates'!$A:$E,3,FALSE)","v":{"$error":"#N/A"}},null,null,null,null,null,null,{"$error":"#N/A"}]
[null,null,{"$f":"VLOOKUP($B4940,'Ad Week Dates'!$A:$E,4,FALSE)","v":{"$error":"#N/A"}},{"$f":"VLOOKUP($B4940,'Ad Week Dates'!$A:$E,2,FALSE)","v":{"$error":"#N/A"}},{"$f":"VLOOKUP($B4940,'Ad Week Dates'!$A:$E,3,FALSE)","v":{"$error":"#N/A"}},null,null,null,null,null,null,{"$error":"#N/A"}]
[null,null,{"$f":"VLOOKUP($B4941,'Ad Week Dates'!$A:$E,4,FALSE)","v":{"$error":"#N/A"}},{"$f":"VLOOKUP($B4941,'Ad Week Dates'!$A:$E,2,FALSE)","v":{"$error":"#N/A"}},{"$f":"VLOOKUP($B4941,'Ad Week Dates'!$A:$E,3,FALSE)","v":{"$error":"#N/A"}},null,null,null,null,null,null,{"$error":"#N/A"}]
[null,null,{"$f":"VLOOKUP($B4942,'Ad Week Dates'!$A:$E,4,FALSE)","v":{"$error":"#N/A"}},{"$f":"VLOOKUP($B4942,'Ad Week Dates'!$A:$E,2,FALSE)","v":{"$error":"#N/A"}},{"$f":"VLOOKUP($B4942,'Ad Week Dates'!$A:$E,3,FALSE)","v":{"$error":"#N/A"}},null,null,null,null,null,null,{"$error":"#N/A"}]
[null,null,{"$f":"VLOOKUP($B4943,'Ad Week Dates'!$A:$E,4,FALSE)","v":{"$error":"#N/A"}},{"$f":"VLOOKUP($B4943,'Ad Week Dates'!$A:$E,2,FALSE)","v":{"$error":"#N/A"}},{"$f":"VLOOKUP($B4943,'Ad Week Dates'!$A:$E,3,FALSE)","v":{"$error":"#N/A"}},null,null,null,null,null,null,{"$error":"#N/A"}]
[null,null,{"$f":"VLOOKUP($B4944,'Ad Week Dates'!$A:$E,4,FALSE)","v":{"$error":"#N/A"}},{"$f":"VLOOKUP($B4944,'Ad Week Dates'!$A:$E,2,FALSE)","v":{"$error":"#N/A"}},{"$f":"VLOOKUP($B4944,'Ad Week Dates'!$A:$E,3,FALSE)","v":{"$error":"#N/A"}},null,null,null,null,null,null,{"$error":"#N/A"}]
[null,null,{"$f":"VLOOKUP($B4945,'Ad Week Dates'!$A:$E,4,FALSE)","v":{"$error":"#N/A"}},{"$f":"VLOOKUP($B4945,'Ad Week Dates'!$A:$E,2,FALSE)","v":{"$error":"#N/A"}},{"$f":"VLOOKUP($B4945,'Ad Week Dates'!$A:$E,3,FALSE)","v":{"$error":"#N/A"}},null,null,null,null,null,null,{"$error":"#N/A"}]
[null,null,{"$f":"VLOOKUP($B4946,'Ad Week Dates'!$A:$E,4,FALSE)","v":{"$error":"#N/A"}},{"$f":"VLOOKUP($B4946,'Ad Week Dates'!$A:$E,2,FALSE)","v":{"$error":"#N/A"}},{"$f":"VLOOKUP($B4946,'Ad Week Dates'!$A:$E,3,FALSE)","v":{"$error":"#N/A"}},null,null,null,null,null,null,{"$error":"#N/A"}]
[null,null,{"$f":"VLOOKUP($B4947,'Ad Week Dates'!$A:$E,4,FALSE)","v":{"$error":"#N/A"}},{"$f":"VLOOKUP($B4947,'Ad Week Dates'!$A:$E,2,FALSE)","v":{"$error":"#N/A"}},{"$f":"VLOOKUP($B4947,'Ad Week Dates'!$A:$E,3,FALSE)","v":{"$error":"#N/A"}},null,null,null,null,null,null,{"$error":"#N/A"}]
[null,null,{"$f":"VLOOKUP($B4948,'Ad Week Dates'!$A:$E,4,FALSE)","v":{"$error":"#N/A"}},{"$f":"VLOOKUP($B4948,'Ad Week Dates'!$A:$E,2,FALSE)","v":{"$error":"#N/A"}},{"$f":"VLOOKUP($B4948,'Ad Week Dates'!$A:$E,3,FALSE)","v":{"$error":"#N/A"}},null,null,null,null,null,null,{"$error":"#N/A"}]
[null,null,{"$f":"VLOOKUP($B4949,'Ad Week Dates'!$A:$E,4,FALSE)","v":{"$error":"#N/A"}},{"$f":"VLOOKUP($B4949,'Ad Week Dates'!$A:$E,2,FALSE)","v":{"$error":"#N/A"}},{"$f":"VLOOKUP($B4949,'Ad Week Dates'!$A:$E,3,FALSE)","v":{"$error":"#N/A"}},null,null,null,null,null,null,{"$error":"#N/A"}]
[null,null,{"$f":"VLOOKUP($B4950,'Ad Week Dates'!$A:$E,4,FALSE)","v":{"$error":"#N/A"}},{"$f":"VLOOKUP($B4950,'Ad Week Dates'!$A:$E,2,FALSE)","v":{"$error":"#N/A"}},{"$f":"VLOOKUP($B4950,'Ad Week Dates'!$A:$E,3,FALSE)","v":{"$error":"#N/A"}},null,null,null,null,null,null,{"$error":"#N/A"}]
[null,null,{"$f":"VLOOKUP($B4951,'Ad Week Dates'!$A:$E,4,FALSE)","v":{"$error":"#N/A"}},{"$f":"VLOOKUP($B4951,'Ad Week Dates'!$A:$E,2,FALSE)","v":{"$error":"#N/A"}},{"$f":"VLOOKUP($B4951,'Ad Week Dates'!$A:$E,3,FALSE)","v":{"$error":"#N/A"}},null,null,null,null,null,null,{"$error":"#N/A"}]
[null,null,{"$f":"VLOOKUP($B4952,'Ad Week Dates'!$A:$E,4,FALSE)","v":{"$error":"#N/A"}},{"$f":"VLOOKUP($B4952,'Ad Week Dates'!$A:$E,2,FALSE)","v":{"$error":"#N/A"}},{"$f":"VLOOKUP($B4952,'Ad Week Dates'!$A:$E,3,FALSE)","v":{"$error":"#N/A"}},null,null,null,null,null,null,{"$error":"#N/A"}]
[null,null,{"$f":"VLOOKUP($B4953,'Ad Week Dates'!$A:$E,4,FALSE)","v":{"$error":"#N/A"}},{"$f":"VLOOKUP($B4953,'Ad Week Dates'!$A:$E,2,FALSE)","v":{"$error":"#N/A"}},{"$f":"VLOOKUP($B4953,'Ad Week Dates'!$A:$E,3,FALSE)","v":{"$error":"#N/A"}},null,null,null,null,null,null,{"$error":"#N/A"}]
[null,null,{"$f":"VLOOKUP($B4954,'Ad Week Dates'!$A:$E,4,FALSE)","v":{"$error":"#N/A"}},{"$f":"VLOOKUP($B4954,'Ad Week Dates'!$A:$E,2,FALSE)","v":{"$error":"#N/A"}},{"$f":"VLOOKUP($B4954,'Ad Week Dates'!$A:$E,3,FALSE)","v":{"$error":"#N/A"}},null,null,null,null,null,null,{"$error":"#N/A"}]
[null,null,{"$f":"VLOOKUP($B4955,'Ad Week Dates'!$A:$E,4,FALSE)","v":{"$error":"#N/A"}},{"$f":"VLOOKUP($B4955,'Ad Week Dates'!$A:$E,2,FALSE)","v":{"$error":"#N/A"}},{"$f":"VLOOKUP($B4955,'Ad Week Dates'!$A:$E,3,FALSE)","v":{"$error":"#N/A"}},null,null,null,null,null,null,{"$error":"#N/A"}]
[null,null,{"$f":"VLOOKUP($B4956,'Ad Week Dates'!$A:$E,4,FALSE)","v":{"$error":"#N/A"}},{"$f":"VLOOKUP($B4956,'Ad Week Dates'!$A:$E,2,FALSE)","v":{"$error":"#N/A"}},{"$f":"VLOOKUP($B4956,'Ad Week Dates'!$A:$E,3,FALSE)","v":{"$error":"#N/A"}},null,null,null,null,null,null,{"$error":"#N/A"}]
[null,null,{"$f":"VLOOKUP($B4957,'Ad Week Dates'!$A:$E,4,FALSE)","v":{"$error":"#N/A"}},{"$f":"VLOOKUP($B4957,'Ad Week Dates'!$A:$E,2,FALSE)","v":{"$error":"#N/A"}},{"$f":"VLOOKUP($B4957,'Ad Week Dates'!$A:$E,3,FALSE)","v":{"$error":"#N/A"}},null,null,null,null,null,null,{"$error":"#N/A"}]
[null,null,{"$f":"VLOOKUP($B4958,'Ad Week Dates'!$A:$E,4,FALSE)","v":{"$error":"#N/A"}},{"$f":"VLOOKUP($B4958,'Ad Week Dates'!$A:$E,2,FALSE)","v":{"$error":"#N/A"}},{"$f":"VLOOKUP($B4958,'Ad Week Dates'!$A:$E,3,FALSE)","v":{"$error":"#N/A"}},null,null,null,null,null,null,{"$error":"#N/A"}]
[null,null,{"$f":"VLOOKUP($B4959,'Ad Week Dates'!$A:$E,4,FALSE)","v":{"$error":"#N/A"}},{"$f":"VLOOKUP($B4959,'Ad Week Dates'!$A:$E,2,FALSE)","v":{"$error":"#N/A"}},{"$f":"VLOOKUP($B4959,'Ad Week Dates'!$A:$E,3,FALSE)","v":{"$error":"#N/A"}},null,null,null,null,null,null,{"$error":"#N/A"}]
[null,null,{"$f":"VLOOKUP($B4960,'Ad Week Dates'!$A:$E,4,FALSE)","v":{"$error":"#N/A"}},{"$f":"VLOOKUP($B4960,'Ad Week Dates'!$A:$E,2,FALSE)","v":{"$error":"#N/A"}},{"$f":"VLOOKUP($B4960,'Ad Week Dates'!$A:$E,3,FALSE)","v":{"$error":"#N/A"}},null,null,null,null,null,null,{"$error":"#N/A"}]
[null,null,{"$f":"VLOOKUP($B4961,'Ad Week Dates'!$A:$E,4,FALSE)","v":{"$error":"#N/A"}},{"$f":"VLOOKUP($B4961,'Ad Week Dates'!$A:$E,2,FALSE)","v":{"$error":"#N/A"}},{"$f":"VLOOKUP($B4961,'Ad Week Dates'!$A:$E,3,FALSE)","v":{"$error":"#N/A"}},null,null,null,null,null,null,{"$error":"#N/A"}]
[null,null,{"$f":"VLOOKUP($B4962,'Ad Week Dates'!$A:$E,4,FALSE)","v":{"$error":"#N/A"}},{"$f":"VLOOKUP($B4962,'Ad Week Dates'!$A:$E,2,FALSE)","v":{"$error":"#N/A"}},{"$f":"VLOOKUP($B4962,'Ad Week Dates'!$A:$E,3,FALSE)","v":{"$error":"#N/A"}},null,null,null,null,null,null,{"$error":"#N/A"}]
[null,null,{"$f":"VLOOKUP($B4963,'Ad Week Dates'!$A:$E,4,FALSE)","v":{"$error":"#N/A"}},{"$f":"VLOOKUP($B4963,'Ad Week Dates'!$A:$E,2,FALSE)","v":{"$error":"#N/A"}},{"$f":"VLOOKUP($B4963,'Ad Week Dates'!$A:$E,3,FALSE)","v":{"$error":"#N/A"}},null,null,null,null,null,null,{"$error":"#N/A"}]
[null,null,{"$f":"VLOOKUP($B4964,'Ad Week Dates'!$A:$E,4,FALSE)","v":{"$error":"#N/A"}},{"$f":"VLOOKUP($B4964,'Ad Week Dates'!$A:$E,2,FALSE)","v":{"$error":"#N/A"}},{"$f":"VLOOKUP($B4964,'Ad Week Dates'!$A:$E,3,FALSE)","v":{"$error":"#N/A"}},null,null,null,null,null,null,{"$error":"#N/A"}]
[null,null,{"$f":"VLOOKUP($B4965,'Ad Week Dates'!$A:$E,4,FALSE)","v":{"$error":"#N/A"}},{"$f":"VLOOKUP($B4965,'Ad Week Dates'!$A:$E,2,FALSE)","v":{"$error":"#N/A"}},{"$f":"VLOOKUP($B4965,'Ad Week Dates'!$A:$E,3,FALSE)","v":{"$error":"#N/A"}},null,null,null,null,null,null,{"$error":"#N/A"}]
[null,null,{"$f":"VLOOKUP($B4966,'Ad Week Dates'!$A:$E,4,FALSE)","v":{"$error":"#N/A"}},{"$f":"VLOOKUP($B4966,'Ad Week Dates'!$A:$E,2,FALSE)","v":{"$error":"#N/A"}},{"$f":"VLOOKUP($B4966,'Ad Week Dates'!$A:$E,3,FALSE)","v":{"$error":"#N/A"}},null,null,null,null,null,null,{"$error":"#N/A"}]
[null,null,{"$f":"VLOOKUP($B4967,'Ad Week Dates'!$A:$E,4,FALSE)","v":{"$error":"#N/A"}},{"$f":"VLOOKUP($B4967,'Ad Week Dates'!$A:$E,2,FALSE)","v":{"$error":"#N/A"}},{"$f":"VLOOKUP($B4967,'Ad Week Dates'!$A:$E,3,FALSE)","v":{"$error":"#N/A"}},null,null,null,null,null,null,{"$error":"#N/A"}]
[null,null,{"$f":"VLOOKUP($B4968,'Ad Week Dates'!$A:$E,4,FALSE)","v":{"$error":"#N/A"}},{"$f":"VLOOKUP($B4968,'Ad Week Dates'!$A:$E,2,FALSE)","v":{"$error":"#N/A"}},{"$f":"VLOOKUP($B4968,'Ad Week Dates'!$A:$E,3,FALSE)","v":{"$error":"#N/A"}},null,null,null,null,null,null,{"$error":"#N/A"}]
[null,null,{"$f":"VLOOKUP($B4969,'Ad Week Dates'!$A:$E,4,FALSE)","v":{"$error":"#N/A"}},{"$f":"VLOOKUP($B4969,'Ad Week Dates'!$A:$E,2,FALSE)","v":{"$error":"#N/A"}},{"$f":"VLOOKUP($B4969,'Ad Week Dates'!$A:$E,3,FALSE)","v":{"$error":"#N/A"}},null,null,null,null,null,null,{"$error":"#N/A"}]
[null,null,{"$f":"VLOOKUP($B4970,'Ad Week Dates'!$A:$E,4,FALSE)","v":{"$error":"#N/A"}},{"$f":"VLOOKUP($B4970,'Ad Week Dates'!$A:$E,2,FALSE)","v":{"$error":"#N/A"}},{"$f":"VLOOKUP($B4970,'Ad Week Dates'!$A:$E,3,FALSE)","v":{"$error":"#N/A"}},null,null,null,null,null,null,{"$error":"#N/A"}]
[null,null,{"$f":"VLOOKUP($B4971,'Ad Week Dates'!$A:$E,4,FALSE)","v":{"$error":"#N/A"}},{"$f":"VLOOKUP($B4971,'Ad Week Dates'!$A:$E,2,FALSE)","v":{"$error":"#N/A"}},{"$f":"VLOOKUP($B4971,'Ad Week Dates'!$A:$E,3,FALSE)","v":{"$error":"#N/A"}},null,null,null,null,null,null,{"$error":"#N/A"}]
[null,null,{"$f":"VLOOKUP($B4972,'Ad Week Dates'!$A:$E,4,FALSE)","v":{"$error":"#N/A"}},{"$f":"VLOOKUP($B4972,'Ad Week Dates'!$A:$E,2,FALSE)","v":{"$error":"#N/A"}},{"$f":"VLOOKUP($B4972,'Ad Week Dates'!$A:$E,3,FALSE)","v":{"$error":"#N/A"}},null,null,null,null,null,null,{"$error":"#N/A"}]
[null,null,{"$f":"VLOOKUP($B4973,'Ad Week Dates'!$A:$E,4,FALSE)","v":{"$error":"#N/A"}},{"$f":"VLOOKUP($B4973,'Ad Week Dates'!$A:$E,2,FALSE)","v":{"$error":"#N/A"}},{"$f":"VLOOKUP($B4973,'Ad Week Dates'!$A:$E,3,FALSE)","v":{"$error":"#N/A"}},null,null,null,null,null,null,{"$error":"#N/A"}]
[null,null,{"$f":"VLOOKUP($B4974,'Ad Week Dates'!$A:$E,4,FALSE)","v":{"$error":"#N/A"}},{"$f":"VLOOKUP($B4974,'Ad Week Dates'!$A:$E,2,FALSE)","v":{"$error":"#N/A"}},{"$f":"VLOOKUP($B4974,'Ad Week Dates'!$A:$E,3,FALSE)","v":{"$error":"#N/A"}},null,null,null,null,null,null,{"$error":"#N/A"}]
[null,null,{"$f":"VLOOKUP($B4975,'Ad Week Dates'!$A:$E,4,FALSE)","v":{"$error":"#N/A"}},{"$f":"VLOOKUP($B4975,'Ad Week Dates'!$A:$E,2,FALSE)","v":{"$error":"#N/A"}},{"$f":"VLOOKUP($B4975,'Ad Week Dates'!$A:$E,3,FALSE)","v":{"$error":"#N/A"}},null,null,null,null,null,null,{"$error":"#N/A"}]
[null,null,{"$f":"VLOOKUP($B4976,'Ad Week Dates'!$A:$E,4,FALSE)","v":{"$error":"#N/A"}},{"$f":"VLOOKUP($B4976,'Ad Week Dates'!$A:$E,2,FALSE)","v":{"$error":"#N/A"}},{"$f":"VLOOKUP($B4976,'Ad Week Dates'!$A:$E,3,FALSE)","v":{"$error":"#N/A"}},null,null,null,null,null,null,{"$error":"#N/A"}]
[null,null,{"$f":"VLOOKUP($B4977,'Ad Week Dates'!$A:$E,4,FALSE)","v":{"$error":"#N/A"}},{"$f":"VLOOKUP($B4977,'Ad Week Dates'!$A:$E,2,FALSE)","v":{"$error":"#N/A"}},{"$f":"VLOOKUP($B4977,'Ad Week Dates'!$A:$E,3,FALSE)","v":{"$error":"#N/A"}},null,null,null,null,null,null,{"$error":"#N/A"}]
[null,null,{"$f":"VLOOKUP($B4978,'Ad Week Dates'!$A:$E,4,FALSE)","v":{"$error":"#N/A"}},{"$f":"VLOOKUP($B4978,'Ad Week Dates'!$A:$E,2,FALSE)","v":{"$error":"#N/A"}},{"$f":"VLOOKUP($B4978,'Ad Week Dates'!$A:$E,3,FALSE)","v":{"$error":"#N/A"}},null,null,null,null,null,null,{"$error":"#N/A"}]
[null,null,{"$f":"VLOOKUP($B4979,'Ad Week Dates'!$A:$E,4,FALSE)","v":{"$error":"#N/A"}},{"$f":"VLOOKUP($B4979,'Ad Week Dates'!$A:$E,2,FALSE)","v":{"$error":"#N/A"}},{"$f":"VLOOKUP($B4979,'Ad Week Dates'!$A:$E,3,FALSE)","v":{"$error":"#N/A"}},null,null,null,null,null,null,{"$error":"#N/A"}]
[null,null,{"$f":"VLOOKUP($B4980,'Ad Week Dates'!$A:$E,4,FALSE)","v":{"$error":"#N/A"}},{"$f":"VLOOKUP($B4980,'Ad Week Dates'!$A:$E,2,FALSE)","v":{"$error":"#N/A"}},{"$f":"VLOOKUP($B4980,'Ad Week Dates'!$A:$E,3,FALSE)","v":{"$error":"#N/A"}},null,null,null,null,null,null,{"$error":"#N/A"}]
[null,null,{"$f":"VLOOKUP($B4981,'Ad Week Dates'!$A:$E,4,FALSE)","v":{"$error":"#N/A"}},{"$f":"VLOOKUP($B4981,'Ad Week Dates'!$A:$E,2,FALSE)","v":{"$error":"#N/A"}},{"$f":"VLOOKUP($B4981,'Ad Week Dates'!$A:$E,3,FALSE)","v":{"$error":"#N/A"}},null,null,null,null,null,null,{"$error":"#N/A"}]
[null,null,{"$f":"VLOOKUP($B4982,'Ad Week Dates'!$A:$E,4,FALSE)","v":{"$error":"#N/A"}},{"$f":"VLOOKUP($B4982,'Ad Week Dates'!$A:$E,2,FALSE)","v":{"$error":"#N/A"}},{"$f":"VLOOKUP($B4982,'Ad Week Dates'!$A:$E,3,FALSE)","v":{"$error":"#N/A"}},null,null,null,null,null,null,{"$error":"#N/A"}]
[null,null,{"$f":"VLOOKUP($B4983,'Ad Week Dates'!$A:$E,4,FALSE)","v":{"$error":"#N/A"}},{"$f":"VLOOKUP($B4983,'Ad Week Dates'!$A:$E,2,FALSE)","v":{"$error":"#N/A"}},{"$f":"VLOOKUP($B4983,'Ad Week Dates'!$A:$E,3,FALSE)","v":{"$error":"#N/A"}},null,null,null,null,null,null,{"$error":"#N/A"}]
[null,null,{"$f":"VLOOKUP($B4984,'Ad Week Dates'!$A:$E,4,FALSE)","v":{"$error":"#N/A"}},{"$f":"VLOOKUP($B4984,'Ad Week Dates'!$A:$E,2,FALSE)","v":{"$error":"#N/A"}},{"$f":"VLOOKUP($B4984,'Ad Week Dates'!$A:$E,3,FALSE)","v":{"$error":"#N/A"}},null,null,null,null,null,null,{"$error":"#N/A"}]
[null,null,{"$f":"VLOOKUP($B4985,'Ad Week Dates'!$A:$E,4,FALSE)","v":{"$error":"#N/A"}},{"$f":"VLOOKUP($B4985,'Ad Week Dates'!$A:$E,2,FALSE)","v":{"$error":"#N/A"}},{"$f":"VLOOKUP($B4985,'Ad Week Dates'!$A:$E,3,FALSE)","v":{"$error":"#N/A"}},null,null,null,null,null,null,{"$error":"#N/A"}]
[null,null,{"$f":"VLOOKUP($B4986,'Ad Week Dates'!$A:$E,4,FALSE)","v":{"$error":"#N/A"}},{"$f":"VLOOKUP($B4986,'Ad Week Dates'!$A:$E,2,FALSE)","v":{"$error":"#N/A"}},{"$f":"VLOOKUP($B4986,'Ad Week Dates'!$A:$E,3,FALSE)","v":{"$error":"#N/A"}},null,null,null,null,null,null,{"$error":"#N/A"}]
[null,null,{"$f":"VLOOKUP($B4987,'Ad Week Dates'!$A:$E,4,FALSE)","v":{"$error":"#N/A"}},{"$f":"VLOOKUP($B4987,'Ad Week Dates'!$A:$E,2,FALSE)","v":{"$error":"#N/A"}},{"$f":"VLOOKUP($B4987,'Ad Week Dates'!$A:$E,3,FALSE)","v":{"$error":"#N/A"}},null,null,null,null,null,null,{"$error":"#N/A"}]
[null,null,{"$f":"VLOOKUP($B4988,'Ad Week Dates'!$A:$E,4,FALSE)","v":{"$error":"#N/A"}},{"$f":"VLOOKUP($B4988,'Ad Week Dates'!$A:$E,2,FALSE)","v":{"$error":"#N/A"}},{"$f":"VLOOKUP($B4988,'Ad Week Dates'!$A:$E,3,FALSE)","v":{"$error":"#N/A"}},null,null,null,null,null,null,{"$error":"#N/A"}]
[null,null,{"$f":"VLOOKUP($B4989,'Ad Week Dates'!$A:$E,4,FALSE)","v":{"$error":"#N/A"}},{"$f":"VLOOKUP($B4989,'Ad Week Dates'!$A:$E,2,FALSE)","v":{"$error":"#N/A"}},{"$f":"VLOOKUP($B4989,'Ad Week Dates'!$A:$E,3,FALSE)","v":{"$error":"#N/A"}},null,null,null,null,null,null,{"$error":"#N/A"}]
[null,null,{"$f":"VLOOKUP($B4990,'Ad Week Dates'!$A:$E,4,FALSE)","v":{"$error":"#N/A"}},{"$f":"VLOOKUP($B4990,'Ad Week Dates'!$A:$E,2,FALSE)","v":{"$error":"#N/A"}},{"$f":"VLOOKUP($B4990,'Ad Week Dates'!$A:$E,3,FALSE)","v":{"$error":"#N/A"}},null,null,null,null,null,null,{"$error":"#N/A"}]
[null,null,{"$f":"VLOOKUP($B4991,'Ad Week Dates'!$A:$E,4,FALSE)","v":{"$error":"#N/A"}},{"$f":"VLOOKUP($B4991,'Ad Week Dates'!$A:$E,2,FALSE)","v":{"$error":"#N/A"}},{"$f":"VLOOKUP($B4991,'Ad Week Dates'!$A:$E,3,FALSE)","v":{"$error":"#N/A"}},null,null,null,null,null,null,{"$error":"#N/A"}]
[null,null,{"$f":"VLOOKUP($B4992,'Ad Week Dates'!$A:$E,4,FALSE)","v":{"$error":"#N/A"}},{"$f":"VLOOKUP($B4992,'Ad Week Dates'!$A:$E,2,FALSE)","v":{"$error":"#N/A"}},{"$f":"VLOOKUP($B4992,'Ad Week Dates'!$A:$E,3,FALSE)","v":{"$error":"#N/A"}},null,null,null,null,null,null,{"$error":"#N/A"}]
[null,null,{"$f":"VLOOKUP($B4993,'Ad Week Dates'!$A:$E,4,FALSE)","v":{"$error":"#N/A"}},{"$f":"VLOOKUP($B4993,'Ad Week Dates'!$A:$E,2,FALSE)","v":{"$error":"#N/A"}},{"$f":"VLOOKUP($B4993,'Ad Week Dates'!$A:$E,3,FALSE)","v":{"$error":"#N/A"}},null,null,null,null,null,null,{"$error":"#N/A"}]
[null,null,{"$f":"VLOOKUP($B4994,'Ad Week Dates'!$A:$E,4,FALSE)","v":{"$error":"#N/A"}},{"$f":"VLOOKUP($B4994,'Ad Week Dates'!$A:$E,2,FALSE)","v":{"$error":"#N/A"}},{"$f":"VLOOKUP($B4994,'Ad Week Dates'!$A:$E,3,FALSE)","v":{"$error":"#N/A"}},null,null,null,null,null,null,{"$error":"#N/A"}]
[null,null,{"$f":"VLOOKUP($B4995,'Ad Week Dates'!$A:$E,4,FALSE)","v":{"$error":"#N/A"}},{"$f":"VLOOKUP($B4995,'Ad Week Dates'!$A:$E,2,FALSE)","v":{"$error":"#N/A"}},{"$f":"VLOOKUP($B4995,'Ad Week Dates'!$A:$E,3,FALSE)","v":{"$error":"#N/A"}},null,null,null,null,null,null,{"$error":"#N/A"}]
[null,null,{"$f":"VLOOKUP($B4996,'Ad Week Dates'!$A:$E,4,FALSE)","v":{"$error":"#N/A"}},{"$f":"VLOOKUP($B4996,'Ad Week Dates'!$A:$E,2,FALSE)","v":{"$error":"#N/A"}},{"$f":"VLOOKUP($B4996,'Ad Week Dates'!$A:$E,3,FALSE)","v":{"$error":"#N/A"}},null,null,null,null,null,null,{"$error":"#N/A"}]
[null,null,{"$f":"VLOOKUP($B4997,'Ad Week Dates'!$A:$E,4,FALSE)","v":{"$error":"#N/A"}},{"$f":"VLOOKUP($B4997,'Ad Week Dates'!$A:$E,2,FALSE)","v":{"$error":"#N/A"}},{"$f":"VLOOKUP($B4997,'Ad Week Dates'!$A:$E,3,FALSE)","v":{"$error":"#N/A"}},null,null,null,null,null,null,{"$error":"#N/A"}]
[null,null,{"$f":"VLOOKUP($B4998,'Ad Week Dates'!$A:$E,4,FALSE)","v":{"$error":"#N/A"}},{"$f":"VLOOKUP($B4998,'Ad Week Dates'!$A:$E,2,FALSE)","v":{"$error":"#N/A"}},{"$f":"VLOOKUP($B4998,'Ad Week Dates'!$A:$E,3,FALSE)","v":{"$error":"#N/A"}},null,null,null,null,null,null,{"$f":"IF(ISNUMBER(J4998), J4998 - K4998, VALUE(_xlfn.TEXTBEFORE(J4998, \"-\")) - VALUE(_xlfn.TEXTBEFORE(K4998, \"-\")))","v":{"$error":"#N/A"}}]
[null,null,{"$f":"VLOOKUP($B4999,'Ad Week Dates'!$A:$E,4,FALSE)","v":{"$error":"#N/A"}},{"$f":"VLOOKUP($B4999,'Ad Week Dates'!$A:$E,2,FALSE)","v":{"$error":"#N/A"}},{"$f":"VLOOKUP($B4999,'Ad Week Dates'!$A:$E,3,FALSE)","v":{"$error":"#N/A"}},null,null,null,null,null,null,{"$error":"#N/A"}]
[null,null,{"$f":"VLOOKUP($B5000,'Ad Week Dates'!$A:$E,4,FALSE)","v":{"$error":"#N/A"}},{"$f":"VLOOKUP($B5000,'Ad Week Dates'!$A:$E,2,FALSE)","v":{"$error":"#N/A"}},{"$f":"VLOOKUP($B5000,'Ad Week Dates'!$A:$E,3,FALSE)","v":{"$error":"#N/A"}},null,null,null,null,null,null,{"$error":"#N/A"}]

{"sheet":"SQL2","index":1,"n_rows":1,"n_cols":1,"rows_kept":1,"cut":false,"hidden":true,"merged":[]}
["SELECT \n    item_parent as \"PARENT\", \n    vpn as \"VPN\", \n    item_desc as \"DESCRIPTION\", \n    (SELECT unit_cost FROM item_supp_country isc WHERE isc.item=im.item AND rownum = 1) as \"COST\",\n    (SELECT selling_unit_retail FROM item_loc il WHERE il.item = im.item AND loc IN ('10','650') AND rownum = 1) as \"RETAIL\"\nFROM item_master im\nLEFT JOIN item_supplier isu ON im.item = isu.item AND isu.primary_supp_ind = 'Y'\nWHERE (im.item = 'ITEMS' OR im.item_parent = 'ITEMS')\nAND im.tran_level = im.item_level\nAND rownum = 1"]

{"sheet":"SQL3","index":2,"n_rows":1,"n_cols":1,"rows_kept":1,"cut":false,"hidden":true,"merged":[]}
["SELECT [Featured RIN], [Week Prefix], [Week Suffix], [Item Description], [Adv Retail], [RIN or Item List], [NEX Retail]\nFROM Main \nWHERE [Dept] IN ('941', '930') \nAND [FY] = 'FY2026' \nORDER BY [Week Prefix] ASC"]

{"sheet":"Ad Week Dates","index":3,"n_rows":162,"n_cols":5,"rows_kept":162,"cut":false,"hidden":false,"merged":[]}
["Week","Ad Week From","Ad Week to","AE Events","Promotion"]
["WK1AE","2026-02-01",{"$f":"B2+6","v":"2026-02-07"},"BRANDS WITH A HEART"]
["WK2AE",{"$f":"C2+1","v":"2026-02-08"},"2026-02-14","VALENTINE'S DAY- INCLUDE FLORAL"]
["WK3AE","2026-02-15","2026-02-21","PRESIDENTS DAY"]
["WK4AE","2026-02-22","2026-02-28","HEARTS IN MOTION / HEALTH & WELLNESS"]
["WK5AE","2026-03-01","2026-03-07","SPRING PREVIEW"]
["WK6AE","2026-03-08","2026-03-14","GET YOUR GAME ON"]
["WK7AE","2026-03-15","2026-03-21","CELEBRATION DAYS NLR MEMBERSHIP EVENT"]
["WK8AE","2026-03-22","2026-03-28","BRANDS WE LOVE, VALUE YOU DESERVE"]
["WK9AE","2026-03-29","2026-04-04","ANNIVERSARY SALE"]
["WK10AE","2026-04-05","2026-04-11","SPRING FASHION- TAILORING"]
["WK11AE","2026-04-12","2026-04-18","HEALTH & WELLNESS - STRESS AWARENESS MONTH "]
["WK12AE","2026-04-19","2026-04-25","FOR THE PLANET - L&G OUTDOOR SPRING FEST"]
["WK13AE","2026-04-26","2026-05-02","SEMI ANNUAL SALE"]
["WK14AE","2026-05-03","2026-05-09","MOTHER'S DAY / FLORAL"]
["WK15AE","2026-05-10","2026-05-16","FAMILY FITNESS / NATIONAL FITNESS MONTH"]
["WK16AE","2026-05-17","2026-05-23","MEMORIAL DAY W/ BOGO SANDALS, SWIM, SHORTS & TEES"]
["WK17AE","2026-05-24","2026-05-30","GET OUTSIDE / MEMORIAL DAY CONTINUES"]
["WK18AE","2026-05-31","2026-06-06","COOL DEALS, HOT SAVINGS"]
["WK19AE","2026-06-07","2026-06-13","COUNTDOWN TO SUMMER"]
["WK20AE","2026-06-14","2026-06-20","FATHER'S DAY"]
["WK21AE","2026-06-21","2026-06-27","WELCOME SUMMER"]
["WK22AE","2026-06-28","2026-07-04","RED, WHITE AND BLUE"]
["WK23AE","2026-07-05","2026-07-11","TRAVEL TIME"]
["WK24AE","2026-07-12","2026-07-18","ANCHOR DAYS (PRIME WEEK)"]
["WK25AE","2026-07-19","2026-07-25","STOCK UP AND SAVE W/DORM"]
["WK26AE","2026-07-26","2026-08-01","BACK TO SCHOOL READY W/ DORM"]
["WK27AE","2026-08-02","2026-08-08","HEALTH & WELLNESS / FUN IN THE SUN"]
["WK28AE","2026-08-09","2026-08-15","COUNTDOWN TO BTS W/ SHOE BOGO AND DENIM"]
["WK29AE","2026-08-16","2026-08-22","FAMILY FUN MONTH"]
["WK30AE","2026-08-23","2026-08-29","FALL PREVIEW"]
["WK31AE","2026-08-30","2026-09-05","LABOR DAY SALE"]
["WK31FE","2026-09-03","2026-09-07","FIVE DAY SALE AND CLEARANCE"]
["WK32AE",{"$f":"C32+1","v":"2026-09-06"},"2026-09-12","LABOR DAY CONTINUES / GAMER DAYS"]
["WK33AE","2026-09-13","2026-09-19","GET YOUR GAME ON"]
["WK34AE","2026-09-20","2026-09-26","GET OUTSIDE FALL EDITION"]
["WK35AE","2026-09-27","2026-10-03","BRAND WE LOVE,VALUE YOU DESERVE"]
["WK36AE","2026-10-04","2026-10-10","ANCHOR DAYS"]
["WK37AE","2026-10-11","2026-10-17","NAVY BIRTHDAY"]
["WK38AE","2026-10-18","2026-10-24","SEMI ANNUAL SALE W/ INTIMATE APPAREL"]
["WK39AE","2026-10-25","2026-10-31","CELEBRATION DAYS NLR EVENT"]
["WK40AE","2026-11-01","2026-11-07","LIVING THANKS / PRE-VETERAN'S DAY"]
["WK41AE","2026-11-08","2026-11-14","VETERAN'S DAY SALE"]
["WK42AE","2026-11-15","2026-11-21","SNEAK PEEK"]
["WK43AE","2026-11-22","2026-11-28","BIGEST SALE OF THE YEAR"]
["WK44AE","2026-11-29","2026-12-05","GIFTS THAT GIVE MORE"]
["WK45AE","2026-12-06","2026-12-12","NAVY WAY TO HOLIDAY"]
["WK46AE","2026-12-13","2026-12-19","WE BELIEVE IN SUPRISES / GIFTS UNDER"]
["WK47AE","2026-12-20","2026-12-26","FINAL COUNTDOWN / CLEARANCE"]
["WK48AE","2026-12-27","2027-01-02","THE GIFTS THAT SANTA FORGOT"]
["WK49AE","2027-01-03","2027-01-09","DOLLAR DAYS"]
["WK50AE","2027-01-10","2027-01-16","HOME, WHERE LIFE HAPPENS"]
["WK51AE","2027-01-17","2027-01-23","STOCK UP AND SAVE / LIFT WELL KEPT"]
["WK52AE","2027-01-24","2027-01-30","HOME TECH EXPO / LIFE MADE EASY"]
["WK1X","2026-02-01","2026-02-07","Email"]
["WK2X",{"$f":"C55+1","v":"2026-02-08"},"2026-02-14","Email"]
["WK3X","2026-02-15","2026-02-21","Email"]
["WK4X","2026-02-22","2026-02-28","Email"]
["WK5X","2026-03-01","2026-03-07","Email"]
["WK6X","2026-03-08","2026-03-14","Email"]
["WK7X","2026-03-15","2026-03-21","Email"]
["WK8X","2026-03-22","2026-03-28","Email"]
["WK9X","2026-03-29","2026-04-04","Email"]
["WK10X","2026-04-05","2026-04-11","Email"]
["WK11X","2026-04-12","2026-04-18","Email"]
["WK12X","2026-04-19",{"$f":"B66+6","v":"2026-04-25"},"Email"]
["WK13X","2026-04-26","2026-05-02","Email"]
["WK14X","2026-05-03","2026-05-09","Email"]
["WK15X","2026-05-10","2026-05-16","Email"]
["WK16X","2026-05-17","2026-05-23","Email"]
["WK17X","2026-05-24","2026-05-30","Email"]
["WK18X","2026-05-31","2026-06-06","Email"]
["WK19X","2026-06-07","2026-06-13","Email"]
["WK20X","2026-06-14","2026-06-20","Email"]
["WK21X","2026-06-21","2026-06-27","Email"]
["WK22X","2026-06-28","2026-07-04","Email"]
["WK23X","2026-07-05","2026-07-11","Email"]
["WK24X","2026-07-12","2026-07-18","Email"]
["WK25X","2026-07-19","2026-07-25","Email"]
["WK26X","2026-07-26","2026-08-01","Email"]
["WK27X","2026-08-02","2026-08-08","Email"]
["WK28X","2026-08-09","2026-08-15","Email"]
["WK29X","2026-08-16","2026-08-22","Email"]
["WK30X","2026-08-23","2026-08-29","Email"]
["WK31X","2026-08-30","2026-09-05","Email"]
["WK32X","2026-09-06","2026-09-12","Email"]
["WK33X","2026-09-13","2026-09-19","Email"]
["WK34X","2026-09-20","2026-09-26","Email"]
["WK35X","2026-09-27","2026-10-03","Email"]
["WK36X","2026-10-04","2026-10-10","Email"]
["WK37X","2026-10-11","2026-10-17","Email"]
["WK38X","2026-10-18","2026-10-24","Email"]
["WK39X","2026-10-25","2026-10-31","Email"]
["WK40X","2026-11-01","2026-11-07","Email"]
["WK41X","2026-11-08","2026-11-14","Email"]
["WK42X","2026-11-15","2026-11-21","Email"]
["WK43X","2026-11-22","2026-11-28","Email"]
["WK44X","2026-11-29","2026-12-05","Email"]
["WK45X","2026-12-06","2026-12-12","Email"]
["WK46X","2026-12-13","2026-12-19","Email"]
["WK47X","2026-12-20","2026-12-26","Email"]
["WK48X","2026-12-27","2027-01-02","Email"]
["WK49X","2027-01-03","2027-01-09","Email"]
["WK50X","2027-01-10","2027-01-16","Email"]
["WK51X","2027-01-17","2027-01-23","Email"]
["WK52X","2027-01-24","2027-01-30","Email"]
["WK1FE","2026-02-01","2026-02-07","CENTER CORE / WATCHES/JEWELRY REPAIR"]
["WK2FE","2026-02-12","2026-02-16"," 5 DAY SALE W/ ENTERPRISE CLEARANCE"]
["WK3FE","2026-02-17","2026-02-23","N/A"]
["WK4FE",{"$f":"C109+1","v":"2026-02-24"},{"$f":"B110+6","v":"2026-03-02"},"N/A"]
["WK5FE","2026-03-01","2026-03-14","KIDS / BABY / PRO CAMP"]
["WK6FE","2026-03-08","2026-03-21","SPRING HOME & GARDEN"]
["WK7FE","2026-03-15","2026-03-28","SPRING BEAUTY"]
["WK8FE","2026-03-22","2026-03-28","GROOMING"]
["WK9FE","2026-04-01","2026-04-04","BIRTHDAY BASH W/ ENTERPRISE CLEARANCE"]
["WK10FE",{"$f":"C115+1","v":"2026-04-05"},{"$f":"B116+6","v":"2026-04-11"},"MONTH OF THE MILITARY CHILD - STUDENT MEAL PROGRAM "]
["WK11FE","2026-04-12","2026-04-18","SPRING HOME CHECKLIST- RUG DOCTOR"]
["WK12FE","2026-04-19","2026-04-25","SPRING HOME CHECKLIST"]
["WK13FE","2026-04-26","2026-05-02","INTIMATES SEMI ANNUAL"]
["WK14FE","2026-05-03","2026-05-09","INTIMATES SEMI ANNUAL"]
["WK15FE","2026-05-10","2026-05-16","NATIONAL PET MONTH"]
["WK16FE","2026-05-17","2026-05-23","Memorial Day 5-Day Sale"]
["WK17FE","2026-05-24","2026-05-30","MEMORIAL DAY 5 DAY SALE W/ ENTERPRISE CLEARANCE"]
["WK18FE","2026-05-31","2026-06-06","ATHLETIC SHOES"]
["WK19FE","2026-06-07","2026-06-13","SEMI-ANNUAL TECH EVENT"]
["WK20FE","2026-06-14","2026-06-20","SEMI-ANNUAL TECH EVENT"]
["WK21FE","2026-06-21","2026-06-27","EMERGENCY PREP"]
["WK22FE","2026-06-28","2026-07-04","JULY 4TH FIVE DAY SALE W/ ENTERPRISE CLEARANCE"]
["WK23FE","2026-07-05","2026-07-11","JULY 4TH FIVE DAY SALE W/ ENTERPRISE CLEARANCE"]
["WK24FE","2026-07-12","2026-07-18","SCHOOL SUPPLIES"]
["WK25FE","2026-07-19","2026-07-25","SCHOOL SUPPLIES"]
["WK26FE","2026-07-26","2026-08-01","SCHOOL SUPPLIES"]
["WK27FE","2026-08-02","2026-08-08","SALUTE TO THE CHIEFS W/TAILORING"]
["WK28FE","2026-08-09","2026-08-15","Apple"]
["WK29FE","2026-08-16","2026-08-22","Back to School "]
["WK30FE","2026-08-23","2026-08-29","Back to School"]
["WK31FE","2026-08-30","2026-09-05","5 DAY SALE W/ ENTERPRISE CLEARANCE"]
["WK32FE","2026-09-06","2026-09-12","5 DAY SALE W/ ENTERPRISE CLEARANCE"]
["WK33FE","2026-09-13","2026-09-19","HALLOWEEN BOO-TIQUE"]
["WK34FE","2026-09-20","2026-09-26","FALL FASHION W/TAILORING"]
["WK35FE","2026-09-27","2026-10-03","BRIDAL W/ TRUCK SHOWS / WATCH AND JEWELRY REPAIR"]
["WK36FE","2026-10-04","2026-10-10","WISH BOOK"]
["WK37FE","2026-10-11","2026-10-17","6 DAY SALE"]
["WK38FE","2026-10-18","2026-10-24","WISH BOOK"]
["WK39FE","2026-10-25","2026-10-31","ELECTRONICS GIFTS OF THE SEASON"]
["WK40FE","2026-11-01","2026-11-07","ELECTRONICS GIFTS OF THE SEASON"]
["WK41FE","2026-11-08","2026-11-14","6 DAY SALE W/ ENTERPRISE CLEARANCE"]
["WK42FE","2026-11-15","2026-11-21"]
["WK43FE","2026-11-22","2026-11-28","NAVY BLUE, BIGGER THAN BLACK FRIDAY"]
["WK44FE","2026-11-29","2026-12-05","CENTER CORE GIFT GUIDE"]
["WK45FE","2026-12-06","2026-12-12","CENTER CORE GIFT GUIDE"]
["WK46FE","2026-12-13","2026-12-19","Apple"]
["WK47FE","2026-12-20","2026-12-26",0]
["WK48FE","2026-12-27","2027-01-02",0]
["WK49FE","2027-01-03","2027-01-09","HEALTH & WELLNESS"]
["WK50FE","2027-01-10","2027-01-16","HEALTH & WELLNESS"]
["WK51FE","2027-01-17","2027-01-23","BABY DAYS"]
["WK52FE","2027-01-24","2027-01-30","BABY DAYS"]
["WK2DD","2026-02-08","2026-02-14","February Daily Deals"]
["WK7SF","2026-03-15","2026-03-21","APPLE"]
["WK20SF","2026-06-17","2026-06-20","80 Hour Sale"]
["WK16SF","2026-05-17","2026-05-23","Apple Q2 "]